{"text_format":"1","workbook":"xlsx","n_sheets":40,"sheets":["Sheet47","Summary","Pricing","FG Master Data","Acc Master Data","CSV","Automower®","Aspire","Spring Promo","Battery - Hand Held","Battery - Lawn","Tractor Rider & Zero Turn","Tillers","Chainsaws & Polesaws","Trimmers & Brush Cutters","Combi Tools","Hedge Trimmers","Blowers","Pressure Washers","Walk Behinds","Arborist Accessories","Automower Accessories","Bars","Automower Spares","Chains","Filing Equipment","Xplorer Leisurewear","Forestry Tools","Fuel","Trimmer Heads","Batteries & Chargers","Oil & Lubricants","Tool Belts","Footwear","Head Protection","Trousers","Jackets","Gloves","T-Shirts","Direct shipment"],"not_rendered":{"charts":0,"images":1,"macros":1,"external_links":1,"defined_names":75,"comments":41,"pivot_tables":0},"unopened":[],"bounds":{"document_bytes":16777216,"sheet_cells":100000,"rows_first":2000,"rows_last":500,"rows_between":2000,"halvings":0,"cell_chars":16384,"cell_head_chars":4096},"cells_cut":0,"cells_raw":0,"read":"whole","date_system":"1900"}

{"sheet":"Sheet47","index":0,"n_rows":855,"n_cols":16,"rows_kept":855,"cut":false,"hidden":true,"merged":[]}
["ABM","A\\C No.","Dealer","Post Code","Column1","<ID>","Quantity per package"]
["Colin Ferguson",28400592,"ALEX MATHER LTD","G84 7DG",1,501840664,30,null,null,"Colin_Ferguson","Francesca_Bosley","Graeme_Simpson","James_Etoe","James_Woodbridge","Joe_Walsh","Stephen_Irvine"]
["Colin Ferguson",28400701,"ALEX MCDOUGALL (MOWERS) LTD","G74 5NR",1,501840672,30,null,null,"ALEX MATHER LTD","Winchester Garden Machinery Ltd - Arb","RAMAGE DIY & EQUIPMENT HIRE","RADMORE & TUCKER  LIMITED","Ernest Doe & Sons Ltd - Braintree","D WILLIAMS & SON","A MCILRATH & SON"]
["Colin Ferguson",28400713,"SILVERBANK FOREST & GARDEN","AB31 5YR",1,501841468,30,null,null,"ALEX MCDOUGALL (MOWERS) LTD","Winchester Garden Machinery Ltd - Liss","Lloyd Limited - Alnwick","CREWKERNE HORTICULTURAL","Ernest Doe & Sons Ltd - Dartford","J AND J FARM SERVICES","LAIRD GRASS MACHINERY"]
["Colin Ferguson",28400721,"JOHN TYRE & SONS","PA23 8BP",1,501841472,30,null,null,"SILVERBANK FOREST & GARDEN","Winchester Garden Machinery Ltd - Winchester HO","Lloyd Limited - Bishop Auckland","DEVON GARDEN MACHINERY","Ernest Doe & Sons Ltd - Esher","CHELFORD FARM SUPPLIES LTD"]
["Colin Ferguson",28400735,"THULECRAFT LTD","ZE1 0LX",1,501841484,30,null,null,"JOHN TYRE & SONS","Winchester Garden Machinery Ltd - Windlesham","Lloyd Limited - Carlisle","WILLIS & GRABHAM","Ernest Doe & Sons Ltd - Fulbourne","MANSEL J GRIFFITHS & SON"]
["Colin Ferguson",28400766,"WESTBANK AG ENGS INC LANARK C SAW S","ML11 8NL",1,501841492,30,null,null,"THULECRAFT LTD","S P G (POWER MACHINE SERVICES) LTD","Lloyd Limited - Dumfries","GEORGE CARR & SONS (SAWS) LTD","Ernest Doe & Sons Ltd - Littelport","MORGANS MACHINERY"]
["Colin Ferguson",28400801,"J MITCHELL & CO","PH2 6HT",1,501843104,30,null,null,"WESTBANK AG ENGS INC LANARK C SAW S","SAWS & MOWERS","Lloyd Limited - Kelso","CHELTENHAM GARDEN MACHINERY","Ernest Doe & Sons Ltd - Marlesford","TFM Farm & Country Superstore Ltd - Bridgenorth"]
["Colin Ferguson",28400824,"TURF AND TIMBER","DD1 4JQ",1,501843124,30,null,null,"J MITCHELL & CO","D C BURGOYNE & SONS","Lloyd Limited - Penrith","A G EDWARDS & SONS","Ernest Doe & Sons Ltd - North Walsham","TFM Farm & Country Superstore Ltd - Bromsgrove"]
["Colin Ferguson",28400923,"PEARSONS OF DUNS T/A BORDER CHAINSAW","TD4 6BZ",1,501843184,30,null,null,"TURF AND TIMBER","SALISBURY GARDEN MACHINERY LTD","Lloyd Limited - Throckley Head Office","GWILLIAMS OF EDINGTON LTD","Ernest Doe & Sons Ltd - Ongar","TFM Farm & Country Superstore Ltd - Ludlow"]
["Colin Ferguson",28400933,"ROBERT DYKES JNR","FK8 3PJ",1,501843192,30,null,null,"PEARSONS OF DUNS T/A BORDER CHAINSAW","A J TROALIC & SONS LTD","MIKE BARNES CHAINSAWS","C.R. WILLCOCKS & COMPANY LIMITED","Ernest Doe & Sons Ltd - Rochford","TFM Farm & Country Superstore Ltd - Newport"]
["Colin Ferguson",28403870,"R & L MILLER LTD","KA24 4HB",1,501844058,30,null,null,"ROBERT DYKES JNR","HAMPSHIRE GARDEN MACHINERY LTD","CHARLES H HILL LIMITED","BARTLETTS DORSET LTD","Ernest Doe & Sons Ltd - Stevenage","TFM Farm & Country Superstore Ltd - Penkridge"]
["Colin Ferguson",28403921,"BUCHAN SAW & TOOL SERVICES","AB42 4JL",1,501844060,30,null,null,"R & L MILLER LTD","PENN LAWN MOWERS LTD","AMBLESIDE FOREST & GARDEN","Lister Wilder Ltd - Ashford","Ernest Doe & Sons Ltd - Sudbury","TFM Farm & Country Superstore Ltd - Stableford"]
["Colin Ferguson",28404270,"TOM HOLLIDAY","KA19 8EX",1,501844064,30,null,null,"BUCHAN SAW & TOOL SERVICES","LEIGH PARK GARDEN MACHINERY LIMITED","SOUTH LINCS PLANT HIRE & SALES LTD","Lister Wilder Ltd - Guildford","Ernest Doe & Sons Ltd - Ulting Head Office","CHESHIRE TURF MACHINERY LTD"]
["Colin Ferguson",28404355,"STRATHBOGIE FOREST & GARDEN LTD","AB54 4UQ",1,501844068,30,null,null,"TOM HOLLIDAY","E O CULVERWELL LTD - HO","J Carr & Son Ltd","Lister Wilder Ltd - Reading","Ernest Doe & Sons Ltd - Wymodham","R MASSEY & SON (WOODVILLE) LTD"]
["Colin Ferguson",28404801,"BURNSIDE GARDEN MACHINERY","G65 9EE",1,501959245,30,null,null,"STRATHBOGIE FOREST & GARDEN LTD","J L & D M HARRIS","SIMON WINSTANLEY (MACHINERY)","GRAHAMS GARDEN MACHINERY LTD","Ernest Doe & Sons Ltd - Colchester","L & M YOUNG"]
["Colin Ferguson",28404948,"J FRIER","PA31 8RR",1,501959252,30,null,null,"BURNSIDE GARDEN MACHINERY","T/A CURTIS & SHAW","P S MARSDEN (LAWNMOWER SERVICES) LT","ANDREW VANSTONE","Ernest Doe Power - Albourne","T/A A M GARDEN SERVICES"]
["Colin Ferguson",28405060,"JCC GROUP LTD","FK21 8UW",1,501959256,30,null,null,"J FRIER","LONGMOOR FARM ENTERPRISES LTD","HARLAND (GARDEN MACHINERY) LIMITED","O H E HORTICULTURAL LTD","Ernest Doe Power - Fakenham","T/A MYRDDIN GARDEN MACHINERY"]
["Colin Ferguson",28405060,"JCC Group Ltd - Stirling","FK8 3PS",2,501980203,1,null,null,"JCC GROUP LTD","Tallis Amos Group Ltd - Crudwell","ROBERT H CRAWFORD AND SON","K J STONEMAN & CO LTD","Ernest Doe Power - Framlingham","NEWINGTON GARAGE SERVICES"]
["Colin Ferguson",28411312,"MacGregor Forest & Groundcare - Aberdeen","AB12 3LE",7,502512701,100,null,null,"JCC Group Ltd - Stirling","Tallis Amos Group Ltd - Evesham","J TODD & SON (SUMMERBRIDGE) LTD","Ron Smith & Co Ltd - Herefordshire","Ernest Doe Power - Ringmer","IEUAN EVANS & SONS LIMTED"]
["Colin Ferguson",28411312,"MacGregor Forest & Groundcare - Elgin","IV30 6AF",2,503300322,1,null,null,"MacGregor Forest & Groundcare - Aberdeen","Tallis Amos Group Ltd - Leominster HO","F G ADAMSON & SON LTD","Ron Smith & Co Ltd (HO) - Worcestershire","BRADSTOCK POWER TOOLS","CAMBRIAN POWER TOOLS(MACHINES ONLY)"]
["Colin Ferguson",28411312,"MacGregor Forest & Groundcare - Inverness HO","IV1 1SN",1,503305701,1,null,null,"MacGregor Forest & Groundcare - Elgin","Tallis Amos Group Ltd - Narbeth","DICK LEIGH (CHAINSAW SPECIALIST)","D S BENNETT UK LTD","STUART J DAWS & CO. LTD","Teme Valley Tractors Ltd (HO) - Knighton"]
["Colin Ferguson",28411312,"MacGregor Forest & Groundcare - Kirkwall","KW15 1FL",8,503306001,1,null,null,"MacGregor Forest & Groundcare - Inverness HO","PALLISERS OF HEREFORD LTD","C T HAYTON LIMITED","NAILSWORTH GARDEN MACHINERY","W J GREEN LIMITED","BUXTONS LIMITED"]
["Colin Ferguson",28411312,"MacGregor Forest & Groundcare - Portree","IV51 9HD",3,503306401,1,null,null,"MacGregor Forest & Groundcare - Kirkwall","KALEHURST GARDEN MACHINERY LTD","ROBSON & COWAN","Riverlea Ltd - Cowbridge","THETFORD GARDEN & LEISURE CENTRE","L & S ENGINEERS"]
["Colin Ferguson",28411312,"MacGregor Forest & Groundcare - Stornoway","HS1 2RA",5,503308801,1,null,null,"MacGregor Forest & Groundcare - Portree","HEREFORD MOWER SERVICES LTD","RODGER BENTLEY (POWER EQUIP) LTD","Riverlea Ltd (HO) - Whitland","L C GREEN & SON (BECCLES) LTD","EIFIONYDD ENGINEERING"]
["Colin Ferguson",28411618,"HENRY SHEACH LAWNMOWER SERVICES LTD","KY1 3EZ",1,503976401,1,null,null,"MacGregor Forest & Groundcare - Stornoway","D M CHAINSAWS LIMITED","H PIGNEY & SONS","M N R MOWERS LTD","COLLINGS BROTHERS OF ABBOTSLEY LTD","BRIAN JONES"]
["Colin Ferguson",28412211,"GAMMIES GROUNDCARE LTD","DD8 3BT",1,504981692,1,null,null,"HENRY SHEACH LAWNMOWER SERVICES LTD","SIMS GARDEN MACHINERY LTD","GREEN STRIPE GARDEN MACHINERY","FRANCIS THOMAS MOBILE SERVICING LTD","STUART BROWN LANDSCAPE & ARBORIST S","FRANK SUTTON - Raglan"]
["Colin Ferguson",28412688,"LIVINGSTON GARDEN MACHINERY","EH52 6PA",1,505132803,1,null,null,"GAMMIES GROUNDCARE LTD","GLOBAL PLANT SALES LTD","DAVID DIXON GARDEN MACHINERY","DMP Garden Machinery","G & J Peck Ltd","A & B PLANT TOOL HIRE"]
["Colin Ferguson",28412772,"BRYAN JARDINE FOREST & GARDEN","DG5 4AX",1,505665256,1,null,null,"LIVINGSTON GARDEN MACHINERY","OFFENHAM HORTICULTURAL MACH SPEC LI","J C POWERCO LTD","MINCOST LTD","AT Oliver / Oliver Landpower Ltd - Kings Langley","WORLD OF POWER.CO.UK.LTD"]
["Colin Ferguson",28412825,"GALLOWAY HIRE TOOLS","DG1 3PH",1,505665304,1,null,null,"BRYAN JARDINE FOREST & GARDEN","GRASSBOX","Sam Turner & Sons Ltd - Northallerton HO","DC GARDEN MACHINERY","AT Oliver / Oliver Landpower Ltd - Tingewick","STAFFORDSHIRE FARM SUPPLIES LTD"]
["Colin Ferguson",28413403,"WILLIAM YOUNG (KILMARNOCK) LTD","KA1 2QA",1,505665325,1,null,null,"GALLOWAY HIRE TOOLS","Horace Fuller Ltd (Redhill)","Sam Turner & Sons Ltd - Piercebridge","READ AGRISERVICES","AT Oliver / Oliver Landpower Ltd (Head Office) - Luton","ACE FARM SUPPLIES"]
["Colin Ferguson",28413496,"WEST COAST TOOL & PLANT HIRE","PA30 8EU",1,505665348,1,null,null,"WILLIAM YOUNG (KILMARNOCK) LTD","Horace Fuller Ltd HO (Horsham)","Sam Turner & Sons Ltd - Stokesley","J GLIDDON & SONS LTD","BRI-AG AGRI & HORT MACHINERY","HUGHIE WILLETT MACHINERY"]
["Colin Ferguson",28413605,"J B W SMITH (AGRICULTURAL DIV) LTD","KY15 4AW",1,505665360,1,null,null,"WEST COAST TOOL & PLANT HIRE","Horace Fuller Ltd t/a Ray Foster Garden & Forest Machinery","M.E. WILLIS LTD","WESTON GARDEN MACHINERY","GARDEN MACHINES (NORTHAMPTON) LTD","T S H GARDEN MACHINERY"]
["Colin Ferguson",28413633,"CASTLE DOUGLAS SMALL ENGINE CLINIC","DG7 1EL",1,505694704,1,null,null,"J B W SMITH (AGRICULTURAL DIV) LTD","CARTERS (SWANWICK) LTD","Torne Valley Limited - Bakewell","ABA GROUNDCARE","MOWER PLANT SERVICES","Denbigh Plant Services - HO Denbigh"]
["Colin Ferguson",28413738,"FORTH GRASS MACHINERY LIMITED","KY11 9JW",1,505694730,1,null,null,"CASTLE DOUGLAS SMALL ENGINE CLINIC","THE JERSEY FARMERS (TRADING) UNION","Torne Valley Limited - Doncaster HO","ABA GROUNDCARE Tiverton Branch","A PAMPHILON & SONS","Denbigh Plant Services - Mochdre"]
["Colin Ferguson",28413822,"CS EQUIPMENT LIMITED","KA11 4HP",1,505694746,1,null,null,"FORTH GRASS MACHINERY LIMITED","Haynes Agricultural Ltd - Ashford","Torne Valley Limited - Epworth","TORRINGTON GARDEN MACHINERY","GARDEN DISCOUNT CENTRE LTD","CHESTER SMALL PLANT"]
["Colin Ferguson",28414236,"BASICALLY TOOL HIRE LIMITED","EH22 3LH",1,505697810,1,null,null,"CS EQUIPMENT LIMITED","Haynes Agricultural Ltd - Birchington","THOMAS & HOUGH LTD T/A","J Hayes Group Limited","MARK WEATHERHEAD LTD","D H JONES LTD"]
["Colin Ferguson",28414414,"R C DALGLIESH LTD","DG11 1BL",1,505698109,1,null,null,"BASICALLY TOOL HIRE LIMITED","Haynes Agricultural Ltd - Borough Green","GARDNER ENGINEERING SERVICES LTD","PLYMOUTH GARDEN MACHINERY LTD","SHARNFORD HORTICULTURAL LTD","THE LAWNMOWER COMPANY"]
["Colin Ferguson",28414465,"Daniel Ross (Eng) Ltd T/A: R&R Machinery Lanark","ML11 7DZ",1,505698161,1,null,null,"R C DALGLIESH LTD","Haynes Agricultural Ltd - Horsham","LYONS OF GAINSBOROUGH LTD","HIRE CENTRES SOUTH WEST LTD","F R JONES & SON","TREBOR JONES & SON"]
["Colin Ferguson",28414487,"AT Best Handlers Ltd","EH33 1RD",2,505698181,1,null,null,"Daniel Ross (Eng) Ltd T/A: R&R Machinery Lanark","Haynes Agricultural Ltd - Uckfield - HO","Gibson's Garden Machinery Ltd (GGM Groundscare) - Colne","Andrew Symons Ltd  - H/O Holsworthy branch","SEVENOAKS MOWERS LIMITED","MARKET DRAYTON MOWERS LIMITED"]
["Colin Ferguson",28414511,"Calido Fuels Ltd T/A Calido Logs & Stove","FK7 7NP",1,505699012,1,null,null,"AT Best Handlers Ltd","David Hall t/a Halls of Bromyard","Gibson's Garden Machinery Ltd (GGM Groundscare) - Haydock","Andrew Symons Ltd - Crediton branch","LAWN-BOY FARM SERVICES","P R THOMAS AGRICULTURE LTD"]
["Colin Ferguson",28414839,"HAMILTON BROS (UK) LTD - Argyll","PA28 6LU",3,505891640,1,null,null,"Calido Fuels Ltd T/A Calido Logs & Stove","HONEY BROTHERS LTD","HOPKINSON & SONS LTD","Andrew Symons Ltd - South Molton Branch","LAMBERHURST ENGINEERING LTD","P & H LAWNMOWERS LIMITED"]
["Colin Ferguson",28414839,"HAMILTON BROS (UK) Ltd - Ayrshire","KA5 5PR",2,522914102,1,null,null,"HAMILTON BROS (UK) LTD - Argyll","GROUNDSERV","RUFF LEA FARM LTD T/A REDBLADE MOWE","GREENKEEPERS LAWN CARE LTD","RTC PLANT SERVICES LTD","ANGLESEY MOWERS"]
["Colin Ferguson",28414839,"Hamilton Bros (UK) Ltd - Perth (was Reekie Limited Perth 28414376)","PH1 3EE",4,529280801,1,null,null,"HAMILTON BROS (UK) Ltd - Ayrshire","AUTOBOTICS","CARRS BILLINGTON AGRICULTURE","LEE HOLMES GARDEN MACHINERY","RES TRACTORS LTD","CAERFAGU PRODUCTS LTD"]
["Colin Ferguson",28414839,"HAMILTON BROS (UK) Ltd - Renfrewshire HO","PA7 5AP",1,529318801,1,null,null,"Hamilton Bros (UK) Ltd - Perth (was Reekie Limited Perth 28414376)","AMP GROUNDCARE MACH SERV LTD","JON HODGKINSON","Gartell & Sons T/A Landpower Machinery","WA THORPE & SONS LTD","SPA ENGINEERING & GROUNDCARE MACH L"]
["Colin Ferguson",28414853,"Tullibardine Smiddy Ltd","PH3 1LA",1,529340632,1,null,null,"HAMILTON BROS (UK) Ltd - Renfrewshire HO","ROMWY POWER GARDEN MACHINERY LTD","ACE FIXINGS CUMBRIA LTD","Revill Mowers Ltd","Albany Farm & Garden Machinery Ltd","AYRE MOWERS LTD"]
["Francesca Bosley",28400505,"Winchester Garden Machinery Ltd - Arb","SO21 1HF",1,529340660,1,null,null,"Tullibardine Smiddy Ltd","POWELLS FOREST & GARDEN EQUIP LTD","A W SMITH (FARM MACHINERY) LTD","Chandlers (Farm Equipment) Ltd - Bristol","GAYWAYS LTD","OWEN ATVS & GARDEN MACHINERY LTD"]
["Francesca Bosley",28400505,"Winchester Garden Machinery Ltd - Liss","GU33 6LJ",506,529340668,1,null,null,null,"FN PILE & SONS","JOHN CORNTHWAITE(FARM MACHINERY)LTD","Chandlers (Farm Equipment) Ltd - Cirencester","PLATTS HORTICULTURE LLP","FOREST PARK & GARDEN"]
["Francesca Bosley",28400505,"Winchester Garden Machinery Ltd - Winchester HO","SO22 5DL",504,529340760,1,null,null,null,"TUDOR (UK) LIMITED","CLARKE & PULMAN LTD - HO","Chandlers (Farm Equipment) Ltd - Cosby","HALLS POWER EQUIPMENT LTD","B&B Buxton Tractors - Buxton HO"]
["Francesca Bosley",28400505,"Winchester Garden Machinery Ltd - Windlesham","GU20 6LQ",507,529340768,1,null,null,null,"LEDBURY GARDEN MACHINERY","AWS LANDSCAPES LIMITED","Chandlers (Farm Equipment) Ltd - Devizes","ENDURA GROUP T/A LANDSCAPE SUPPLY","B&B Tractors - Barnsley"]
["Francesca Bosley",28400524,"S P G (POWER MACHINE SERVICES) LTD","SO41 8PA",1,529459701,1,null,null,null,"BOB RICHARDSON TOOL & FASTENERS LTD","MILL GARAGE & GARDEN MACHINERY","Chandlers (Farm Equipment) Ltd - HO Grantham","Abrey & Son Limited T/A Abrey Agricultural","B&B Tractors - Mansfield"]
["Francesca Bosley",28400585,"SAWS & MOWERS","WR9 0NX",1,529515842,6,null,null,null,"KING & STEVENS LIMITED","FENTONS OF BOURNE LTD","Chandlers (Farm Equipment) Ltd - Horncastle","Godfreys (Sevenoaks) Ltd - Sevenoaks","B&B Tractors - Tutbury"]
["Francesca Bosley",28400705,"D C BURGOYNE & SONS","B93 0AU",1,529515846,6,null,null,null,"MELKSHAM GROUNDCARE MACHINERY LTD","CANAL HEAD GARDEN MACHINERY","Chandlers (Farm Equipment) Ltd - Shefford","Agwood Ltd","Broadfield Mowers Ltd"]
["Francesca Bosley",28400740,"SALISBURY GARDEN MACHINERY LTD","SP2 7QA",1,529515850,6,null,null,null,"TOAD HALL GARDEN & MACHINERY CENTRE","GARLICK GARDEN MACHINERY","Chandlers (Farm Equipment) Ltd - Southam","Agwood Ltd - Linton","AGRI POWER SERVICES"]
["Francesca Bosley",28400791,"A J TROALIC & SONS LTD","GY2 4RA",1,529515854,6,null,null,null,"RT Machinery Limited","SPALDINGS LIMITED","Chandlers (Farm Equipment) Ltd - Spalding","Ben Burgess & Co Ltd - Aylsham","GLAN THOMAS LTD"]
["Francesca Bosley",28400826,"HAMPSHIRE GARDEN MACHINERY LTD","SO51 9BN",1,529515858,6,null,null,null,"HUNTS ENGINEERING LIMITED","Balmers GM Limited - Burnley HO","Chandlers (Farm Equipment) Ltd - Spilsby","Ben Burgess & Co Ltd - Beeston","TOM'S MOWERS & GARDEN SUPPLIES"]
["Francesca Bosley",28400839,"PENN LAWN MOWERS LTD","BH24 3SG",1,529515862,6,null,null,null,"AUTOLAWN","Balmers GM Limited - Wakefield","Chandlers (Farm Equipment) Ltd - Stamford","Ben Burgess & Co Ltd - Coates","SKYLAND EQUIPMENT LTD"]
["Francesca Bosley",28400849,"LEIGH PARK GARDEN MACHINERY LIMITED","BA14 9NJ",1,529515946,6,null,null,null,"ANDOVER GARDEN MACHINERY LTD","Ripon Farm Services Ltd - Brigg","Chandlers (Farm Equipment) Ltd - Wallingford","Ben Burgess & Co Ltd - Ellington","SADLER AGRICULTURAL SUPPLIES LTD"]
["Francesca Bosley",28400853,"E O CULVERWELL LTD - HO","TN32 5DG",1,529515950,6,null,null,null,"HUGH PAGE (SUSSEX) LTD","Ripon Farm Services Ltd - Darrington","COUNTRY LIFE STORES","Ben Burgess & Co Ltd - Holbeach","P R ROBERTS"]
["Francesca Bosley",28400862,"J L & D M HARRIS","HR9 6NH",1,529515954,6,null,null,null,"FAROL LIMITED - Hinkley Branch","Ripon Farm Services Ltd - HO Ripon",null,"Ben Burgess & Co Ltd - Kings Lynn","ARB AND GROUNDS EQUIPMENT LTD"]
["Francesca Bosley",28403029,"T/A CURTIS & SHAW","BN27 4JE",1,529515958,6,null,null,null,"Farol Ltd - Midhurst Branch","Ripon Farm Services Ltd - Keighley",null,"Ben Burgess & Co Ltd - Newmarket","JOHN BOWNES LIMITED"]
["Francesca Bosley",28403111,"LONGMOOR FARM ENTERPRISES LTD","HP18 0RH",1,529516146,10,null,null,null,"Farol Ltd - Milton Commons Branch - HO","Ripon Farm Services Ltd - Leyburn",null,"Ben Burgess & Co Ltd - Oakham","Northern Tool Hire Ltd"]
["Francesca Bosley",28403668,"Tallis Amos Group Ltd - Crudwell","SN16 9SN",6,529516150,10,null,null,null,"Farol Ltd - Shefford Woodlands","Ripon Farm Services Ltd - Louth",null,"Ben Burgess & Co Ltd - Old Leake","OAKLEYS GROUP LIMITED  "]
["Francesca Bosley",28403668,"Tallis Amos Group Ltd - Evesham","WR11 2QT",2,529516154,10,null,null,null,"Farol Ltd - Twyford","Ripon Farm Services Ltd - Malton",null,"Ben Burgess & Co Ltd - Swineshead","QUALTEX UK LIMITED  "]
["Francesca Bosley",28403668,"Tallis Amos Group Ltd - Leominster HO","HR6 0QB",1,529516158,10,null,null,null,"Mid Hants Mowers","Ripon Farm Services Ltd - Market Weighton",null,"Ben Burgess & Co Ltd HO","CRYTEC LIMITED  "]
["Francesca Bosley",28403668,"Tallis Amos Group Ltd - Narbeth","SA67 7ES",4,529516162,10,null,null,null,"Acacia Groundcare Equipment Rental Ltd","Ripon Farm Services Ltd - Ottringham",null,"Russells (Kirbymoorside) Ltd - Malton HO","Hales Sawmills Limited - Market Drayton"]
["Francesca Bosley",28403673,"PALLISERS OF HEREFORD LTD","HR1 3SX",1,529516246,8,null,null,null,"Hunt Forest Group Ltd - Ringwood","Ripon Farm Services Ltd - Retford",null,"Russells (Kirbymoorside) Ltd - Darley Dale","Hales Sawmills Limited - Shrewsbury"]
["Francesca Bosley",28403723,"KALEHURST GARDEN MACHINERY LTD","RG18 9TG",1,529516250,8,null,null,null,"Hunt Forest Group Ltd - Sparkford","Ripon Farm Services Ltd - Stockton",null,"Russells (Kirbymoorside) Ltd - Harby"]
["Francesca Bosley",28404263,"HEREFORD MOWER SERVICES LTD","HR4 9QJ",1,529516254,8,null,null,null,"T.H. WHITE","Ripon Farm Services Ltd - Tadcaster",null,"Russells (Kirbymoorside) Ltd - Boroughbridge"]
["Francesca Bosley",28404646,"D M CHAINSAWS LIMITED","BN18 0AS",1,529516258,8,null,null,null,null,"HENTON & CHATTELL LTD",null,"Russells (Kirbymoorside) Ltd - Eggborough"]
["Francesca Bosley",28404770,"SIMS GARDEN MACHINERY LTD","CV37 0AW",1,529516445,5,null,null,null,null,null,null,"Russells (Kirbymoorside) Ltd - Leyburn"]
["Francesca Bosley",28404871,"GLOBAL PLANT SALES LTD","B14 4RS",1,529516446,5,null,null,null,null,null,null,"Russells (Kirbymoorside) Ltd - Gilberdyke"]
["Francesca Bosley",28404934,"OFFENHAM HORTICULTURAL MACH SPEC LI","WR10 2TA",1,529516447,5,null,null,null,null,null,null,"Russells (Kirbymoorside) Ltd - Rotherham"]
["Francesca Bosley",28410621,"GRASSBOX","SL7 3ND",1,529516449,5,null,null,null,null,null,null,"Russells (Kirbymoorside) Ltd - Cubley, Sudbury"]
["Francesca Bosley",28411422,"Horace Fuller Ltd (Redhill)","RH1 5DY",13376,529516450,5,null,null,null,null,null,null,"Russells (Kirbymoorside) Ltd - Rothwell"]
["Francesca Bosley",28411422,"Horace Fuller Ltd HO (Horsham)","RH12 1BY",2,529516451,5,null,null,null,null,null,null,"Russells (Kirbymoorside) Ltd - Tuxford"]
["Francesca Bosley",28411422,"Horace Fuller Ltd t/a Ray Foster Garden & Forest Machinery","RH10 4PY",2,529516453,5]
["Francesca Bosley",28411450,"CARTERS (SWANWICK) LTD","SO31 1BD",1,529516454,5]
["Francesca Bosley",28411603,"THE JERSEY FARMERS (TRADING) UNION","JE2 7JQ",1,529516455,5]
["Francesca Bosley",28411817,"Haynes Agricultural Ltd - Ashford","TN26 1JJ ",2,529516457,5]
["Francesca Bosley",28411817,"Haynes Agricultural Ltd - Birchington","CT7 0NJ",5,529516458,5]
["Francesca Bosley",28411817,"Haynes Agricultural Ltd - Borough Green","TN15 8LW",4,529516459,5]
["Francesca Bosley",28411817,"Haynes Agricultural Ltd - Horsham","RH12 3PW",8,529516461,5]
["Francesca Bosley",28411817,"Haynes Agricultural Ltd - Uckfield - HO","TN22 5RB",1,529516462,5]
["Francesca Bosley",28412162,"David Hall t/a Halls of Bromyard","HR7 4LL",1,529518146,8]
["Francesca Bosley",28412659,"HONEY BROTHERS LTD","GU3 1JR",1,529518150,8]
["Francesca Bosley",28412824,"GROUNDSERV","SM1 2PS",1,529518154,8]
["Francesca Bosley",28413566,"AUTOBOTICS","WR11 4SN",1,529518158,8]
["Francesca Bosley",28413709,"AMP GROUNDCARE MACH SERV LTD","BN5 9XR",1,529518162,8]
["Francesca Bosley",28413719,"ROMWY POWER GARDEN MACHINERY LTD","SP5 2BG",1,529518346,6]
["Francesca Bosley",28413735,"POWELLS FOREST & GARDEN EQUIP LTD","HR2 9DH",1,529518350,6]
["Francesca Bosley",28413827,"FN PILE & SONS","OX17 1JL",1,529518354,6]
["Francesca Bosley",28413862,"TUDOR (UK) LIMITED","CV3 4FR",1,529518358,6]
["Francesca Bosley",28413936,"LEDBURY GARDEN MACHINERY","HR8 2DJ",1,529518362,6]
["Francesca Bosley",28413954,"BOB RICHARDSON TOOL & FASTENERS LTD","DY2 0RL",1,529518546,5]
["Francesca Bosley",28414011,"KING & STEVENS LIMITED","RH13 8LY",1,529518548,5]
["Francesca Bosley",28414017,"MELKSHAM GROUNDCARE MACHINERY LTD","SN12 6RF",1,529518550,5]
["Francesca Bosley",28414042,"TOAD HALL GARDEN & MACHINERY CENTRE","RG9 3AG",1,529518552,5]
["Francesca Bosley",28414050,"RT Machinery Limited","HP18 0DS",1,529518554,5]
["Francesca Bosley",28414060,"HUNTS ENGINEERING LIMITED","CV36 4HT",1,529518556,5]
["Francesca Bosley",28414061,"AUTOLAWN","SL6 2LJ",1,529518558,5]
["Francesca Bosley",28414083,"ANDOVER GARDEN MACHINERY LTD","SP11 7DN",1,529518560,5]
["Francesca Bosley",28414296,"HUGH PAGE (SUSSEX) LTD","TN21 8DH",1,529518562,5]
["Francesca Bosley",28414346,"FAROL LIMITED - Hinkley Branch","LE10 0NB",2,529518646,5]
["Francesca Bosley",28414346,"Farol Ltd - Midhurst Branch","GU29 9XY",5,529518648,5]
["Francesca Bosley",28414346,"Farol Ltd - Milton Commons Branch - HO","OX9 2NZ",1,529518650,5]
["Francesca Bosley",28414346,"Farol Ltd - Shefford Woodlands","RG17 7BP",4,529518652,5]
["Francesca Bosley",28414346,"Farol Ltd - Twyford","RG10 9EQ",3,529518654,5]
["Francesca Bosley",28414475,"Mid Hants Mowers","GU34 3HD",1,529518656,5]
["Francesca Bosley",28414486,"Acacia Groundcare Equipment Rental Ltd","RG26 5QW",1,529518658,5]
["Francesca Bosley",28414548,"Hunt Forest Group Ltd - Ringwood","BH24 3PE",2,529518660,5]
["Francesca Bosley",28414548,"Hunt Forest Group Ltd - Sparkford","BA22 7LH",3,529518662,5]
["Francesca Bosley",28414589,"T.H. WHITE","CV34 5JB",1,529518846,5]
["Graeme Simpson",28400567,"RAMAGE DIY & EQUIPMENT HIRE","L40 0SA",1,529518850,5]
["Graeme Simpson",28400568,"Lloyd Limited - Alnwick","NE66 2PF",11781,529518854,5]
["Graeme Simpson",28400568,"Lloyd Limited - Bishop Auckland","DL14 9AX",11782,529518858,5]
["Graeme Simpson",28400568,"Lloyd Limited - Carlisle","CA3 0EF",1,529518862,5]
["Graeme Simpson",28400568,"Lloyd Limited - Dumfries","DG1 3SJ",2,529518944,1]
["Graeme Simpson",28400568,"Lloyd Limited - Kelso","TD5 8BQ",3495,529518946,1]
["Graeme Simpson",28400568,"Lloyd Limited - Penrith","CA11 9FW",3393,529518948,1]
["Graeme Simpson",28400568,"Lloyd Limited - Throckley Head Office","NE15 9EP",5030,529518950,1]
["Graeme Simpson",28400580,"MIKE BARNES CHAINSAWS","DB20 6RY",1,529518952,1]
["Graeme Simpson",28400618,"CHARLES H HILL LIMITED","LN10 5HH",1,529518954,1]
["Graeme Simpson",28400651,"AMBLESIDE FOREST & GARDEN","LA22 0EB",1,529518956,1]
["Graeme Simpson",28400658,"SOUTH LINCS PLANT HIRE & SALES LTD","PE11 3YR",1,529518958,1]
["Graeme Simpson",28400690,"J Carr & Son Ltd","PE21 9BN",1,529518960,1]
["Graeme Simpson",28400704,"SIMON WINSTANLEY (MACHINERY)","DL8 5QA",1,529518962,1]
["Graeme Simpson",28400706,"P S MARSDEN (LAWNMOWER SERVICES) LT","NG4 2JX",1,529518964,1]
["Graeme Simpson",28400734,"HARLAND (GARDEN MACHINERY) LIMITED","YO26 9TT",1,529520101,1]
["Graeme Simpson",28400814,"ROBERT H CRAWFORD AND SON","PE22 7DU",1,529880001,1]
["Graeme Simpson",28400887,"J TODD & SON (SUMMERBRIDGE) LTD","HG3 4JN",1,529880002,1]
["Graeme Simpson",28400890,"F G ADAMSON & SON LTD","HU14 3QZ",1,529880003,1]
["Graeme Simpson",28400909,"DICK LEIGH (CHAINSAW SPECIALIST)","BB7 9AQ",1,529880107,1]
["Graeme Simpson",28400925,"C T HAYTON LIMITED","LA9 6EX",1,529880108,1]
["Graeme Simpson",28400931,"ROBSON & COWAN","NE61 4DT",1,529880109,1]
["Graeme Simpson",28402987,"RODGER BENTLEY (POWER EQUIP) LTD","YO25 6PS",1,529880110,1]
["Graeme Simpson",28403161,"H PIGNEY & SONS","CA16 6QR",1,529880207,1]
["Graeme Simpson",28403660,"GREEN STRIPE GARDEN MACHINERY","LN8 3LY",1,529880208,1]
["Graeme Simpson",28404407,"DAVID DIXON GARDEN MACHINERY","NE46 4TU",1,529880209,1]
["Graeme Simpson",28404703,"J C POWERCO LTD","WF7 7HY",1,529880210,1]
["Graeme Simpson",28404962,"Sam Turner & Sons Ltd - Northallerton HO","DL6 2XB",1,529880307,1]
["Graeme Simpson",28404962,"Sam Turner & Sons Ltd - Piercebridge","DL2 3TS",2,529880308,1]
["Graeme Simpson",28404962,"Sam Turner & Sons Ltd - Stokesley","TS9 5PT",4963,529880309,1]
["Graeme Simpson",28411390,"M.E. WILLIS LTD","YO61 3HT",1,529880310,1]
["Graeme Simpson",28411457,"Torne Valley Limited - Bakewell","DE45 1AW",12425,529880312,1]
["Graeme Simpson",28411457,"Torne Valley Limited - Doncaster HO","DN11 9EX",1,529880408,1]
["Graeme Simpson",28411457,"Torne Valley Limited - Epworth","DN9 1JU",12048,529880409,1]
["Graeme Simpson",28411621,"THOMAS & HOUGH LTD T/A","L40 8LB",1,529880410,1]
["Graeme Simpson",28411936,"GARDNER ENGINEERING SERVICES LTD","YO11 3UT",1,529880412,1]
["Graeme Simpson",28412127,"LYONS OF GAINSBOROUGH LTD","DN21 2AJ",1,529880501,1]
["Graeme Simpson",28412527,"Gibson's Garden Machinery Ltd (GGM Groundscare) - Colne","BB8 8LJ",1,529920960,1]
["Graeme Simpson",28412527,"Gibson's Garden Machinery Ltd (GGM Groundscare) - Haydock","WA11 9XQ",2,529920968,1]
["Graeme Simpson",28412550,"HOPKINSON & SONS LTD","YO18 7JW",1,529921060,1]
["Graeme Simpson",28412930,"RUFF LEA FARM LTD T/A REDBLADE MOWE","L40 1UJ",1,529921068,1]
["Graeme Simpson",28412994,"CARRS BILLINGTON AGRICULTURE","DL16 7NL",1,529937101,1]
["Graeme Simpson",28413629,"JON HODGKINSON","NG19 OEQ",1,531009248,12]
["Graeme Simpson",28413631,"ACE FIXINGS CUMBRIA LTD","CA11 9BF ",1,531080401,1]
["Graeme Simpson",28413636,"A W SMITH (FARM MACHINERY) LTD","LN11 0HH",1,531080402,1]
["Graeme Simpson",28413691,"JOHN CORNTHWAITE(FARM MACHINERY)LTD","PR3 0LT",1,531080403,1]
["Graeme Simpson",28413692,"CLARKE & PULMAN LTD - HO","L40 8JS",1,531116466,1]
["Graeme Simpson",28413818,"AWS LANDSCAPES LIMITED","DN1 3TA",1,531116476,1]
["Graeme Simpson",28413860,"MILL GARAGE & GARDEN MACHINERY","CA20 1DN",1,531300872,4]
["Graeme Simpson",28413916,"FENTONS OF BOURNE LTD","PE10 0EN",1,531311701,1]
["Graeme Simpson",28413999,"CANAL HEAD GARDEN MACHINERY","LA12 7JZ",1,534098601,1]
["Graeme Simpson",28414006,"GARLICK GARDEN MACHINERY","PR4 5ZE",1,534098701,1]
["Graeme Simpson",28414028,"SPALDINGS LIMITED","LN6 3XJ",1,534098702,1]
["Graeme Simpson",28414358,"Balmers GM Limited - Burnley HO","BB11 5PF ",1,534098711,1]
["Graeme Simpson",28414358,"Balmers GM Limited - Wakefield","WF2 7AL ",2,534098712,1]
["Graeme Simpson",28414541,"Ripon Farm Services Ltd - Brigg","DN20 9EY",2,534098801,1]
["Graeme Simpson",28414541,"Ripon Farm Services Ltd - Darrington","WF8 3BW",3,534098802,1]
["Graeme Simpson",28414541,"Ripon Farm Services Ltd - HO Ripon","HG4 1TT",1,534098811,1]
["Graeme Simpson",28414541,"Ripon Farm Services Ltd - Keighley","BD20 7BX",4,534098812,1]
["Graeme Simpson",28414541,"Ripon Farm Services Ltd - Leyburn","DL8 5DP",5,534098901,1]
["Graeme Simpson",28414541,"Ripon Farm Services Ltd - Louth","LN11 0WA",6,534099201,1]
["Graeme Simpson",28414541,"Ripon Farm Services Ltd - Malton","YO17 6AP",14,534099701,1]
["Graeme Simpson",28414541,"Ripon Farm Services Ltd - Market Weighton","YO43 3EW",8,534099801,1]
["Graeme Simpson",28414541,"Ripon Farm Services Ltd - Ottringham","HU12 0BJ",9,534099802,1]
["Graeme Simpson",28414541,"Ripon Farm Services Ltd - Retford","DN22 9EA",10,534099901,1]
["Graeme Simpson",28414541,"Ripon Farm Services Ltd - Stockton","TS21 1EB",11,534099902,1]
["Graeme Simpson",28414541,"Ripon Farm Services Ltd - Tadcaster","LS24 8EB",12,534100801,1]
["Graeme Simpson",28511600,"HENTON & CHATTELL LTD","NG2 3HW",null,534101801,1]
["James Etoe",28400500,"RADMORE & TUCKER  LIMITED","EX2 9RY",1,534971901,1]
["James Etoe",28400509,"CREWKERNE HORTICULTURAL","TA18 7AW",1,535129002,1]
["James Etoe",28400535,"DEVON GARDEN MACHINERY","TQ2 7HX",1,535560001,1]
["James Etoe",28400630,"WILLIS & GRABHAM","TA21 0RL",1,536176301,1]
["James Etoe",28400663,"GEORGE CARR & SONS (SAWS) LTD","BS3 1EW",1,536326201,1]
["James Etoe",28400758,"CHELTENHAM GARDEN MACHINERY","GL50 3HU",1,536655701,1]
["James Etoe",28400822,"A G EDWARDS & SONS","BH21 5HY",1,536661801,1]
["James Etoe",28400842,"GWILLIAMS OF EDINGTON LTD","TA7 9JN",1,536664101,1]
["James Etoe",28403233,"C.R. WILLCOCKS & COMPANY LIMITED","TQ12 6RW",1,536825401,1]
["James Etoe",28403639,"BARTLETTS DORSET LTD","DT6 3EX",1,536849201,1]
["James Etoe",28404219,"Lister Wilder Ltd - Ashford","TN24 8DH ",8,536911832,1]
["James Etoe",28404219,"Lister Wilder Ltd - Guildford","GU23 6PF",2,536912801,1]
["James Etoe",28404219,"Lister Wilder Ltd - Reading","RG7 1HR",1,536913101,1]
["James Etoe",28404517,"GRAHAMS GARDEN MACHINERY LTD","TR2 4HD",1,536913201,1]
["James Etoe",28404761,"ANDREW VANSTONE","PL16 0JP",1,536913501,1]
["James Etoe",28404802,"O H E HORTICULTURAL LTD","DT28BY",1,536913601,1]
["James Etoe",28405095,"K J STONEMAN & CO LTD","EX17 5NW",1,536913901,1]
["James Etoe",28411098,"Ron Smith & Co Ltd - Herefordshire","HR1 2UA",3,536930901,1]
["James Etoe",28411098,"Ron Smith & Co Ltd (HO) - Worcestershire","WR5 1HF",1,536944801,1]
["James Etoe",28411134,"D S BENNETT UK LTD","PL19 0DZ",1,536944802,1]
["James Etoe",28411157,"NAILSWORTH GARDEN MACHINERY","GL5 5EX",1,537639101,1]
["James Etoe",28411659,"Riverlea Ltd - Cowbridge","CF71 7PF",12739,537657601,1]
["James Etoe",28411659,"Riverlea Ltd (HO) - Whitland","SA34 0QQ",1,538629201,1]
["James Etoe",28411991,"M N R MOWERS LTD","EX14 1SB",1,538629401,1]
["James Etoe",28412608,"FRANCIS THOMAS MOBILE SERVICING LTD","PL30 4LA",1,538629501,1]
["James Etoe",28413517,"DMP Garden Machinery","EX22 7SF",1,538920764,1]
["James Etoe",28413519,"MINCOST LTD","GL15 5DP",1,538920772,1]
["James Etoe",28413586,"DC GARDEN MACHINERY","DT101AZ",1,538920868,1]
["James Etoe",28413696,"READ AGRISERVICES","BA4 4SY",1,538920872,1]
["James Etoe",28413783,"J GLIDDON & SONS LTD","TA4 4NH",1,544963701,5]
["James Etoe",28413834,"WESTON GARDEN MACHINERY","BS23 3YS",1,544963702,5]
["James Etoe",28413901,"ABA GROUNDCARE","DT1 1ST",1,544963703,5]
["James Etoe",28413901,"ABA GROUNDCARE Tiverton Branch","EX16 5GZ",4,544963801,5]
["James Etoe",28413925,"TORRINGTON GARDEN MACHINERY","EX38 7HP",1,544963802,5]
["James Etoe",28414002,"J Hayes Group Limited","EX36 3RF",1,544963901,5]
["James Etoe",28414066,"PLYMOUTH GARDEN MACHINERY LTD","PL7 1AB",1,546027301,1]
["James Etoe",28414078,"HIRE CENTRES SOUTH WEST LTD","TQ9 7FA",1,546260001,1]
["James Etoe",28414089,"Andrew Symons Ltd  - H/O Holsworthy branch","EX22 6HL",2,546341501,1]
["James Etoe",28414089,"Andrew Symons Ltd - Crediton branch","EX17 1FB",3,546341601,1]
["James Etoe",28414089,"Andrew Symons Ltd - South Molton Branch","EX36 3LZ",1,546342101,1]
["James Etoe",28414090,"GREENKEEPERS LAWN CARE LTD","TQ9 7FA",1,546342201,1]
["James Etoe",28414119,"LEE HOLMES GARDEN MACHINERY","TA11 6SB ",1,546342630,1]
["James Etoe",28414485,"Gartell & Sons T/A Landpower Machinery","BA8 0NB",1,546342634,1]
["James Etoe",28414506,"Revill Mowers Ltd","GL16 8PJ",1,546342638,1]
["James Etoe",28414557,"Chandlers (Farm Equipment) Ltd - Bristol","BS35 4AG",12,546342642,1]
["James Etoe",28414557,"Chandlers (Farm Equipment) Ltd - Cirencester","GL7 1YG",9,546342646,1]
["James Etoe",28414557,"Chandlers (Farm Equipment) Ltd - Cosby","LE9 1RH",5,546606368,1]
["James Etoe",28414557,"Chandlers (Farm Equipment) Ltd - Devizes","SN10 2EY",10,546606372,1]
["James Etoe",28414557,"Chandlers (Farm Equipment) Ltd - HO Grantham","NG32 2LX",1,546606464,1]
["James Etoe",28414557,"Chandlers (Farm Equipment) Ltd - Horncastle","LN9 6JN",3,546606472,1]
["James Etoe",28414557,"Chandlers (Farm Equipment) Ltd - Shefford","SG17 5QB",2,546606556,1]
["James Etoe",28414557,"Chandlers (Farm Equipment) Ltd - Southam","CV33 9PF",11,546606564,1]
["James Etoe",28414557,"Chandlers (Farm Equipment) Ltd - Spalding","PE12 6NT",6,546606572,1]
["James Etoe",28414557,"Chandlers (Farm Equipment) Ltd - Spilsby","PE23 5HQ",4,546724901,1]
["James Etoe",28414557,"Chandlers (Farm Equipment) Ltd - Stamford","PE9 3DW",7,574387101,1]
["James Etoe",28414557,"Chandlers (Farm Equipment) Ltd - Wallingford","OX10 8FG",8,574387201,1]
["James Etoe",28414725,"COUNTRY LIFE STORES","BA3 4LW",1,574387401,1]
["James Woodbridge",28400539,"Ernest Doe & Sons Ltd - Braintree","CM7 2QS",541,574387501,1]
["James Woodbridge",28400539,"Ernest Doe & Sons Ltd - Dartford","DA4 9HA",547,574387601,1]
["James Woodbridge",28400539,"Ernest Doe & Sons Ltd - Esher","KT10 9AD",552,574613501,1]
["James Woodbridge",28400539,"Ernest Doe & Sons Ltd - Fulbourne","CB21 5EX",549,575842258,10]
["James Woodbridge",28400539,"Ernest Doe & Sons Ltd - Littelport","CB6 1SE",543,575842264,10]
["James Woodbridge",28400539,"Ernest Doe & Sons Ltd - Marlesford","IP13 0AG",551,576412401,10]
["James Woodbridge",28400539,"Ernest Doe & Sons Ltd - North Walsham","NR28 0TY",3700,576412402,10]
["James Woodbridge",28400539,"Ernest Doe & Sons Ltd - Ongar","CM5 0NS",542,576926201,2]
["James Woodbridge",28400539,"Ernest Doe & Sons Ltd - Rochford","SS4 1AH",544,576926301,2]
["James Woodbridge",28400539,"Ernest Doe & Sons Ltd - Stevenage","SG2 7BZ",550,576926401,2]
["James Woodbridge",28400539,"Ernest Doe & Sons Ltd - Sudbury","CO10 2XB",546,576926501,2]
["James Woodbridge",28400539,"Ernest Doe & Sons Ltd - Ulting Head Office","CM9 6QH",1,576926701,2]
["James Woodbridge",28400539,"Ernest Doe & Sons Ltd - Wymodham","NR18 0NN",548,576926801,2]
["James Woodbridge",28400539,"Ernest Doe & Sons Ltd - Colchester","CO2 8HT",540,577259201,1]
["James Woodbridge",28400539,"Ernest Doe Power - Albourne","BN6 9BN",3679,577419201,12]
["James Woodbridge",28400539,"Ernest Doe Power - Fakenham","NR21 8DY",3699,577419701,12]
["James Woodbridge",28400539,"Ernest Doe Power - Framlingham","IP13 9LL",2887,577419702,12]
["James Woodbridge",28400539,"Ernest Doe Power - Ringmer","BN8 5NN",859,577606505,1]
["James Woodbridge",28400553,"BRADSTOCK POWER TOOLS","SG4 8QB",1,577864201,1]
["James Woodbridge",28400558,"STUART J DAWS & CO. LTD","CT4 8DX",1,577864603,1]
["James Woodbridge",28400572,"W J GREEN LIMITED","IP7 6BQ",1,577864701,1]
["James Woodbridge",28400606,"THETFORD GARDEN & LEISURE CENTRE","IP24 2RL",1,577864801,1]
["James Woodbridge",28400671,"L C GREEN & SON (BECCLES) LTD","NR34 9UE",1,578037002,12]
["James Woodbridge",28400673,"COLLINGS BROTHERS OF ABBOTSLEY LTD","PE19 6TZ",1,578037003,12]
["James Woodbridge",28400837,"STUART BROWN LANDSCAPE & ARBORIST S","MK45 2BG",1,578037102,3]
["James Woodbridge",28400877,"G & J Peck Ltd","CB6 3NX",1,578037103,3]
["James Woodbridge",28403150,"AT Oliver / Oliver Landpower Ltd - Kings Langley","WD4 8LW",1,578077101,20]
["James Woodbridge",28403150,"AT Oliver / Oliver Landpower Ltd - Tingewick","MK18 4AG",3,578180002,1]
["James Woodbridge",28403150,"AT Oliver / Oliver Landpower Ltd (Head Office) - Luton","LU2 8NY",2,578180003,1]
["James Woodbridge",28403764,"BRI-AG AGRI & HORT MACHINERY","MK44 2LY",1,578180302,50]
["James Woodbridge",28410598,"GARDEN MACHINES (NORTHAMPTON) LTD","NN2 6HD",1,578180303,50]
["James Woodbridge",28410652,"MOWER PLANT SERVICES","TN27 8PJ",1,578180402,1]
["James Woodbridge",28411238,"A PAMPHILON & SONS","E17 3NZ",1,578180403,1]
["James Woodbridge",28411329,"GARDEN DISCOUNT CENTRE LTD","NR31 9AD",1,578274903,1]
["James Woodbridge",28411556,"MARK WEATHERHEAD LTD","CB23 7QL",1,578274904,1]
["James Woodbridge",28412293,"SHARNFORD HORTICULTURAL LTD","LE17 5EH",1,578400156,10]
["James Woodbridge",28412640,"F R JONES & SON","BR8 8GA",1,578400164,1]
["James Woodbridge",28413331,"SEVENOAKS MOWERS LIMITED","TN14 6ED",1,578400172,1]
["James Woodbridge",28413467,"LAWN-BOY FARM SERVICES","PE38 9EB",1,578446001,66]
["James Woodbridge",28413469,"LAMBERHURST ENGINEERING LTD","TN3 8DS",1,578446101,66]
["James Woodbridge",28413527,"RTC PLANT SERVICES LTD","PE1 5YH",1,578446301,44]
["James Woodbridge",28413543,"RES TRACTORS LTD","LE 14 4DB",1,578446401,44]
["James Woodbridge",28413572,"WA THORPE & SONS LTD","STHL 1ZZ",1,578446501,44]
["James Woodbridge",28413635,"Albany Farm & Garden Machinery Ltd","PO30 5NB",1,578446601,44]
["James Woodbridge",28413727,"GAYWAYS LTD","HA1 3UA",1,578446801,18]
["James Woodbridge",28414014,"PLATTS HORTICULTURE LLP","TN8 5NH",1,578447001,32]
["James Woodbridge",28414126,"HALLS POWER EQUIPMENT LTD","NR11 7HN",1,578449401,44]
["James Woodbridge",28414423,"ENDURA GROUP T/A LANDSCAPE SUPPLY","ME5 7NP",1,579000601,1]
["James Woodbridge",28414450,"Abrey & Son Limited T/A Abrey Agricultural","CB11 3JT",1,579294003,66]
["James Woodbridge",28414479,"Godfreys (Sevenoaks) Ltd - Sevenoaks","TN14 5EG",1,579396001,12]
["James Woodbridge",28414544,"Agwood Ltd","CT15 7HF",1,579396101,1]
["James Woodbridge",28414544,"Agwood Ltd - Linton","ME17 4AX",2,579396201,1]
["James Woodbridge",28414568,"Ben Burgess & Co Ltd - Aylsham","NR11 6SU",2,579396301,1]
["James Woodbridge",28414568,"Ben Burgess & Co Ltd - Beeston","PE32 2LE",3,579692801,1]
["James Woodbridge",28414568,"Ben Burgess & Co Ltd - Coates","PE7 2DD",4,579692802,1]
["James Woodbridge",28414568,"Ben Burgess & Co Ltd - Ellington","PE28 0AE",6,580662006,1]
["James Woodbridge",28414568,"Ben Burgess & Co Ltd - Holbeach","PE12 8SQ",9,580662009,1]
["James Woodbridge",28414568,"Ben Burgess & Co Ltd - Kings Lynn","PE34 3EU",11,580687401,10]
["James Woodbridge",28414568,"Ben Burgess & Co Ltd - Newmarket","CB8 7NP",5,580687501,10]
["James Woodbridge",28414568,"Ben Burgess & Co Ltd - Oakham","LE15 7FS",7,580754201,5]
["James Woodbridge",28414568,"Ben Burgess & Co Ltd - Old Leake","PE22 9HT",10,580754301,1]
["James Woodbridge",28414568,"Ben Burgess & Co Ltd - Swineshead","PE20 3PN",8,580761001,4]
["James Woodbridge",28414568,"Ben Burgess & Co Ltd HO","NR1 2EN",1,580761101,2]
["James Woodbridge",28414847,"Russells (Kirbymoorside) Ltd - Malton HO","YO17 6RD",1,580761201,2]
["James Woodbridge",28414847,"Russells (Kirbymoorside) Ltd - Darley Dale","DE4 2HX",10,580761301,2]
["James Woodbridge",28414847,"Russells (Kirbymoorside) Ltd - Harby","LE14 4DB",11,580761401,2]
["James Woodbridge",28414847,"Russells (Kirbymoorside) Ltd - Boroughbridge","YO51 9BL",2,580800301,1]
["James Woodbridge",28414847,"Russells (Kirbymoorside) Ltd - Eggborough","DN14 0JT",3,581626601,1]
["James Woodbridge",28414847,"Russells (Kirbymoorside) Ltd - Leyburn","DL8 5JZ",4,581626605,1]
["James Woodbridge",28414847,"Russells (Kirbymoorside) Ltd - Gilberdyke","HU15 2TB",5,581626615,30]
["James Woodbridge",28414847,"Russells (Kirbymoorside) Ltd - Rotherham","S61 1RD",6,581626656,30]
["James Woodbridge",28414847,"Russells (Kirbymoorside) Ltd - Cubley, Sudbury","DE6 5QX",7,581626668,30]
["James Woodbridge",28414847,"Russells (Kirbymoorside) Ltd - Rothwell","NN14 1LW",8,581626672,30]
["James Woodbridge",28414847,"Russells (Kirbymoorside) Ltd - Tuxford","NG22 0LH",9,581626684,30]
["Joe Walsh",28400528,"D WILLIAMS & SON","SA4 9EX",1,581626692,30]
["Joe Walsh",28400644,"J AND J FARM SERVICES","SY16 3AG",1,581643101,1]
["Joe Walsh",28400653,"CHELFORD FARM SUPPLIES LTD","SK11 9AS",1,581643156,60]
["Joe Walsh",28400686,"MANSEL J GRIFFITHS & SON","SA39 9JL",1,581643164,60]
["Joe Walsh",28400730,"MORGANS MACHINERY","SY10 8NN",1,581643166,60]
["Joe Walsh",28400732,"TFM Farm & Country Superstore Ltd - Bridgenorth","WV16 4ER",8,581643172,30]
["Joe Walsh",28400732,"TFM Farm & Country Superstore Ltd - Bromsgrove","B60 4LX",5,581643180,30]
["Joe Walsh",28400732,"TFM Farm & Country Superstore Ltd - Ludlow","SY8 1XD",6,581699701,1]
["Joe Walsh",28400732,"TFM Farm & Country Superstore Ltd - Newport","TF10 7JJ",2,581699756,1]
["Joe Walsh",28400732,"TFM Farm & Country Superstore Ltd - Penkridge","ST19 5AS",7,581699764,60]
["Joe Walsh",28400732,"TFM Farm & Country Superstore Ltd - Stableford","WV15 5LS",1,581699766,60]
["Joe Walsh",28400797,"CHESHIRE TURF MACHINERY LTD","SK6 2DN",1,581699772,60]
["Joe Walsh",28400805,"R MASSEY & SON (WOODVILLE) LTD","DE11 8DA",1,581699780,1]
["Joe Walsh",28400813,"L & M YOUNG","NP18 2LZ",1,581807901,1]
["Joe Walsh",28400845,"T/A A M GARDEN SERVICES","SA46 0AQ",1,581807945,30]
["Joe Walsh",28400846,"T/A MYRDDIN GARDEN MACHINERY","SA31 2BE",1,581807952,30]
["Joe Walsh",28400878,"NEWINGTON GARAGE SERVICES","SY7 9QQ",1,581982002,1]
["Joe Walsh",28400879,"IEUAN EVANS & SONS LIMTED","SA19 6RS",1,582066601,4]
["Joe Walsh",28400882,"CAMBRIAN POWER TOOLS(MACHINES ONLY)","SY25 6QT",1,582075356,1]
["Joe Walsh",28400884,"Teme Valley Tractors Ltd (HO) - Knighton","LD7 1DT",1,582075364,1]
["Joe Walsh",28400916,"BUXTONS LIMITED","ST19 5RP",1,582075372,1]
["Joe Walsh",28402338,"L & S ENGINEERS","WS8 7HB",1,582075380,1]
["Joe Walsh",28403039,"EIFIONYDD ENGINEERING","LL49 9RD",1,582086956,1]
["Joe Walsh",28403085,"BRIAN JONES","SY21 0BN",1,582086964,1]
["Joe Walsh",28403207,"FRANK SUTTON - Raglan","NP15 2HH",1,582086966,1]
["Joe Walsh",28403244,"A & B PLANT TOOL HIRE","SA19 8JP",1,582086972,1]
["Joe Walsh",28404122,"WORLD OF POWER.CO.UK.LTD","SK17 7LF",1,582086980,1]
["Joe Walsh",28404272,"STAFFORDSHIRE FARM SUPPLIES LTD","ST10 2NA",1,582202005,1]
["Joe Walsh",28404525,"ACE FARM SUPPLIES","SY5 7NH",1,582207445,1]
["Joe Walsh",28404665,"HUGHIE WILLETT MACHINERY","B75 5RP",1,582207452,1]
["Joe Walsh",28404686,"T S H GARDEN MACHINERY","BL9 5BB",1,582207645,1]
["Joe Walsh",28405070,"Denbigh Plant Services - HO Denbigh","LL16 5TA",5071,582207652,1]
["Joe Walsh",28405070,"Denbigh Plant Services - Mochdre","LL28 5HX",1,582331046,15]
["Joe Walsh",28405157,"CHESTER SMALL PLANT","CH4 8RQ",1,582331050,15]
["Joe Walsh",28410632,"D H JONES LTD","LL23 7NL",1,582331054,15]
["Joe Walsh",28410655,"THE LAWNMOWER COMPANY","CH43 3DU",1,582331058,15]
["Joe Walsh",28410790,"TREBOR JONES & SON","SY22 5LE",1,582331062,15]
["Joe Walsh",28410867,"MARKET DRAYTON MOWERS LIMITED","TF9 3AX",1,582331446,10]
["Joe Walsh",28410899,"P R THOMAS AGRICULTURE LTD","LL39 1LJ",1,582331450,10]
["Joe Walsh",28411425,"P & H LAWNMOWERS LIMITED","SK14 1HF",1,582331454,10]
["Joe Walsh",28411572,"ANGLESEY MOWERS","LL69 9YA",1,582331458,10]
["Joe Walsh",28411785,"CAERFAGU PRODUCTS LTD","LD1 6EF",1,582331462,10]
["Joe Walsh",28412170,"SPA ENGINEERING & GROUNDCARE MACH L","S43 2BZ",1,582332146,10]
["Joe Walsh",28412286,"AYRE MOWERS LTD","IM7 3BD",1,582332150,10]
["Joe Walsh",28412695,"OWEN ATVS & GARDEN MACHINERY LTD","LL53 6UR",1,582332154,10]
["Joe Walsh",28412856,"FOREST PARK & GARDEN","CF37 5SW",1,582332158,10]
["Joe Walsh",28413346,"B&B Buxton Tractors - Buxton HO","SK17 8PY",13380,582332162,10]
["Joe Walsh",28413346,"B&B Tractors - Barnsley","S75 3LA",2,582334346,10]
["Joe Walsh",28413346,"B&B Tractors - Mansfield","NG20 0EP",1,582334350,10]
["Joe Walsh",28413346,"B&B Tractors - Tutbury","DE13 9BA",13365,582334354,10]
["Joe Walsh",28413459,"Broadfield Mowers Ltd","S8 0XJ",1,582334358,10]
["Joe Walsh",28413472,"AGRI POWER SERVICES","SY18 6EB",1,582334362,10]
["Joe Walsh",28413648,"GLAN THOMAS LTD","SA43 1SL",1,582335146,1]
["Joe Walsh",28413729,"TOM'S MOWERS & GARDEN SUPPLIES","LD1 5SL",1,582335150,1]
["Joe Walsh",28413748,"SKYLAND EQUIPMENT LTD","L27 0YA",1,582335154,1]
["Joe Walsh",28413851,"SADLER AGRICULTURAL SUPPLIES LTD","IM1 5AT",1,582335158,1]
["Joe Walsh",28413884,"P R ROBERTS","LL53 8UY",1,582335162,1]
["Joe Walsh",28413906,"ARB AND GROUNDS EQUIPMENT LTD","DE21 4AP",1,582340742,15]
["Joe Walsh",28414064,"JOHN BOWNES LIMITED","CW7 4BS",1,582340746,15]
["Joe Walsh",28414517,"Northern Tool Hire Ltd","OL6 6LX",1,582340750,15]
["Joe Walsh",28414549,"OAKLEYS GROUP LIMITED  ","SY5 6AF",1,583952902,1]
["Joe Walsh",28414581,"QUALTEX UK LIMITED  ","M34 2SX",1,583952904,1]
["Joe Walsh",28414591,"CRYTEC LIMITED  ","S45 9ED",1,583955901,1]
["Joe Walsh",28414841,"Hales Sawmills Limited - Market Drayton","TF9 3UY",1,583955902,1]
["Joe Walsh",28414841,"Hales Sawmills Limited - Shrewsbury","SY1 3TG",2,584918905,5]
["Stephen Irvine",28401073,"A MCILRATH & SON","BT51 4BN",1,585019401,1]
["Stephen Irvine",28414122,"LAIRD GRASS MACHINERY","BT38 9HB",2,585058401,1]
[null,null,null,null,null,585404201,1]
[null,null,null,null,null,585404240,60]
[null,null,null,null,null,585404245,60]
[null,null,null,null,null,585404252,60]
[null,null,null,null,null,585404256,60]
[null,null,null,null,null,585477601,10]
[null,null,null,null,null,585639501,1]
[null,null,null,null,null,585639556,60]
[null,null,null,null,null,585639564,30]
[null,null,null,null,null,585639566,30]
[null,null,null,null,null,585639572,30]
[null,null,null,null,null,585639580,30]
[null,null,null,null,null,585641101,1]
[null,null,null,null,null,585641156,1]
[null,null,null,null,null,585641164,60]
[null,null,null,null,null,585641166,60]
[null,null,null,null,null,585641172,60]
[null,null,null,null,null,585641180,30]
[null,null,null,null,null,585829144,30]
[null,null,null,null,null,585943456,1]
[null,null,null,null,null,585943468,1]
[null,null,null,null,null,585943472,1]
[null,null,null,null,null,585950856,1]
[null,null,null,null,null,585950868,1]
[null,null,null,null,null,585950872,1]
[null,null,null,null,null,586110401,1]
[null,null,null,null,null,586110501,1]
[null,null,null,null,null,586110701,1]
[null,null,null,null,null,586662313,1]
[null,null,null,null,null,586885901,1]
[null,null,null,null,null,586885902,1]
[null,null,null,null,null,586896901,1]
[null,null,null,null,null,586933401,1]
[null,null,null,null,null,586938401,1]
[null,null,null,null,null,586938501,1]
[null,null,null,null,null,586938601,1]
[null,null,null,null,null,586997601,1]
[null,null,null,null,null,586997602,1]
[null,null,null,null,null,587224001,1]
[null,null,null,null,null,587236101,1]
[null,null,null,null,null,587394460,1]
[null,null,null,null,null,587394468,1]
[null,null,null,null,null,587806701,1]
[null,null,null,null,null,587806801,1]
[null,null,null,null,null,587808501,25]
[null,null,null,null,null,587808511,12]
[null,null,null,null,null,587808520,1]
[null,null,null,null,null,587808530,1]
[null,null,null,null,null,587808540,1]
[null,null,null,null,null,587809001,1]
[null,null,null,null,null,587809101,1]
[null,null,null,null,null,588408402,1]
[null,null,null,null,null,588814801,1]
[null,null,null,null,null,589227601,12]
[null,null,null,null,null,589227901,12]
[null,null,null,null,null,589227940,1]
[null,null,null,null,null,590652201,12]
[null,null,null,null,null,590855101,1]
[null,null,null,null,null,593257601,1]
[null,null,null,null,null,593258101,2]
[null,null,null,null,null,593258201,1]
[null,null,null,null,null,593258301,1]
[null,null,null,null,null,593297702,1]
[null,null,null,null,null,593837201,1]
[null,null,null,null,null,593837202,1]
[null,null,null,null,null,593837203,1]
[null,null,null,null,null,593837401,1]
[null,null,null,null,null,593837601,1]
[null,null,null,null,null,593838301,1]
[null,null,null,null,null,593838302,1]
[null,null,null,null,null,593838801,1]
[null,null,null,null,null,593839101,1]
[null,null,null,null,null,593839201,1]
[null,null,null,null,null,593839401,1]
[null,null,null,null,null,593839501,1]
[null,null,null,null,null,593839601,1]
[null,null,null,null,null,593839701,1]
[null,null,null,null,null,593839801,1]
[null,null,null,null,null,593914146,1]
[null,null,null,null,null,593914151,1]
[null,null,null,null,null,593914159,1]
[null,null,null,null,null,593914164,1]
[null,null,null,null,null,593914346,1]
[null,null,null,null,null,593914351,1]
[null,null,null,null,null,593914359,1]
[null,null,null,null,null,593914364,1]
[null,null,null,null,null,593967901,12]
[null,null,null,null,null,593975501,1]
[null,null,null,null,null,594727001,1]
[null,null,null,null,null,595002437,6]
[null,null,null,null,null,595002438,6]
[null,null,null,null,null,595002439,6]
[null,null,null,null,null,595002440,6]
[null,null,null,null,null,595002441,6]
[null,null,null,null,null,595002442,6]
[null,null,null,null,null,595002443,6]
[null,null,null,null,null,595002444,6]
[null,null,null,null,null,595002445,6]
[null,null,null,null,null,595002446,6]
[null,null,null,null,null,595002447,6]
[null,null,null,null,null,595002448,6]
[null,null,null,null,null,595002449,6]
[null,null,null,null,null,595002837,6]
[null,null,null,null,null,595002838,6]
[null,null,null,null,null,595002839,6]
[null,null,null,null,null,595002840,6]
[null,null,null,null,null,595002841,6]
[null,null,null,null,null,595002842,6]
[null,null,null,null,null,595002843,6]
[null,null,null,null,null,595002844,6]
[null,null,null,null,null,595002845,6]
[null,null,null,null,null,595002846,6]
[null,null,null,null,null,595002847,6]
[null,null,null,null,null,595004601,1]
[null,null,null,null,null,595004701,1]
[null,null,null,null,null,595011701,1]
[null,null,null,null,null,595084401,1]
[null,null,null,null,null,595084402,1]
[null,null,null,null,null,595084403,1]
[null,null,null,null,null,596303746,20]
[null,null,null,null,null,596303750,20]
[null,null,null,null,null,596303754,20]
[null,null,null,null,null,596303758,20]
[null,null,null,null,null,596303762,20]
[null,null,null,null,null,596303842,1]
[null,null,null,null,null,596303846,40]
[null,null,null,null,null,596303850,40]
[null,null,null,null,null,596303854,40]
[null,null,null,null,null,596303858,40]
[null,null,null,null,null,596303862,40]
[null,null,null,null,null,596303866,40]
[null,null,null,null,null,596303942,1]
[null,null,null,null,null,596303946,35]
[null,null,null,null,null,596303950,35]
[null,null,null,null,null,596303954,30]
[null,null,null,null,null,596303958,30]
[null,null,null,null,null,596303962,25]
[null,null,null,null,null,596303966,25]
[null,null,null,null,null,596304646,10]
[null,null,null,null,null,596304650,10]
[null,null,null,null,null,596304654,10]
[null,null,null,null,null,596304658,10]
[null,null,null,null,null,596304662,10]
[null,null,null,null,null,596304666,10]
[null,null,null,null,null,596457301,12]
[null,null,null,null,null,596457302,1]
[null,null,null,null,null,596457303,1]
[null,null,null,null,null,596457304,1]
[null,null,null,null,null,596457305,1]
[null,null,null,null,null,596512502,5]
[null,null,null,null,null,596685302,1]
[null,null,null,null,null,596685352,1]
[null,null,null,null,null,596685356,1]
[null,null,null,null,null,596685360,1]
[null,null,null,null,null,596685772,1]
[null,null,null,null,null,596690866,1]
[null,null,null,null,null,596690868,1]
[null,null,null,null,null,596690872,1]
[null,null,null,null,null,596690876,1]
[null,null,null,null,null,596690881,1]
[null,null,null,null,null,596690884,1]
[null,null,null,null,null,596690892,1]
[null,null,null,null,null,596691004,1]
[null,null,null,null,null,596691024,1]
[null,null,null,null,null,596691076,1]
[null,null,null,null,null,596691084,1]
[null,null,null,null,null,596691092,1]
[null,null,null,null,null,596691160,1]
[null,null,null,null,null,596691168,1]
[null,null,null,null,null,596691172,1]
[null,null,null,null,null,596691176,1]
[null,null,null,null,null,596691184,1]
[null,null,null,null,null,596691192,1]
[null,null,null,null,null,596691215,1]
[null,null,null,null,null,596691272,1]
[null,null,null,null,null,596691568,1]
[null,null,null,null,null,596691572,1]
[null,null,null,null,null,596691722,1]
[null,null,null,null,null,596691784,1]
[null,null,null,null,null,596935811,50]
[null,null,null,null,null,596935812,50]
[null,null,null,null,null,596935813,1]
[null,null,null,null,null,596935814,1]
[null,null,null,null,null,596935911,20]
[null,null,null,null,null,596936011,1]
[null,null,null,null,null,596936211,1000]
[null,null,null,null,null,596936212,1000]
[null,null,null,null,null,596936213,1000]
[null,null,null,null,null,596936311,10]
[null,null,null,null,null,597237801,1]
[null,null,null,null,null,597237802,1]
[null,null,null,null,null,597245942,1]
[null,null,null,null,null,597245946,8]
[null,null,null,null,null,597245950,8]
[null,null,null,null,null,597245954,8]
[null,null,null,null,null,597245958,8]
[null,null,null,null,null,597245962,8]
[null,null,null,null,null,597246242,1]
[null,null,null,null,null,597246246,8]
[null,null,null,null,null,597246248,8]
[null,null,null,null,null,597246250,8]
[null,null,null,null,null,597246252,8]
[null,null,null,null,null,597246254,8]
[null,null,null,null,null,597246256,8]
[null,null,null,null,null,597246258,8]
[null,null,null,null,null,597246260,8]
[null,null,null,null,null,597255701,1]
[null,null,null,null,null,597354802,1]
[null,null,null,null,null,597355802,1]
[null,null,null,null,null,597355803,1]
[null,null,null,null,null,597355902,1]
[null,null,null,null,null,597356102,1]
[null,null,null,null,null,597356103,1]
[null,null,null,null,null,597417801,4]
[null,null,null,null,null,597418101,4]
[null,null,null,null,null,597418301,1]
[null,null,null,null,null,597539501,40]
[null,null,null,null,null,597627701,1]
[null,null,null,null,null,597629001,1]
[null,null,null,null,null,597629401,1]
[null,null,null,null,null,597635301,1]
[null,null,null,null,null,597659236,5]
[null,null,null,null,null,597659237,5]
[null,null,null,null,null,597659238,5]
[null,null,null,null,null,597659239,5]
[null,null,null,null,null,597659240,5]
[null,null,null,null,null,597659241,5]
[null,null,null,null,null,597659242,5]
[null,null,null,null,null,597659243,5]
[null,null,null,null,null,597659244,5]
[null,null,null,null,null,597659245,5]
[null,null,null,null,null,597659246,5]
[null,null,null,null,null,597659247,5]
[null,null,null,null,null,597659248,5]
[null,null,null,null,null,597659338,6]
[null,null,null,null,null,597659339,6]
[null,null,null,null,null,597659340,6]
[null,null,null,null,null,597659341,6]
[null,null,null,null,null,597659342,6]
[null,null,null,null,null,597659343,6]
[null,null,null,null,null,597659344,6]
[null,null,null,null,null,597659345,6]
[null,null,null,null,null,597659346,6]
[null,null,null,null,null,597659347,6]
[null,null,null,null,null,597659439,5]
[null,null,null,null,null,597659440,5]
[null,null,null,null,null,597659441,5]
[null,null,null,null,null,597659442,5]
[null,null,null,null,null,597659443,5]
[null,null,null,null,null,597659444,5]
[null,null,null,null,null,597659445,5]
[null,null,null,null,null,597659446,5]
[null,null,null,null,null,597659447,5]
[null,null,null,null,null,597659536,4]
[null,null,null,null,null,597659537,4]
[null,null,null,null,null,597659538,4]
[null,null,null,null,null,597659539,4]
[null,null,null,null,null,597659540,4]
[null,null,null,null,null,597659541,4]
[null,null,null,null,null,597659542,4]
[null,null,null,null,null,597659543,4]
[null,null,null,null,null,597659544,4]
[null,null,null,null,null,597659545,4]
[null,null,null,null,null,597659546,4]
[null,null,null,null,null,597659547,4]
[null,null,null,null,null,597660242,1]
[null,null,null,null,null,597660246,8]
[null,null,null,null,null,597660250,8]
[null,null,null,null,null,597660254,8]
[null,null,null,null,null,597660258,8]
[null,null,null,null,null,597660262,8]
[null,null,null,null,null,597660642,1]
[null,null,null,null,null,597660646,8]
[null,null,null,null,null,597660648,8]
[null,null,null,null,null,597660650,8]
[null,null,null,null,null,597660652,8]
[null,null,null,null,null,597660654,8]
[null,null,null,null,null,597660656,8]
[null,null,null,null,null,597660658,8]
[null,null,null,null,null,597660660,8]
[null,null,null,null,null,597661142,40]
[null,null,null,null,null,597661146,40]
[null,null,null,null,null,597661150,40]
[null,null,null,null,null,597661154,40]
[null,null,null,null,null,597661158,40]
[null,null,null,null,null,597661162,40]
[null,null,null,null,null,597661166,40]
[null,null,null,null,null,597661242,35]
[null,null,null,null,null,597661246,35]
[null,null,null,null,null,597661250,35]
[null,null,null,null,null,597661254,35]
[null,null,null,null,null,597661258,35]
[null,null,null,null,null,597661262,35]
[null,null,null,null,null,597661266,35]
[null,null,null,null,null,597662642,10]
[null,null,null,null,null,597662646,10]
[null,null,null,null,null,597662650,10]
[null,null,null,null,null,597662654,10]
[null,null,null,null,null,597662658,10]
[null,null,null,null,null,597662662,10]
[null,null,null,null,null,597662742,10]
[null,null,null,null,null,597662746,10]
[null,null,null,null,null,597662750,10]
[null,null,null,null,null,597662754,10]
[null,null,null,null,null,597662758,10]
[null,null,null,null,null,597662762,10]
[null,null,null,null,null,597662842,14]
[null,null,null,null,null,597662846,14]
[null,null,null,null,null,597662850,14]
[null,null,null,null,null,597662854,14]
[null,null,null,null,null,597662858,14]
[null,null,null,null,null,597662942,14]
[null,null,null,null,null,597662946,14]
[null,null,null,null,null,597662950,14]
[null,null,null,null,null,597662954,14]
[null,null,null,null,null,597662958,14]
[null,null,null,null,null,597663210,24]
[null,null,null,null,null,597663310,40]
[null,null,null,null,null,597668801,153]
[null,null,null,null,null,597668810,153]
[null,null,null,null,null,597668811,32]
[null,null,null,null,null,597668820,153]
[null,null,null,null,null,597668821,32]
[null,null,null,null,null,597668822,12]
[null,null,null,null,null,597668830,153]
[null,null,null,null,null,597668831,32]
[null,null,null,null,null,597668832,12]
[null,null,null,null,null,597668840,153]
[null,null,null,null,null,597668841,32]
[null,null,null,null,null,597668842,6]
[null,null,null,null,null,597668843,4]
[null,null,null,null,null,597668850,36]
[null,null,null,null,null,597668851,6]
[null,null,null,null,null,597668852,4]
[null,null,null,null,null,597668860,12]
[null,null,null,null,null,597668861,4]
[null,null,null,null,null,597668901,32]
[null,null,null,null,null,597668902,12]
[null,null,null,null,null,597668910,32]
[null,null,null,null,null,597668911,12]
[null,null,null,null,null,597668920,32]
[null,null,null,null,null,597668921,6]
[null,null,null,null,null,597668922,4]
[null,null,null,null,null,597668930,36]
[null,null,null,null,null,597668931,6]
[null,null,null,null,null,597668932,4]
[null,null,null,null,null,597669001,32]
[null,null,null,null,null,597669002,12]
[null,null,null,null,null,597669010,32]
[null,null,null,null,null,597669011,12]
[null,null,null,null,null,597669020,32]
[null,null,null,null,null,597669021,6]
[null,null,null,null,null,597669030,36]
[null,null,null,null,null,597669101,16]
[null,null,null,null,null,597669110,16]
[null,null,null,null,null,597669111,24]
[null,null,null,null,null,597669120,10]
[null,null,null,null,null,597669121,24]
[null,null,null,null,null,597669122,1]
[null,null,null,null,null,597669130,10]
[null,null,null,null,null,597669131,24]
[null,null,null,null,null,597669132,1]
[null,null,null,null,null,597669140,10]
[null,null,null,null,null,597669141,24]
[null,null,null,null,null,597669142,1]
[null,null,null,null,null,597669201,16]
[null,null,null,null,null,597669202,24]
[null,null,null,null,null,597669210,10]
[null,null,null,null,null,597669211,24]
[null,null,null,null,null,597669212,1]
[null,null,null,null,null,597669220,10]
[null,null,null,null,null,597669221,24]
[null,null,null,null,null,597669222,1]
[null,null,null,null,null,597669230,10]
[null,null,null,null,null,597669231,24]
[null,null,null,null,null,597669232,1]
[null,null,null,null,null,597669240,1]
[null,null,null,null,null,597669241,1]
[null,null,null,null,null,597669250,1]
[null,null,null,null,null,597669251,1]
[null,null,null,null,null,597681801,18]
[null,null,null,null,null,597687001,12]
[null,null,null,null,null,597687004,3]
[null,null,null,null,null,597703601,1]
[null,null,null,null,null,597987001,1]
[null,null,null,null,null,598035701,1]
[null,null,null,null,null,598035802,1]
[null,null,null,null,null,598036101,1]
[null,null,null,null,null,598750101,1]
[null,null,null,null,null,598862301,36]
[null,null,null,null,null,598862302,36]
[null,null,null,null,null,598862303,36]
[null,null,null,null,null,598896001,1]
[null,null,null,null,null,599297201,1]
[null,null,null,null,null,599649406,1]
[null,null,null,null,null,599649407,1]
[null,null,null,null,null,599649408,1]
[null,null,null,null,null,599649409,1]
[null,null,null,null,null,599649410,1]
[null,null,null,null,null,599649412,1]
[null,null,null,null,null,599649708,1]
[null,null,null,null,null,599649710,1]
[null,null,null,null,null,599649712,1]
[null,null,null,null,null,599649807,1]
[null,null,null,null,null,599649808,1]
[null,null,null,null,null,599649809,1]
[null,null,null,null,null,599649810,1]
[null,null,null,null,null,599649812,1]
[null,null,null,null,null,599650309,1]
[null,null,null,null,null,599650310,1]
[null,null,null,null,null,599650312,1]
[null,null,null,null,null,599651108,1]
[null,null,null,null,null,599651109,1]
[null,null,null,null,null,599651110,1]
[null,null,null,null,null,599651112,1]
[null,null,null,null,null,599651208,1]
[null,null,null,null,null,599651209,1]
[null,null,null,null,null,599651210,1]
[null,null,null,null,null,599651607,1]
[null,null,null,null,null,599651608,1]
[null,null,null,null,null,599651609,1]
[null,null,null,null,null,599651610,1]
[null,null,null,null,null,599651612,1]
[null,null,null,null,null,599656605,1]
[null,null,null,null,null,599656615,1]
[null,null,null,null,null,599656672,1]
[null,null,null,null,null,599656684,1]
[null,null,null,null,null,599656692,1]
[null,null,null,null,null,599673101,1]
[null,null,null,null,null,599673501,1]
[null,null,null,null,null,599674601,1]
[null,null,null,null,null,599675001,1]
[null,null,null,null,null,599675101,1]
[null,null,null,null,null,599801701,1]
[null,null,null,null,null,599805201,1]
[null,null,null,null,null,599805202,1]
[null,null,null,null,null,599805203,1]
[null,null,null,null,null,599805301,1]
[null,null,null,null,null,599805302,1]
[null,null,null,null,null,967236401,1]
[null,null,null,null,null,967236501,1]
[null,null,null,null,null,967236601,1]
[null,null,null,null,null,967972101,1]
[null,null,null,null,null,967972201,1]
[null,null,null,null,null,967972301,1]
[null,null,null,null,null,970663303,1]
[null,null,null,null,null,598828801,1]
[null,null,null,null,null,582909001,1]
[null,null,null,null,null,590776703,1]
[null,null,null,null,null,596252901,1]
[null,null,null,null,null,582780501,1]
[null,null,null,null,null,590776702,1]
[null,null,null,null,null,590777201,1]
[null,null,null,null,null,587834001,1]
[null,null,null,null,null,579822201,1]
[null,null,null,null,null,967093201,1]
[null,null,null,null,null,970601002,1]
[null,null,null,null,null,970487802,1]
[null,null,null,null,null,970522202,1]
[null,null,null,null,null,967970102,1]
[null,null,null,null,null,970449502,1]
[null,null,null,null,null,967628301,1]
[null,null,null,null,null,967628502,1]
[null,null,null,null,null,970448901,1]
[null,null,null,null,null,967091901,1]
[null,null,null,null,null,970607701,1]
[null,null,null,null,null,970607901,1]
[null,null,null,null,null,970607801,1]
[null,null,null,null,null,970600801,1]
[null,null,null,null,null,970600901,1]
[null,null,null,null,null,536144302,1]
[null,null,null,null,null,970621902,1]
[null,null,null,null,null,970457101,1]
[null,null,null,null,null,970457201,1]
[null,null,null,null,null,967937701,1]
[null,null,null,null,null,967071901,1]

{"sheet":"Summary","index":1,"n_rows":148,"n_cols":15,"rows_kept":148,"cut":false,"hidden":false,"merged":[[147,2,152,14],[28,7,28,9],[12,14,28,14],[28,11,28,13],[3,5,3,8],[1,5,1,8],[124,3,124,12],[7,5,7,8],[6,5,6,8],[5,5,5,8],[4,5,4,8],[109,7,109,10],[110,7,110,10],[111,7,111,10],[112,7,112,10],[114,7,114,10],[117,3,117,12],[94,6,94,7],[94,11,94,12],[95,6,95,7],[95,11,95,12],[84,4,84,5],[105,10,105,12],[10,11,10,14],[30,14,34,14],[11,11,11,13],[12,11,12,13],[13,11,13,13],[14,11,14,13],[15,11,15,13],[16,11,16,13],[17,11,17,13],[45,10,45,12],[18,11,18,13],[19,11,19,13],[21,11,21,13],[22,11,22,13],[23,11,23,13],[24,11,24,13],[25,11,25,13],[26,11,26,13],[27,11,27,13],[42,13,42,14],[41,13,41,14],[40,13,40,14],[39,13,39,14],[38,13,38,14],[42,10,42,12],[96,6,96,7],[38,10,38,12],[33,5,33,6],[34,5,34,6],[35,8,35,9],[30,7,30,9],[31,7,31,9],[32,7,32,9],[33,7,33,9],[48,3,48,5],[34,7,34,9],[30,5,30,6],[93,6,93,7],[96,11,96,12],[95,8,95,10],[45,7,45,8],[41,10,41,12],[40,10,40,12],[39,10,39,12],[143,3,143,12],[132,3,132,12],[133,3,133,12],[134,3,134,12],[135,3,135,12],[136,3,136,12],[138,3,138,12],[139,3,139,12],[141,3,141,12],[44,7,44,8],[10,5,10,9],[131,3,131,12],[93,8,93,10],[142,3,142,12],[94,8,94,10],[30,11,30,13],[31,11,31,13],[32,11,32,13],[33,11,33,13],[34,11,34,13],[11,7,11,9],[13,7,13,9],[14,7,14,9],[15,7,15,9],[16,7,16,9],[17,7,17,9],[18,7,18,9],[19,7,19,9],[20,7,20,9],[34,2,34,4],[33,2,33,4],[32,2,32,4],[31,2,31,4],[30,2,30,4],[30,1,34,1],[14,2,14,4],[21,2,21,4],[20,2,20,4],[18,2,18,4],[17,2,17,4],[16,2,16,4],[15,2,15,4],[19,2,19,4],[28,2,28,4],[12,1,28,1],[2,7,2,8],[2,5,2,6],[157,4,158,4],[11,2,11,4],[12,2,12,4],[27,2,27,4],[26,2,26,4],[25,2,25,4],[24,2,24,4],[23,2,23,4],[22,2,22,4],[13,2,13,4],[125,3,125,12],[126,3,126,12],[128,3,128,12],[129,3,129,12],[130,3,130,12],[8,4,8,5],[104,10,104,12],[37,5,37,12],[93,11,93,12],[96,8,96,10],[20,11,20,13],[26,7,26,9],[11,5,11,6],[14,5,14,6],[15,5,15,6],[16,5,16,6],[17,5,17,6],[18,5,18,6],[19,5,19,6],[31,5,31,6],[32,5,32,6],[28,5,28,6],[12,7,12,9],[20,5,20,6],[21,5,21,6],[22,5,22,6],[23,5,23,6],[24,5,24,6],[25,5,25,6],[26,5,26,6],[27,5,27,6],[13,5,13,6],[12,5,12,6],[21,7,21,9],[25,7,25,9],[27,7,27,9],[22,7,22,9],[23,7,23,9],[24,7,24,9]]}
[]
[null,null,null,null,"Dealer Name","Winchester Garden Machinery Ltd - Arb"]
[null,null,null,null,"Post Code",{"$f":"_xlfn.XLOOKUP($F$2,Sheet47!$C:$C,Sheet47!D:D)","v":"SO21 1HF"},null,{"$f":"_xlfn.XLOOKUP($F$2,Sheet47!$C:$C,Sheet47!E:E)","v":1}]
[null,null,null,null,"Account Number",{"$f":"_xlfn.XLOOKUP(F2,Sheet47!C2:C671,Sheet47!B2:B671)","v":28400505}]
[null,null,null,null,"Order Number"]
[null,null,null,null,"Project Code","PSO2024"]
[null,null,null,null,"Order Date"]
[null,null,null,null,"ABM","Francesca_Bosley"]
[null,null,null,null,"PSO minimum 40% of turnover",null,0.02,"AM Specialist?",0.02]
[]
[null,null,null,null,null,"Order Summary",null,null,null,null,null,"Discounts"]
[null,null,"Product Group",null,null,"2024 Qty Ordered\n(Machine units only)",null,"Total Value Ordered\n(Machine units & attachments)",null,null,null,"Dealer Discount Achieved \nOn Invoice 2024",null,null,"Level Achieved"]
[null,"Machinery","Domestic Automower® (100 to 400-series)",null,null,{"$f":"SUM('Automower®'!AA13:AA26)","v":39},null,{"$f":"SUM('Automower®'!AI13:AI26)","v":70481.832899999994},null,null,null,{"$f":"(_xlfn.XLOOKUP($O$13,$J$49:$N$49,$J$52:$N$52))+G9+I9","v":0.21},null,null,"GOLD"]
[null,null,"Pro Automower® (500-series)",null,null,{"$f":"SUM('Automower®'!AA28:AA39)","v":2},null,{"$f":"SUM('Automower®'!AI28:AI39)","v":7688.0113999999994},null,null,null,{"$f":"(_xlfn.XLOOKUP($O$13,$J$49:$N$49,$J$70:$N$70))+G9+I9","v":0.21}]
[null,null,"Battery - Hand Held",null,null,{"$f":"SUM('Battery - Hand Held'!AA13:AA83)","v":37},null,{"$f":"SUM('Battery - Hand Held'!AI13:AI83)","v":12094.305999999999},null,null,null,{"$f":"(_xlfn.XLOOKUP($O$13,$J$49:$N$49,$J$55:$N$55))+G9","v":0.30000000000000004}]
[null,null,"Battery - Lawn",null,null,{"$f":"SUM('Battery - Lawn'!AA13:AA45)","v":0},null,{"$f":"SUM('Battery - Lawn'!AI13:AI45)","v":0},null,null,null,{"$f":"(_xlfn.XLOOKUP($O$13,$J$49:$N$49,$J$56:$N$56))+G9","v":0.30000000000000004}]
[null,null,"Batteries & Chargers",null,null,{"$f":"SUM('Batteries & Chargers'!T13:T42)","v":97},null,{"$f":"SUM('Batteries & Chargers'!AB13:AB42)","v":12054.98},null,null,null,{"$f":"(_xlfn.XLOOKUP($O$13,$J$49:$N$49,$J$57:$N$57))+G9","v":0.30000000000000004}]
[null,null,"Tractors",null,null,{"$f":"SUM('Tractor Rider & Zero Turn'!AA13:AA36)","v":0},null,{"$f":"SUM('Tractor Rider & Zero Turn'!AI13:AI36)","v":0},null,null,null,{"$f":"(_xlfn.XLOOKUP($O$13,$J$49:$N$49,$J$59:$N$59))+G9","v":0.30000000000000004}]
[null,null,"Riders",null,null,{"$f":"SUM('Tractor Rider & Zero Turn'!AA38:AA89)","v":27},null,{"$f":"SUM('Tractor Rider & Zero Turn'!AI38:AI89)","v":70686.048999999999},null,null,null,{"$f":"(_xlfn.XLOOKUP($O$13,$J$49:$N$49,$J$58:$N$58))+G9","v":0.30000000000000004}]
[null,null,"Pro Riders & Zero Turns (500-series)",null,null,{"$f":"SUM('Tractor Rider & Zero Turn'!AA91:AA120)","v":0},null,{"$f":"SUM('Tractor Rider & Zero Turn'!AI91:AI120)","v":0},null,null,null,{"$f":"(_xlfn.XLOOKUP($O$13,$J$49:$N$49,$J$72:$N$72))+G9","v":0.32}]
[null,null,"Tillers",null,null,{"$f":"SUM(Tillers!AA13:AA16)","v":1},null,{"$f":"SUM(Tillers!AI13:AI16)","v":124.0395},null,null,null,{"$f":"(_xlfn.XLOOKUP($O$13,$J$49:$N$49,$J$61:$N$61))+G9","v":0.35000000000000003}]
[null,null,"Chainsaws & Polesaws",null,null,{"$f":"SUM('Chainsaws & Polesaws'!AA13:AA59)","v":369},null,{"$f":"SUM('Chainsaws & Polesaws'!AI13:AI59)","v":126280.27905999997},null,null,null,{"$f":"(_xlfn.XLOOKUP($O$13,$J$49:$N$49,$J$62:$N$62))+G9","v":0.35000000000000003}]
[null,null,"Trimmers & Brush Cutters",null,null,{"$f":"SUM('Trimmers & Brush Cutters'!AA13:AA28)","v":32},null,{"$f":"SUM('Trimmers & Brush Cutters'!AI13:AI28)","v":11284.56992},null,null,null,{"$f":"(_xlfn.XLOOKUP($O$13,$J$49:$N$49,$J$63:$N$63))+G9","v":0.35000000000000003}]
[null,null,"Combi Tools",null,null,{"$f":"SUM('Combi Tools'!AA13:AA31)","v":0},null,{"$f":"SUM('Combi Tools'!AI13:AI31)","v":0},null,null,null,{"$f":"(_xlfn.XLOOKUP($O$13,$J$49:$N$49,$J$64:$N$64))+G9","v":0.35000000000000003}]
[null,null,"Hedge Trimmers",null,null,{"$f":"SUM('Hedge Trimmers'!AA13:AA22)","v":24},null,{"$f":"SUM('Hedge Trimmers'!AI13:AI22)","v":7343.6875199999995},null,null,null,{"$f":"(_xlfn.XLOOKUP($O$13,$J$49:$N$49,$J$65:$N$65))+G9","v":0.35000000000000003}]
[null,null,"Blowers",null,null,{"$f":"SUM(Blowers!AA13:AA19)","v":22},null,{"$f":"SUM(Blowers!AI13:AI19)","v":6540.6057599999995},null,null,null,{"$f":"(_xlfn.XLOOKUP($O$13,$J$49:$N$49,$J$66:$N$66))+G9","v":0.35000000000000003}]
[null,null,"Pressure Washers",null,null,{"$f":"SUM('Pressure Washers'!AA13:AA33)","v":10},null,{"$f":"SUM('Pressure Washers'!AI13:AI33)","v":659.71229999999991},null,null,null,{"$f":"(_xlfn.XLOOKUP($O$13,$J$49:$N$49,$J$67:$N$67))+G9","v":0.35000000000000003}]
[null,null,"Walk Behind Mowers",null,null,{"$f":"SUM('Walk Behinds'!AA13:AA38)","v":21},null,{"$f":"SUM('Walk Behinds'!AI13:AI38)","v":8931.3109599999989},null,null,null,{"$f":"(_xlfn.XLOOKUP($O$13,$J$49:$N$49,$J$60:$N$60))+G9","v":0.35000000000000003}]
[null,null,"Husqvarna Aspire®",null,null,{"$f":"SUM(Aspire!AA13:AA30)","v":80},null,{"$f":"SUM(Aspire!AI13:AI30)","v":12059.386399999998},null,null,null,"Mixed"]
[]
[null,"Accessories","Chainsaw & Brushcutter cutting accessories",null,null,{"$f":"SUM(Bars!T13:T90,Chains!T13:T87,'Trimmer Heads'!T13:T85)","v":158},null,{"$f":"SUM(Bars!AB13:AB90,Chains!AB13:AB87,'Trimmer Heads'!AB13:AB85)","v":2677.5955999999996},null,null,null,{"$f":"(_xlfn.XLOOKUP($O$31,$J$49:$N$49,$J$76:$N$76))+G9","v":0.54},null,null,"GOLD"]
[null,null,"All other accessories",null,null,{"$f":"SUM('Arborist Accessories'!T13:T100,'Filing Equipment'!T13:T100,'Xplorer Leisurewear'!T13:T100,'Forestry Tools'!T13:T96,'Oil & Lubricants'!T13:T100,'Tool Belts'!T13:T100,Footwear!T13:T100,'Head Protection'!T13:T100,Trousers!T13:T150,Jackets!T13:T99,Gloves!T13:T100,'T-Shirts'!T13:T100)","v":904},null,{"$f":"SUM('Arborist Accessories'!AB13:AB100,'Filing Equipment'!AB13:AB100,'Xplorer Leisurewear'!AB13:AB100,'Forestry Tools'!AB13:AB96,'Oil & Lubricants'!AB13:AB100,'Tool Belts'!AB13:AB100,Footwear!AB13:AB100,'Head Protection'!AB13:AB100,Trousers!AB13:AB150,Jackets!AB13:AB99,Gloves!AB13:AB100,'T-Shirts'!AB13:AB100)","v":36083.124999999985},null,null,null,{"$f":"(_xlfn.XLOOKUP($O$31,$J$49:$N$49,$J$77:$N$77))+G9","v":0.5}]
[null,null,"Power Fuel",null,null,{"$f":"SUM(Fuel!T13:T100)","v":72},null,{"$f":"SUM(Fuel!AB13:AB100)","v":869.09760000000006},null,null,null,{"$f":"(_xlfn.XLOOKUP($O$31,$J$49:$N$49,$J$78:$N$78))+G9","v":0.37}]
[null,null,"Automower Accessories (wire, connectors, etc.)",null,null,{"$f":"SUM('Automower Accessories'!T13:T100)","v":71},null,{"$f":"SUM('Automower Accessories'!AB13:AB100)","v":1195.2193999999995},null,null,null,{"$f":"(_xlfn.XLOOKUP($O$31,$J$49:$N$49,$J$80:$N$80))+G9+I9","v":0.57000000000000006}]
[null,null,"Automower Consumables & Spare Parts (blades)",null,null,{"$f":"SUM('Automower Spares'!T13:T100)","v":0},null,{"$f":"SUM('Automower Spares'!AB13:AB100)","v":0},null,null,null,{"$f":"(_xlfn.XLOOKUP($O$31,$J$49:$N$49,$J$81:$N$81))+G9+I9","v":0.49000000000000005}]
[null,null,null,null,null,null,null,"TOTAL: ",{"$f":"SUM(H13:H35)","v":387053.80831999995}]
[]
[null,null,null,null,null,"Total"]
[null,null,null,null,null,"January","February","March","April","May","June",null,null,"Total"]
[null,null,null,null,"Machinery",{"$f":"SUM('Automower®'!AC13:AC100,Aspire!AC13:AC100,'Battery - Hand Held'!AC13:AC100,'Battery - Lawn'!AC13:AC100,'Tractor Rider & Zero Turn'!AC13:AC150,Tillers!AC13:AC100,'Chainsaws & Polesaws'!AC13:AC99,'Trimmers & Brush Cutters'!AC13:AC100,'Combi Tools'!AC13:AC100,'Hedge Trimmers'!AC13:AC100,Blowers!AC13:AC100,'Pressure Washers'!AC13:AC100,'Walk Behinds'!AC13:AC100)","v":60648.791199999992},{"$f":"SUM('Automower®'!AD13:AD39,Aspire!AD13:AD100,'Battery - Hand Held'!AD13:AD83,'Battery - Lawn'!AD13:AD45,'Tractor Rider & Zero Turn'!AD13:AD120,Tillers!AD13:AD16,'Chainsaws & Polesaws'!AD13:AD59,'Trimmers & Brush Cutters'!AD13:AD28,'Combi Tools'!AD13:AD31,'Hedge Trimmers'!AD13:AD22,Blowers!AD13:AD19,'Pressure Washers'!AD13:AD33,'Walk Behinds'!AD13:AD38)","v":59665.118419999992},{"$f":"SUM('Automower®'!AE13:AE39,Aspire!AE13:AE100,'Battery - Hand Held'!AE13:AE83,'Battery - Lawn'!AE13:AE45,'Tractor Rider & Zero Turn'!AE13:AE120,Tillers!AE13:AE16,'Chainsaws & Polesaws'!AE13:AE59,'Trimmers & Brush Cutters'!AE13:AE28,'Combi Tools'!AE13:AE31,'Hedge Trimmers'!AE13:AE22,Blowers!AE13:AE19,'Pressure Washers'!AE13:AE33,'Walk Behinds'!AE13:AE38)","v":71862.087899999999},{"$f":"SUM('Automower®'!AF13:AF39,Aspire!AF13:AF100,'Battery - Hand Held'!AF13:AF83,'Battery - Lawn'!AF13:AF45,'Tractor Rider & Zero Turn'!AF13:AF120,Tillers!AF13:AF16,'Chainsaws & Polesaws'!AF13:AF59,'Trimmers & Brush Cutters'!AF13:AF28,'Combi Tools'!AF13:AF31,'Hedge Trimmers'!AF13:AF22,Blowers!AF13:AF19,'Pressure Washers'!AF13:AF33,'Walk Behinds'!AF13:AF38)","v":60862.673479999998},{"$f":"SUM('Automower®'!AG13:AG39,Aspire!AG13:AG100,'Battery - Hand Held'!AG13:AG83,'Battery - Lawn'!AG13:AG45,'Tractor Rider & Zero Turn'!AG13:AG120,Tillers!AG13:AG16,'Chainsaws & Polesaws'!AG13:AG59,'Trimmers & Brush Cutters'!AG13:AG28,'Combi Tools'!AG13:AG31,'Hedge Trimmers'!AG13:AG22,Blowers!AG13:AG19,'Pressure Washers'!AG13:AG33,'Walk Behinds'!AG13:AG38)","v":44576.068460000002},{"$f":"SUM('Automower®'!AH13:AH39,Aspire!AH13:AH100,'Battery - Hand Held'!AH13:AH83,'Battery - Lawn'!AH13:AH45,'Tractor Rider & Zero Turn'!AH13:AH120,Tillers!AH13:AH16,'Chainsaws & Polesaws'!AH13:AH59,'Trimmers & Brush Cutters'!AH13:AH28,'Combi Tools'!AH13:AH31,'Hedge Trimmers'!AH13:AH22,Blowers!AH13:AH19,'Pressure Washers'!AH13:AH33,'Walk Behinds'!AH13:AH38)","v":36559.05126},null,null,{"$f":"SUM(F40:M40)","v":334173.79071999993}]
[null,null,null,null,"Machinery Pallet Quantities",{"$f":"SUM('Automower®'!N13:N39,Aspire!N13:N30,'Battery - Hand Held'!N13:N83,'Battery - Lawn'!N13:N45,'Tractor Rider & Zero Turn'!N13:N120,Tillers!N13:N16,'Chainsaws & Polesaws'!N13:N59,'Trimmers & Brush Cutters'!N13:N27,'Combi Tools'!N13:N31,'Hedge Trimmers'!N13:N22,Blowers!N13:N19,'Pressure Washers'!N13:N33,'Walk Behinds'!N13:N38)","v":9.7508333333333361},{"$f":"SUM('Automower®'!O13:O39,Aspire!O13:O30,'Battery - Hand Held'!O13:O83,'Battery - Lawn'!O13:O45,'Tractor Rider & Zero Turn'!O13:O120,Tillers!O13:O16,'Chainsaws & Polesaws'!O13:O59,'Trimmers & Brush Cutters'!O13:O27,'Combi Tools'!O13:O31,'Hedge Trimmers'!O13:O22,Blowers!O13:O19,'Pressure Washers'!O13:O33,'Walk Behinds'!O13:O38)","v":9.355833333333333},{"$f":"SUM('Automower®'!P13:P39,Aspire!P13:P30,'Battery - Hand Held'!P13:P83,'Battery - Lawn'!P13:P45,'Tractor Rider & Zero Turn'!P13:P120,Tillers!P13:P16,'Chainsaws & Polesaws'!P13:P59,'Trimmers & Brush Cutters'!P13:P27,'Combi Tools'!P13:P31,'Hedge Trimmers'!P13:P22,Blowers!P13:P19,'Pressure Washers'!P13:P33,'Walk Behinds'!P13:P38)","v":10.54333333333334},{"$f":"SUM('Automower®'!Q13:Q39,Aspire!Q13:Q30,'Battery - Hand Held'!Q13:Q83,'Battery - Lawn'!Q13:Q45,'Tractor Rider & Zero Turn'!Q13:Q120,Tillers!Q13:Q16,'Chainsaws & Polesaws'!Q13:Q59,'Trimmers & Brush Cutters'!Q13:Q27,'Combi Tools'!Q13:Q31,'Hedge Trimmers'!Q13:Q22,Blowers!Q13:Q19,'Pressure Washers'!Q13:Q33,'Walk Behinds'!Q13:Q38)","v":7.3947222222222209},{"$f":"SUM('Automower®'!R13:R39,Aspire!R13:R30,'Battery - Hand Held'!R13:R83,'Battery - Lawn'!R13:R45,'Tractor Rider & Zero Turn'!R13:R120,Tillers!R13:R16,'Chainsaws & Polesaws'!R13:R59,'Trimmers & Brush Cutters'!R13:R27,'Combi Tools'!R13:R31,'Hedge Trimmers'!R13:R22,Blowers!R13:R19,'Pressure Washers'!R13:R33,'Walk Behinds'!R13:R38)","v":4.969722222222221},{"$f":"SUM('Automower®'!S13:S39,Aspire!S13:S30,'Battery - Hand Held'!S13:S83,'Battery - Lawn'!S13:S45,'Tractor Rider & Zero Turn'!S13:S120,Tillers!S13:S16,'Chainsaws & Polesaws'!S13:S59,'Trimmers & Brush Cutters'!S13:S27,'Combi Tools'!S13:S31,'Hedge Trimmers'!S13:S22,Blowers!S13:S19,'Pressure Washers'!S13:S33,'Walk Behinds'!S13:S38)","v":4.6119444444444442},null,null,{"$f":"SUM(F41:M41)","v":46.626388888888904}]
[null,null,null,null,"Accessories",{"$f":"SUM('Arborist Accessories'!V13:V100,'Automower Accessories'!V13:V100,'Automower Spares'!V13:V100,Bars!V13:V150,Chains!V13:V150,'Filing Equipment'!V13:V100,'Xplorer Leisurewear'!V13:V100,'Forestry Tools'!V13:V96,Fuel!V13:V100,'Trimmer Heads'!V13:V100,'Batteries & Chargers'!V13:V100,'Oil & Lubricants'!V13:V100,'Tool Belts'!V13:V100,Footwear!V13:V100,'Head Protection'!V13:V100,Trousers!V13:V150,Jackets!V13:V99,Gloves!V13:V100,'T-Shirts'!V13:V100)","v":14261.549799999995},{"$f":"SUM('Arborist Accessories'!W13:W45,'Automower Accessories'!W13:W50,'Automower Spares'!W13:W23,Bars!W13:W90,Chains!W13:W87,'Filing Equipment'!W13:W35,'Xplorer Leisurewear'!W13:W18,'Forestry Tools'!W13:W54,Fuel!W13:W18,'Trimmer Heads'!W13:W85,'Batteries & Chargers'!W13:W42,'Oil & Lubricants'!W13:W56,'Tool Belts'!W13:W28,Footwear!W13:W81,'Head Protection'!W13:W41,Trousers!W13:W107,Jackets!W13:W73,Gloves!W13:W58,'T-Shirts'!W13:W40)","v":6661.3903999999975},{"$f":"SUM('Arborist Accessories'!X13:X45,'Automower Accessories'!X13:X50,'Automower Spares'!X13:X23,Bars!X13:X90,Chains!X13:X87,'Filing Equipment'!X13:X35,'Xplorer Leisurewear'!X13:X18,'Forestry Tools'!X13:X54,Fuel!X13:X18,'Trimmer Heads'!X13:X85,'Batteries & Chargers'!X13:X42,'Oil & Lubricants'!X13:X56,'Tool Belts'!X13:X28,Footwear!X13:X81,'Head Protection'!X13:X41,Trousers!X13:X107,Jackets!X13:X73,Gloves!X13:X58,'T-Shirts'!X13:X40)","v":10940.876999999997},{"$f":"SUM('Arborist Accessories'!Y13:Y45,'Automower Accessories'!Y13:Y50,'Automower Spares'!Y13:Y23,Bars!Y13:Y90,Chains!Y13:Y87,'Filing Equipment'!Y13:Y35,'Xplorer Leisurewear'!Y13:Y18,'Forestry Tools'!Y13:Y54,Fuel!Y13:Y18,'Trimmer Heads'!Y13:Y85,'Batteries & Chargers'!Y13:Y42,'Oil & Lubricants'!Y13:Y56,'Tool Belts'!Y13:Y28,Footwear!Y13:Y81,'Head Protection'!Y13:Y41,Trousers!Y13:Y107,Jackets!Y13:Y73,Gloves!Y13:Y58,'T-Shirts'!Y13:Y40)","v":8506.6587999999974},{"$f":"SUM('Arborist Accessories'!Z13:Z45,'Automower Accessories'!Z13:Z50,'Automower Spares'!Z13:Z23,Bars!Z13:Z90,Chains!Z13:Z87,'Filing Equipment'!Z13:Z35,'Xplorer Leisurewear'!Z13:Z18,'Forestry Tools'!Z13:Z54,Fuel!Z13:Z18,'Trimmer Heads'!Z13:Z85,'Batteries & Chargers'!Z13:Z42,'Oil & Lubricants'!Z13:Z56,'Tool Belts'!Z13:Z28,Footwear!Z13:Z81,'Head Protection'!Z13:Z41,Trousers!Z13:Z107,Jackets!Z13:Z73,Gloves!Z13:Z58,'T-Shirts'!Z13:Z40)","v":6365.9219999999978},{"$f":"SUM('Arborist Accessories'!AA13:AA45,'Automower Accessories'!AA13:AA50,'Automower Spares'!AA13:AA23,Bars!AA13:AA90,Chains!AA13:AA87,'Filing Equipment'!AA13:AA35,'Xplorer Leisurewear'!AA13:AA18,'Forestry Tools'!AA13:AA54,Fuel!AA13:AA18,'Trimmer Heads'!AA13:AA85,'Batteries & Chargers'!AA13:AA42,'Oil & Lubricants'!AA13:AA56,'Tool Belts'!AA13:AA28,Footwear!AA13:AA81,'Head Protection'!AA13:AA41,Trousers!AA13:AA107,Jackets!AA13:AA73,Gloves!AA13:AA58,'T-Shirts'!AA13:AA40)","v":6143.6195999999991},null,null,{"$f":"SUM(F42:M42)","v":52880.017599999985}]
[null,null,null,null,"Total Value",{"$f":"F40+F42","v":74910.340999999986},66326.508819999988,82802.964899999992,69369.332280000002,50941.990460000001,42702.670859999998,null,null,{"$f":"N42+N40","v":387053.80831999989}]
[]
[null,null,null,null,null,null,null,"PSO % of Turnover",null,{"$f":"IFERROR((N43/J46),\"\")","v":0.41765231137337888}]
[null,null,null,null,null,null,null,"Previous 12 Months Sales Net",null,926736.9]
[]
[]
[null,null,null,"Product Categories",null,null,null,null,null,"BRONZE",null,"SILVER",null,"GOLD"]
[null,null,null,null,null,null,null,null,null,"On Invoice",null,"On Invoice",null,"On Invoice"]
[null,null,"Machinery",null,null,null,null,null,"Minimum Qty"]
[null,null,null,1,"Domestic Automower® (100 to 400-series)",null,null,null,"See Table",0.1,null,0.15,null,0.17]
[null,null,null,null,null,null,null,null,null,"0 Units",null,"15 Units",null,"35 Units"]
[null,null,null,"1AA","   Automower® installation rebate (off invoice rebate)",null,null,null,null,0.15,null,0.15,null,0.17]
[null,null,null,2,"Battery - Hand Held",null,null,null,12,0.23,null,0.26,null,0.28000000000000003]
[null,null,null,3,"Battery - Lawn",null,null,null,5,0.23,null,0.26,null,0.28000000000000003]
[null,null,null,4,"Battery - Batteries & Chargers",null,null,null,10,0.23,null,0.26,null,0.28000000000000003]
[null,null,null,5,"Domestic Riders / ZTR (100 to 400-series)",null,null,null,5,0.23,null,0.26,null,0.28000000000000003]
[null,null,null,6,"Tractors",null,null,null,2,0.23,null,0.26,null,0.28000000000000003]
[null,null,null,7,"Walk Behind Mowers",null,null,null,5,0.28000000000000003,null,0.31,null,0.33]
[null,null,null,8,"Tillers",null,null,null,1,0.28000000000000003,null,0.31,null,0.33]
[null,null,null,9,"Chainsaws & Polesaws",null,null,null,10,0.28000000000000003,null,0.31,null,0.33]
[null,null,null,10,"Trimmers & Brushcutters",null,null,null,5,0.28000000000000003,null,0.31,null,0.33]
[null,null,null,11,"Combi (engine units)",null,null,null,1,0.28000000000000003,null,0.31,null,0.33]
[null,null,null,12,"Hedgetrimmers & Pole Hedgetrimmers",null,null,null,4,0.28000000000000003,null,0.31,null,0.33]
[null,null,null,13,"Blowers",null,null,null,4,0.28000000000000003,null,0.31,null,0.33]
[null,null,null,14,"Pressure Washers",null,null,null,4,0.28000000000000003,null,0.31,null,0.33]
[]
[null,null,null,null,"Pro Lawn (SELDIS Level 3 dealers only)"]
[null,null,null,16,"Automower 500-series",null,null,null,6,0,null,0.15,null,0.17]
[null,null,null,"16AA","   Automower® installation rebate (off invoice rebate)",null,null,null,null,0,null,0.15,null,0.17]
[null,null,null,17,"Riders & Zero Turns 500-series",null,null,null,2,0,null,0.3,null,0.3]
[null,null,null,18,"Ceora",null,null,null,null,0,null,0,null,{"$f":"15%+G9","v":0.16999999999999998}]
[]
[null,null,"Accessories",null,null,null,null,null,null,"On Invoice",null,"On Invoice",null,"On Invoice"]
[null,null,null,"1A","Chainsaw & Brushcutter cutting accessories",null,null,null,null,0.42,null,0.47,null,0.52]
[null,null,null,"2A","All other accessories",null,null,null,null,0.38,null,0.43,null,0.48]
[null,null,null,"2B","Power Fuel",null,null,null,null,0.33,null,0.34,null,0.35]
[null,null,null,"3A","Automower machine accessories (body kits, etc.)",null,null,null,null,0.25,null,0.3,null,0.37]
[null,null,null,"3B","Automower accessories (wire, connectors, etc.)",null,null,null,null,0.38,null,0.43,null,0.53]
[null,null,null,"3C","Automower consumables & spare parts (blades)",null,null,null,null,0.35,null,0.38,null,0.45]
[null,null,null,"4A","Spare Parts",null,null,null,null,0.35,null,0.38,null,0.4]
[]
[null,null,null,"ACCESSORIES - PSO qualification criteria to achieve Gold, Silver or Bronze terms"]
[null,null,null,null,"Category",null,null,"TOTAL \nORDERED",null,"BRONZE",null,"SILVER",null,"GOLD"]
[null,null,null,null,"Chainsaw & Brushcutter cutting accessories",null,null,{"$f":"H31","v":2677.5955999999996},null,800,null,1500,null,2500]
[null,null,null,null,"All other accessories",null,null,{"$f":"H32","v":36083.124999999985},null,800,null,1500,null,2500]
[null,null,null,null,"Power Fuel",null,null,{"$f":"H33","v":869.09760000000006},null,800,null,1500,null,2500]
[null,null,null,null,"Automower Accessories",null,null,{"$f":"H34","v":1195.2193999999995},null,0,null,800,null,1600]
[null,null,null,null,"Total Minimum PSO",null,null,{"$f":"SUM(H86:H89)","v":40825.037599999989},null,{"$f":"SUM(J86:J89)","v":2400},null,{"$f":"SUM(L86:L89)","v":5300},null,{"$f":"SUM(N86:N89)","v":9100}]
[]
[]
[null,null,"Machinery - PSO qualification criteria to achieve Gold, Silver or Bronze terms"]
[null,null,null,null,null,"Level","Range Criteria",null,"PSO Criteria",null,null,"PSO @ 40% of LY"]
[null,null,null,null,null,"Bronze","Minimum of 6 product categories",null,"PSO minimum 25% of turnover",null,null,"40% = Terms + 2%"]
[null,null,null,null,null,"Silver","Minimum of 10 product categories",null,"PSO minimum 25% of turnover",null,null,"40% = Terms + 2%"]
[null,null,null,null,null,"Gold","Minimum of 13 product categories",null,"PSO minimum 25% of turnover",null,null,"40% = Terms + 2%"]
[null,null,null,null,null,null,null,null,"Turnover in previous 12 months trading"]
[null,null,null,null,null,"Mandatory Category","Bronze","Silver","Gold"]
[null,null,null,null,null,"Automower",null,"✔","✔"]
[null,null,null,null,null,"Battery","✔","✔","✔"]
[null,null,null,null,null,"Rider",null,"✔","✔"]
[]
[null,null,"PSO Delivery Month Phasing"]
[null,null,null,null,null,"JAN","FEB","MAR","APR","MAY","JUN"]
[null,null,null,null,null,0.1,0.25,0.25,0.25,0.1,0.05]
[]
[]
[null,null,"Business Development Rebates"]
[null,null,null,null,null,null,"Rebate %","Criteria"]
[null,null,null,null,null,null,0.01,"Achieve growth target between 5% to 9.9%"]
[null,null,null,null,null,null,0.02,"Achieve growth target between 10% to 14.9%"]
[null,null,null,null,null,null,0.03,"Achieve growth target between 15% +"]
[]
[null,null,null,null,null,null,null,"See Terms & Conditions for more information"]
[]
[]
[null,null,null,"Terms & Conditions"]
[]
[null,null,null,"Pre Season Orders (PSO);"]
[null,null,null,"All PSOs must be submitted by 30th November 2023"]
[null,null,null,"PSO will be at 2024 prices, effective Jan 1st 2024."]
[null,null,null,"Once placed the composition of PSOs may not be cancelled or amended."]
[]
[null,null,null,"Payment;"]
[null,null,null,"Payment to terms is mandatory."]
[null,null,null,"Payment must be received and cleared, not sent, by the date given."]
[]
[null,null,null,"Retrospective Business Growth Rebates;"]
[null,null,null,"Turnover is calculated as net sales of Husqvarna Forest & Garden branded products only. Sales of Husqvarna Construction and Consumer Brands products are excluded."]
[null,null,null,"Minimum annual sales for Gold dealers of £150,000 to qualify"]
[null,null,null,"Minimum annual sales for Silver dealers of £75,000 to qualify"]
[null,null,null,"Minimum annual sales for Bronze dealers of £35,000 to qualify"]
[null,null,null,"All Rebates are subject to maintaining the agreed PSO range of categories and models throughout 2023 (ABM audited)"]
[null,null,null,"All rebates are subject to dealers maintaining Husqvarna Shop 2.0 in-store displays, as agreed with the ABM"]
[null,null,null,"All Rebates are subject to payment having been received to terms throughout 2023"]
[null,null,null,"All Rebates are subject to having taken full delivery of the agreed PSO, within the specified dates"]
[]
[null,null,null,"Commercial Terms;"]
[null,null,null,"The 2024 commercial terms will apply until the date of introduction of 2025 commercial terms"]
[]
[null,null,null,"Disclaimer;"]
[null,null,null,"Husqvarna reserve the right to change or modify commercial terms with 1 month's written notice"]
[null,null,null,"Husqvarna reserve the right to change or modify prices and product specifications without prior notice"]
[]
[]
[]
[null,null,"FOR HUSQVARNA USE ONLY\nPLEASE DO NOT CLICK"]

{"sheet":"Pricing","index":2,"n_rows":2267,"n_cols":2,"rows_kept":2267,"cut":false,"hidden":true,"merged":[]}
[967662103,2407.5]
[967650203,3865.83]
[970468203,749.17]
[970651703,4465.83]
[970656303,2407.5]
[970656503,3865.83]
[970656703,4865.83]
[970717803,3165.83]
[970468103,2249.17]
[970549001,12874.17]
[970467901,16249.17]
[970468001,6915.83]
[970614401,7499.17]
[529318901,1207.5]
[535423101,365.83]
[970663303,332.5]
[967645403,665.83]
[970568503,815.83]
[967645446,749.17]
[970568546,899.17]
[967974003,1082.5]
[970663403,1082.5]
[967974046,1165.83]
[967672903,1249.17]
[970526703,1415.83]
[970654103,1665.83]
[970526746,1499.17]
[967673003,1499.17]
[970526803,1582.5]
[970456203,1582.5]
[970526846,1749.17]
[970456246,1749.17]
[970654403,1999.17]
[970471703,1915.83]
[970471746,2040.83]
[970535103,2332.5]
[967852803,2749.17]
[970535203,2915.83]
[967853003,3415.83]
[970535303,3999.17]
[967853303,4165.83]
[970663201,249.17]
[535545301,249.17]
[546258201,249.17]
[970620405,190.83]
[967976102,249.17]
[967976101,124.99]
[967991001,274.17]
[967915503,415.83]
[967941406,415.83]
[967796202,332.5]
[970620402,108.33]
[970649805,265.83]
[970649802,182.5]
[967915402,265.83]
[967796203,499.17]
[967976103,249.17]
[970656101,332.5]
[967681103,582.5]
[967098201,190.83]
[970547502,207.5]
[970547503,215.83]
[970601101,290.83]
[967098202,290.83]
[970718014,332.5]
[967893814,432.5]
[967893912,432.5]
[967864014,607.5]
[967864016,615.83000000000004]
[967863712,590.83000000000004]
[967863714,599.16999999999996]
[970718214,332.5]
[970572312,624.16999999999996]
[970568112,649.16999999999996]
[970568114,657.5]
[970568116,665.83]
[970572316,640.83000000000004]
[970572314,632.5]
[970572514,615.83000000000004]
[970572516,624.16999999999996]
[970718216,340.83]
[970547505,332.5]
[970547512,332.5]
[970547513,340.83]
[967864214,415.83]
[970601103,499.17]
[970601108,499.17]
[970572912,649.16999999999996]
[970572914,657.5]
[970572916,665.83]
[970647013,649.16999999999996]
[970647015,657.5]
[970647113,665.83]
[970647115,690.83]
[970515902,190.83]
[970515905,274.17]
[970515907,274.17]
[529351902,99.99]
[970515901,190.83]
[970515904,274.17]
[970515908,274.17]
[970515903,249.17]
[970515906,365.83]
[970515909,365.83]
[529351901,99.99]
[970466002,482.5]
[970716603,108.33]
[970620302,116.66]
[970716606,149.99]
[967915605,432.5]
[967915703,474.17]
[967915813,399.17]
[967971203,482.5]
[970466102,524.16999999999996]
[970466202,482.5]
[970716703,149.99]
[970620305,166.66]
[970536501,190.83]
[970536603,207.5]
[970716706,232.5]
[967098302,232.5]
[970536502,249.17]
[970536503,249.17]
[970536505,274.17]
[970466401,315.83]
[970536102,399.17]
[970705103,457.5]
[970704903,499.17]
[970705003,499.17]
[967957201,349.17]
[967850101,357.5]
[967850103,357.5]
[970500906,415.83]
[970500901,265.83]
[970500904,374.17]
[970541801,357.5]
[970541804,457.5]
[970541901,457.5]
[970541902,540.83000000000004]
[970541903,624.16999999999996]
[970541806,499.17]
[967862103,332.5]
[970542001,499.17]
[967862301,624.16999999999996]
[967862001,665.83]
[970482301,582.5]
[970482401,790.83]
[967977301,949.17]
[970525701,1249.17]
[970541906,582.5]
[970648203,457.5]
[970648305,290.83]
[970648301,232.5]
[970648201,349.17]
[970626001,1182.5]
[967099201,374.17]
[967628405,457.5]
[970500902,332.5]
[967628401,365.83]
[970500903,407.5]
[970722401,499.17]
[970712501,{"$error":"#VALUE!"}]
[970722601,582.5]
[531223201,37.49]
[599831201,29.16]
[589222701,29.16]
[590790901,41.66]
[595001101,41.66]
[597413701,47.49]
[597848701,47.49]
[970621302,99.99]
[970621306,141.66]
[970621402,149.99]
[970621406,232.5]
[967884711,499.17]
[967884811,582.5]
[970621403,149.99]
[970621303,99.99]
[970649901,5624.17]
[970650001,1082.5]
[970650101,1165.83]
[967848201,4832.5]
[537548002,224.17]
[595308601,190.83]
[970728702,4832.5]
[967922201,332.5]
[967922203,415.83]
[970551602,390.83]
[970620202,108.33]
[970531201,149.99]
[970620205,149.99]
[970620208,166.66]
[967098801,166.66]
[970536001,190.83]
[970531202,207.5]
[970531204,207.5]
[967098802,232.5]
[967915911,232.5]
[970536002,249.17]
[970536006,249.17]
[970551501,374.17]
[970536003,274.17]
[970566801,290.83]
[970536007,274.17]
[970536101,399.17]
[970567001,332.5]
[967916113,340.83]
[970566901,332.5]
[967916203,374.17]
[970551401,432.5]
[967850605,540.83000000000004]
[967850504,582.5]
[967850607,624.16999999999996]
[590776702,149.99]
[590776703,149.99]
[598828801,74.989999999999995]
[582909001,91.66]
[582780501,166.66]
[590777201,19.989999999999998]
[596252901,11.66]
[587834001,21.66]
[529475101,95.83]
[579822201,1082.5]
[967093201,1165.83]
[970601002,41.66]
[967628301,74.989999999999995]
[970487802,45.83]
[967970102,74.989999999999995]
[970522202,108.33]
[970449502,141.66]
[967628502,190.83]
[970721602,66.66]
[970729402,24.99]
[970704802,415.83]
[970717202,165.83]
[970739202,45.83]
[536144302,91.66]
[970621902,374.17]
[970457101,83.33]
[970457201,124.99]
[967937701,232.5]
[967091801,141.66]
[967091901,199.17]
[970448901,215.83]
[967071901,332.5]
[970600801,62.49]
[970600901,83.33]
[970607701,349.17]
[970607901,174.17]
[970607801,257.5]
[970721501,99.99]
[967964601,1082.5]
[970466903,332.5]
[965877501,499.17]
[967144304,540.83000000000004]
[966629401,749.17]
[966629601,790.83]
[952715643,265.83]
[952715645,332.5]
[967284201,374.17]
[967193401,249.17]
[967193301,257.5]
[967193402,290.83]
[967193305,257.5]
[966777101,374.17]
[970446601,432.5]
[966776801,457.5]
[970446701,499.17]
[966776901,499.17]
[966604802,499.17]
[966779901,557.5]
[966628902,749.17]
[966015902,832.5]
[967176704,915.83]
[966780202,915.83]
[966780201,749.17]
[966629004,1032.5]
[966629302,1290.83]
[966629301,1165.83]
[970549301,3165.83]
[967963503,3082.5]
[970613701,582.5]
[970613718,582.5]
[967861903,166.66]
[967108401,207.5]
[967861814,274.17]
[967256516,232.5]
[970559735,415.83]
[970560035,457.5]
[970558738,499.17]
[970559338,540.83000000000004]
[970549918,582.5]
[967690615,724.17]
[970501218,882.5]
[966733918,965.83]
[966733920,974.17]
[970493020,1174.17]
[970493024,1190.83]
[970493028,1207.5]
[970493032,1224.17]
[970518212,690.83]
[970518214,699.17]
[970518216,707.5]
[967690815,799.17]
[967690818,807.5]
[967690913,849.17]
[967690915,857.5]
[967690918,865.83]
[970501715,907.5]
[970501718,915.83]
[970501915,965.83]
[970501918,974.17]
[970502018,965.83]
[970502218,1024.17]
[966733118,1157.5]
[966733120,1165.83]
[966733144,1182.5]
[966733148,1199.17]
[966733418,1215.83]
[966733420,1224.17]
[966733444,1240.83]
[970493101,1299.17]
[970493130,1332.5]
[970493124,1349.17]
[970493128,1357.5]
[970493136,1382.5]
[970493450,1390.83]
[970493454,1407.5]
[970493458,1415.83]
[967675835,374.17]
[966733901,915.83]
[970493001,1024.17]
[967690801,790.83]
[967690813,865.83]
[967690901,832.5]
[970501701,774.17]
[970501901,815.83]
[970502001,774.17]
[970502201,815.83]
[966733101,1082.5]
[966733401,1090.83]
[970493401,1207.5]
[970657015,915.83]
[970657018,924.17]
[970656915,957.5]
[970656918,965.83]
[970663518,965.83]
[970663618,1007.5]
[970736714,699.17]
[966648101,647.57000000000005]
[966428301,615.83000000000004]
[966009101,685.31]
[966648915,832.5]
[970656901,890.83]
[970657001,924.17]
[970663501,890.83]
[970663601,924.17]
[537353501,103.33]
[596316601,332.5]
[537183323,274.17]
[967925504,149.16]
[967925604,157.49]
[967294201,240.83]
[967294401,399.17]
[967296701,415.83]
[967286401,154.99]
[967296901,415.83]
[967908501,399.17]
[967908601,357.5]
[967297101,73.33]
[967185902,115.83]
[537353503,115.83]
[596316503,365.83]
[596316603,374.17]
[537183327,315.83]
[970704201,116.66]
[970703901,74.989999999999995]
[970704101,58.33]
[970703801,116.66]
[970704001,33.33]
[952711908,62.49]
[537196605,246.75]
[967193603,249.17]
[967148301,415.83]
[967688103,624.16999999999996]
[967193601,232.5]
[952715616,55.83]
[537048501,66.66]
[538908701,66.66]
[966532301,274.17]
[966532401,307.5]
[967658902,415.83]
[967658701,624.16999999999996]
[967658301,624.16999999999996]
[967658401,665.83]
[967659201,707.5]
[967659001,707.5]
[967944901,790.83]
[967945101,832.5]
[964954003,116.66]
[964954002,120.83]
[964901030,33.33]
[599555701,274.17]
[596867501,6082.5]
[590450001,4982.5]
[965997401,1582.5]
[587932901,4290.83]
[587932801,5582.5]
[590451901,6665.83]
[965997201,3865.83]
[592755101,1974.17]
[592755301,257.5]
[967008401,1374.17]
[967008402,1549.17]
[965896801,94.99]
[965897001,94.99]
[576783401,54.99]
[966791501,257.5]
[966790901,515.83000000000004]
[966791101,60.83]
[529958001,390.83]
[587727601,30.83]
[534096401,2074.17]
[529956701,111.66]
[529807501,47.49]
[536903101,1665.83]
[537636001,40.83]
[538828601,20.83]
[536900001,2332.5]
[536900201,1207.5]
[536903301,1374.17]
[536903501,2307.5]
[529807601,915.83]
[529807801,582.5]
[591126001,515.83000000000004]
[531039901,632.5]
[953511703,637.5]
[531039902,590.83000000000004]
[546072501,249.17]
[529957901,624.16999999999996]
[966833201,915.83]
[966416001,1082.5]
[531233201,37.49]
[954120042,215.83]
[953537901,1524.17]
[953528401,915.83]
[577616901,215.83]
[544921801,1415.83]
[967693501,1874.17]
[967293701,2015.83]
[967978301,3207.5]
[967978501,4074.17]
[967978401,3499.17]
[967978601,4165.83]
[967985601,6499.17]
[970626201,2124.17]
[970626301,2182.5]
[970612001,2740.83]
[970727001,2499.17]
[970727101,2665.83]
[970727201,3165.83]
[967848101,13749.17]
[967985201,17499.169999999998]
[967985301,19999.169999999998]
[967985401,27915.83]
[967985503,31665.83]
[970601501,13065.83]
[970601601,13749.17]
[970601701,18332.5]
[970608701,649.16999999999996]
[970608801,749.17]
[970608901,832.5]
[970617501,749.17]
[970621801,1207.5]
[970608501,515.83000000000004]
[970609001,949.17]
[970540901,349.17]
[970488201,332.5]
[970488401,457.5]
[970541101,432.5]
[970541201,474.17]
[970541501,582.5]
[970541301,624.16999999999996]
[970541601,665.83]
[967343202,1032.5]
[964000602,749.17]
[970609401,915.83]
[970621701,949.17]
[970609101,1032.5]
[967069301,457.5]
[970722101,332.5]
[967345301,457.5]
[589214801,37.49]
[582680601,41.66]
[598018001,37.49]
[589214902,43.33]
[589817502,43.33]
[967329401,707.5]
[967329601,832.5]
[970648002,124.99]
[970648102,215.83]
[967676402,116.66]
[970457402,207.5]
[967677702,332.5]
[970468302,457.5]
[970726302,357.5]
[590657901,37.49]
[590657801,83.33]
[590660701,54.16]
[590660601,54.16]
[590660401,29.16]
[590661101,66.66]
[590661001,83.33]
[590660501,29.16]
[590660801,54.16]
[590660901,99.99]
[590659701,45.83]
[590659501,54.16]
[590659301,12.49]
[590661201,16.66]
[590661301,16.66]
[546871801,45.83]
[967178401,2332.5]
[967847101,3582.5]
[967847001,2415.83]
[970542601,6165.83]
[967178402,2749.17]
[970542101,3124.17]
[970542201,3165.83]
[970519401,3499.17]
[970542301,3749.17]
[970542401,4832.5]
[970542701,5249.17]
[967847301,5415.83]
[967847401,4832.5]
[967847501,6249.17]
[970542901,7082.5]
[967648301,8999.17]
[967648401,11499.17]
[967293401,1124.17]
[967188901,1182.5]
[966416101,1499.17]
[596289801,1499.17]
[966796501,1932.5]
[596289201,1932.5]
[587024701,1499.17]
[587024601,1499.17]
[593024301,1540.83]
[966796301,2082.5]
[596288701,2065.83]
[965070901,457.5]
[966415901,540.83000000000004]
[593025001,540.83000000000004]
[966833001,1207.5]
[596290001,1207.5]
[531021240,66.66]
[967276701,1499.17]
[966796401,2065.83]
[596289301,2499.17]
[596312801,70.83]
[953534901,77.489999999999995]
[967293501,1374.17]
[587932001,1665.83]
[587932501,1415.83]
[594988301,124.99]
[596293001,1290.83]
[505630870,77.489999999999995]
[546486101,3540.83]
[538899901,145.83000000000001]
[538899501,{"$error":"#VALUE!"}]
[966850101,1632.5]
[967628702,6124.17]
[970621101,6249.17]
[967628802,8249.17]
[970621201,8249.17]
[967978101,1082.5]
[967978201,1165.83]
[967152201,832.5]
[967152301,915.83]
[967152601,1040.83]
[967152401,1082.5]
[967188501,1165.83]
[967648901,1749.17]
[967649001,1765.83]
[967649101,1932.5]
[970652601,665.83]
[967330101,499.17]
[970575701,624.16999999999996]
[970652801,1290.83]
[970448601,1249.17]
[967991615,120.83]
[967991630,79.16]
[967991602,99.99]
[967991601,99.99]
[967991625,116.66]
[966545201,190.83]
[970646812,649.16999999999996]
[970646814,657.5]
[970646914,699.17]
[970646816,665.83]
[970646912,690.83]
[970646916,707.5]
[970737410,515.83000000000004]
[970517916,682.5]
[967633311,515.83000000000004]
[970737110,515.83000000000004]
[970483912,665.83]
[970483914,674.17]
[970517912,665.83]
[970517914,674.17]
[960510201,3165.83]
[960410457,3165.83]
[960510202,3749.17]
[970622401,2082.5]
[960410454,2082.5]
[970622201,2332.5]
[970622501,2499.17]
[960510200,2707.5]
[970622301,2749.17]
[970728001,3165.83]
[960410432,3165.83]
[970727701,3499.17]
[960510191,3749.17]
[970728301,3749.17]
[960510192,4165.83]
[960410436,4165.83]
[970727801,4165.83]
[960510193,4582.5]
[501008201,249.17]
[586636501,457.5]
[582719901,374.17]
[965899401,249.17]
[967027201,374.17]
[953512401,599.16999999999996]
[586636601,112.49]
[586637201,174.17]
[586636901,99.99]
[586636801,87.49]
[588212701,99.16]
[953515902,116.66]
[579450103,64.989999999999995]
[505699040,124.16]
[505699042,174.17]
[586636702,190.83]
[505699045,190.83]
[538995001,415.83]
[546081101,374.17]
[966968402,332.5]
[587412301,58.33]
[960730022,207.5]
[960730038,332.5]
[960730037,374.17]
[582559601,457.5]
[960710003,49.99]
[960710006,74.989999999999995]
[960710019,99.99]
[582559901,166.66]
[960710041,83.33]
[960710024,58.33]
[505630882,83.33]
[505630880,66.66]
[960710038,66.66]
[544921701,415.83]
[505568813,73.33]
[580389701,108.33]
[966978701,374.17]
[538898801,37.49]
[538898901,99.99]
[538899201,274.17]
[538899301,99.99]
[538899401,49.99]
[546515201,{"$error":"#VALUE!"}]
[546515001,{"$error":"#VALUE!"}]
[546515101,{"$error":"#VALUE!"}]
[546081001,265.83]
[546080501,374.17]
[546080801,174.17]
[546860501,540.83000000000004]
[546861301,499.17]
[505699041,141.66]
[505699043,232.5]
[587375003,20.83]
[597750801,6099.17]
[966779701,166.66]
[967193202,207.5]
[967193201,190.83]
[970640901,13332.5]
[967669702,13332.5]
[967665703,4749.17]
[966444701,257.5]
[967322601,2149.17]
[587412401,290.83]
[537635901,66.66]
[970745101,4332.5]
[970745001,4665.83]
[970720502,166.66]
[970720506,290.83]
[970744301,207.5]
[970744403,290.83]
[596690876,85.83]
[529921068,82.49]
[593839801,44.99]
[593837203,207.5]
[593837201,207.5]
[593837202,207.5]
[529921060,71.66]
[529920960,71.66]
[593914346,26.66]
[529340760,38.33]
[587394460,72.489999999999995]
[501844058,19.16]
[501844060,20.83]
[575842258,26.66]
[505891640,24.16]
[585404240,15.83]
[529340660,20.83]
[593914146,20.83]
[581626601,574.16999999999996]
[503305701,574.16999999999996]
[503305501,532.5]
[503300322,532.5]
[581807901,532.5]
[503306001,532.5]
[503308801,532.5]
[503306401,574.16999999999996]
[585404201,549.16999999999996]
[581643101,607.5]
[585639501,607.5]
[580965402,49.99]
[529920968,82.49]
[593914351,30.83]
[529340768,43.33]
[587394468,85.83]
[501844064,23.33]
[501844068,23.33]
[581807945,15.83]
[575842264,30.83]
[501959245,27.49]
[585829144,27.49]
[585404245,16.66]
[582207445,35.83]
[582207645,38.33]
[529340668,24.16]
[593914151,24.16]
[952711913,33.33]
[585943356,{"$error":"#VALUE!"}]
[501840456,19.16]
[585639556,20.83]
[581643156,21.66]
[582075356,43.33]
[582086956,41.66]
[593914359,35.83]
[581807952,18.329999999999998]
[501959252,28.33]
[585404252,19.989999999999998]
[582207452,39.99]
[582207652,43.33]
[593914159,26.66]
[585943364,{"$error":"#VALUE!"}]
[581626656,22.49]
[501840464,21.66]
[585639564,23.33]
[585404256,20.83]
[581643164,24.99]
[582075364,51.66]
[582086964,51.66]
[585950856,51.66]
[585943456,51.66]
[593914364,43.33]
[501840466,24.16]
[501959256,37.49]
[585639566,24.16]
[581643166,25.83]
[582086966,52.49]
[593914164,29.16]
[581626668,27.49]
[501840472,25.83]
[585639572,26.66]
[581643172,28.33]
[582075372,59.99]
[582086972,58.33]
[585950868,58.33]
[585943468,59.99]
[581626672,28.33]
[501840480,28.33]
[544285572,{"$error":"#VALUE!"}]
[585639580,29.16]
[581643180,30.83]
[582075380,65.83]
[582086980,65.83]
[585950872,65.83]
[585943472,65.83]
[501956984,{"$error":"#VALUE!"}]
[596691184,109.99]
[581626684,33.33]
[501956992,{"$error":"#VALUE!"}]
[596691192,133.33000000000001]
[581626692,37.49]
[501843184,35.83]
[505132803,24.99]
[596691092,141.66]
[501843192,38.33]
[597703102,54.16]
[597703101,54.99]
[587235803,45.83]
[587235802,45.83]
[590876901,45.83]
[590876903,45.83]
[590876902,45.83]
[581626605,43.33]
[501958104,{"$error":"#VALUE!"}]
[596691004,174.17]
[581626615,47.49]
[501843104,45.83]
[581982002,27.49]
[529461303,58.33]
[529461302,58.33]
[529461301,58.33]
[596691024,199.17]
[501921824,{"$error":"#VALUE!"}]
[501843124,52.49]
[580965602,116.66]
[590877003,83.33]
[590877002,83.33]
[590877001,83.33]
[580965702,116.66]
[596300001,99.99]
[596300003,99.99]
[596300002,99.99]
[588799101,83.33]
[588799103,83.33]
[588799102,83.33]
[597687001,20.83]
[597687004,58.33]
[577419201,5.83]
[577419701,12.49]
[577419702,16.66]
[591496001,87.49]
[591496002,87.49]
[596300201,87.49]
[596300202,87.49]
[536253401,124.99]
[536373101,11.66]
[536373501,20.83]
[536911832,12.49]
[536912801,{"$error":"#VALUE!"}]
[536913101,299.17]
[536913201,299.17]
[536913501,{"$error":"#VALUE!"}]
[536913601,182.5]
[536913901,182.5]
[536915801,{"$error":"#VALUE!"}]
[536915901,{"$error":"#VALUE!"}]
[536916101,{"$error":"#VALUE!"}]
[536916201,{"$error":"#VALUE!"}]
[536930242,174.17]
[536930246,174.17]
[536930250,174.17]
[536930254,174.17]
[536930258,174.17]
[546341501,45.83]
[546342101,45.83]
[546342630,104.16]
[546342634,104.99]
[546342638,105.83]
[546342642,106.66]
[546342646,107.49]
[546857207,4.16]
[546857208,4.16]
[546857209,4.16]
[546857210,4.16]
[546857211,4.16]
[591496101,87.49]
[591496102,87.49]
[594727003,24.16]
[596303842,56.66]
[597245942,136.66]
[536176301,29.16]
[583876901,14.16]
[597255701,11.66]
[597496303,15.83]
[599297201,8.33]
[531009248,27.49]
[538629501,11.66]
[578448201,28.33]
[586885902,34.99]
[586885901,24.99]
[505665363,20.83]
[597681801,134.99]
[529459701,29.16]
[537657601,4.99]
[536586101,33.33]
[536661801,116.66]
[536656001,16.66]
[536655901,24.99]
[536655701,33.33]
[536930901,132.5]
[536326201,104.16]
[536664101,166.66]
[536849201,79.16]
[536849301,20.83]
[580714401,8.33]
[596512502,47.49]
[599292401,37.49]
[599295001,41.66]
[599294701,41.66]
[599295201,41.66]
[599292402,41.66]
[599294901,41.66]
[599295002,41.66]
[599294702,41.66]
[599295202,41.66]
[599292403,41.66]
[599294902,41.66]
[599295003,41.66]
[599294703,41.66]
[599292404,41.66]
[599294903,41.66]
[599295006,43.33]
[599294706,43.33]
[599292407,43.33]
[599294906,43.33]
[599295004,45.83]
[599294704,45.83]
[599292405,45.83]
[599294904,45.83]
[599295005,48.33]
[599294705,48.33]
[599292406,48.33]
[599294905,48.33]
[588408402,149.99]
[586662307,249.17]
[586662312,249.17]
[586662313,249.17]
[595084403,624.16999999999996]
[595084402,112.49]
[595084401,20.83]
[599805203,832.5]
[599805202,154.16]
[599805201,24.99]
[599805302,665.83]
[599805301,124.99]
[967972101,83.33]
[967623603,207.5]
[967972301,207.5]
[967623602,133.33000000000001]
[967972201,133.33000000000001]
[597627701,31.66]
[597629401,84.99]
[597629001,54.16]
[534101801,207.5]
[531416201,74.989999999999995]
[582391801,18.329999999999998]
[593258201,73.33]
[593258301,94.99]
[596936311,50.83]
[593258101,129.16]
[597418301,45.83]
[578449901,83.33]
[578449701,111.66]
[597469301,108.33]
[578449801,121.66]
[522026201,4.99]
[582391901,16.66]
[531003817,{"$error":"#VALUE!"}]
[531345401,7.49]
[501834409,4.16]
[531345501,7.49]
[501834411,4.99]
[501834504,6.66]
[537072201,9.99]
[578400156,57.49]
[538920764,58.33]
[578400164,58.33]
[538920868,61.66]
[538920772,60.83]
[578400172,59.16]
[538920872,62.49]
[531116466,62.49]
[599656672,104.16]
[599656684,121.66]
[599656692,141.66]
[599656605,174.17]
[599656615,190.83]
[575572301,49.17]
[575238601,14.99]
[537275705,62.49]
[582392001,4.99]
[952711918,40.83]
[582365701,49.99]
[582365702,49.99]
[582365703,49.99]
[582365704,49.99]
[582365705,49.99]
[582365706,49.99]
[536704203,49.99]
[536704202,49.99]
[536704201,49.99]
[536704204,49.99]
[536704205,49.99]
[536704206,49.99]
[579301001,9.99]
[593297702,249.17]
[597539501,16.66]
[579797501,14.99]
[505618510,23.33]
[505618500,24.16]
[586896901,76.66]
[529318801,99.17]
[531424001,9.99]
[582050601,58.33]
[582050602,58.33]
[582050603,58.33]
[582050604,58.33]
[582050605,58.33]
[582050606,58.33]
[585641180,28.33]
[585641156,20.83]
[585641164,22.49]
[585641166,23.33]
[585641172,24.99]
[585641101,582.5]
[581699701,582.5]
[581699756,20.83]
[581699764,22.49]
[581699766,23.33]
[581699772,24.99]
[581699780,26.66]
[546606368,657.5]
[546606372,674.17]
[505694730,28.33]
[505694746,34.159999999999997]
[576926301,76.66]
[101692098,8.33]
[582396901,3.33]
[596936212,19.989999999999998]
[596936213,19.989999999999998]
[596936211,20.83]
[576926501,83.33]
[593839601,13.33]
[501840664,23.33]
[501840672,24.99]
[501841468,27.49]
[501841472,29.99]
[501841484,29.16]
[501841492,31.66]
[510010801,{"$error":"#VALUE!"}]
[579396001,6.33]
[579396201,76.66]
[579396101,20.83]
[596457301,8.33]
[596457303,49.99]
[596457304,99.16]
[596457305,999.17]
[596457302,27.49]
[531300872,47.49]
[536944801,12.49]
[536944802,16.66]
[595001601,112.49]
[578077101,17.489999999999998]
[580800301,16.66]
[531423901,62.49]
[577438001,29.99]
[529468502,2499.17]
[582170401,5.83]
[597659439,219]
[597659440,219]
[597659441,219]
[597659442,219]
[597659443,219]
[597659444,219]
[597659445,219]
[597659446,219]
[597659447,219]
[529518944,99.16]
[529518946,99.16]
[529518948,99.16]
[529518950,99.16]
[529518952,99.16]
[529518954,99.16]
[529518956,99.16]
[529518958,99.16]
[529518960,99.16]
[529518962,99.16]
[529518964,99.16]
[580754301,51.99]
[582335154,62.49]
[582335150,62.49]
[582335146,62.49]
[582335158,62.49]
[582335162,62.49]
[596304654,103.33]
[596304650,103.33]
[596304646,103.33]
[596304658,103.33]
[596304662,103.33]
[596304666,103.33]
[597432201,144.16]
[579000601,49.99]
[534098601,499.17]
[580754201,51.66]
[586110401,20.83]
[545030901,24.17]
[503934202,24.17]
[544464301,40.83]
[537331601,40.83]
[593838301,30.83]
[599801701,12.49]
[535129002,66.66]
[529280801,2.4900000000000002]
[577864801,12.49]
[101638048,20.83]
[101638050,20.83]
[101638052,20.83]
[101638054,20.83]
[101638056,20.83]
[101637946,20.83]
[101637948,20.83]
[101637950,20.83]
[101637952,20.83]
[101637954,20.83]
[501980203,58.33]
[501980201,1.66]
[577864701,8.33]
[967236601,44.99]
[595004801,46.66]
[595005001,46.66]
[591376701,82.5]
[591376801,82.5]
[578445001,20.83]
[578443901,20.83]
[578444801,22.49]
[578444601,25.83]
[505698100,4.16]
[505698102,4.16]
[505698101,4.16]
[505698103,4.16]
[537275702,59.16]
[537275701,76.66]
[503976401,9.16]
[503848202,13.33]
[594727001,27.49]
[597496301,23.33]
[597496302,15.83]
[505694702,11.66]
[505694703,14.16]
[598035802,14.16]
[505694704,16.66]
[598036101,24.99]
[593839401,30.83]
[586938401,9.99]
[505698110,7.5]
[505698115,9.16]
[505698118,9.16]
[505243701,9.16]
[579558801,9.16]
[529937101,11.66]
[505697810,3.33]
[505697801,3.33]
[505698120,24.16]
[595004601,21.66]
[505698125,21.66]
[505698127,21.66]
[586933401,21.66]
[587806801,22.49]
[505698192,24.99]
[580687501,21.66]
[505698130,21.66]
[505698138,21.66]
[579653601,21.66]
[587806701,22.49]
[586938501,21.66]
[597354802,19.16]
[597354801,5.83]
[597355501,5.83]
[597355802,19.16]
[597355803,382.5]
[597355801,5.83]
[597355902,19.16]
[597356102,19.16]
[597356103,382.5]
[597356101,5.83]
[587809101,11.66]
[587809001,11.66]
[580687401,11.66]
[505698109,11.66]
[505698108,11.66]
[505243501,11.66]
[575991501,11.66]
[595004701,11.66]
[586938601,11.66]
[504095301,15.83]
[505698161,35.83]
[505698181,49.17]
[595105601,94.16]
[595105602,94.16]
[595105603,94.16]
[595105604,94.16]
[595105605,94.16]
[595105606,94.16]
[595105607,94.16]
[595105608,94.16]
[595102701,79.989999999999995]
[595102702,79.989999999999995]
[595102703,79.989999999999995]
[595102704,79.989999999999995]
[595102705,79.989999999999995]
[595102706,79.989999999999995]
[595102707,79.989999999999995]
[529880501,116.66]
[967236401,38.33]
[596936011,57.49]
[597417801,24.16]
[504981692,69.16]
[576926201,74.16]
[578442901,15.83]
[578443201,15.83]
[578443001,19.989999999999998]
[534099201,91.66]
[537639101,8.33]
[529880003,134.99]
[529880002,134.99]
[529880001,134.99]
[597659338,289]
[597659339,289]
[597659340,289]
[597659341,289]
[597659342,289]
[597659343,289]
[597659344,289]
[597659345,289]
[597659346,289]
[597659347,289]
[595002837,109.99]
[595002838,109.99]
[595002839,109.99]
[595002840,109.99]
[595002841,109.99]
[595002842,109.99]
[595002843,109.99]
[595002844,109.99]
[595002845,109.99]
[595002846,109.99]
[595002847,109.99]
[595002437,123.99]
[595002438,123.99]
[595002439,123.99]
[595002440,123.99]
[595002441,123.99]
[595002442,123.99]
[595002443,123.99]
[595002444,123.99]
[595002445,123.99]
[595002446,123.99]
[595002447,123.99]
[595002448,123.99]
[595002449,123.99]
[529518646,174.17]
[529518648,174.17]
[529518650,174.17]
[529518652,174.17]
[529518654,174.17]
[529518656,174.17]
[529518658,174.17]
[529518660,174.17]
[529518662,174.17]
[529518546,156.66]
[529518548,156.66]
[529518550,156.66]
[529518552,156.66]
[529518554,156.66]
[529518556,156.66]
[529518558,156.66]
[529518560,156.66]
[529518562,156.66]
[529518846,199.17]
[529518850,199.17]
[529518854,199.17]
[529518858,199.17]
[529518862,199.17]
[531080402,116.66]
[531080401,116.66]
[531080403,116.66]
[576412402,77.989999999999995]
[576412401,75.989999999999995]
[582331454,112.49]
[582331450,112.49]
[582331446,112.49]
[582331458,112.49]
[582331462,112.49]
[599651610,30.83]
[599651612,30.83]
[599651607,30.83]
[599651608,30.83]
[599651609,30.83]
[582407201,70.83]
[582407202,70.83]
[582407203,70.83]
[582407204,70.83]
[582407205,70.83]
[582407301,70.83]
[582407302,70.83]
[582407303,70.83]
[582407304,70.83]
[582407305,70.83]
[582407306,70.83]
[582407307,70.83]
[587236101,166.66]
[585019401,166.66]
[597635301,182.5]
[505699012,174.17]
[505665360,29.99]
[596310610,15.83]
[596310606,15.83]
[596310607,15.83]
[596310608,15.83]
[579380009,15.83]
[599649810,24.99]
[599649812,24.99]
[599649807,24.99]
[599649808,24.99]
[599649809,24.99]
[529880410,8.33]
[529880412,8.33]
[529880408,8.33]
[529880409,8.33]
[599649410,19.989999999999998]
[599649412,19.989999999999998]
[599649406,19.989999999999998]
[599649407,19.989999999999998]
[599649408,19.989999999999998]
[599649409,19.989999999999998]
[529880210,19.989999999999998]
[529880207,19.989999999999998]
[529880208,19.989999999999998]
[529880209,19.989999999999998]
[529880110,19.989999999999998]
[529880107,19.989999999999998]
[529880108,19.989999999999998]
[529880109,19.989999999999998]
[599649710,38.33]
[599649712,38.33]
[599649708,38.33]
[599650310,29.99]
[599650312,29.99]
[599650309,29.99]
[529880310,8.33]
[529880312,8.33]
[529880307,8.33]
[529880308,8.33]
[529880309,8.33]
[599651110,24.99]
[599651112,24.99]
[599651108,24.99]
[599651109,24.99]
[101692020,12.49]
[590210601,5.83]
[593975501,16.66]
[578444901,20.83]
[578443701,20.83]
[578444001,20.83]
[578444701,24.16]
[537288501,24.17]
[537297401,40.83]
[502464901,40.83]
[535560001,8.16]
[595011701,14.99]
[588814801,23.33]
[599674601,30.83]
[546342201,31.66]
[593837601,39.99]
[594729701,19.989999999999998]
[593253701,15.83]
[593253801,28.33]
[593254001,19.989999999999998]
[593253901,19.989999999999998]
[576926401,58.33]
[581912502,74.989999999999995]
[505665325,28.33]
[587442401,33.33]
[505665304,30.83]
[598750101,45.83]
[505665348,45.83]
[578274903,121.66]
[578274904,121.66]
[538629201,13.33]
[599673501,71.66]
[597245954,136.66]
[597245950,136.66]
[597245946,136.66]
[597245958,136.66]
[597245962,136.66]
[597246246,133.33000000000001]
[597246248,133.33000000000001]
[597246250,133.33000000000001]
[597246252,133.33000000000001]
[597246254,133.33000000000001]
[597246256,133.33000000000001]
[597246258,133.33000000000001]
[597246260,133.33000000000001]
[534971901,24.99]
[505691605,24.17]
[505691606,13.33]
[579217101,24.99]
[593838302,30.83]
[505693292,12.49]
[505697500,7.49]
[505690510,24.16]
[582399301,49.99]
[582399302,49.99]
[582399303,49.99]
[582399304,49.99]
[582399305,49.99]
[582399306,49.99]
[587808501,2.74]
[587808511,12.49]
[587808530,165.83]
[587808540,1640.83]
[587808520,37.49]
[598896001,33.33]
[505665391,10.83]
[505665326,9.16]
[596489401,14.16]
[577402801,57.5]
[574387101,58.33]
[588137901,4.16]
[588137902,4.16]
[597660242,121.66]
[593252354,89.99]
[593252254,89.99]
[593252350,89.99]
[593252250,89.99]
[536469303,74.989999999999995]
[536469302,74.989999999999995]
[536469301,74.989999999999995]
[536469304,74.989999999999995]
[536469305,74.989999999999995]
[536469306,74.989999999999995]
[593252346,89.99]
[593252246,89.99]
[593252358,89.99]
[593252242,89.99]
[593252362,89.99]
[590768401,2.4900000000000002]
[590960001,4.16]
[582399501,2.4900000000000002]
[598441302,58.33]
[595103201,33.33]
[595103202,33.33]
[595103203,33.33]
[595103204,33.33]
[595103205,33.33]
[595103206,33.33]
[595103207,33.33]
[595104101,33.33]
[595104102,33.33]
[595104103,33.33]
[595104104,33.33]
[595104105,33.33]
[595104106,33.33]
[595104107,33.33]
[534099801,224.17]
[534099802,232.5]
[576926701,90.83]
[590652201,11.99]
[574387401,31.66]
[574387501,34.99]
[574387601,54.16]
[599903601,190.83]
[574387201,120.83]
[578180302,3.33]
[578037002,14.99]
[578180002,104.99]
[578180402,2065.83]
[578037102,45.83]
[584918905,{"$error":"#VALUE!"}]
[585477601,{"$error":"#VALUE!"}]
[590855101,33.33]
[578447401,21.66]
[578447601,21.66]
[578447801,59.16]
[574287702,4.16]
[574287700,4.16]
[574287701,4.16]
[574287703,4.16]
[593839101,10.83]
[599675001,13.33]
[596489501,86.66]
[579396301,749.17]
[578444501,25.83]
[578445101,16.66]
[578444401,37.49]
[502512701,9.99]
[538629401,7.49]
[505665306,4.99]
[581754301,19.989999999999998]
[593257601,4.99]
[505698019,9.16]
[599675101,13.33]
[586110501,20.83]
[598417301,103.33]
[598417302,103.33]
[598417303,103.33]
[598417304,103.33]
[598417305,103.33]
[598417306,103.33]
[598417307,103.33]
[598417308,103.33]
[598417309,103.33]
[577864201,16.66]
[505665343,11.66]
[595101701,70.83]
[595101702,70.83]
[595101703,70.83]
[595101704,70.83]
[595101705,70.83]
[595101706,70.83]
[595104501,56.66]
[595104502,56.66]
[595104503,56.66]
[595104504,56.66]
[595104505,56.66]
[595104506,56.66]
[595104507,56.66]
[595104508,56.66]
[531017714,2.4900000000000002]
[531017715,3.33]
[595103801,35.83]
[595103802,35.83]
[595103803,35.83]
[595103804,35.83]
[595103805,35.83]
[595103806,35.83]
[595103807,35.83]
[595103808,35.83]
[595103301,35.83]
[595103302,35.83]
[595103303,35.83]
[595103304,35.83]
[595103305,35.83]
[595103306,35.83]
[595103307,35.83]
[595103308,35.83]
[589227901,4.16]
[589227940,582.5]
[583955902,83.33]
[583955901,16.66]
[970735801,{"$error":"#VALUE!"}]
[582066601,19.989999999999998]
[536852204,33.33]
[536852203,33.33]
[536852202,33.33]
[536852205,33.33]
[536852201,33.33]
[536851903,33.33]
[536851902,33.33]
[536851901,33.33]
[536851904,33.33]
[536851905,33.33]
[582402001,33.33]
[582402002,33.33]
[582402003,33.33]
[582402004,33.33]
[582402005,33.33]
[582402101,33.33]
[582402102,33.33]
[582402103,33.33]
[582402104,33.33]
[582402105,33.33]
[537980801,16.66]
[537980802,16.66]
[544963801,10.83]
[544963701,14.16]
[544963802,12.49]
[544963703,16.66]
[544963702,16.66]
[544963901,21.66]
[529520101,166.66]
[597659536,219]
[597659537,219]
[597659538,219]
[597659539,219]
[597659540,219]
[597659541,219]
[597659542,219]
[597659543,219]
[597659544,219]
[597659545,219]
[597659546,219]
[597659547,219]
[534099901,24.99]
[534099902,24.99]
[597663210,63.33]
[597663310,54.16]
[595105101,74.989999999999995]
[595105102,74.989999999999995]
[595105103,74.989999999999995]
[595105104,74.989999999999995]
[595105105,74.989999999999995]
[595105106,74.989999999999995]
[595105107,74.989999999999995]
[597662854,121.66]
[597662850,121.66]
[597662846,121.66]
[597662858,121.66]
[597662842,121.66]
[597662654,199.17]
[597662650,199.17]
[597662646,199.17]
[597662658,199.17]
[597662642,199.17]
[597662662,199.17]
[595105201,60.83]
[595105202,60.83]
[595105203,60.83]
[595105204,60.83]
[595105205,60.83]
[595105206,60.83]
[595105207,60.83]
[597662954,76.66]
[597662950,76.66]
[597662946,76.66]
[597662958,76.66]
[597662942,76.66]
[597662754,103.33]
[597662750,103.33]
[597662746,103.33]
[597662758,103.33]
[597662742,103.33]
[597662762,103.33]
[577606505,74.989999999999995]
[577864603,16.66]
[952711631,5.41]
[534098711,232.5]
[534098712,315.83]
[534098811,165.83]
[534098812,224.17]
[546724901,{"$error":"#VALUE!"}]
[534098701,232.5]
[534098702,315.83]
[534098801,165.83]
[534098802,224.17]
[534098901,157.5]
[597705401,70.83]
[587235301,70.83]
[581889702,79.16]
[546606464,515.83000000000004]
[546606472,599.16999999999996]
[579692801,38.33]
[579692802,44.99]
[502435501,65.83]
[501320402,49.17]
[597469101,20.83]
[597468201,20.83]
[597468701,20.83]
[597468901,22.49]
[597469001,21.66]
[546341601,31.66]
[595103601,94.16]
[595103602,94.16]
[595103603,94.16]
[595103604,94.16]
[595103605,94.16]
[595103606,94.16]
[595103607,94.16]
[595103608,94.16]
[595103609,94.16]
[595103610,94.16]
[595105001,103.33]
[595105002,103.33]
[595105003,103.33]
[595105004,103.33]
[595105005,103.33]
[595105006,103.33]
[595105007,103.33]
[595105008,103.33]
[595105009,103.33]
[595105010,103.33]
[595105011,103.33]
[595103101,113.33]
[595103102,113.33]
[595103103,113.33]
[595103104,113.33]
[595103105,113.33]
[595103106,113.33]
[595103107,113.33]
[595103108,113.33]
[595103109,113.33]
[595103110,113.33]
[595103111,113.33]
[595103112,113.33]
[595103113,113.33]
[595103114,113.33]
[595103115,113.33]
[595103116,113.33]
[595103117,113.33]
[595103118,113.33]
[595103119,113.33]
[595103120,113.33]
[595103121,113.33]
[595104801,150.83000000000001]
[595104802,150.83000000000001]
[595104803,150.83000000000001]
[595104804,150.83000000000001]
[595104805,150.83000000000001]
[595104806,150.83000000000001]
[595104807,150.83000000000001]
[595104808,150.83000000000001]
[595104809,150.83000000000001]
[595104810,150.83000000000001]
[595104811,150.83000000000001]
[595104812,150.83000000000001]
[595104813,150.83000000000001]
[595104814,150.83000000000001]
[595104815,150.83000000000001]
[595104816,150.83000000000001]
[595104817,150.83000000000001]
[595104818,150.83000000000001]
[595104819,150.83000000000001]
[595104820,150.83000000000001]
[595104821,150.83000000000001]
[595105701,169.99]
[595105702,169.99]
[595105703,169.99]
[595105704,169.99]
[595105705,169.99]
[595105706,169.99]
[595105707,169.99]
[595105708,169.99]
[589775301,34.159999999999997]
[589775310,249.17]
[589775501,37.49]
[544842901,103.33]
[537216201,24.16]
[531311701,91.66]
[534099701,56.66]
[576926801,61.66]
[595105501,23.33]
[595105502,23.33]
[595105503,23.33]
[595102601,94.16]
[595102602,94.16]
[595102603,94.16]
[595102604,94.16]
[595102605,94.16]
[595102606,94.16]
[595102607,94.16]
[595102608,94.16]
[529340632,11.66]
[546606556,1040.83]
[546606564,1199.17]
[546606572,674.17]
[599673101,45.83]
[580761301,76.66]
[580761401,89.99]
[577259201,37.49]
[534162101,19.16]
[534162601,14.99]
[582228601,66.66]
[582228602,66.66]
[582228603,66.66]
[582228604,66.66]
[582228605,66.66]
[582228801,66.66]
[582228802,66.66]
[582228803,66.66]
[582228804,66.66]
[582228805,66.66]
[582228806,66.66]
[582403601,20.83]
[582403701,16.66]
[593839501,13.33]
[593967901,12.49]
[537216301,34.99]
[967236501,41.66]
[534100801,55.83]
[587258101,24.99]
[505665256,19.989999999999998]
[578179801,4.99]
[581508201,5.83]
[578447101,47.49]
[503901802,7.5]
[503890101,7.5]
[503890102,7.5]
[502157002,24.17]
[595103001,74.989999999999995]
[595103002,74.989999999999995]
[595103003,74.989999999999995]
[595103004,74.989999999999995]
[595103005,74.989999999999995]
[595103006,74.989999999999995]
[595103007,74.989999999999995]
[586997601,64.989999999999995]
[586997602,69.16]
[578446001,19.989999999999998]
[578446101,19.989999999999998]
[579294003,19.989999999999998]
[589873201,19.989999999999998]
[578445901,15.83]
[578446301,24.16]
[578449401,27.49]
[578446401,24.16]
[578446501,34.159999999999997]
[578446601,31.66]
[578446801,40.83]
[578447001,54.16]
[597660254,121.66]
[597660250,121.66]
[597660246,121.66]
[597660258,121.66]
[597660262,121.66]
[597660646,112.49]
[597660648,112.49]
[597660650,112.49]
[597660652,112.49]
[597660654,112.49]
[597660656,112.49]
[597660658,112.49]
[597660660,112.49]
[529516254,307.5]
[529516250,307.5]
[529516246,307.5]
[529516258,307.5]
[597659236,319]
[597659237,319]
[597659238,319]
[597659239,319]
[597659240,319]
[597659241,319]
[597659242,319]
[597659243,319]
[597659244,319]
[597659245,319]
[597659246,319]
[597659247,319]
[597659248,319]
[529516455,257.5]
[529516453,257.5]
[529516454,257.5]
[529516451,257.5]
[529516449,257.5]
[529516450,257.5]
[529516447,257.5]
[529516445,257.5]
[529516446,257.5]
[529516459,257.5]
[529516457,257.5]
[529516458,257.5]
[529516461,257.5]
[529516462,257.5]
[529518154,307.5]
[529518150,307.5]
[529518146,307.5]
[529518158,307.5]
[529518162,307.5]
[529515946,357.5]
[529515950,357.5]
[529515954,357.5]
[529515958,357.5]
[537642554,307.5]
[537642550,307.5]
[537642546,307.5]
[537642558,307.5]
[529515854,357.5]
[529515850,357.5]
[529515846,357.5]
[529515858,357.5]
[529515842,357.5]
[529515862,357.5]
[582331054,299.17]
[582340750,282.5]
[582340746,282.5]
[582340742,282.5]
[582331050,299.17]
[582331046,299.17]
[582331058,299.17]
[582331062,299.17]
[546415654,0]
[546415650,0]
[546415646,0]
[546415658,0]
[546415662,0]
[537641854,265.83]
[537641850,265.83]
[537641846,265.83]
[537641858,265.83]
[537641862,265.83]
[537643254,315.83]
[537643250,315.83]
[537643246,315.83]
[537643258,315.83]
[537643242,315.83]
[537643262,315.83]
[585058401,140.99]
[582332154,224.17]
[582332150,224.17]
[582332146,224.17]
[582332158,224.17]
[582332162,224.17]
[599651210,45.83]
[599651208,45.83]
[599651209,45.83]
[596303754,249.17]
[596303750,249.17]
[596303746,249.17]
[596303758,249.17]
[596303762,249.17]
[529516154,274.17]
[529516150,274.17]
[529516146,274.17]
[529516158,274.17]
[529516162,274.17]
[537642754,257.5]
[537642750,257.5]
[537642746,257.5]
[537642758,257.5]
[537642762,257.5]
[596303854,56.66]
[596303850,56.66]
[596303846,56.66]
[596303858,56.66]
[596303862,56.66]
[596303866,56.66]
[596303954,45.83]
[596303950,45.83]
[596303946,45.83]
[596303958,45.83]
[596303962,45.83]
[596303966,45.83]
[597661254,49.99]
[597661250,49.99]
[597661246,49.99]
[597661258,49.99]
[597661242,49.99]
[597661262,49.99]
[597661266,49.99]
[597661154,38.33]
[597661150,38.33]
[597661146,38.33]
[597661158,38.33]
[597661142,38.33]
[597661162,38.33]
[597661166,38.33]
[582334354,104.16]
[582334350,104.16]
[582334346,104.16]
[582334358,104.16]
[582334362,104.16]
[529518346,257.5]
[529518350,257.5]
[529518354,257.5]
[529518358,257.5]
[529518362,257.5]
[597987001,37.49]
[582406101,8.33]
[582406102,12.49]
[536825401,8.33]
[582406201,12.49]
[597417901,24.16]
[596935813,20.83]
[596935812,20.83]
[596935811,20.83]
[596935814,20.83]
[596935911,39.99]
[505693216,33.33]
[593837401,83.33]
[505699015,166.66]
[505690001,21.66]
[505690000,15.83]
[593839701,13.33]
[599608701,31.66]
[597809601,62.49]
[522771101,30.83]
[586498201,34.159999999999997]
[586497901,31.66]
[582406301,43.33]
[586498001,31.66]
[586498101,37.49]
[578449101,45.83]
[578449301,43.33]
[574479501,24.17]
[545031101,32.5]
[503977101,24.17]
[537297301,49.17]
[503954301,24.17]
[537349403,24.17]
[544160301,32.5]
[544107402,32.5]
[534161801,20.83]
[534161802,20.83]
[534162001,20.83]
[590845901,7.5]
[597669202,19.989999999999998]
[597669201,5.83]
[597669210,6.66]
[597669212,47.49]
[597669211,20.83]
[597669220,6.66]
[597669222,58.33]
[597669221,19.989999999999998]
[597669232,74.989999999999995]
[597669231,20.83]
[597669230,6.66]
[597669241,90.83]
[597669240,49.99]
[597669251,74.989999999999995]
[597669250,41.66]
[597669002,31.66]
[597669001,14.16]
[597669011,37.49]
[597669010,14.16]
[597669021,45.83]
[597669020,14.16]
[597669030,20.83]
[597668902,31.66]
[597668901,14.16]
[597668911,31.66]
[597668910,14.16]
[597668921,54.16]
[597668920,14.16]
[597668922,99.16]
[597668931,49.99]
[597668932,104.16]
[597668930,20.83]
[597668801,3.33]
[597668811,14.16]
[597668810,4.16]
[597668820,4.16]
[597668822,30.83]
[597668821,14.16]
[597668830,4.16]
[597668832,37.49]
[597668831,14.16]
[597668840,4.16]
[597668842,45.83]
[597668841,14.16]
[597668843,99.16]
[597668851,54.16]
[597668852,107.49]
[597668850,20.83]
[597668861,79.16]
[597668860,29.16]
[597669101,4.99]
[597669111,19.16]
[597669110,4.99]
[597669120,5.83]
[597669122,45.83]
[597669121,19.989999999999998]
[597669130,5.83]
[597669132,49.99]
[597669131,19.989999999999998]
[597669142,66.66]
[597669141,19.989999999999998]
[597669140,5.83]
[595104701,103.33]
[595104702,103.33]
[595104703,103.33]
[595104704,103.33]
[595104705,103.33]
[595104706,103.33]
[595104707,103.33]
[595104708,103.33]
[595104709,103.33]
[595104710,103.33]
[595104711,103.33]
[595104712,103.33]
[595104713,103.33]
[595104714,103.33]
[595104715,103.33]
[595104716,103.33]
[595104717,103.33]
[595104718,103.33]
[595104719,103.33]
[595104720,103.33]
[595104721,103.33]
[595104722,103.33]
[595104723,103.33]
[595104724,103.33]
[595104725,103.33]
[595104726,103.33]
[595104727,103.33]
[597660642,112.49]
[597246242,127.49]
[593253154,28.33]
[529909154,32.49]
[593252454,19.16]
[529907554,21.66]
[593253150,28.33]
[529909150,32.49]
[593252450,19.16]
[529907550,21.66]
[595103401,16.66]
[595103402,16.66]
[595103403,16.66]
[595103404,16.66]
[595103405,16.66]
[595103406,16.66]
[595103407,16.66]
[595103408,16.66]
[593253146,28.33]
[529909146,32.49]
[593252446,19.16]
[529907546,21.66]
[582324801,8.33]
[582324802,8.33]
[582324803,8.33]
[582324804,8.33]
[582324805,8.33]
[596303942,45.83]
[595104601,37.49]
[595104602,37.49]
[595104603,37.49]
[595104604,37.49]
[595104605,37.49]
[595104606,37.49]
[595104607,37.49]
[595104608,37.49]
[593253158,28.33]
[529909158,32.49]
[529907558,21.66]
[593253142,28.33]
[529909142,32.49]
[593252442,19.16]
[529907542,21.66]
[529909162,32.49]
[593253162,28.33]
[593252462,19.16]
[529907562,21.66]
[505698020,30.83]
[595104401,56.66]
[595104402,56.66]
[595104403,56.66]
[595104404,56.66]
[595104405,56.66]
[595104406,56.66]
[595104407,56.66]
[595104408,56.66]
[595104301,46.66]
[595104302,46.66]
[595104303,46.66]
[595104304,46.66]
[595104305,46.66]
[595104306,46.66]
[595104307,46.66]
[595104308,46.66]
[574613501,23.33]
[580761101,74.16]
[580761201,83.33]
[593839201,34.99]
[580761001,49.99]
[598862301,54.16]
[586409601,30.83]
[598862303,70.83]
[598862302,62.49]
[597703601,54.16]
[587224001,54.16]
[585019702,54.16]
[597418101,21.66]
[598035701,11.66]
[593838801,34.159999999999997]
[597704601,37.49]
[587235702,37.49]
[581903103,37.49]
[546260001,20.83]
[582229101,70.83]
[582229102,70.83]
[582229103,70.83]
[582229104,70.83]
[582229105,70.83]
[582227301,70.83]
[582227302,70.83]
[582227303,70.83]
[582227304,70.83]
[582227305,70.83]
[582227306,70.83]
[586110701,11.66]
[522914102,332.5]
[597237801,74.989999999999995]
[580662006,124.99]
[597237802,33.33]
[580662009,332.5]
[546027301,45.83]
[578785741,36.659999999999997]
[578785739,36.659999999999997]
[578785737,36.659999999999997]
[578785743,36.659999999999997]
[578785745,36.659999999999997]
[582406401,54.16]
[583952904,640.83000000000004]
[589227601,4.99]
[583952902,85.83]
[582202005,19.16]
[578180303,4.08]
[578037003,23.33]
[578180003,182.5]
[578180403,3665.83]
[578037103,76.66]
[531428054,74.989999999999995]
[531428050,74.989999999999995]
[531428046,74.989999999999995]
[531428058,74.989999999999995]
[531428042,74.989999999999995]
[531428062,74.989999999999995]
[536128301,37.49]
[536159901,10.83]
[536111602,41.66]
[536111604,41.66]
[536111606,41.66]
[536111608,41.66]
[536111610,41.66]
[536130402,33.33]
[536130403,33.33]
[536130405,33.33]
[536130406,33.33]
[536130408,33.33]
[536157546,145.83000000000001]
[536157550,145.83000000000001]
[536157554,145.83000000000001]
[536157558,145.83000000000001]
[536157562,145.83000000000001]
[536160142,145.83000000000001]
[536160146,145.83000000000001]
[536160150,145.83000000000001]
[536160154,145.83000000000001]
[536157545,145.83000000000001]
[536157549,145.83000000000001]
[536157553,145.83000000000001]
[536157557,145.83000000000001]
[536157561,145.83000000000001]
[536160141,145.83000000000001]
[536160145,145.83000000000001]
[536160149,145.83000000000001]
[536160153,145.83000000000001]
[536155646,199.17]
[536155650,199.17]
[536155654,199.17]
[536155658,199.17]
[536155662,199.17]
[536155742,199.17]
[536155746,199.17]
[536155750,199.17]
[536155754,199.17]
[536155758,199.17]
[596685352,60.83]
[596685356,72.489999999999995]
[596690866,76.66]
[596691160,76.66]
[596685360,76.66]
[596685772,85.83]
[531116476,85.83]
[596691168,87.49]
[596690868,94.99]
[596691568,85.83]
[596690881,94.99]
[596691172,94.99]
[596690872,91.66]
[596691572,94.99]
[596691272,94.99]
[596691176,112.49]
[596691076,112.49]
[596690884,112.49]
[596691084,133.33000000000001]
[596691784,133.33000000000001]
[596690892,133.33000000000001]
[596685302,141.66]
[596691215,174.17]
[596691722,199.17]

{"sheet":"FG Master Data","index":3,"n_rows":434,"n_cols":32,"rows_kept":434,"cut":false,"hidden":false,"merged":[]}
[null,null,"PSO JAN FG","PSO JAN TRA",null,"PSO FEB FG","PSO FEB TRA",null,"PSO MAR FG","PSO MAR TRA",null,"PSO APR FG","PSO APR TRA",null,"PSO MAY FG","PSO MAY TRA",null,"PSO JUN FG","PSO JUN TRA"]
["Product Group","Part Number","Delivery date","Delivery week","Qty","Delivery date2","Delivery week3","Qty4","Delivery date5","Delivery week6","Qty7","Delivery date8","Delivery week9","Qty10","Delivery date11","Delivery week12","Qty13","Delivery date14","Delivery week15","Qty16","Price",null,null,null,null,null,null,null,null,null,null,"BNPF"]
["Aspire Accessory",536661801,20240103,2401,{"$f":"_xlfn.XLOOKUP(B3,Aspire!$F$13:$F$30,Aspire!U13:U30)","v":0},20240201,2405,{"$f":"_xlfn.XLOOKUP(B3,Aspire!$F$13:$F$30,Aspire!V13:V30)","v":0},20240301,2409,{"$f":"_xlfn.XLOOKUP(B3,Aspire!$F$13:$F$30,Aspire!W13:W30)","v":0},20240402,2414,{"$f":"_xlfn.XLOOKUP(B3,Aspire!$F$13:$F$30,Aspire!X13:X30)","v":0},20240501,2418,{"$f":"_xlfn.XLOOKUP(B3,Aspire!$F$13:$F$30,Aspire!Y13:Y30)","v":0},20240603,2423,{"$f":"_xlfn.XLOOKUP(B3,Aspire!$F$13:$F$30,Aspire!Z13:Z30)","v":0},{"$f":"_xlfn.XLOOKUP(B3,Aspire!$F$13:$F$30,Aspire!$L$13:$L$30)","v":53.663599999999995}]
["Automower 500-series",970651703,20240103,2401,{"$f":"_xlfn.XLOOKUP(B4,'Automower®'!$F$28:$F$39,'Automower®'!$U$28:$U$39)","v":0},20240201,2405,{"$f":"_xlfn.XLOOKUP(B4,'Automower®'!$F$28:$F$39,'Automower®'!$V$28:$V$39)","v":0},20240301,2409,{"$f":"_xlfn.XLOOKUP(B4,'Automower®'!$F$28:$F$39,'Automower®'!$W$28:$W$39)","v":0},20240402,2414,{"$f":"_xlfn.XLOOKUP(B4,'Automower®'!$F$28:$F$39,'Automower®'!$X$28:$X$39)","v":0},20240501,2418,{"$f":"_xlfn.XLOOKUP(B4,'Automower®'!$F$28:$F$39,'Automower®'!$Y$28:$Y$39)","v":0},20240603,2423,{"$f":"_xlfn.XLOOKUP(B4,'Automower®'!$F$28:$F$39,'Automower®'!$Z$28:$Z$39)","v":0},{"$f":"_xlfn.XLOOKUP(B4,'Automower®'!$F$28:$F$39,'Automower®'!$L$28:$L$39)","v":3528.0056999999997},null,null,null,null,null,null,null,null,null,null,"1 for each month"]
["Automower 500-series",970656703,20240103,2401,{"$f":"_xlfn.XLOOKUP(B5,'Automower®'!$F$28:$F$39,'Automower®'!$U$28:$U$39)","v":0},20240201,2405,{"$f":"_xlfn.XLOOKUP(B5,'Automower®'!$F$28:$F$39,'Automower®'!$V$28:$V$39)","v":1},20240301,2409,{"$f":"_xlfn.XLOOKUP(B5,'Automower®'!$F$28:$F$39,'Automower®'!$W$28:$W$39)","v":0},20240402,2414,{"$f":"_xlfn.XLOOKUP(B5,'Automower®'!$F$28:$F$39,'Automower®'!$X$28:$X$39)","v":1},20240501,2418,{"$f":"_xlfn.XLOOKUP(B5,'Automower®'!$F$28:$F$39,'Automower®'!$Y$28:$Y$39)","v":0},20240603,2423,{"$f":"_xlfn.XLOOKUP(B5,'Automower®'!$F$28:$F$39,'Automower®'!$Z$28:$Z$39)","v":0},{"$f":"_xlfn.XLOOKUP(B5,'Automower®'!$F$28:$F$39,'Automower®'!$L$28:$L$39)","v":3844.0056999999997},null,null,null,null,null,null,null,null,null,null,"separate for accessories"]
["Automower 500-series",970656503,20240103,2401,{"$f":"_xlfn.XLOOKUP(B6,'Automower®'!$F$28:$F$39,'Automower®'!$U$28:$U$39)","v":0},20240201,2405,{"$f":"_xlfn.XLOOKUP(B6,'Automower®'!$F$28:$F$39,'Automower®'!$V$28:$V$39)","v":0},20240301,2409,{"$f":"_xlfn.XLOOKUP(B6,'Automower®'!$F$28:$F$39,'Automower®'!$W$28:$W$39)","v":0},20240402,2414,{"$f":"_xlfn.XLOOKUP(B6,'Automower®'!$F$28:$F$39,'Automower®'!$X$28:$X$39)","v":0},20240501,2418,{"$f":"_xlfn.XLOOKUP(B6,'Automower®'!$F$28:$F$39,'Automower®'!$Y$28:$Y$39)","v":0},20240603,2423,{"$f":"_xlfn.XLOOKUP(B6,'Automower®'!$F$28:$F$39,'Automower®'!$Z$28:$Z$39)","v":0},{"$f":"_xlfn.XLOOKUP(B6,'Automower®'!$F$28:$F$39,'Automower®'!$L$28:$L$39)","v":3054.0056999999997},null,null,null,null,null,null,null,null,null,null,"Tractors separate"]
["Automower 500-series",970656303,20240103,2401,{"$f":"_xlfn.XLOOKUP(B7,'Automower®'!$F$28:$F$39,'Automower®'!$U$28:$U$39)","v":0},20240201,2405,{"$f":"_xlfn.XLOOKUP(B7,'Automower®'!$F$28:$F$39,'Automower®'!$V$28:$V$39)","v":0},20240301,2409,{"$f":"_xlfn.XLOOKUP(B7,'Automower®'!$F$28:$F$39,'Automower®'!$W$28:$W$39)","v":0},20240402,2414,{"$f":"_xlfn.XLOOKUP(B7,'Automower®'!$F$28:$F$39,'Automower®'!$X$28:$X$39)","v":0},20240501,2418,{"$f":"_xlfn.XLOOKUP(B7,'Automower®'!$F$28:$F$39,'Automower®'!$Y$28:$Y$39)","v":0},20240603,2423,{"$f":"_xlfn.XLOOKUP(B7,'Automower®'!$F$28:$F$39,'Automower®'!$Z$28:$Z$39)","v":0},{"$f":"_xlfn.XLOOKUP(B7,'Automower®'!$F$28:$F$39,'Automower®'!$L$28:$L$39)","v":1901.925}]
["Automower 500-series",970468203,20240103,2401,{"$f":"_xlfn.XLOOKUP(B8,'Automower®'!$F$28:$F$39,'Automower®'!$U$28:$U$39)","v":0},20240201,2405,{"$f":"_xlfn.XLOOKUP(B8,'Automower®'!$F$28:$F$39,'Automower®'!$V$28:$V$39)","v":0},20240301,2409,{"$f":"_xlfn.XLOOKUP(B8,'Automower®'!$F$28:$F$39,'Automower®'!$W$28:$W$39)","v":0},20240402,2414,{"$f":"_xlfn.XLOOKUP(B8,'Automower®'!$F$28:$F$39,'Automower®'!$X$28:$X$39)","v":0},20240501,2418,{"$f":"_xlfn.XLOOKUP(B8,'Automower®'!$F$28:$F$39,'Automower®'!$Y$28:$Y$39)","v":0},20240603,2423,{"$f":"_xlfn.XLOOKUP(B8,'Automower®'!$F$28:$F$39,'Automower®'!$Z$28:$Z$39)","v":0},{"$f":"_xlfn.XLOOKUP(B8,'Automower®'!$F$28:$F$39,'Automower®'!$L$28:$L$39)","v":591.84429999999998}]
["Automower 500-series",970614401,20240103,2401,{"$f":"_xlfn.XLOOKUP(B9,'Automower®'!$F$28:$F$39,'Automower®'!$U$28:$U$39)","v":0},20240201,2405,{"$f":"_xlfn.XLOOKUP(B9,'Automower®'!$F$28:$F$39,'Automower®'!$V$28:$V$39)","v":0},20240301,2409,{"$f":"_xlfn.XLOOKUP(B9,'Automower®'!$F$28:$F$39,'Automower®'!$W$28:$W$39)","v":0},20240402,2414,{"$f":"_xlfn.XLOOKUP(B9,'Automower®'!$F$28:$F$39,'Automower®'!$X$28:$X$39)","v":0},20240501,2418,{"$f":"_xlfn.XLOOKUP(B9,'Automower®'!$F$28:$F$39,'Automower®'!$Y$28:$Y$39)","v":0},20240603,2423,{"$f":"_xlfn.XLOOKUP(B9,'Automower®'!$F$28:$F$39,'Automower®'!$Z$28:$Z$39)","v":0},{"$f":"_xlfn.XLOOKUP(B9,'Automower®'!$F$28:$F$39,'Automower®'!$L$28:$L$39)","v":6224.3110999999999}]
["Automower 500-series",970468103,20240103,2401,{"$f":"_xlfn.XLOOKUP(B10,'Automower®'!$F$28:$F$39,'Automower®'!$U$28:$U$39)","v":0},20240201,2405,{"$f":"_xlfn.XLOOKUP(B10,'Automower®'!$F$28:$F$39,'Automower®'!$V$28:$V$39)","v":0},20240301,2409,{"$f":"_xlfn.XLOOKUP(B10,'Automower®'!$F$28:$F$39,'Automower®'!$W$28:$W$39)","v":0},20240402,2414,{"$f":"_xlfn.XLOOKUP(B10,'Automower®'!$F$28:$F$39,'Automower®'!$X$28:$X$39)","v":0},20240501,2418,{"$f":"_xlfn.XLOOKUP(B10,'Automower®'!$F$28:$F$39,'Automower®'!$Y$28:$Y$39)","v":0},20240603,2423,{"$f":"_xlfn.XLOOKUP(B10,'Automower®'!$F$28:$F$39,'Automower®'!$Z$28:$Z$39)","v":0},{"$f":"_xlfn.XLOOKUP(B10,'Automower®'!$F$28:$F$39,'Automower®'!$L$28:$L$39)","v":1866.8111000000001}]
["Automower 500-series",970549001,20240103,2401,{"$f":"_xlfn.XLOOKUP(B11,'Automower®'!$F$28:$F$39,'Automower®'!$U$28:$U$39)","v":0},20240201,2405,{"$f":"_xlfn.XLOOKUP(B11,'Automower®'!$F$28:$F$39,'Automower®'!$V$28:$V$39)","v":0},20240301,2409,{"$f":"_xlfn.XLOOKUP(B11,'Automower®'!$F$28:$F$39,'Automower®'!$W$28:$W$39)","v":0},20240402,2414,{"$f":"_xlfn.XLOOKUP(B11,'Automower®'!$F$28:$F$39,'Automower®'!$X$28:$X$39)","v":0},20240501,2418,{"$f":"_xlfn.XLOOKUP(B11,'Automower®'!$F$28:$F$39,'Automower®'!$Y$28:$Y$39)","v":0},20240603,2423,{"$f":"_xlfn.XLOOKUP(B11,'Automower®'!$F$28:$F$39,'Automower®'!$Z$28:$Z$39)","v":0},{"$f":"_xlfn.XLOOKUP(B11,'Automower®'!$F$28:$F$39,'Automower®'!$L$28:$L$39)","v":10685.561100000001}]
["Automower 500-series",970467901,20240103,2401,{"$f":"_xlfn.XLOOKUP(B12,'Automower®'!$F$28:$F$39,'Automower®'!$U$28:$U$39)","v":0},20240201,2405,{"$f":"_xlfn.XLOOKUP(B12,'Automower®'!$F$28:$F$39,'Automower®'!$V$28:$V$39)","v":0},20240301,2409,{"$f":"_xlfn.XLOOKUP(B12,'Automower®'!$F$28:$F$39,'Automower®'!$W$28:$W$39)","v":0},20240402,2414,{"$f":"_xlfn.XLOOKUP(B12,'Automower®'!$F$28:$F$39,'Automower®'!$X$28:$X$39)","v":0},20240501,2418,{"$f":"_xlfn.XLOOKUP(B12,'Automower®'!$F$28:$F$39,'Automower®'!$Y$28:$Y$39)","v":0},20240603,2423,{"$f":"_xlfn.XLOOKUP(B12,'Automower®'!$F$28:$F$39,'Automower®'!$Z$28:$Z$39)","v":0},{"$f":"_xlfn.XLOOKUP(B12,'Automower®'!$F$28:$F$39,'Automower®'!$L$28:$L$39)","v":13486.811100000001}]
["Automower 500-series",970468001,20240103,2401,{"$f":"_xlfn.XLOOKUP(B13,'Automower®'!$F$28:$F$39,'Automower®'!$U$28:$U$39)","v":0},20240201,2405,{"$f":"_xlfn.XLOOKUP(B13,'Automower®'!$F$28:$F$39,'Automower®'!$V$28:$V$39)","v":0},20240301,2409,{"$f":"_xlfn.XLOOKUP(B13,'Automower®'!$F$28:$F$39,'Automower®'!$W$28:$W$39)","v":0},20240402,2414,{"$f":"_xlfn.XLOOKUP(B13,'Automower®'!$F$28:$F$39,'Automower®'!$X$28:$X$39)","v":0},20240501,2418,{"$f":"_xlfn.XLOOKUP(B13,'Automower®'!$F$28:$F$39,'Automower®'!$Y$28:$Y$39)","v":0},20240603,2423,{"$f":"_xlfn.XLOOKUP(B13,'Automower®'!$F$28:$F$39,'Automower®'!$Z$28:$Z$39)","v":0},{"$f":"_xlfn.XLOOKUP(B13,'Automower®'!$F$28:$F$39,'Automower®'!$L$28:$L$39)","v":5740.1388999999999}]
["Automower Accessory",967972301,20240103,2401,{"$f":"_xlfn.XLOOKUP(B14,'Automower Accessories'!$F$13:$F$50,'Automower Accessories'!$N$13:$N$50)","v":1},20240201,2405,{"$f":"_xlfn.XLOOKUP(B14,'Automower Accessories'!$F$13:$F$50,'Automower Accessories'!$O$13:$O$50)","v":2},20240301,2409,{"$f":"_xlfn.XLOOKUP(B14,'Automower Accessories'!$F$13:$F$50,'Automower Accessories'!$P$13:$P$50)","v":1},20240402,2414,{"$f":"_xlfn.XLOOKUP(B14,'Automower Accessories'!$F$13:$F$50,'Automower Accessories'!$Q$13:$Q$50)","v":0},20240501,2418,{"$f":"_xlfn.XLOOKUP(B14,'Automower Accessories'!$F$13:$F$50,'Automower Accessories'!$R$13:$R$50)","v":0},20240603,2423,{"$f":"_xlfn.XLOOKUP(B14,'Automower Accessories'!$F$13:$F$50,'Automower Accessories'!$S$13:$S$50)","v":0},{"$f":"_xlfn.XLOOKUP(B14,'Automower Accessories'!$F$13:$F$50,'Automower Accessories'!$L$13:$L$50)","v":89.22499999999998}]
["Automower Accessory",967972201,20240103,2401,{"$f":"_xlfn.XLOOKUP(B15,'Automower Accessories'!$F$13:$F$50,'Automower Accessories'!$N$13:$N$50)","v":1},20240201,2405,{"$f":"_xlfn.XLOOKUP(B15,'Automower Accessories'!$F$13:$F$50,'Automower Accessories'!$O$13:$O$50)","v":2},20240301,2409,{"$f":"_xlfn.XLOOKUP(B15,'Automower Accessories'!$F$13:$F$50,'Automower Accessories'!$P$13:$P$50)","v":0},20240402,2414,{"$f":"_xlfn.XLOOKUP(B15,'Automower Accessories'!$F$13:$F$50,'Automower Accessories'!$Q$13:$Q$50)","v":0},20240501,2418,{"$f":"_xlfn.XLOOKUP(B15,'Automower Accessories'!$F$13:$F$50,'Automower Accessories'!$R$13:$R$50)","v":0},20240603,2423,{"$f":"_xlfn.XLOOKUP(B15,'Automower Accessories'!$F$13:$F$50,'Automower Accessories'!$S$13:$S$50)","v":0},{"$f":"_xlfn.XLOOKUP(B15,'Automower Accessories'!$F$13:$F$50,'Automower Accessories'!$L$13:$L$50)","v":57.33189999999999}]
["Automower Accessory",967972101,20240103,2401,{"$f":"_xlfn.XLOOKUP(B16,'Automower Accessories'!$F$13:$F$50,'Automower Accessories'!$N$13:$N$50)","v":1},20240201,2405,{"$f":"_xlfn.XLOOKUP(B16,'Automower Accessories'!$F$13:$F$50,'Automower Accessories'!$O$13:$O$50)","v":4},20240301,2409,{"$f":"_xlfn.XLOOKUP(B16,'Automower Accessories'!$F$13:$F$50,'Automower Accessories'!$P$13:$P$50)","v":2},20240402,2414,{"$f":"_xlfn.XLOOKUP(B16,'Automower Accessories'!$F$13:$F$50,'Automower Accessories'!$Q$13:$Q$50)","v":0},20240501,2418,{"$f":"_xlfn.XLOOKUP(B16,'Automower Accessories'!$F$13:$F$50,'Automower Accessories'!$R$13:$R$50)","v":0},20240603,2423,{"$f":"_xlfn.XLOOKUP(B16,'Automower Accessories'!$F$13:$F$50,'Automower Accessories'!$S$13:$S$50)","v":0},{"$f":"_xlfn.XLOOKUP(B16,'Automower Accessories'!$F$13:$F$50,'Automower Accessories'!$L$13:$L$50)","v":35.831899999999997}]
["Automower Accessory",597635301,20240103,2401,{"$f":"_xlfn.XLOOKUP(B17,'Automower Accessories'!$F$13:$F$50,'Automower Accessories'!$N$13:$N$50)","v":0},20240201,2405,{"$f":"_xlfn.XLOOKUP(B17,'Automower Accessories'!$F$13:$F$50,'Automower Accessories'!$O$13:$O$50)","v":0},20240301,2409,{"$f":"_xlfn.XLOOKUP(B17,'Automower Accessories'!$F$13:$F$50,'Automower Accessories'!$P$13:$P$50)","v":0},20240402,2414,{"$f":"_xlfn.XLOOKUP(B17,'Automower Accessories'!$F$13:$F$50,'Automower Accessories'!$Q$13:$Q$50)","v":0},20240501,2418,{"$f":"_xlfn.XLOOKUP(B17,'Automower Accessories'!$F$13:$F$50,'Automower Accessories'!$R$13:$R$50)","v":0},20240603,2423,{"$f":"_xlfn.XLOOKUP(B17,'Automower Accessories'!$F$13:$F$50,'Automower Accessories'!$S$13:$S$50)","v":0},{"$f":"_xlfn.XLOOKUP(B17,'Automower Accessories'!$F$13:$F$50,'Automower Accessories'!$L$13:$L$50)","v":78.474999999999994}]
["Automower Accessory",587236101,20240103,2401,{"$f":"_xlfn.XLOOKUP(B18,'Automower Accessories'!$F$13:$F$50,'Automower Accessories'!$N$13:$N$50)","v":0},20240201,2405,{"$f":"_xlfn.XLOOKUP(B18,'Automower Accessories'!$F$13:$F$50,'Automower Accessories'!$O$13:$O$50)","v":0},20240301,2409,{"$f":"_xlfn.XLOOKUP(B18,'Automower Accessories'!$F$13:$F$50,'Automower Accessories'!$P$13:$P$50)","v":0},20240402,2414,{"$f":"_xlfn.XLOOKUP(B18,'Automower Accessories'!$F$13:$F$50,'Automower Accessories'!$Q$13:$Q$50)","v":0},20240501,2418,{"$f":"_xlfn.XLOOKUP(B18,'Automower Accessories'!$F$13:$F$50,'Automower Accessories'!$R$13:$R$50)","v":0},20240603,2423,{"$f":"_xlfn.XLOOKUP(B18,'Automower Accessories'!$F$13:$F$50,'Automower Accessories'!$S$13:$S$50)","v":0},{"$f":"_xlfn.XLOOKUP(B18,'Automower Accessories'!$F$13:$F$50,'Automower Accessories'!$L$13:$L$50)","v":71.663799999999995}]
["Automower Accessory",585019401,20240103,2401,{"$f":"_xlfn.XLOOKUP(B19,'Automower Accessories'!$F$13:$F$50,'Automower Accessories'!$N$13:$N$50)","v":0},20240201,2405,{"$f":"_xlfn.XLOOKUP(B19,'Automower Accessories'!$F$13:$F$50,'Automower Accessories'!$O$13:$O$50)","v":0},20240301,2409,{"$f":"_xlfn.XLOOKUP(B19,'Automower Accessories'!$F$13:$F$50,'Automower Accessories'!$P$13:$P$50)","v":0},20240402,2414,{"$f":"_xlfn.XLOOKUP(B19,'Automower Accessories'!$F$13:$F$50,'Automower Accessories'!$Q$13:$Q$50)","v":0},20240501,2418,{"$f":"_xlfn.XLOOKUP(B19,'Automower Accessories'!$F$13:$F$50,'Automower Accessories'!$R$13:$R$50)","v":0},20240603,2423,{"$f":"_xlfn.XLOOKUP(B19,'Automower Accessories'!$F$13:$F$50,'Automower Accessories'!$S$13:$S$50)","v":0},{"$f":"_xlfn.XLOOKUP(B19,'Automower Accessories'!$F$13:$F$50,'Automower Accessories'!$L$13:$L$50)","v":71.663799999999995}]
["Automower Accessory",536664101,20240103,2401,{"$f":"_xlfn.XLOOKUP(B20,'Automower Accessories'!$F$13:$F$50,'Automower Accessories'!$N$13:$N$50)","v":0},20240201,2405,{"$f":"_xlfn.XLOOKUP(B20,'Automower Accessories'!$F$13:$F$50,'Automower Accessories'!$O$13:$O$50)","v":0},20240301,2409,{"$f":"_xlfn.XLOOKUP(B20,'Automower Accessories'!$F$13:$F$50,'Automower Accessories'!$P$13:$P$50)","v":0},20240402,2414,{"$f":"_xlfn.XLOOKUP(B20,'Automower Accessories'!$F$13:$F$50,'Automower Accessories'!$Q$13:$Q$50)","v":0},20240501,2418,{"$f":"_xlfn.XLOOKUP(B20,'Automower Accessories'!$F$13:$F$50,'Automower Accessories'!$R$13:$R$50)","v":0},20240603,2423,{"$f":"_xlfn.XLOOKUP(B20,'Automower Accessories'!$F$13:$F$50,'Automower Accessories'!$S$13:$S$50)","v":0},{"$f":"_xlfn.XLOOKUP(B20,'Automower Accessories'!$F$13:$F$50,'Automower Accessories'!$L$13:$L$50)","v":71.663799999999995}]
["Battery - Batteries & Chargers",598828801,20240103,2401,{"$f":"_xlfn.XLOOKUP(B21,'Batteries & Chargers'!$F$13:$F$42,'Batteries & Chargers'!N13:N42)","v":0},20240201,2405,{"$f":"_xlfn.XLOOKUP(B21,'Batteries & Chargers'!$F$13:$F$42,'Batteries & Chargers'!$O$13:$O$42)","v":0},20240301,2409,{"$f":"_xlfn.XLOOKUP(B21,'Batteries & Chargers'!$F$13:$F$42,'Batteries & Chargers'!$P$13:$P$42)","v":0},20240402,2414,{"$f":"_xlfn.XLOOKUP(B21,'Batteries & Chargers'!$F$13:$F$42,'Batteries & Chargers'!Q13:Q42)","v":0},20240501,2418,{"$f":"_xlfn.XLOOKUP(B21,'Batteries & Chargers'!$F$13:$F$42,'Batteries & Chargers'!$R$13:$R$42)","v":0},20240603,2423,{"$f":"_xlfn.XLOOKUP(B21,'Batteries & Chargers'!$F$13:$F$42,'Batteries & Chargers'!$S$13:$S$42)","v":0},{"$f":"_xlfn.XLOOKUP(B21,'Batteries & Chargers'!$F$13:$F$42,'Batteries & Chargers'!$L$13:$L$42)","v":52.492999999999995}]
["Battery - Batteries & Chargers",582909001,20240103,2401,{"$f":"_xlfn.XLOOKUP(B22,'Batteries & Chargers'!$F$13:$F$42,'Batteries & Chargers'!$N$13:$N$42)","v":0},20240201,2405,{"$f":"_xlfn.XLOOKUP(B22,'Batteries & Chargers'!$F$13:$F$42,'Batteries & Chargers'!$O$13:$O$42)","v":0},20240301,2409,{"$f":"_xlfn.XLOOKUP(B22,'Batteries & Chargers'!$F$13:$F$42,'Batteries & Chargers'!$P$13:$P$42)","v":0},20240402,2414,{"$f":"_xlfn.XLOOKUP(B22,'Batteries & Chargers'!$F$13:$F$42,'Batteries & Chargers'!$Q$13:$Q$42)","v":0},20240501,2418,{"$f":"_xlfn.XLOOKUP(B22,'Batteries & Chargers'!$F$13:$F$42,'Batteries & Chargers'!$R$13:$R$42)","v":0},20240603,2423,{"$f":"_xlfn.XLOOKUP(B22,'Batteries & Chargers'!$F$13:$F$42,'Batteries & Chargers'!$S$13:$S$42)","v":0},{"$f":"_xlfn.XLOOKUP(B22,'Batteries & Chargers'!$F$13:$F$42,'Batteries & Chargers'!$L$13:$L$42)","v":64.161999999999992}]
["Battery - Batteries & Chargers",590776703,20240103,2401,{"$f":"_xlfn.XLOOKUP(B23,'Batteries & Chargers'!$F$13:$F$42,'Batteries & Chargers'!$N$13:$N$42)","v":0},20240201,2405,{"$f":"_xlfn.XLOOKUP(B23,'Batteries & Chargers'!$F$13:$F$42,'Batteries & Chargers'!$O$13:$O$42)","v":0},20240301,2409,{"$f":"_xlfn.XLOOKUP(B23,'Batteries & Chargers'!$F$13:$F$42,'Batteries & Chargers'!$P$13:$P$42)","v":0},20240402,2414,{"$f":"_xlfn.XLOOKUP(B23,'Batteries & Chargers'!$F$13:$F$42,'Batteries & Chargers'!$Q$13:$Q$42)","v":0},20240501,2418,{"$f":"_xlfn.XLOOKUP(B23,'Batteries & Chargers'!$F$13:$F$42,'Batteries & Chargers'!$R$13:$R$42)","v":0},20240603,2423,{"$f":"_xlfn.XLOOKUP(B23,'Batteries & Chargers'!$F$13:$F$42,'Batteries & Chargers'!$S$13:$S$42)","v":0},{"$f":"_xlfn.XLOOKUP(B23,'Batteries & Chargers'!$F$13:$F$42,'Batteries & Chargers'!$L$13:$L$42)","v":104.99299999999999}]
["Battery - Batteries & Chargers",596252901,20240103,2401,{"$f":"_xlfn.XLOOKUP(B24,'Batteries & Chargers'!$F$13:$F$42,'Batteries & Chargers'!$N$13:$N$42)","v":0},20240201,2405,{"$f":"_xlfn.XLOOKUP(B24,'Batteries & Chargers'!$F$13:$F$42,'Batteries & Chargers'!$O$13:$O$42)","v":0},20240301,2409,{"$f":"_xlfn.XLOOKUP(B24,'Batteries & Chargers'!$F$13:$F$42,'Batteries & Chargers'!$P$13:$P$42)","v":0},20240402,2414,{"$f":"_xlfn.XLOOKUP(B24,'Batteries & Chargers'!$F$13:$F$42,'Batteries & Chargers'!$Q$13:$Q$42)","v":0},20240501,2418,{"$f":"_xlfn.XLOOKUP(B24,'Batteries & Chargers'!$F$13:$F$42,'Batteries & Chargers'!$R$13:$R$42)","v":0},20240603,2423,{"$f":"_xlfn.XLOOKUP(B24,'Batteries & Chargers'!$F$13:$F$42,'Batteries & Chargers'!$S$13:$S$42)","v":0},{"$f":"_xlfn.XLOOKUP(B24,'Batteries & Chargers'!$F$13:$F$42,'Batteries & Chargers'!$L$13:$L$42)","v":8.161999999999999}]
["Battery - Batteries & Chargers",582780501,20240103,2401,{"$f":"_xlfn.XLOOKUP(B25,'Batteries & Chargers'!$F$13:$F$42,'Batteries & Chargers'!$N$13:$N$42)","v":0},20240201,2405,{"$f":"_xlfn.XLOOKUP(B25,'Batteries & Chargers'!$F$13:$F$42,'Batteries & Chargers'!$O$13:$O$42)","v":0},20240301,2409,{"$f":"_xlfn.XLOOKUP(B25,'Batteries & Chargers'!$F$13:$F$42,'Batteries & Chargers'!$P$13:$P$42)","v":0},20240402,2414,{"$f":"_xlfn.XLOOKUP(B25,'Batteries & Chargers'!$F$13:$F$42,'Batteries & Chargers'!$Q$13:$Q$42)","v":0},20240501,2418,{"$f":"_xlfn.XLOOKUP(B25,'Batteries & Chargers'!$F$13:$F$42,'Batteries & Chargers'!$R$13:$R$42)","v":0},20240603,2423,{"$f":"_xlfn.XLOOKUP(B25,'Batteries & Chargers'!$F$13:$F$42,'Batteries & Chargers'!$S$13:$S$42)","v":0},{"$f":"_xlfn.XLOOKUP(B25,'Batteries & Chargers'!$F$13:$F$42,'Batteries & Chargers'!$L$13:$L$42)","v":116.66199999999999}]
["Battery - Batteries & Chargers",590776702,20240103,2401,{"$f":"_xlfn.XLOOKUP(B26,'Batteries & Chargers'!$F$13:$F$42,'Batteries & Chargers'!$N$13:$N$42)","v":0},20240201,2405,{"$f":"_xlfn.XLOOKUP(B26,'Batteries & Chargers'!$F$13:$F$42,'Batteries & Chargers'!$O$13:$O$42)","v":0},20240301,2409,{"$f":"_xlfn.XLOOKUP(B26,'Batteries & Chargers'!$F$13:$F$42,'Batteries & Chargers'!$P$13:$P$42)","v":0},20240402,2414,{"$f":"_xlfn.XLOOKUP(B26,'Batteries & Chargers'!$F$13:$F$42,'Batteries & Chargers'!$Q$13:$Q$42)","v":0},20240501,2418,{"$f":"_xlfn.XLOOKUP(B26,'Batteries & Chargers'!$F$13:$F$42,'Batteries & Chargers'!$R$13:$R$42)","v":0},20240603,2423,{"$f":"_xlfn.XLOOKUP(B26,'Batteries & Chargers'!$F$13:$F$42,'Batteries & Chargers'!$S$13:$S$42)","v":0},{"$f":"_xlfn.XLOOKUP(B26,'Batteries & Chargers'!$F$13:$F$42,'Batteries & Chargers'!$L$13:$L$42)","v":104.99299999999999}]
["Battery - Batteries & Chargers",967071901,20240103,2401,{"$f":"_xlfn.XLOOKUP(B27,'Batteries & Chargers'!$F$13:$F$42,'Batteries & Chargers'!$N$13:$N$42)","v":0},20240201,2405,{"$f":"_xlfn.XLOOKUP(B27,'Batteries & Chargers'!$F$13:$F$42,'Batteries & Chargers'!$O$13:$O$42)","v":0},20240301,2409,{"$f":"_xlfn.XLOOKUP(B27,'Batteries & Chargers'!$F$13:$F$42,'Batteries & Chargers'!$P$13:$P$42)","v":0},20240402,2414,{"$f":"_xlfn.XLOOKUP(B27,'Batteries & Chargers'!$F$13:$F$42,'Batteries & Chargers'!$Q$13:$Q$42)","v":0},20240501,2418,{"$f":"_xlfn.XLOOKUP(B27,'Batteries & Chargers'!$F$13:$F$42,'Batteries & Chargers'!$R$13:$R$42)","v":0},20240603,2423,{"$f":"_xlfn.XLOOKUP(B27,'Batteries & Chargers'!$F$13:$F$42,'Batteries & Chargers'!$S$13:$S$42)","v":0},{"$f":"_xlfn.XLOOKUP(B27,'Batteries & Chargers'!$F$13:$F$42,'Batteries & Chargers'!$L$13:$L$42)","v":232.75}]
["Battery - Batteries & Chargers",967091901,20240103,2401,{"$f":"_xlfn.XLOOKUP(B28,'Batteries & Chargers'!$F$13:$F$42,'Batteries & Chargers'!$N$13:$N$42)","v":0},20240201,2405,{"$f":"_xlfn.XLOOKUP(B28,'Batteries & Chargers'!$F$13:$F$42,'Batteries & Chargers'!$O$13:$O$42)","v":0},20240301,2409,{"$f":"_xlfn.XLOOKUP(B28,'Batteries & Chargers'!$F$13:$F$42,'Batteries & Chargers'!$P$13:$P$42)","v":0},20240402,2414,{"$f":"_xlfn.XLOOKUP(B28,'Batteries & Chargers'!$F$13:$F$42,'Batteries & Chargers'!$Q$13:$Q$42)","v":0},20240501,2418,{"$f":"_xlfn.XLOOKUP(B28,'Batteries & Chargers'!$F$13:$F$42,'Batteries & Chargers'!$R$13:$R$42)","v":0},20240603,2423,{"$f":"_xlfn.XLOOKUP(B28,'Batteries & Chargers'!$F$13:$F$42,'Batteries & Chargers'!$S$13:$S$42)","v":0},{"$f":"_xlfn.XLOOKUP(B28,'Batteries & Chargers'!$F$13:$F$42,'Batteries & Chargers'!$L$13:$L$42)","v":139.41899999999998}]
["Battery - Batteries & Chargers",970448901,20240103,2401,{"$f":"_xlfn.XLOOKUP(B29,'Batteries & Chargers'!$F$13:$F$42,'Batteries & Chargers'!$N$13:$N$42)","v":10},20240201,2405,{"$f":"_xlfn.XLOOKUP(B29,'Batteries & Chargers'!$F$13:$F$42,'Batteries & Chargers'!$O$13:$O$42)","v":0},20240301,2409,{"$f":"_xlfn.XLOOKUP(B29,'Batteries & Chargers'!$F$13:$F$42,'Batteries & Chargers'!$P$13:$P$42)","v":10},20240402,2414,{"$f":"_xlfn.XLOOKUP(B29,'Batteries & Chargers'!$F$13:$F$42,'Batteries & Chargers'!$Q$13:$Q$42)","v":0},20240501,2418,{"$f":"_xlfn.XLOOKUP(B29,'Batteries & Chargers'!$F$13:$F$42,'Batteries & Chargers'!$R$13:$R$42)","v":0},20240603,2423,{"$f":"_xlfn.XLOOKUP(B29,'Batteries & Chargers'!$F$13:$F$42,'Batteries & Chargers'!$S$13:$S$42)","v":0},{"$f":"_xlfn.XLOOKUP(B29,'Batteries & Chargers'!$F$13:$F$42,'Batteries & Chargers'!$L$13:$L$42)","v":151.08100000000002}]
["Battery - Batteries & Chargers",590777201,20240103,2401,{"$f":"_xlfn.XLOOKUP(B30,'Batteries & Chargers'!$F$13:$F$42,'Batteries & Chargers'!$N$13:$N$42)","v":0},20240201,2405,{"$f":"_xlfn.XLOOKUP(B30,'Batteries & Chargers'!$F$13:$F$42,'Batteries & Chargers'!$O$13:$O$42)","v":0},20240301,2409,{"$f":"_xlfn.XLOOKUP(B30,'Batteries & Chargers'!$F$13:$F$42,'Batteries & Chargers'!$P$13:$P$42)","v":0},20240402,2414,{"$f":"_xlfn.XLOOKUP(B30,'Batteries & Chargers'!$F$13:$F$42,'Batteries & Chargers'!$Q$13:$Q$42)","v":0},20240501,2418,{"$f":"_xlfn.XLOOKUP(B30,'Batteries & Chargers'!$F$13:$F$42,'Batteries & Chargers'!$R$13:$R$42)","v":0},20240603,2423,{"$f":"_xlfn.XLOOKUP(B30,'Batteries & Chargers'!$F$13:$F$42,'Batteries & Chargers'!$S$13:$S$42)","v":0},{"$f":"_xlfn.XLOOKUP(B30,'Batteries & Chargers'!$F$13:$F$42,'Batteries & Chargers'!$L$13:$L$42)","v":13.992999999999999}]
["Battery - Batteries & Chargers",587834001,20240103,2401,{"$f":"_xlfn.XLOOKUP(B31,'Batteries & Chargers'!$F$13:$F$42,'Batteries & Chargers'!$N$13:$N$42)","v":0},20240201,2405,{"$f":"_xlfn.XLOOKUP(B31,'Batteries & Chargers'!$F$13:$F$42,'Batteries & Chargers'!$O$13:$O$42)","v":0},20240301,2409,{"$f":"_xlfn.XLOOKUP(B31,'Batteries & Chargers'!$F$13:$F$42,'Batteries & Chargers'!$P$13:$P$42)","v":0},20240402,2414,{"$f":"_xlfn.XLOOKUP(B31,'Batteries & Chargers'!$F$13:$F$42,'Batteries & Chargers'!$Q$13:$Q$42)","v":0},20240501,2418,{"$f":"_xlfn.XLOOKUP(B31,'Batteries & Chargers'!$F$13:$F$42,'Batteries & Chargers'!$R$13:$R$42)","v":0},20240603,2423,{"$f":"_xlfn.XLOOKUP(B31,'Batteries & Chargers'!$F$13:$F$42,'Batteries & Chargers'!$S$13:$S$42)","v":0},{"$f":"_xlfn.XLOOKUP(B31,'Batteries & Chargers'!$F$13:$F$42,'Batteries & Chargers'!$L$13:$L$42)","v":15.161999999999999}]
["Battery - Batteries & Chargers",579822201,20240103,2401,{"$f":"_xlfn.XLOOKUP(B32,'Batteries & Chargers'!$F$13:$F$42,'Batteries & Chargers'!$N$13:$N$42)","v":0},20240201,2405,{"$f":"_xlfn.XLOOKUP(B32,'Batteries & Chargers'!$F$13:$F$42,'Batteries & Chargers'!$O$13:$O$42)","v":0},20240301,2409,{"$f":"_xlfn.XLOOKUP(B32,'Batteries & Chargers'!$F$13:$F$42,'Batteries & Chargers'!$P$13:$P$42)","v":0},20240402,2414,{"$f":"_xlfn.XLOOKUP(B32,'Batteries & Chargers'!$F$13:$F$42,'Batteries & Chargers'!$Q$13:$Q$42)","v":0},20240501,2418,{"$f":"_xlfn.XLOOKUP(B32,'Batteries & Chargers'!$F$13:$F$42,'Batteries & Chargers'!$R$13:$R$42)","v":0},20240603,2423,{"$f":"_xlfn.XLOOKUP(B32,'Batteries & Chargers'!$F$13:$F$42,'Batteries & Chargers'!$S$13:$S$42)","v":0},{"$f":"_xlfn.XLOOKUP(B32,'Batteries & Chargers'!$F$13:$F$42,'Batteries & Chargers'!$L$13:$L$42)","v":757.75}]
["Battery - Batteries & Chargers",967093201,20240103,2401,{"$f":"_xlfn.XLOOKUP(B33,'Batteries & Chargers'!$F$13:$F$42,'Batteries & Chargers'!$N$13:$N$42)","v":0},20240201,2405,{"$f":"_xlfn.XLOOKUP(B33,'Batteries & Chargers'!$F$13:$F$42,'Batteries & Chargers'!$O$13:$O$42)","v":0},20240301,2409,{"$f":"_xlfn.XLOOKUP(B33,'Batteries & Chargers'!$F$13:$F$42,'Batteries & Chargers'!$P$13:$P$42)","v":0},20240402,2414,{"$f":"_xlfn.XLOOKUP(B33,'Batteries & Chargers'!$F$13:$F$42,'Batteries & Chargers'!$Q$13:$Q$42)","v":0},20240501,2418,{"$f":"_xlfn.XLOOKUP(B33,'Batteries & Chargers'!$F$13:$F$42,'Batteries & Chargers'!$R$13:$R$42)","v":0},20240603,2423,{"$f":"_xlfn.XLOOKUP(B33,'Batteries & Chargers'!$F$13:$F$42,'Batteries & Chargers'!$S$13:$S$42)","v":0},{"$f":"_xlfn.XLOOKUP(B33,'Batteries & Chargers'!$F$13:$F$42,'Batteries & Chargers'!$L$13:$L$42)","v":816.0809999999999}]
["Battery - Batteries & Chargers",970601002,20240103,2401,{"$f":"_xlfn.XLOOKUP(B34,'Batteries & Chargers'!$F$13:$F$42,'Batteries & Chargers'!$N$13:$N$42)","v":0},20240201,2405,{"$f":"_xlfn.XLOOKUP(B34,'Batteries & Chargers'!$F$13:$F$42,'Batteries & Chargers'!$O$13:$O$42)","v":0},20240301,2409,{"$f":"_xlfn.XLOOKUP(B34,'Batteries & Chargers'!$F$13:$F$42,'Batteries & Chargers'!$P$13:$P$42)","v":0},20240402,2414,{"$f":"_xlfn.XLOOKUP(B34,'Batteries & Chargers'!$F$13:$F$42,'Batteries & Chargers'!$Q$13:$Q$42)","v":0},20240501,2418,{"$f":"_xlfn.XLOOKUP(B34,'Batteries & Chargers'!$F$13:$F$42,'Batteries & Chargers'!$R$13:$R$42)","v":0},20240603,2423,{"$f":"_xlfn.XLOOKUP(B34,'Batteries & Chargers'!$F$13:$F$42,'Batteries & Chargers'!$S$13:$S$42)","v":0},{"$f":"_xlfn.XLOOKUP(B34,'Batteries & Chargers'!$F$13:$F$42,'Batteries & Chargers'!$L$13:$L$42)","v":29.161999999999995}]
["Battery - Batteries & Chargers",970487802,20240103,2401,{"$f":"_xlfn.XLOOKUP(B35,'Batteries & Chargers'!$F$13:$F$42,'Batteries & Chargers'!$N$13:$N$42)","v":0},20240201,2405,{"$f":"_xlfn.XLOOKUP(B35,'Batteries & Chargers'!$F$13:$F$42,'Batteries & Chargers'!$O$13:$O$42)","v":0},20240301,2409,{"$f":"_xlfn.XLOOKUP(B35,'Batteries & Chargers'!$F$13:$F$42,'Batteries & Chargers'!$P$13:$P$42)","v":0},20240402,2414,{"$f":"_xlfn.XLOOKUP(B35,'Batteries & Chargers'!$F$13:$F$42,'Batteries & Chargers'!$Q$13:$Q$42)","v":0},20240501,2418,{"$f":"_xlfn.XLOOKUP(B35,'Batteries & Chargers'!$F$13:$F$42,'Batteries & Chargers'!$R$13:$R$42)","v":0},20240603,2423,{"$f":"_xlfn.XLOOKUP(B35,'Batteries & Chargers'!$F$13:$F$42,'Batteries & Chargers'!$S$13:$S$42)","v":0},{"$f":"_xlfn.XLOOKUP(B35,'Batteries & Chargers'!$F$13:$F$42,'Batteries & Chargers'!$L$13:$L$42)","v":32.080999999999996}]
["Battery - Batteries & Chargers",970522202,20240103,2401,{"$f":"_xlfn.XLOOKUP(B36,'Batteries & Chargers'!$F$13:$F$42,'Batteries & Chargers'!$N$13:$N$42)","v":10},20240201,2405,{"$f":"_xlfn.XLOOKUP(B36,'Batteries & Chargers'!$F$13:$F$42,'Batteries & Chargers'!$O$13:$O$42)","v":6},20240301,2409,{"$f":"_xlfn.XLOOKUP(B36,'Batteries & Chargers'!$F$13:$F$42,'Batteries & Chargers'!$P$13:$P$42)","v":6},20240402,2414,{"$f":"_xlfn.XLOOKUP(B36,'Batteries & Chargers'!$F$13:$F$42,'Batteries & Chargers'!$Q$13:$Q$42)","v":6},20240501,2418,{"$f":"_xlfn.XLOOKUP(B36,'Batteries & Chargers'!$F$13:$F$42,'Batteries & Chargers'!$R$13:$R$42)","v":6},20240603,2423,{"$f":"_xlfn.XLOOKUP(B36,'Batteries & Chargers'!$F$13:$F$42,'Batteries & Chargers'!$S$13:$S$42)","v":6},{"$f":"_xlfn.XLOOKUP(B36,'Batteries & Chargers'!$F$13:$F$42,'Batteries & Chargers'!$L$13:$L$42)","v":75.830999999999989}]
["Battery - Batteries & Chargers",967970102,20240103,2401,{"$f":"_xlfn.XLOOKUP(B37,'Batteries & Chargers'!$F$13:$F$42,'Batteries & Chargers'!$N$13:$N$42)","v":0},20240201,2405,{"$f":"_xlfn.XLOOKUP(B37,'Batteries & Chargers'!$F$13:$F$42,'Batteries & Chargers'!$O$13:$O$42)","v":0},20240301,2409,{"$f":"_xlfn.XLOOKUP(B37,'Batteries & Chargers'!$F$13:$F$42,'Batteries & Chargers'!$P$13:$P$42)","v":0},20240402,2414,{"$f":"_xlfn.XLOOKUP(B37,'Batteries & Chargers'!$F$13:$F$42,'Batteries & Chargers'!$Q$13:$Q$42)","v":0},20240501,2418,{"$f":"_xlfn.XLOOKUP(B37,'Batteries & Chargers'!$F$13:$F$42,'Batteries & Chargers'!$R$13:$R$42)","v":0},20240603,2423,{"$f":"_xlfn.XLOOKUP(B37,'Batteries & Chargers'!$F$13:$F$42,'Batteries & Chargers'!$S$13:$S$42)","v":0},{"$f":"_xlfn.XLOOKUP(B37,'Batteries & Chargers'!$F$13:$F$42,'Batteries & Chargers'!$L$13:$L$42)","v":52.492999999999995}]
["Battery - Batteries & Chargers",970449502,20240103,2401,{"$f":"_xlfn.XLOOKUP(B38,'Batteries & Chargers'!$F$13:$F$42,'Batteries & Chargers'!$N$13:$N$42)","v":3},20240201,2405,{"$f":"_xlfn.XLOOKUP(B38,'Batteries & Chargers'!$F$13:$F$42,'Batteries & Chargers'!$O$13:$O$42)","v":2},20240301,2409,{"$f":"_xlfn.XLOOKUP(B38,'Batteries & Chargers'!$F$13:$F$42,'Batteries & Chargers'!$P$13:$P$42)","v":2},20240402,2414,{"$f":"_xlfn.XLOOKUP(B38,'Batteries & Chargers'!$F$13:$F$42,'Batteries & Chargers'!$Q$13:$Q$42)","v":2},20240501,2418,{"$f":"_xlfn.XLOOKUP(B38,'Batteries & Chargers'!$F$13:$F$42,'Batteries & Chargers'!$R$13:$R$42)","v":2},20240603,2423,{"$f":"_xlfn.XLOOKUP(B38,'Batteries & Chargers'!$F$13:$F$42,'Batteries & Chargers'!$S$13:$S$42)","v":2},{"$f":"_xlfn.XLOOKUP(B38,'Batteries & Chargers'!$F$13:$F$42,'Batteries & Chargers'!$L$13:$L$42)","v":99.161999999999992}]
["Battery - Batteries & Chargers",967628301,20240103,2401,{"$f":"_xlfn.XLOOKUP(B39,'Batteries & Chargers'!$F$13:$F$42,'Batteries & Chargers'!$N$13:$N$42)","v":0},20240201,2405,{"$f":"_xlfn.XLOOKUP(B39,'Batteries & Chargers'!$F$13:$F$42,'Batteries & Chargers'!$O$13:$O$42)","v":0},20240301,2409,{"$f":"_xlfn.XLOOKUP(B39,'Batteries & Chargers'!$F$13:$F$42,'Batteries & Chargers'!$P$13:$P$42)","v":0},20240402,2414,{"$f":"_xlfn.XLOOKUP(B39,'Batteries & Chargers'!$F$13:$F$42,'Batteries & Chargers'!$Q$13:$Q$42)","v":0},20240501,2418,{"$f":"_xlfn.XLOOKUP(B39,'Batteries & Chargers'!$F$13:$F$42,'Batteries & Chargers'!$R$13:$R$42)","v":0},20240603,2423,{"$f":"_xlfn.XLOOKUP(B39,'Batteries & Chargers'!$F$13:$F$42,'Batteries & Chargers'!$S$13:$S$42)","v":0},{"$f":"_xlfn.XLOOKUP(B39,'Batteries & Chargers'!$F$13:$F$42,'Batteries & Chargers'!$L$13:$L$42)","v":52.492999999999995},null,null,null,null,null,null,967976102]
["Battery - Batteries & Chargers",967628502,20240103,2401,{"$f":"_xlfn.XLOOKUP(B40,'Batteries & Chargers'!$F$13:$F$42,'Batteries & Chargers'!$N$13:$N$42)","v":0},20240201,2405,{"$f":"_xlfn.XLOOKUP(B40,'Batteries & Chargers'!$F$13:$F$42,'Batteries & Chargers'!$O$13:$O$42)","v":0},20240301,2409,{"$f":"_xlfn.XLOOKUP(B40,'Batteries & Chargers'!$F$13:$F$42,'Batteries & Chargers'!$P$13:$P$42)","v":0},20240402,2414,{"$f":"_xlfn.XLOOKUP(B40,'Batteries & Chargers'!$F$13:$F$42,'Batteries & Chargers'!$Q$13:$Q$42)","v":0},20240501,2418,{"$f":"_xlfn.XLOOKUP(B40,'Batteries & Chargers'!$F$13:$F$42,'Batteries & Chargers'!$R$13:$R$42)","v":0},20240603,2423,{"$f":"_xlfn.XLOOKUP(B40,'Batteries & Chargers'!$F$13:$F$42,'Batteries & Chargers'!$S$13:$S$42)","v":0},{"$f":"_xlfn.XLOOKUP(B40,'Batteries & Chargers'!$F$13:$F$42,'Batteries & Chargers'!$L$13:$L$42)","v":133.58100000000002},null,null,null,null,null,null,967976103]
["Battery - Batteries & Chargers",970607701,20240103,2401,{"$f":"_xlfn.XLOOKUP(B41,'Batteries & Chargers'!$F$13:$F$42,'Batteries & Chargers'!$N$13:$N$42)","v":0},20240201,2405,{"$f":"_xlfn.XLOOKUP(B41,'Batteries & Chargers'!$F$13:$F$42,'Batteries & Chargers'!$O$13:$O$42)","v":0},20240301,2409,{"$f":"_xlfn.XLOOKUP(B41,'Batteries & Chargers'!$F$13:$F$42,'Batteries & Chargers'!$P$13:$P$42)","v":0},20240402,2414,{"$f":"_xlfn.XLOOKUP(B41,'Batteries & Chargers'!$F$13:$F$42,'Batteries & Chargers'!$Q$13:$Q$42)","v":2},20240501,2418,{"$f":"_xlfn.XLOOKUP(B41,'Batteries & Chargers'!$F$13:$F$42,'Batteries & Chargers'!$R$13:$R$42)","v":2},20240603,2423,{"$f":"_xlfn.XLOOKUP(B41,'Batteries & Chargers'!$F$13:$F$42,'Batteries & Chargers'!$S$13:$S$42)","v":2},{"$f":"_xlfn.XLOOKUP(B41,'Batteries & Chargers'!$F$13:$F$42,'Batteries & Chargers'!$L$13:$L$42)","v":244.41899999999998},null,null,null,null,null,null,970649802]
["Battery - Batteries & Chargers",970607901,20240103,2401,{"$f":"_xlfn.XLOOKUP(B42,'Batteries & Chargers'!$F$13:$F$42,'Batteries & Chargers'!$N$13:$N$42)","v":0},20240201,2405,{"$f":"_xlfn.XLOOKUP(B42,'Batteries & Chargers'!$F$13:$F$42,'Batteries & Chargers'!$O$13:$O$42)","v":0},20240301,2409,{"$f":"_xlfn.XLOOKUP(B42,'Batteries & Chargers'!$F$13:$F$42,'Batteries & Chargers'!$P$13:$P$42)","v":0},20240402,2414,{"$f":"_xlfn.XLOOKUP(B42,'Batteries & Chargers'!$F$13:$F$42,'Batteries & Chargers'!$Q$13:$Q$42)","v":0},20240501,2418,{"$f":"_xlfn.XLOOKUP(B42,'Batteries & Chargers'!$F$13:$F$42,'Batteries & Chargers'!$R$13:$R$42)","v":0},20240603,2423,{"$f":"_xlfn.XLOOKUP(B42,'Batteries & Chargers'!$F$13:$F$42,'Batteries & Chargers'!$S$13:$S$42)","v":0},{"$f":"_xlfn.XLOOKUP(B42,'Batteries & Chargers'!$F$13:$F$42,'Batteries & Chargers'!$L$13:$L$42)","v":121.91899999999998},null,null,null,null,null,null,970649805]
["Battery - Batteries & Chargers",970607801,20240103,2401,{"$f":"_xlfn.XLOOKUP(B43,'Batteries & Chargers'!$F$13:$F$42,'Batteries & Chargers'!$N$13:$N$42)","v":0},20240201,2405,{"$f":"_xlfn.XLOOKUP(B43,'Batteries & Chargers'!$F$13:$F$42,'Batteries & Chargers'!$O$13:$O$42)","v":0},20240301,2409,{"$f":"_xlfn.XLOOKUP(B43,'Batteries & Chargers'!$F$13:$F$42,'Batteries & Chargers'!$P$13:$P$42)","v":0},20240402,2414,{"$f":"_xlfn.XLOOKUP(B43,'Batteries & Chargers'!$F$13:$F$42,'Batteries & Chargers'!$Q$13:$Q$42)","v":6},20240501,2418,{"$f":"_xlfn.XLOOKUP(B43,'Batteries & Chargers'!$F$13:$F$42,'Batteries & Chargers'!$R$13:$R$42)","v":6},20240603,2423,{"$f":"_xlfn.XLOOKUP(B43,'Batteries & Chargers'!$F$13:$F$42,'Batteries & Chargers'!$S$13:$S$42)","v":6},{"$f":"_xlfn.XLOOKUP(B43,'Batteries & Chargers'!$F$13:$F$42,'Batteries & Chargers'!$L$13:$L$42)","v":180.25},null,null,null,null,null,null,967991001]
["Battery - Batteries & Chargers",970600801,20240103,2401,{"$f":"_xlfn.XLOOKUP(B44,'Batteries & Chargers'!$F$13:$F$42,'Batteries & Chargers'!$N$13:$N$42)","v":0},20240201,2405,{"$f":"_xlfn.XLOOKUP(B44,'Batteries & Chargers'!$F$13:$F$42,'Batteries & Chargers'!$O$13:$O$42)","v":0},20240301,2409,{"$f":"_xlfn.XLOOKUP(B44,'Batteries & Chargers'!$F$13:$F$42,'Batteries & Chargers'!$P$13:$P$42)","v":0},20240402,2414,{"$f":"_xlfn.XLOOKUP(B44,'Batteries & Chargers'!$F$13:$F$42,'Batteries & Chargers'!$Q$13:$Q$42)","v":0},20240501,2418,{"$f":"_xlfn.XLOOKUP(B44,'Batteries & Chargers'!$F$13:$F$42,'Batteries & Chargers'!$R$13:$R$42)","v":0},20240603,2423,{"$f":"_xlfn.XLOOKUP(B44,'Batteries & Chargers'!$F$13:$F$42,'Batteries & Chargers'!$S$13:$S$42)","v":0},{"$f":"_xlfn.XLOOKUP(B44,'Batteries & Chargers'!$F$13:$F$42,'Batteries & Chargers'!$L$13:$L$42)","v":43.742999999999995},null,null,null,null,null,null,967796203]
["Battery - Batteries & Chargers",970600901,20240103,2401,{"$f":"_xlfn.XLOOKUP(B45,'Batteries & Chargers'!$F$13:$F$42,'Batteries & Chargers'!$N$13:$N$42)","v":0},20240201,2405,{"$f":"_xlfn.XLOOKUP(B45,'Batteries & Chargers'!$F$13:$F$42,'Batteries & Chargers'!$O$13:$O$42)","v":0},20240301,2409,{"$f":"_xlfn.XLOOKUP(B45,'Batteries & Chargers'!$F$13:$F$42,'Batteries & Chargers'!$P$13:$P$42)","v":0},20240402,2414,{"$f":"_xlfn.XLOOKUP(B45,'Batteries & Chargers'!$F$13:$F$42,'Batteries & Chargers'!$Q$13:$Q$42)","v":0},20240501,2418,{"$f":"_xlfn.XLOOKUP(B45,'Batteries & Chargers'!$F$13:$F$42,'Batteries & Chargers'!$R$13:$R$42)","v":0},20240603,2423,{"$f":"_xlfn.XLOOKUP(B45,'Batteries & Chargers'!$F$13:$F$42,'Batteries & Chargers'!$S$13:$S$42)","v":0},{"$f":"_xlfn.XLOOKUP(B45,'Batteries & Chargers'!$F$13:$F$42,'Batteries & Chargers'!$L$13:$L$42)","v":58.330999999999996},null,null,null,null,null,null,967915503]
["Battery - Batteries & Chargers",536144302,20240103,2401,{"$f":"_xlfn.XLOOKUP(B46,'Batteries & Chargers'!$F$13:$F$42,'Batteries & Chargers'!$N$13:$N$42)","v":0},20240201,2405,{"$f":"_xlfn.XLOOKUP(B46,'Batteries & Chargers'!$F$13:$F$42,'Batteries & Chargers'!$O$13:$O$42)","v":0},20240301,2409,{"$f":"_xlfn.XLOOKUP(B46,'Batteries & Chargers'!$F$13:$F$42,'Batteries & Chargers'!$P$13:$P$42)","v":0},20240402,2414,{"$f":"_xlfn.XLOOKUP(B46,'Batteries & Chargers'!$F$13:$F$42,'Batteries & Chargers'!$Q$13:$Q$42)","v":0},20240501,2418,{"$f":"_xlfn.XLOOKUP(B46,'Batteries & Chargers'!$F$13:$F$42,'Batteries & Chargers'!$R$13:$R$42)","v":0},20240603,2423,{"$f":"_xlfn.XLOOKUP(B46,'Batteries & Chargers'!$F$13:$F$42,'Batteries & Chargers'!$S$13:$S$42)","v":0},{"$f":"_xlfn.XLOOKUP(B46,'Batteries & Chargers'!$F$13:$F$42,'Batteries & Chargers'!$L$13:$L$42)","v":64.161999999999992},null,null,null,null,null,null,967941406]
["Battery - Batteries & Chargers",970621902,20240103,2401,{"$f":"_xlfn.XLOOKUP(B47,'Batteries & Chargers'!$F$13:$F$42,'Batteries & Chargers'!$N$13:$N$42)","v":0},20240201,2405,{"$f":"_xlfn.XLOOKUP(B47,'Batteries & Chargers'!$F$13:$F$42,'Batteries & Chargers'!$O$13:$O$42)","v":0},20240301,2409,{"$f":"_xlfn.XLOOKUP(B47,'Batteries & Chargers'!$F$13:$F$42,'Batteries & Chargers'!$P$13:$P$42)","v":0},20240402,2414,{"$f":"_xlfn.XLOOKUP(B47,'Batteries & Chargers'!$F$13:$F$42,'Batteries & Chargers'!$Q$13:$Q$42)","v":0},20240501,2418,{"$f":"_xlfn.XLOOKUP(B47,'Batteries & Chargers'!$F$13:$F$42,'Batteries & Chargers'!$R$13:$R$42)","v":0},20240603,2423,{"$f":"_xlfn.XLOOKUP(B47,'Batteries & Chargers'!$F$13:$F$42,'Batteries & Chargers'!$S$13:$S$42)","v":0},{"$f":"_xlfn.XLOOKUP(B47,'Batteries & Chargers'!$F$13:$F$42,'Batteries & Chargers'!$L$13:$L$42)","v":261.91899999999998},null,null,null,null,null,null,970572514]
["Battery - Batteries & Chargers",970457101,20240103,2401,{"$f":"_xlfn.XLOOKUP(B48,'Batteries & Chargers'!$F$13:$F$42,'Batteries & Chargers'!$N$13:$N$42)","v":0},20240201,2405,{"$f":"_xlfn.XLOOKUP(B48,'Batteries & Chargers'!$F$13:$F$42,'Batteries & Chargers'!$O$13:$O$42)","v":0},20240301,2409,{"$f":"_xlfn.XLOOKUP(B48,'Batteries & Chargers'!$F$13:$F$42,'Batteries & Chargers'!$P$13:$P$42)","v":0},20240402,2414,{"$f":"_xlfn.XLOOKUP(B48,'Batteries & Chargers'!$F$13:$F$42,'Batteries & Chargers'!$Q$13:$Q$42)","v":0},20240501,2418,{"$f":"_xlfn.XLOOKUP(B48,'Batteries & Chargers'!$F$13:$F$42,'Batteries & Chargers'!$R$13:$R$42)","v":0},20240603,2423,{"$f":"_xlfn.XLOOKUP(B48,'Batteries & Chargers'!$F$13:$F$42,'Batteries & Chargers'!$S$13:$S$42)","v":0},{"$f":"_xlfn.XLOOKUP(B48,'Batteries & Chargers'!$F$13:$F$42,'Batteries & Chargers'!$L$13:$L$42)","v":58.330999999999996},null,null,null,null,null,null,970572516]
["Battery - Batteries & Chargers",970457201,20240103,2401,{"$f":"_xlfn.XLOOKUP(B49,'Batteries & Chargers'!$F$13:$F$42,'Batteries & Chargers'!$N$13:$N$42)","v":0},20240201,2405,{"$f":"_xlfn.XLOOKUP(B49,'Batteries & Chargers'!$F$13:$F$42,'Batteries & Chargers'!$O$13:$O$42)","v":0},20240301,2409,{"$f":"_xlfn.XLOOKUP(B49,'Batteries & Chargers'!$F$13:$F$42,'Batteries & Chargers'!$P$13:$P$42)","v":0},20240402,2414,{"$f":"_xlfn.XLOOKUP(B49,'Batteries & Chargers'!$F$13:$F$42,'Batteries & Chargers'!$Q$13:$Q$42)","v":0},20240501,2418,{"$f":"_xlfn.XLOOKUP(B49,'Batteries & Chargers'!$F$13:$F$42,'Batteries & Chargers'!$R$13:$R$42)","v":0},20240603,2423,{"$f":"_xlfn.XLOOKUP(B49,'Batteries & Chargers'!$F$13:$F$42,'Batteries & Chargers'!$S$13:$S$42)","v":0},{"$f":"_xlfn.XLOOKUP(B49,'Batteries & Chargers'!$F$13:$F$42,'Batteries & Chargers'!$L$13:$L$42)","v":87.492999999999995},null,null,null,null,null,null,970568112]
["Battery - Batteries & Chargers",967937701,20240103,2401,{"$f":"_xlfn.XLOOKUP(B50,'Batteries & Chargers'!$F$13:$F$42,'Batteries & Chargers'!$N$13:$N$42)","v":0},20240201,2405,{"$f":"_xlfn.XLOOKUP(B50,'Batteries & Chargers'!$F$13:$F$42,'Batteries & Chargers'!$O$13:$O$42)","v":0},20240301,2409,{"$f":"_xlfn.XLOOKUP(B50,'Batteries & Chargers'!$F$13:$F$42,'Batteries & Chargers'!$P$13:$P$42)","v":0},20240402,2414,{"$f":"_xlfn.XLOOKUP(B50,'Batteries & Chargers'!$F$13:$F$42,'Batteries & Chargers'!$Q$13:$Q$42)","v":0},20240501,2418,{"$f":"_xlfn.XLOOKUP(B50,'Batteries & Chargers'!$F$13:$F$42,'Batteries & Chargers'!$R$13:$R$42)","v":0},20240603,2423,{"$f":"_xlfn.XLOOKUP(B50,'Batteries & Chargers'!$F$13:$F$42,'Batteries & Chargers'!$S$13:$S$42)","v":0},{"$f":"_xlfn.XLOOKUP(B50,'Batteries & Chargers'!$F$13:$F$42,'Batteries & Chargers'!$L$13:$L$42)","v":162.75},null,null,null,null,null,null,970568114]
["Battery - Hand Held",967976101,20240103,2401,{"$f":"_xlfn.XLOOKUP(B51,'Battery - Hand Held'!$F$13:$F$83,'Battery - Hand Held'!U13:U83)","v":0},20240201,2405,{"$f":"_xlfn.XLOOKUP(B51,'Battery - Hand Held'!$F$13:$F$83,'Battery - Hand Held'!$V$13:$V$83)","v":0},20240301,2409,{"$f":"_xlfn.XLOOKUP(B51,'Battery - Hand Held'!$F$13:$F$83,'Battery - Hand Held'!$W$13:$W$83)","v":0},20240402,2414,{"$f":"_xlfn.XLOOKUP(B51,'Battery - Hand Held'!$F$13:$F$83,'Battery - Hand Held'!X13:X83)","v":0},20240501,2418,{"$f":"_xlfn.XLOOKUP(B51,'Battery - Hand Held'!$F$13:$F$83,'Battery - Hand Held'!$Y$13:$Y$83)","v":0},20240603,2423,{"$f":"_xlfn.XLOOKUP(B51,'Battery - Hand Held'!$F$13:$F$83,'Battery - Hand Held'!$Z$13:$Z$83)","v":0},{"$f":"_xlfn.XLOOKUP(B51,'Battery - Hand Held'!$F$13:$F$83,'Battery - Hand Held'!$L$13:$L$83)","v":87.492999999999995},null,null,null,null,null,null,970568116]
["Battery - Hand Held",967976103,20240103,2401,{"$f":"_xlfn.XLOOKUP(B52,'Battery - Hand Held'!$F$13:$F$83,'Battery - Hand Held'!$U$13:$U$83)","v":0},20240201,2405,{"$f":"_xlfn.XLOOKUP(B52,'Battery - Hand Held'!$F$13:$F$83,'Battery - Hand Held'!$V$13:$V$83)","v":0},20240301,2409,{"$f":"_xlfn.XLOOKUP(B52,'Battery - Hand Held'!$F$13:$F$83,'Battery - Hand Held'!$W$13:$W$83)","v":0},20240402,2414,{"$f":"_xlfn.XLOOKUP(B52,'Battery - Hand Held'!$F$13:$F$83,'Battery - Hand Held'!$X$13:$X$83)","v":0},20240501,2418,{"$f":"_xlfn.XLOOKUP(B52,'Battery - Hand Held'!$F$13:$F$83,'Battery - Hand Held'!$Y$13:$Y$83)","v":0},20240603,2423,{"$f":"_xlfn.XLOOKUP(B52,'Battery - Hand Held'!$F$13:$F$83,'Battery - Hand Held'!$Z$13:$Z$83)","v":0},{"$f":"_xlfn.XLOOKUP(B52,'Battery - Hand Held'!$F$13:$F$83,'Battery - Hand Held'!$L$13:$L$83)","v":174.41899999999998},null,null,null,null,null,null,970572316]
["Battery - Hand Held",970649802,20240103,2401,{"$f":"_xlfn.XLOOKUP(B53,'Battery - Hand Held'!$F$13:$F$83,'Battery - Hand Held'!$U$13:$U$83)","v":0},20240201,2405,{"$f":"_xlfn.XLOOKUP(B53,'Battery - Hand Held'!$F$13:$F$83,'Battery - Hand Held'!$V$13:$V$83)","v":0},20240301,2409,{"$f":"_xlfn.XLOOKUP(B53,'Battery - Hand Held'!$F$13:$F$83,'Battery - Hand Held'!$W$13:$W$83)","v":0},20240402,2414,{"$f":"_xlfn.XLOOKUP(B53,'Battery - Hand Held'!$F$13:$F$83,'Battery - Hand Held'!$X$13:$X$83)","v":0},20240501,2418,{"$f":"_xlfn.XLOOKUP(B53,'Battery - Hand Held'!$F$13:$F$83,'Battery - Hand Held'!$Y$13:$Y$83)","v":0},20240603,2423,{"$f":"_xlfn.XLOOKUP(B53,'Battery - Hand Held'!$F$13:$F$83,'Battery - Hand Held'!$Z$13:$Z$83)","v":0},{"$f":"_xlfn.XLOOKUP(B53,'Battery - Hand Held'!$F$13:$F$83,'Battery - Hand Held'!$L$13:$L$83)","v":127.75},null,null,null,null,null,null,970547505]
["Battery - Hand Held",970649805,20240103,2401,{"$f":"_xlfn.XLOOKUP(B54,'Battery - Hand Held'!$F$13:$F$83,'Battery - Hand Held'!$U$13:$U$83)","v":0},20240201,2405,{"$f":"_xlfn.XLOOKUP(B54,'Battery - Hand Held'!$F$13:$F$83,'Battery - Hand Held'!$V$13:$V$83)","v":0},20240301,2409,{"$f":"_xlfn.XLOOKUP(B54,'Battery - Hand Held'!$F$13:$F$83,'Battery - Hand Held'!$W$13:$W$83)","v":0},20240402,2414,{"$f":"_xlfn.XLOOKUP(B54,'Battery - Hand Held'!$F$13:$F$83,'Battery - Hand Held'!$X$13:$X$83)","v":0},20240501,2418,{"$f":"_xlfn.XLOOKUP(B54,'Battery - Hand Held'!$F$13:$F$83,'Battery - Hand Held'!$Y$13:$Y$83)","v":0},20240603,2423,{"$f":"_xlfn.XLOOKUP(B54,'Battery - Hand Held'!$F$13:$F$83,'Battery - Hand Held'!$Z$13:$Z$83)","v":0},{"$f":"_xlfn.XLOOKUP(B54,'Battery - Hand Held'!$F$13:$F$83,'Battery - Hand Held'!$L$13:$L$83)","v":186.08099999999996},null,null,null,null,null,null,970547502]
["Battery - Hand Held",967991001,20240103,2401,{"$f":"_xlfn.XLOOKUP(B55,'Battery - Hand Held'!$F$13:$F$83,'Battery - Hand Held'!$U$13:$U$83)","v":0},20240201,2405,{"$f":"_xlfn.XLOOKUP(B55,'Battery - Hand Held'!$F$13:$F$83,'Battery - Hand Held'!$V$13:$V$83)","v":0},20240301,2409,{"$f":"_xlfn.XLOOKUP(B55,'Battery - Hand Held'!$F$13:$F$83,'Battery - Hand Held'!$W$13:$W$83)","v":0},20240402,2414,{"$f":"_xlfn.XLOOKUP(B55,'Battery - Hand Held'!$F$13:$F$83,'Battery - Hand Held'!$X$13:$X$83)","v":0},20240501,2418,{"$f":"_xlfn.XLOOKUP(B55,'Battery - Hand Held'!$F$13:$F$83,'Battery - Hand Held'!$Y$13:$Y$83)","v":0},20240603,2423,{"$f":"_xlfn.XLOOKUP(B55,'Battery - Hand Held'!$F$13:$F$83,'Battery - Hand Held'!$Z$13:$Z$83)","v":0},{"$f":"_xlfn.XLOOKUP(B55,'Battery - Hand Held'!$F$13:$F$83,'Battery - Hand Held'!$L$13:$L$83)","v":191.91899999999998},null,null,null,null,null,null,970547503]
["Battery - Hand Held",967796203,20240103,2401,{"$f":"_xlfn.XLOOKUP(B56,'Battery - Hand Held'!$F$13:$F$83,'Battery - Hand Held'!$U$13:$U$83)","v":0},20240201,2405,{"$f":"_xlfn.XLOOKUP(B56,'Battery - Hand Held'!$F$13:$F$83,'Battery - Hand Held'!$V$13:$V$83)","v":0},20240301,2409,{"$f":"_xlfn.XLOOKUP(B56,'Battery - Hand Held'!$F$13:$F$83,'Battery - Hand Held'!$W$13:$W$83)","v":0},20240402,2414,{"$f":"_xlfn.XLOOKUP(B56,'Battery - Hand Held'!$F$13:$F$83,'Battery - Hand Held'!$X$13:$X$83)","v":0},20240501,2418,{"$f":"_xlfn.XLOOKUP(B56,'Battery - Hand Held'!$F$13:$F$83,'Battery - Hand Held'!$Y$13:$Y$83)","v":0},20240603,2423,{"$f":"_xlfn.XLOOKUP(B56,'Battery - Hand Held'!$F$13:$F$83,'Battery - Hand Held'!$Z$13:$Z$83)","v":0},{"$f":"_xlfn.XLOOKUP(B56,'Battery - Hand Held'!$F$13:$F$83,'Battery - Hand Held'!$L$13:$L$83)","v":349.41899999999998},null,null,null,null,null,null,970547512]
["Battery - Hand Held",967915503,20240103,2401,{"$f":"_xlfn.XLOOKUP(B57,'Battery - Hand Held'!$F$13:$F$83,'Battery - Hand Held'!$U$13:$U$83)","v":0},20240201,2405,{"$f":"_xlfn.XLOOKUP(B57,'Battery - Hand Held'!$F$13:$F$83,'Battery - Hand Held'!$V$13:$V$83)","v":0},20240301,2409,{"$f":"_xlfn.XLOOKUP(B57,'Battery - Hand Held'!$F$13:$F$83,'Battery - Hand Held'!$W$13:$W$83)","v":0},20240402,2414,{"$f":"_xlfn.XLOOKUP(B57,'Battery - Hand Held'!$F$13:$F$83,'Battery - Hand Held'!$X$13:$X$83)","v":0},20240501,2418,{"$f":"_xlfn.XLOOKUP(B57,'Battery - Hand Held'!$F$13:$F$83,'Battery - Hand Held'!$Y$13:$Y$83)","v":0},20240603,2423,{"$f":"_xlfn.XLOOKUP(B57,'Battery - Hand Held'!$F$13:$F$83,'Battery - Hand Held'!$Z$13:$Z$83)","v":0},{"$f":"_xlfn.XLOOKUP(B57,'Battery - Hand Held'!$F$13:$F$83,'Battery - Hand Held'!$L$13:$L$83)","v":291.08099999999996},null,null,null,null,null,null,970547513]
["Battery - Hand Held",967941406,20240103,2401,{"$f":"_xlfn.XLOOKUP(B58,'Battery - Hand Held'!$F$13:$F$83,'Battery - Hand Held'!$U$13:$U$83)","v":0},20240201,2405,{"$f":"_xlfn.XLOOKUP(B58,'Battery - Hand Held'!$F$13:$F$83,'Battery - Hand Held'!$V$13:$V$83)","v":0},20240301,2409,{"$f":"_xlfn.XLOOKUP(B58,'Battery - Hand Held'!$F$13:$F$83,'Battery - Hand Held'!$W$13:$W$83)","v":0},20240402,2414,{"$f":"_xlfn.XLOOKUP(B58,'Battery - Hand Held'!$F$13:$F$83,'Battery - Hand Held'!$X$13:$X$83)","v":0},20240501,2418,{"$f":"_xlfn.XLOOKUP(B58,'Battery - Hand Held'!$F$13:$F$83,'Battery - Hand Held'!$Y$13:$Y$83)","v":0},20240603,2423,{"$f":"_xlfn.XLOOKUP(B58,'Battery - Hand Held'!$F$13:$F$83,'Battery - Hand Held'!$Z$13:$Z$83)","v":0},{"$f":"_xlfn.XLOOKUP(B58,'Battery - Hand Held'!$F$13:$F$83,'Battery - Hand Held'!$L$13:$L$83)","v":291.08099999999996},null,null,null,null,null,null,970601103]
["Battery - Hand Held",967681103,20240103,2401,{"$f":"_xlfn.XLOOKUP(B59,'Battery - Hand Held'!$F$13:$F$83,'Battery - Hand Held'!$U$13:$U$83)","v":0},20240201,2405,{"$f":"_xlfn.XLOOKUP(B59,'Battery - Hand Held'!$F$13:$F$83,'Battery - Hand Held'!$V$13:$V$83)","v":0},20240301,2409,{"$f":"_xlfn.XLOOKUP(B59,'Battery - Hand Held'!$F$13:$F$83,'Battery - Hand Held'!$W$13:$W$83)","v":0},20240402,2414,{"$f":"_xlfn.XLOOKUP(B59,'Battery - Hand Held'!$F$13:$F$83,'Battery - Hand Held'!$X$13:$X$83)","v":0},20240501,2418,{"$f":"_xlfn.XLOOKUP(B59,'Battery - Hand Held'!$F$13:$F$83,'Battery - Hand Held'!$Y$13:$Y$83)","v":0},20240603,2423,{"$f":"_xlfn.XLOOKUP(B59,'Battery - Hand Held'!$F$13:$F$83,'Battery - Hand Held'!$Z$13:$Z$83)","v":0},{"$f":"_xlfn.XLOOKUP(B59,'Battery - Hand Held'!$F$13:$F$83,'Battery - Hand Held'!$L$13:$L$83)","v":407.75},null,null,null,null,null,null,967864016]
["Battery - Hand Held",529351901,20240103,2401,{"$f":"_xlfn.XLOOKUP(B60,'Battery - Hand Held'!$F$13:$F$83,'Battery - Hand Held'!$U$13:$U$83)","v":0},20240201,2405,{"$f":"_xlfn.XLOOKUP(B60,'Battery - Hand Held'!$F$13:$F$83,'Battery - Hand Held'!$V$13:$V$83)","v":0},20240301,2409,{"$f":"_xlfn.XLOOKUP(B60,'Battery - Hand Held'!$F$13:$F$83,'Battery - Hand Held'!$W$13:$W$83)","v":0},20240402,2414,{"$f":"_xlfn.XLOOKUP(B60,'Battery - Hand Held'!$F$13:$F$83,'Battery - Hand Held'!$X$13:$X$83)","v":0},20240501,2418,{"$f":"_xlfn.XLOOKUP(B60,'Battery - Hand Held'!$F$13:$F$83,'Battery - Hand Held'!$Y$13:$Y$83)","v":0},20240603,2423,{"$f":"_xlfn.XLOOKUP(B60,'Battery - Hand Held'!$F$13:$F$83,'Battery - Hand Held'!$Z$13:$Z$83)","v":0},{"$f":"_xlfn.XLOOKUP(B60,'Battery - Hand Held'!$F$13:$F$83,'Battery - Hand Held'!$L$13:$L$83)","v":69.992999999999995}]
["Battery - Hand Held",970515903,20240103,2401,{"$f":"_xlfn.XLOOKUP(B61,'Battery - Hand Held'!$F$13:$F$83,'Battery - Hand Held'!$U$13:$U$83)","v":0},20240201,2405,{"$f":"_xlfn.XLOOKUP(B61,'Battery - Hand Held'!$F$13:$F$83,'Battery - Hand Held'!$V$13:$V$83)","v":0},20240301,2409,{"$f":"_xlfn.XLOOKUP(B61,'Battery - Hand Held'!$F$13:$F$83,'Battery - Hand Held'!$W$13:$W$83)","v":0},20240402,2414,{"$f":"_xlfn.XLOOKUP(B61,'Battery - Hand Held'!$F$13:$F$83,'Battery - Hand Held'!$X$13:$X$83)","v":0},20240501,2418,{"$f":"_xlfn.XLOOKUP(B61,'Battery - Hand Held'!$F$13:$F$83,'Battery - Hand Held'!$Y$13:$Y$83)","v":0},20240603,2423,{"$f":"_xlfn.XLOOKUP(B61,'Battery - Hand Held'!$F$13:$F$83,'Battery - Hand Held'!$Z$13:$Z$83)","v":0},{"$f":"_xlfn.XLOOKUP(B61,'Battery - Hand Held'!$F$13:$F$83,'Battery - Hand Held'!$L$13:$L$83)","v":174.41899999999998}]
["Battery - Hand Held",970515909,20240103,2401,{"$f":"_xlfn.XLOOKUP(B62,'Battery - Hand Held'!$F$13:$F$83,'Battery - Hand Held'!$U$13:$U$83)","v":0},20240201,2405,{"$f":"_xlfn.XLOOKUP(B62,'Battery - Hand Held'!$F$13:$F$83,'Battery - Hand Held'!$V$13:$V$83)","v":0},20240301,2409,{"$f":"_xlfn.XLOOKUP(B62,'Battery - Hand Held'!$F$13:$F$83,'Battery - Hand Held'!$W$13:$W$83)","v":0},20240402,2414,{"$f":"_xlfn.XLOOKUP(B62,'Battery - Hand Held'!$F$13:$F$83,'Battery - Hand Held'!$X$13:$X$83)","v":0},20240501,2418,{"$f":"_xlfn.XLOOKUP(B62,'Battery - Hand Held'!$F$13:$F$83,'Battery - Hand Held'!$Y$13:$Y$83)","v":0},20240603,2423,{"$f":"_xlfn.XLOOKUP(B62,'Battery - Hand Held'!$F$13:$F$83,'Battery - Hand Held'!$Z$13:$Z$83)","v":0},{"$f":"_xlfn.XLOOKUP(B62,'Battery - Hand Held'!$F$13:$F$83,'Battery - Hand Held'!$L$13:$L$83)","v":256.08099999999996}]
["Battery - Hand Held",967850103,20240103,2401,{"$f":"_xlfn.XLOOKUP(B63,'Battery - Hand Held'!$F$13:$F$83,'Battery - Hand Held'!$U$13:$U$83)","v":0},20240201,2405,{"$f":"_xlfn.XLOOKUP(B63,'Battery - Hand Held'!$F$13:$F$83,'Battery - Hand Held'!$V$13:$V$83)","v":0},20240301,2409,{"$f":"_xlfn.XLOOKUP(B63,'Battery - Hand Held'!$F$13:$F$83,'Battery - Hand Held'!$W$13:$W$83)","v":0},20240402,2414,{"$f":"_xlfn.XLOOKUP(B63,'Battery - Hand Held'!$F$13:$F$83,'Battery - Hand Held'!$X$13:$X$83)","v":0},20240501,2418,{"$f":"_xlfn.XLOOKUP(B63,'Battery - Hand Held'!$F$13:$F$83,'Battery - Hand Held'!$Y$13:$Y$83)","v":0},20240603,2423,{"$f":"_xlfn.XLOOKUP(B63,'Battery - Hand Held'!$F$13:$F$83,'Battery - Hand Held'!$Z$13:$Z$83)","v":0},{"$f":"_xlfn.XLOOKUP(B63,'Battery - Hand Held'!$F$13:$F$83,'Battery - Hand Held'!$L$13:$L$83)","v":250.25}]
["Battery - Hand Held",970515901,20240103,2401,{"$f":"_xlfn.XLOOKUP(B64,'Battery - Hand Held'!$F$13:$F$83,'Battery - Hand Held'!$U$13:$U$83)","v":0},20240201,2405,{"$f":"_xlfn.XLOOKUP(B64,'Battery - Hand Held'!$F$13:$F$83,'Battery - Hand Held'!$V$13:$V$83)","v":0},20240301,2409,{"$f":"_xlfn.XLOOKUP(B64,'Battery - Hand Held'!$F$13:$F$83,'Battery - Hand Held'!$W$13:$W$83)","v":0},20240402,2414,{"$f":"_xlfn.XLOOKUP(B64,'Battery - Hand Held'!$F$13:$F$83,'Battery - Hand Held'!$X$13:$X$83)","v":0},20240501,2418,{"$f":"_xlfn.XLOOKUP(B64,'Battery - Hand Held'!$F$13:$F$83,'Battery - Hand Held'!$Y$13:$Y$83)","v":0},20240603,2423,{"$f":"_xlfn.XLOOKUP(B64,'Battery - Hand Held'!$F$13:$F$83,'Battery - Hand Held'!$Z$13:$Z$83)","v":0},{"$f":"_xlfn.XLOOKUP(B64,'Battery - Hand Held'!$F$13:$F$83,'Battery - Hand Held'!$L$13:$L$83)","v":133.58100000000002}]
["Battery - Hand Held",970572516,20240103,2401,{"$f":"_xlfn.XLOOKUP(B65,'Battery - Hand Held'!$F$13:$F$83,'Battery - Hand Held'!$U$13:$U$83)","v":0},20240201,2405,{"$f":"_xlfn.XLOOKUP(B65,'Battery - Hand Held'!$F$13:$F$83,'Battery - Hand Held'!$V$13:$V$83)","v":0},20240301,2409,{"$f":"_xlfn.XLOOKUP(B65,'Battery - Hand Held'!$F$13:$F$83,'Battery - Hand Held'!$W$13:$W$83)","v":0},20240402,2414,{"$f":"_xlfn.XLOOKUP(B65,'Battery - Hand Held'!$F$13:$F$83,'Battery - Hand Held'!$X$13:$X$83)","v":0},20240501,2418,{"$f":"_xlfn.XLOOKUP(B65,'Battery - Hand Held'!$F$13:$F$83,'Battery - Hand Held'!$Y$13:$Y$83)","v":0},20240603,2423,{"$f":"_xlfn.XLOOKUP(B65,'Battery - Hand Held'!$F$13:$F$83,'Battery - Hand Held'!$Z$13:$Z$83)","v":0},{"$f":"_xlfn.XLOOKUP(B65,'Battery - Hand Held'!$F$13:$F$83,'Battery - Hand Held'!$L$13:$L$83)","v":436.91899999999998},null,null,null,null,null,null,967863714]
["Battery - Hand Held",970568112,20240103,2401,{"$f":"_xlfn.XLOOKUP(B66,'Battery - Hand Held'!$F$13:$F$83,'Battery - Hand Held'!$U$13:$U$83)","v":0},20240201,2405,{"$f":"_xlfn.XLOOKUP(B66,'Battery - Hand Held'!$F$13:$F$83,'Battery - Hand Held'!$V$13:$V$83)","v":0},20240301,2409,{"$f":"_xlfn.XLOOKUP(B66,'Battery - Hand Held'!$F$13:$F$83,'Battery - Hand Held'!$W$13:$W$83)","v":0},20240402,2414,{"$f":"_xlfn.XLOOKUP(B66,'Battery - Hand Held'!$F$13:$F$83,'Battery - Hand Held'!$X$13:$X$83)","v":0},20240501,2418,{"$f":"_xlfn.XLOOKUP(B66,'Battery - Hand Held'!$F$13:$F$83,'Battery - Hand Held'!$Y$13:$Y$83)","v":0},20240603,2423,{"$f":"_xlfn.XLOOKUP(B66,'Battery - Hand Held'!$F$13:$F$83,'Battery - Hand Held'!$Z$13:$Z$83)","v":0},{"$f":"_xlfn.XLOOKUP(B66,'Battery - Hand Held'!$F$13:$F$83,'Battery - Hand Held'!$L$13:$L$83)","v":454.41899999999998},null,null,null,null,null,null,970647113]
["Battery - Hand Held",970568114,20240103,2401,{"$f":"_xlfn.XLOOKUP(B67,'Battery - Hand Held'!$F$13:$F$83,'Battery - Hand Held'!$U$13:$U$83)","v":0},20240201,2405,{"$f":"_xlfn.XLOOKUP(B67,'Battery - Hand Held'!$F$13:$F$83,'Battery - Hand Held'!$V$13:$V$83)","v":0},20240301,2409,{"$f":"_xlfn.XLOOKUP(B67,'Battery - Hand Held'!$F$13:$F$83,'Battery - Hand Held'!$W$13:$W$83)","v":0},20240402,2414,{"$f":"_xlfn.XLOOKUP(B67,'Battery - Hand Held'!$F$13:$F$83,'Battery - Hand Held'!$X$13:$X$83)","v":0},20240501,2418,{"$f":"_xlfn.XLOOKUP(B67,'Battery - Hand Held'!$F$13:$F$83,'Battery - Hand Held'!$Y$13:$Y$83)","v":0},20240603,2423,{"$f":"_xlfn.XLOOKUP(B67,'Battery - Hand Held'!$F$13:$F$83,'Battery - Hand Held'!$Z$13:$Z$83)","v":0},{"$f":"_xlfn.XLOOKUP(B67,'Battery - Hand Held'!$F$13:$F$83,'Battery - Hand Held'!$L$13:$L$83)","v":460.25},null,null,null,null,null,null,970647013]
["Battery - Hand Held",970568116,20240103,2401,{"$f":"_xlfn.XLOOKUP(B68,'Battery - Hand Held'!$F$13:$F$83,'Battery - Hand Held'!$U$13:$U$83)","v":0},20240201,2405,{"$f":"_xlfn.XLOOKUP(B68,'Battery - Hand Held'!$F$13:$F$83,'Battery - Hand Held'!$V$13:$V$83)","v":0},20240301,2409,{"$f":"_xlfn.XLOOKUP(B68,'Battery - Hand Held'!$F$13:$F$83,'Battery - Hand Held'!$W$13:$W$83)","v":0},20240402,2414,{"$f":"_xlfn.XLOOKUP(B68,'Battery - Hand Held'!$F$13:$F$83,'Battery - Hand Held'!$X$13:$X$83)","v":0},20240501,2418,{"$f":"_xlfn.XLOOKUP(B68,'Battery - Hand Held'!$F$13:$F$83,'Battery - Hand Held'!$Y$13:$Y$83)","v":0},20240603,2423,{"$f":"_xlfn.XLOOKUP(B68,'Battery - Hand Held'!$F$13:$F$83,'Battery - Hand Held'!$Z$13:$Z$83)","v":0},{"$f":"_xlfn.XLOOKUP(B68,'Battery - Hand Held'!$F$13:$F$83,'Battery - Hand Held'!$L$13:$L$83)","v":466.08100000000002},null,null,null,null,null,null,970647015]
["Battery - Hand Held",970572316,20240103,2401,{"$f":"_xlfn.XLOOKUP(B69,'Battery - Hand Held'!$F$13:$F$83,'Battery - Hand Held'!$U$13:$U$83)","v":0},20240201,2405,{"$f":"_xlfn.XLOOKUP(B69,'Battery - Hand Held'!$F$13:$F$83,'Battery - Hand Held'!$V$13:$V$83)","v":0},20240301,2409,{"$f":"_xlfn.XLOOKUP(B69,'Battery - Hand Held'!$F$13:$F$83,'Battery - Hand Held'!$W$13:$W$83)","v":0},20240402,2414,{"$f":"_xlfn.XLOOKUP(B69,'Battery - Hand Held'!$F$13:$F$83,'Battery - Hand Held'!$X$13:$X$83)","v":0},20240501,2418,{"$f":"_xlfn.XLOOKUP(B69,'Battery - Hand Held'!$F$13:$F$83,'Battery - Hand Held'!$Y$13:$Y$83)","v":0},20240603,2423,{"$f":"_xlfn.XLOOKUP(B69,'Battery - Hand Held'!$F$13:$F$83,'Battery - Hand Held'!$Z$13:$Z$83)","v":0},{"$f":"_xlfn.XLOOKUP(B69,'Battery - Hand Held'!$F$13:$F$83,'Battery - Hand Held'!$L$13:$L$83)","v":448.58100000000002},null,null,null,null,null,null,970646812]
["Battery - Hand Held",970572314,20240103,2401,{"$f":"_xlfn.XLOOKUP(B70,'Battery - Hand Held'!$F$13:$F$83,'Battery - Hand Held'!$U$13:$U$83)","v":0},20240201,2405,{"$f":"_xlfn.XLOOKUP(B70,'Battery - Hand Held'!$F$13:$F$83,'Battery - Hand Held'!$V$13:$V$83)","v":0},20240301,2409,{"$f":"_xlfn.XLOOKUP(B70,'Battery - Hand Held'!$F$13:$F$83,'Battery - Hand Held'!$W$13:$W$83)","v":0},20240402,2414,{"$f":"_xlfn.XLOOKUP(B70,'Battery - Hand Held'!$F$13:$F$83,'Battery - Hand Held'!$X$13:$X$83)","v":0},20240501,2418,{"$f":"_xlfn.XLOOKUP(B70,'Battery - Hand Held'!$F$13:$F$83,'Battery - Hand Held'!$Y$13:$Y$83)","v":0},20240603,2423,{"$f":"_xlfn.XLOOKUP(B70,'Battery - Hand Held'!$F$13:$F$83,'Battery - Hand Held'!$Z$13:$Z$83)","v":0},{"$f":"_xlfn.XLOOKUP(B70,'Battery - Hand Held'!$F$13:$F$83,'Battery - Hand Held'!$L$13:$L$83)","v":442.75},null,null,null,null,null,null,970646814]
["Battery - Hand Held",970547502,20240103,2401,{"$f":"_xlfn.XLOOKUP(B71,'Battery - Hand Held'!$F$13:$F$83,'Battery - Hand Held'!$U$13:$U$83)","v":0},20240201,2405,{"$f":"_xlfn.XLOOKUP(B71,'Battery - Hand Held'!$F$13:$F$83,'Battery - Hand Held'!$V$13:$V$83)","v":0},20240301,2409,{"$f":"_xlfn.XLOOKUP(B71,'Battery - Hand Held'!$F$13:$F$83,'Battery - Hand Held'!$W$13:$W$83)","v":0},20240402,2414,{"$f":"_xlfn.XLOOKUP(B71,'Battery - Hand Held'!$F$13:$F$83,'Battery - Hand Held'!$X$13:$X$83)","v":0},20240501,2418,{"$f":"_xlfn.XLOOKUP(B71,'Battery - Hand Held'!$F$13:$F$83,'Battery - Hand Held'!$Y$13:$Y$83)","v":0},20240603,2423,{"$f":"_xlfn.XLOOKUP(B71,'Battery - Hand Held'!$F$13:$F$83,'Battery - Hand Held'!$Z$13:$Z$83)","v":0},{"$f":"_xlfn.XLOOKUP(B71,'Battery - Hand Held'!$F$13:$F$83,'Battery - Hand Held'!$L$13:$L$83)","v":145.25},null,null,null,null,null,null,970646914]
["Battery - Hand Held",970547503,20240103,2401,{"$f":"_xlfn.XLOOKUP(B72,'Battery - Hand Held'!$F$13:$F$83,'Battery - Hand Held'!$U$13:$U$83)","v":0},20240201,2405,{"$f":"_xlfn.XLOOKUP(B72,'Battery - Hand Held'!$F$13:$F$83,'Battery - Hand Held'!$V$13:$V$83)","v":0},20240301,2409,{"$f":"_xlfn.XLOOKUP(B72,'Battery - Hand Held'!$F$13:$F$83,'Battery - Hand Held'!$W$13:$W$83)","v":0},20240402,2414,{"$f":"_xlfn.XLOOKUP(B72,'Battery - Hand Held'!$F$13:$F$83,'Battery - Hand Held'!$X$13:$X$83)","v":0},20240501,2418,{"$f":"_xlfn.XLOOKUP(B72,'Battery - Hand Held'!$F$13:$F$83,'Battery - Hand Held'!$Y$13:$Y$83)","v":0},20240603,2423,{"$f":"_xlfn.XLOOKUP(B72,'Battery - Hand Held'!$F$13:$F$83,'Battery - Hand Held'!$Z$13:$Z$83)","v":0},{"$f":"_xlfn.XLOOKUP(B72,'Battery - Hand Held'!$F$13:$F$83,'Battery - Hand Held'!$L$13:$L$83)","v":151.08100000000002},null,null,null,null,null,null,970566801]
["Battery - Hand Held",970547512,20240103,2401,{"$f":"_xlfn.XLOOKUP(B73,'Battery - Hand Held'!$F$13:$F$83,'Battery - Hand Held'!$U$13:$U$83)","v":0},20240201,2405,{"$f":"_xlfn.XLOOKUP(B73,'Battery - Hand Held'!$F$13:$F$83,'Battery - Hand Held'!$V$13:$V$83)","v":0},20240301,2409,{"$f":"_xlfn.XLOOKUP(B73,'Battery - Hand Held'!$F$13:$F$83,'Battery - Hand Held'!$W$13:$W$83)","v":0},20240402,2414,{"$f":"_xlfn.XLOOKUP(B73,'Battery - Hand Held'!$F$13:$F$83,'Battery - Hand Held'!$X$13:$X$83)","v":0},20240501,2418,{"$f":"_xlfn.XLOOKUP(B73,'Battery - Hand Held'!$F$13:$F$83,'Battery - Hand Held'!$Y$13:$Y$83)","v":0},20240603,2423,{"$f":"_xlfn.XLOOKUP(B73,'Battery - Hand Held'!$F$13:$F$83,'Battery - Hand Held'!$Z$13:$Z$83)","v":0},{"$f":"_xlfn.XLOOKUP(B73,'Battery - Hand Held'!$F$13:$F$83,'Battery - Hand Held'!$L$13:$L$83)","v":232.75},null,null,null,null,null,null,970551602]
["Battery - Hand Held",970547513,20240103,2401,{"$f":"_xlfn.XLOOKUP(B74,'Battery - Hand Held'!$F$13:$F$83,'Battery - Hand Held'!$U$13:$U$83)","v":0},20240201,2405,{"$f":"_xlfn.XLOOKUP(B74,'Battery - Hand Held'!$F$13:$F$83,'Battery - Hand Held'!$V$13:$V$83)","v":0},20240301,2409,{"$f":"_xlfn.XLOOKUP(B74,'Battery - Hand Held'!$F$13:$F$83,'Battery - Hand Held'!$W$13:$W$83)","v":0},20240402,2414,{"$f":"_xlfn.XLOOKUP(B74,'Battery - Hand Held'!$F$13:$F$83,'Battery - Hand Held'!$X$13:$X$83)","v":0},20240501,2418,{"$f":"_xlfn.XLOOKUP(B74,'Battery - Hand Held'!$F$13:$F$83,'Battery - Hand Held'!$Y$13:$Y$83)","v":0},20240603,2423,{"$f":"_xlfn.XLOOKUP(B74,'Battery - Hand Held'!$F$13:$F$83,'Battery - Hand Held'!$Z$13:$Z$83)","v":0},{"$f":"_xlfn.XLOOKUP(B74,'Battery - Hand Held'!$F$13:$F$83,'Battery - Hand Held'!$L$13:$L$83)","v":238.58099999999996},null,null,null,null,null,null,970531202]
["Battery - Hand Held",970601108,20240103,2401,{"$f":"_xlfn.XLOOKUP(B75,'Battery - Hand Held'!$F$13:$F$83,'Battery - Hand Held'!$U$13:$U$83)","v":0},20240201,2405,{"$f":"_xlfn.XLOOKUP(B75,'Battery - Hand Held'!$F$13:$F$83,'Battery - Hand Held'!$V$13:$V$83)","v":0},20240301,2409,{"$f":"_xlfn.XLOOKUP(B75,'Battery - Hand Held'!$F$13:$F$83,'Battery - Hand Held'!$W$13:$W$83)","v":0},20240402,2414,{"$f":"_xlfn.XLOOKUP(B75,'Battery - Hand Held'!$F$13:$F$83,'Battery - Hand Held'!$X$13:$X$83)","v":0},20240501,2418,{"$f":"_xlfn.XLOOKUP(B75,'Battery - Hand Held'!$F$13:$F$83,'Battery - Hand Held'!$Y$13:$Y$83)","v":0},20240603,2423,{"$f":"_xlfn.XLOOKUP(B75,'Battery - Hand Held'!$F$13:$F$83,'Battery - Hand Held'!$Z$13:$Z$83)","v":0},{"$f":"_xlfn.XLOOKUP(B75,'Battery - Hand Held'!$F$13:$F$83,'Battery - Hand Held'!$L$13:$L$83)","v":349.41899999999998},null,null,null,null,null,null,970531201]
["Battery - Hand Held",970601101,20240103,2401,{"$f":"_xlfn.XLOOKUP(B76,'Battery - Hand Held'!$F$13:$F$83,'Battery - Hand Held'!$U$13:$U$83)","v":0},20240201,2405,{"$f":"_xlfn.XLOOKUP(B76,'Battery - Hand Held'!$F$13:$F$83,'Battery - Hand Held'!$V$13:$V$83)","v":0},20240301,2409,{"$f":"_xlfn.XLOOKUP(B76,'Battery - Hand Held'!$F$13:$F$83,'Battery - Hand Held'!$W$13:$W$83)","v":0},20240402,2414,{"$f":"_xlfn.XLOOKUP(B76,'Battery - Hand Held'!$F$13:$F$83,'Battery - Hand Held'!$X$13:$X$83)","v":0},20240501,2418,{"$f":"_xlfn.XLOOKUP(B76,'Battery - Hand Held'!$F$13:$F$83,'Battery - Hand Held'!$Y$13:$Y$83)","v":0},20240603,2423,{"$f":"_xlfn.XLOOKUP(B76,'Battery - Hand Held'!$F$13:$F$83,'Battery - Hand Held'!$Z$13:$Z$83)","v":0},{"$f":"_xlfn.XLOOKUP(B76,'Battery - Hand Held'!$F$13:$F$83,'Battery - Hand Held'!$L$13:$L$83)","v":203.58099999999996},null,null,null,null,null,null,970531204]
["Battery - Hand Held",970572312,20240103,2401,{"$f":"_xlfn.XLOOKUP(B77,'Battery - Hand Held'!$F$13:$F$83,'Battery - Hand Held'!$U$13:$U$83)","v":2},20240201,2405,{"$f":"_xlfn.XLOOKUP(B77,'Battery - Hand Held'!$F$13:$F$83,'Battery - Hand Held'!$V$13:$V$83)","v":0},20240301,2409,{"$f":"_xlfn.XLOOKUP(B77,'Battery - Hand Held'!$F$13:$F$83,'Battery - Hand Held'!$W$13:$W$83)","v":2},20240402,2414,{"$f":"_xlfn.XLOOKUP(B77,'Battery - Hand Held'!$F$13:$F$83,'Battery - Hand Held'!$X$13:$X$83)","v":0},20240501,2418,{"$f":"_xlfn.XLOOKUP(B77,'Battery - Hand Held'!$F$13:$F$83,'Battery - Hand Held'!$Y$13:$Y$83)","v":2},20240603,2423,{"$f":"_xlfn.XLOOKUP(B77,'Battery - Hand Held'!$F$13:$F$83,'Battery - Hand Held'!$Z$13:$Z$83)","v":0},{"$f":"_xlfn.XLOOKUP(B77,'Battery - Hand Held'!$F$13:$F$83,'Battery - Hand Held'!$L$13:$L$83)","v":436.91899999999998},null,null,null,null,null,null,970536101]
["Battery - Hand Held",970647113,20240103,2401,{"$f":"_xlfn.XLOOKUP(B78,'Battery - Hand Held'!$F$13:$F$83,'Battery - Hand Held'!$U$13:$U$83)","v":0},20240201,2405,{"$f":"_xlfn.XLOOKUP(B78,'Battery - Hand Held'!$F$13:$F$83,'Battery - Hand Held'!$V$13:$V$83)","v":0},20240301,2409,{"$f":"_xlfn.XLOOKUP(B78,'Battery - Hand Held'!$F$13:$F$83,'Battery - Hand Held'!$W$13:$W$83)","v":0},20240402,2414,{"$f":"_xlfn.XLOOKUP(B78,'Battery - Hand Held'!$F$13:$F$83,'Battery - Hand Held'!$X$13:$X$83)","v":0},20240501,2418,{"$f":"_xlfn.XLOOKUP(B78,'Battery - Hand Held'!$F$13:$F$83,'Battery - Hand Held'!$Y$13:$Y$83)","v":0},20240603,2423,{"$f":"_xlfn.XLOOKUP(B78,'Battery - Hand Held'!$F$13:$F$83,'Battery - Hand Held'!$Z$13:$Z$83)","v":0},{"$f":"_xlfn.XLOOKUP(B78,'Battery - Hand Held'!$F$13:$F$83,'Battery - Hand Held'!$L$13:$L$83)","v":466.08100000000002},null,null,null,null,null,null,970536003]
["Battery - Hand Held",970647013,20240103,2401,{"$f":"_xlfn.XLOOKUP(B79,'Battery - Hand Held'!$F$13:$F$83,'Battery - Hand Held'!$U$13:$U$83)","v":0},20240201,2405,{"$f":"_xlfn.XLOOKUP(B79,'Battery - Hand Held'!$F$13:$F$83,'Battery - Hand Held'!$V$13:$V$83)","v":0},20240301,2409,{"$f":"_xlfn.XLOOKUP(B79,'Battery - Hand Held'!$F$13:$F$83,'Battery - Hand Held'!$W$13:$W$83)","v":0},20240402,2414,{"$f":"_xlfn.XLOOKUP(B79,'Battery - Hand Held'!$F$13:$F$83,'Battery - Hand Held'!$X$13:$X$83)","v":0},20240501,2418,{"$f":"_xlfn.XLOOKUP(B79,'Battery - Hand Held'!$F$13:$F$83,'Battery - Hand Held'!$Y$13:$Y$83)","v":0},20240603,2423,{"$f":"_xlfn.XLOOKUP(B79,'Battery - Hand Held'!$F$13:$F$83,'Battery - Hand Held'!$Z$13:$Z$83)","v":0},{"$f":"_xlfn.XLOOKUP(B79,'Battery - Hand Held'!$F$13:$F$83,'Battery - Hand Held'!$L$13:$L$83)","v":454.41899999999998},null,null,null,null,null,null,970536002]
["Battery - Hand Held",970647015,20240103,2401,{"$f":"_xlfn.XLOOKUP(B80,'Battery - Hand Held'!$F$13:$F$83,'Battery - Hand Held'!$U$13:$U$83)","v":0},20240201,2405,{"$f":"_xlfn.XLOOKUP(B80,'Battery - Hand Held'!$F$13:$F$83,'Battery - Hand Held'!$V$13:$V$83)","v":0},20240301,2409,{"$f":"_xlfn.XLOOKUP(B80,'Battery - Hand Held'!$F$13:$F$83,'Battery - Hand Held'!$W$13:$W$83)","v":0},20240402,2414,{"$f":"_xlfn.XLOOKUP(B80,'Battery - Hand Held'!$F$13:$F$83,'Battery - Hand Held'!$X$13:$X$83)","v":0},20240501,2418,{"$f":"_xlfn.XLOOKUP(B80,'Battery - Hand Held'!$F$13:$F$83,'Battery - Hand Held'!$Y$13:$Y$83)","v":0},20240603,2423,{"$f":"_xlfn.XLOOKUP(B80,'Battery - Hand Held'!$F$13:$F$83,'Battery - Hand Held'!$Z$13:$Z$83)","v":0},{"$f":"_xlfn.XLOOKUP(B80,'Battery - Hand Held'!$F$13:$F$83,'Battery - Hand Held'!$L$13:$L$83)","v":460.25},null,null,null,null,null,null,970536006]
["Battery - Hand Held",970646812,20240103,2401,{"$f":"_xlfn.XLOOKUP(B81,'Battery - Hand Held'!$F$13:$F$83,'Battery - Hand Held'!$U$13:$U$83)","v":0},20240201,2405,{"$f":"_xlfn.XLOOKUP(B81,'Battery - Hand Held'!$F$13:$F$83,'Battery - Hand Held'!$V$13:$V$83)","v":0},20240301,2409,{"$f":"_xlfn.XLOOKUP(B81,'Battery - Hand Held'!$F$13:$F$83,'Battery - Hand Held'!$W$13:$W$83)","v":0},20240402,2414,{"$f":"_xlfn.XLOOKUP(B81,'Battery - Hand Held'!$F$13:$F$83,'Battery - Hand Held'!$X$13:$X$83)","v":0},20240501,2418,{"$f":"_xlfn.XLOOKUP(B81,'Battery - Hand Held'!$F$13:$F$83,'Battery - Hand Held'!$Y$13:$Y$83)","v":0},20240603,2423,{"$f":"_xlfn.XLOOKUP(B81,'Battery - Hand Held'!$F$13:$F$83,'Battery - Hand Held'!$Z$13:$Z$83)","v":0},{"$f":"_xlfn.XLOOKUP(B81,'Battery - Hand Held'!$F$13:$F$83,'Battery - Hand Held'!$L$13:$L$83)","v":454.41899999999998},null,null,null,null,null,null,970566901]
["Battery - Hand Held",970646814,20240103,2401,{"$f":"_xlfn.XLOOKUP(B82,'Battery - Hand Held'!$F$13:$F$83,'Battery - Hand Held'!$U$13:$U$83)","v":0},20240201,2405,{"$f":"_xlfn.XLOOKUP(B82,'Battery - Hand Held'!$F$13:$F$83,'Battery - Hand Held'!$V$13:$V$83)","v":0},20240301,2409,{"$f":"_xlfn.XLOOKUP(B82,'Battery - Hand Held'!$F$13:$F$83,'Battery - Hand Held'!$W$13:$W$83)","v":0},20240402,2414,{"$f":"_xlfn.XLOOKUP(B82,'Battery - Hand Held'!$F$13:$F$83,'Battery - Hand Held'!$X$13:$X$83)","v":0},20240501,2418,{"$f":"_xlfn.XLOOKUP(B82,'Battery - Hand Held'!$F$13:$F$83,'Battery - Hand Held'!$Y$13:$Y$83)","v":0},20240603,2423,{"$f":"_xlfn.XLOOKUP(B82,'Battery - Hand Held'!$F$13:$F$83,'Battery - Hand Held'!$Z$13:$Z$83)","v":0},{"$f":"_xlfn.XLOOKUP(B82,'Battery - Hand Held'!$F$13:$F$83,'Battery - Hand Held'!$L$13:$L$83)","v":460.25},null,null,null,null,null,null,970567001]
["Battery - Hand Held",970646914,20240103,2401,{"$f":"_xlfn.XLOOKUP(B83,'Battery - Hand Held'!$F$13:$F$83,'Battery - Hand Held'!$U$13:$U$83)","v":0},20240201,2405,{"$f":"_xlfn.XLOOKUP(B83,'Battery - Hand Held'!$F$13:$F$83,'Battery - Hand Held'!$V$13:$V$83)","v":0},20240301,2409,{"$f":"_xlfn.XLOOKUP(B83,'Battery - Hand Held'!$F$13:$F$83,'Battery - Hand Held'!$W$13:$W$83)","v":0},20240402,2414,{"$f":"_xlfn.XLOOKUP(B83,'Battery - Hand Held'!$F$13:$F$83,'Battery - Hand Held'!$X$13:$X$83)","v":0},20240501,2418,{"$f":"_xlfn.XLOOKUP(B83,'Battery - Hand Held'!$F$13:$F$83,'Battery - Hand Held'!$Y$13:$Y$83)","v":0},20240603,2423,{"$f":"_xlfn.XLOOKUP(B83,'Battery - Hand Held'!$F$13:$F$83,'Battery - Hand Held'!$Z$13:$Z$83)","v":0},{"$f":"_xlfn.XLOOKUP(B83,'Battery - Hand Held'!$F$13:$F$83,'Battery - Hand Held'!$L$13:$L$83)","v":489.41899999999998},null,null,null,null,null,null,970551401]
["Battery - Hand Held",970566801,20240103,2401,{"$f":"_xlfn.XLOOKUP(B84,'Battery - Hand Held'!$F$13:$F$83,'Battery - Hand Held'!$U$13:$U$83)","v":0},20240201,2405,{"$f":"_xlfn.XLOOKUP(B84,'Battery - Hand Held'!$F$13:$F$83,'Battery - Hand Held'!$V$13:$V$83)","v":0},20240301,2409,{"$f":"_xlfn.XLOOKUP(B84,'Battery - Hand Held'!$F$13:$F$83,'Battery - Hand Held'!$W$13:$W$83)","v":0},20240402,2414,{"$f":"_xlfn.XLOOKUP(B84,'Battery - Hand Held'!$F$13:$F$83,'Battery - Hand Held'!$X$13:$X$83)","v":0},20240501,2418,{"$f":"_xlfn.XLOOKUP(B84,'Battery - Hand Held'!$F$13:$F$83,'Battery - Hand Held'!$Y$13:$Y$83)","v":0},20240603,2423,{"$f":"_xlfn.XLOOKUP(B84,'Battery - Hand Held'!$F$13:$F$83,'Battery - Hand Held'!$Z$13:$Z$83)","v":0},{"$f":"_xlfn.XLOOKUP(B84,'Battery - Hand Held'!$F$13:$F$83,'Battery - Hand Held'!$L$13:$L$83)","v":203.58099999999996},null,null,null,null,null,null,967916113]
["Battery - Hand Held",970551602,20240103,2401,{"$f":"_xlfn.XLOOKUP(B85,'Battery - Hand Held'!$F$13:$F$83,'Battery - Hand Held'!$U$13:$U$83)","v":0},20240201,2405,{"$f":"_xlfn.XLOOKUP(B85,'Battery - Hand Held'!$F$13:$F$83,'Battery - Hand Held'!$V$13:$V$83)","v":0},20240301,2409,{"$f":"_xlfn.XLOOKUP(B85,'Battery - Hand Held'!$F$13:$F$83,'Battery - Hand Held'!$W$13:$W$83)","v":0},20240402,2414,{"$f":"_xlfn.XLOOKUP(B85,'Battery - Hand Held'!$F$13:$F$83,'Battery - Hand Held'!$X$13:$X$83)","v":0},20240501,2418,{"$f":"_xlfn.XLOOKUP(B85,'Battery - Hand Held'!$F$13:$F$83,'Battery - Hand Held'!$Y$13:$Y$83)","v":0},20240603,2423,{"$f":"_xlfn.XLOOKUP(B85,'Battery - Hand Held'!$F$13:$F$83,'Battery - Hand Held'!$Z$13:$Z$83)","v":0},{"$f":"_xlfn.XLOOKUP(B85,'Battery - Hand Held'!$F$13:$F$83,'Battery - Hand Held'!$L$13:$L$83)","v":273.58099999999996},null,null,null,null,null,null,967916203]
["Battery - Hand Held",970551501,20240103,2401,{"$f":"_xlfn.XLOOKUP(B86,'Battery - Hand Held'!$F$13:$F$83,'Battery - Hand Held'!$U$13:$U$83)","v":0},20240201,2405,{"$f":"_xlfn.XLOOKUP(B86,'Battery - Hand Held'!$F$13:$F$83,'Battery - Hand Held'!$V$13:$V$83)","v":0},20240301,2409,{"$f":"_xlfn.XLOOKUP(B86,'Battery - Hand Held'!$F$13:$F$83,'Battery - Hand Held'!$W$13:$W$83)","v":0},20240402,2414,{"$f":"_xlfn.XLOOKUP(B86,'Battery - Hand Held'!$F$13:$F$83,'Battery - Hand Held'!$X$13:$X$83)","v":0},20240501,2418,{"$f":"_xlfn.XLOOKUP(B86,'Battery - Hand Held'!$F$13:$F$83,'Battery - Hand Held'!$Y$13:$Y$83)","v":0},20240603,2423,{"$f":"_xlfn.XLOOKUP(B86,'Battery - Hand Held'!$F$13:$F$83,'Battery - Hand Held'!$Z$13:$Z$83)","v":0},{"$f":"_xlfn.XLOOKUP(B86,'Battery - Hand Held'!$F$13:$F$83,'Battery - Hand Held'!$L$13:$L$83)","v":261.91899999999998},null,null,null,null,null,null,967850504]
["Battery - Hand Held",970531201,20240103,2401,{"$f":"_xlfn.XLOOKUP(B87,'Battery - Hand Held'!$F$13:$F$83,'Battery - Hand Held'!$U$13:$U$83)","v":0},20240201,2405,{"$f":"_xlfn.XLOOKUP(B87,'Battery - Hand Held'!$F$13:$F$83,'Battery - Hand Held'!$V$13:$V$83)","v":0},20240301,2409,{"$f":"_xlfn.XLOOKUP(B87,'Battery - Hand Held'!$F$13:$F$83,'Battery - Hand Held'!$W$13:$W$83)","v":0},20240402,2414,{"$f":"_xlfn.XLOOKUP(B87,'Battery - Hand Held'!$F$13:$F$83,'Battery - Hand Held'!$X$13:$X$83)","v":0},20240501,2418,{"$f":"_xlfn.XLOOKUP(B87,'Battery - Hand Held'!$F$13:$F$83,'Battery - Hand Held'!$Y$13:$Y$83)","v":0},20240603,2423,{"$f":"_xlfn.XLOOKUP(B87,'Battery - Hand Held'!$F$13:$F$83,'Battery - Hand Held'!$Z$13:$Z$83)","v":0},{"$f":"_xlfn.XLOOKUP(B87,'Battery - Hand Held'!$F$13:$F$83,'Battery - Hand Held'!$L$13:$L$83)","v":104.99299999999999},null,null,null,null,null,null,967850605]
["Battery - Hand Held",970531204,20240103,2401,{"$f":"_xlfn.XLOOKUP(B88,'Battery - Hand Held'!$F$13:$F$83,'Battery - Hand Held'!$U$13:$U$83)","v":0},20240201,2405,{"$f":"_xlfn.XLOOKUP(B88,'Battery - Hand Held'!$F$13:$F$83,'Battery - Hand Held'!$V$13:$V$83)","v":0},20240301,2409,{"$f":"_xlfn.XLOOKUP(B88,'Battery - Hand Held'!$F$13:$F$83,'Battery - Hand Held'!$W$13:$W$83)","v":0},20240402,2414,{"$f":"_xlfn.XLOOKUP(B88,'Battery - Hand Held'!$F$13:$F$83,'Battery - Hand Held'!$X$13:$X$83)","v":0},20240501,2418,{"$f":"_xlfn.XLOOKUP(B88,'Battery - Hand Held'!$F$13:$F$83,'Battery - Hand Held'!$Y$13:$Y$83)","v":0},20240603,2423,{"$f":"_xlfn.XLOOKUP(B88,'Battery - Hand Held'!$F$13:$F$83,'Battery - Hand Held'!$Z$13:$Z$83)","v":0},{"$f":"_xlfn.XLOOKUP(B88,'Battery - Hand Held'!$F$13:$F$83,'Battery - Hand Held'!$L$13:$L$83)","v":145.25},null,null,null,null,null,null,967850607]
["Battery - Hand Held",970536101,20240103,2401,{"$f":"_xlfn.XLOOKUP(B89,'Battery - Hand Held'!$F$13:$F$83,'Battery - Hand Held'!$U$13:$U$83)","v":0},20240201,2405,{"$f":"_xlfn.XLOOKUP(B89,'Battery - Hand Held'!$F$13:$F$83,'Battery - Hand Held'!$V$13:$V$83)","v":0},20240301,2409,{"$f":"_xlfn.XLOOKUP(B89,'Battery - Hand Held'!$F$13:$F$83,'Battery - Hand Held'!$W$13:$W$83)","v":0},20240402,2414,{"$f":"_xlfn.XLOOKUP(B89,'Battery - Hand Held'!$F$13:$F$83,'Battery - Hand Held'!$X$13:$X$83)","v":0},20240501,2418,{"$f":"_xlfn.XLOOKUP(B89,'Battery - Hand Held'!$F$13:$F$83,'Battery - Hand Held'!$Y$13:$Y$83)","v":0},20240603,2423,{"$f":"_xlfn.XLOOKUP(B89,'Battery - Hand Held'!$F$13:$F$83,'Battery - Hand Held'!$Z$13:$Z$83)","v":0},{"$f":"_xlfn.XLOOKUP(B89,'Battery - Hand Held'!$F$13:$F$83,'Battery - Hand Held'!$L$13:$L$83)","v":279.41899999999998},null,null,null,null,null,null,970536502]
["Battery - Hand Held",970536003,20240103,2401,{"$f":"_xlfn.XLOOKUP(B90,'Battery - Hand Held'!$F$13:$F$83,'Battery - Hand Held'!$U$13:$U$83)","v":0},20240201,2405,{"$f":"_xlfn.XLOOKUP(B90,'Battery - Hand Held'!$F$13:$F$83,'Battery - Hand Held'!$V$13:$V$83)","v":0},20240301,2409,{"$f":"_xlfn.XLOOKUP(B90,'Battery - Hand Held'!$F$13:$F$83,'Battery - Hand Held'!$W$13:$W$83)","v":0},20240402,2414,{"$f":"_xlfn.XLOOKUP(B90,'Battery - Hand Held'!$F$13:$F$83,'Battery - Hand Held'!$X$13:$X$83)","v":0},20240501,2418,{"$f":"_xlfn.XLOOKUP(B90,'Battery - Hand Held'!$F$13:$F$83,'Battery - Hand Held'!$Y$13:$Y$83)","v":0},20240603,2423,{"$f":"_xlfn.XLOOKUP(B90,'Battery - Hand Held'!$F$13:$F$83,'Battery - Hand Held'!$Z$13:$Z$83)","v":0},{"$f":"_xlfn.XLOOKUP(B90,'Battery - Hand Held'!$F$13:$F$83,'Battery - Hand Held'!$L$13:$L$83)","v":191.91899999999998},null,null,null,null,null,null,970536503]
["Battery - Hand Held",970536002,20240103,2401,{"$f":"_xlfn.XLOOKUP(B91,'Battery - Hand Held'!$F$13:$F$83,'Battery - Hand Held'!$U$13:$U$83)","v":0},20240201,2405,{"$f":"_xlfn.XLOOKUP(B91,'Battery - Hand Held'!$F$13:$F$83,'Battery - Hand Held'!$V$13:$V$83)","v":0},20240301,2409,{"$f":"_xlfn.XLOOKUP(B91,'Battery - Hand Held'!$F$13:$F$83,'Battery - Hand Held'!$W$13:$W$83)","v":0},20240402,2414,{"$f":"_xlfn.XLOOKUP(B91,'Battery - Hand Held'!$F$13:$F$83,'Battery - Hand Held'!$X$13:$X$83)","v":0},20240501,2418,{"$f":"_xlfn.XLOOKUP(B91,'Battery - Hand Held'!$F$13:$F$83,'Battery - Hand Held'!$Y$13:$Y$83)","v":0},20240603,2423,{"$f":"_xlfn.XLOOKUP(B91,'Battery - Hand Held'!$F$13:$F$83,'Battery - Hand Held'!$Z$13:$Z$83)","v":0},{"$f":"_xlfn.XLOOKUP(B91,'Battery - Hand Held'!$F$13:$F$83,'Battery - Hand Held'!$L$13:$L$83)","v":174.41899999999998},null,null,null,null,null,null,970536505]
["Battery - Hand Held",970536001,20240103,2401,{"$f":"_xlfn.XLOOKUP(B92,'Battery - Hand Held'!$F$13:$F$83,'Battery - Hand Held'!$U$13:$U$83)","v":0},20240201,2405,{"$f":"_xlfn.XLOOKUP(B92,'Battery - Hand Held'!$F$13:$F$83,'Battery - Hand Held'!$V$13:$V$83)","v":0},20240301,2409,{"$f":"_xlfn.XLOOKUP(B92,'Battery - Hand Held'!$F$13:$F$83,'Battery - Hand Held'!$W$13:$W$83)","v":0},20240402,2414,{"$f":"_xlfn.XLOOKUP(B92,'Battery - Hand Held'!$F$13:$F$83,'Battery - Hand Held'!$X$13:$X$83)","v":0},20240501,2418,{"$f":"_xlfn.XLOOKUP(B92,'Battery - Hand Held'!$F$13:$F$83,'Battery - Hand Held'!$Y$13:$Y$83)","v":0},20240603,2423,{"$f":"_xlfn.XLOOKUP(B92,'Battery - Hand Held'!$F$13:$F$83,'Battery - Hand Held'!$Z$13:$Z$83)","v":0},{"$f":"_xlfn.XLOOKUP(B92,'Battery - Hand Held'!$F$13:$F$83,'Battery - Hand Held'!$L$13:$L$83)","v":133.58100000000002},null,null,null,null,null,null,970536102]
["Battery - Hand Held",970566901,20240103,2401,{"$f":"_xlfn.XLOOKUP(B93,'Battery - Hand Held'!$F$13:$F$83,'Battery - Hand Held'!$U$13:$U$83)","v":0},20240201,2405,{"$f":"_xlfn.XLOOKUP(B93,'Battery - Hand Held'!$F$13:$F$83,'Battery - Hand Held'!$V$13:$V$83)","v":0},20240301,2409,{"$f":"_xlfn.XLOOKUP(B93,'Battery - Hand Held'!$F$13:$F$83,'Battery - Hand Held'!$W$13:$W$83)","v":0},20240402,2414,{"$f":"_xlfn.XLOOKUP(B93,'Battery - Hand Held'!$F$13:$F$83,'Battery - Hand Held'!$X$13:$X$83)","v":0},20240501,2418,{"$f":"_xlfn.XLOOKUP(B93,'Battery - Hand Held'!$F$13:$F$83,'Battery - Hand Held'!$Y$13:$Y$83)","v":0},20240603,2423,{"$f":"_xlfn.XLOOKUP(B93,'Battery - Hand Held'!$F$13:$F$83,'Battery - Hand Held'!$Z$13:$Z$83)","v":0},{"$f":"_xlfn.XLOOKUP(B93,'Battery - Hand Held'!$F$13:$F$83,'Battery - Hand Held'!$L$13:$L$83)","v":232.75},null,null,null,null,null,null,970466401]
["Battery - Hand Held",970567001,20240103,2401,{"$f":"_xlfn.XLOOKUP(B94,'Battery - Hand Held'!$F$13:$F$83,'Battery - Hand Held'!$U$13:$U$83)","v":0},20240201,2405,{"$f":"_xlfn.XLOOKUP(B94,'Battery - Hand Held'!$F$13:$F$83,'Battery - Hand Held'!$V$13:$V$83)","v":0},20240301,2409,{"$f":"_xlfn.XLOOKUP(B94,'Battery - Hand Held'!$F$13:$F$83,'Battery - Hand Held'!$W$13:$W$83)","v":0},20240402,2414,{"$f":"_xlfn.XLOOKUP(B94,'Battery - Hand Held'!$F$13:$F$83,'Battery - Hand Held'!$X$13:$X$83)","v":0},20240501,2418,{"$f":"_xlfn.XLOOKUP(B94,'Battery - Hand Held'!$F$13:$F$83,'Battery - Hand Held'!$Y$13:$Y$83)","v":0},20240603,2423,{"$f":"_xlfn.XLOOKUP(B94,'Battery - Hand Held'!$F$13:$F$83,'Battery - Hand Held'!$Z$13:$Z$83)","v":0},{"$f":"_xlfn.XLOOKUP(B94,'Battery - Hand Held'!$F$13:$F$83,'Battery - Hand Held'!$L$13:$L$83)","v":232.75},null,null,null,null,null,null,967915813]
["Battery - Hand Held",970551401,20240103,2401,{"$f":"_xlfn.XLOOKUP(B95,'Battery - Hand Held'!$F$13:$F$83,'Battery - Hand Held'!$U$13:$U$83)","v":0},20240201,2405,{"$f":"_xlfn.XLOOKUP(B95,'Battery - Hand Held'!$F$13:$F$83,'Battery - Hand Held'!$V$13:$V$83)","v":0},20240301,2409,{"$f":"_xlfn.XLOOKUP(B95,'Battery - Hand Held'!$F$13:$F$83,'Battery - Hand Held'!$W$13:$W$83)","v":0},20240402,2414,{"$f":"_xlfn.XLOOKUP(B95,'Battery - Hand Held'!$F$13:$F$83,'Battery - Hand Held'!$X$13:$X$83)","v":0},20240501,2418,{"$f":"_xlfn.XLOOKUP(B95,'Battery - Hand Held'!$F$13:$F$83,'Battery - Hand Held'!$Y$13:$Y$83)","v":0},20240603,2423,{"$f":"_xlfn.XLOOKUP(B95,'Battery - Hand Held'!$F$13:$F$83,'Battery - Hand Held'!$Z$13:$Z$83)","v":0},{"$f":"_xlfn.XLOOKUP(B95,'Battery - Hand Held'!$F$13:$F$83,'Battery - Hand Held'!$L$13:$L$83)","v":302.75},null,null,null,null,null,null,967971203]
["Battery - Hand Held",967916113,20240103,2401,{"$f":"_xlfn.XLOOKUP(B96,'Battery - Hand Held'!$F$13:$F$83,'Battery - Hand Held'!$U$13:$U$83)","v":0},20240201,2405,{"$f":"_xlfn.XLOOKUP(B96,'Battery - Hand Held'!$F$13:$F$83,'Battery - Hand Held'!$V$13:$V$83)","v":0},20240301,2409,{"$f":"_xlfn.XLOOKUP(B96,'Battery - Hand Held'!$F$13:$F$83,'Battery - Hand Held'!$W$13:$W$83)","v":2},20240402,2414,{"$f":"_xlfn.XLOOKUP(B96,'Battery - Hand Held'!$F$13:$F$83,'Battery - Hand Held'!$X$13:$X$83)","v":0},20240501,2418,{"$f":"_xlfn.XLOOKUP(B96,'Battery - Hand Held'!$F$13:$F$83,'Battery - Hand Held'!$Y$13:$Y$83)","v":0},20240603,2423,{"$f":"_xlfn.XLOOKUP(B96,'Battery - Hand Held'!$F$13:$F$83,'Battery - Hand Held'!$Z$13:$Z$83)","v":0},{"$f":"_xlfn.XLOOKUP(B96,'Battery - Hand Held'!$F$13:$F$83,'Battery - Hand Held'!$L$13:$L$83)","v":238.58099999999996},null,null,null,null,null,null,970466002]
["Battery - Hand Held",967916203,20240103,2401,{"$f":"_xlfn.XLOOKUP(B97,'Battery - Hand Held'!$F$13:$F$83,'Battery - Hand Held'!$U$13:$U$83)","v":1},20240201,2405,{"$f":"_xlfn.XLOOKUP(B97,'Battery - Hand Held'!$F$13:$F$83,'Battery - Hand Held'!$V$13:$V$83)","v":0},20240301,2409,{"$f":"_xlfn.XLOOKUP(B97,'Battery - Hand Held'!$F$13:$F$83,'Battery - Hand Held'!$W$13:$W$83)","v":2},20240402,2414,{"$f":"_xlfn.XLOOKUP(B97,'Battery - Hand Held'!$F$13:$F$83,'Battery - Hand Held'!$X$13:$X$83)","v":0},20240501,2418,{"$f":"_xlfn.XLOOKUP(B97,'Battery - Hand Held'!$F$13:$F$83,'Battery - Hand Held'!$Y$13:$Y$83)","v":0},20240603,2423,{"$f":"_xlfn.XLOOKUP(B97,'Battery - Hand Held'!$F$13:$F$83,'Battery - Hand Held'!$Z$13:$Z$83)","v":0},{"$f":"_xlfn.XLOOKUP(B97,'Battery - Hand Held'!$F$13:$F$83,'Battery - Hand Held'!$L$13:$L$83)","v":261.91899999999998},null,null,null,null,null,null,970466102]
["Battery - Hand Held",967850504,20240103,2401,{"$f":"_xlfn.XLOOKUP(B98,'Battery - Hand Held'!$F$13:$F$83,'Battery - Hand Held'!$U$13:$U$83)","v":0},20240201,2405,{"$f":"_xlfn.XLOOKUP(B98,'Battery - Hand Held'!$F$13:$F$83,'Battery - Hand Held'!$V$13:$V$83)","v":0},20240301,2409,{"$f":"_xlfn.XLOOKUP(B98,'Battery - Hand Held'!$F$13:$F$83,'Battery - Hand Held'!$W$13:$W$83)","v":0},20240402,2414,{"$f":"_xlfn.XLOOKUP(B98,'Battery - Hand Held'!$F$13:$F$83,'Battery - Hand Held'!$X$13:$X$83)","v":0},20240501,2418,{"$f":"_xlfn.XLOOKUP(B98,'Battery - Hand Held'!$F$13:$F$83,'Battery - Hand Held'!$Y$13:$Y$83)","v":0},20240603,2423,{"$f":"_xlfn.XLOOKUP(B98,'Battery - Hand Held'!$F$13:$F$83,'Battery - Hand Held'!$Z$13:$Z$83)","v":0},{"$f":"_xlfn.XLOOKUP(B98,'Battery - Hand Held'!$F$13:$F$83,'Battery - Hand Held'!$L$13:$L$83)","v":407.75},null,null,null,null,null,null,970466202]
["Battery - Hand Held",967850605,20240103,2401,{"$f":"_xlfn.XLOOKUP(B99,'Battery - Hand Held'!$F$13:$F$83,'Battery - Hand Held'!$U$13:$U$83)","v":0},20240201,2405,{"$f":"_xlfn.XLOOKUP(B99,'Battery - Hand Held'!$F$13:$F$83,'Battery - Hand Held'!$V$13:$V$83)","v":0},20240301,2409,{"$f":"_xlfn.XLOOKUP(B99,'Battery - Hand Held'!$F$13:$F$83,'Battery - Hand Held'!$W$13:$W$83)","v":0},20240402,2414,{"$f":"_xlfn.XLOOKUP(B99,'Battery - Hand Held'!$F$13:$F$83,'Battery - Hand Held'!$X$13:$X$83)","v":0},20240501,2418,{"$f":"_xlfn.XLOOKUP(B99,'Battery - Hand Held'!$F$13:$F$83,'Battery - Hand Held'!$Y$13:$Y$83)","v":0},20240603,2423,{"$f":"_xlfn.XLOOKUP(B99,'Battery - Hand Held'!$F$13:$F$83,'Battery - Hand Held'!$Z$13:$Z$83)","v":0},{"$f":"_xlfn.XLOOKUP(B99,'Battery - Hand Held'!$F$13:$F$83,'Battery - Hand Held'!$L$13:$L$83)","v":378.58100000000002},null,null,null,null,null,null,967884711]
["Battery - Hand Held",967850607,20240103,2401,{"$f":"_xlfn.XLOOKUP(B100,'Battery - Hand Held'!$F$13:$F$83,'Battery - Hand Held'!$U$13:$U$83)","v":0},20240201,2405,{"$f":"_xlfn.XLOOKUP(B100,'Battery - Hand Held'!$F$13:$F$83,'Battery - Hand Held'!$V$13:$V$83)","v":0},20240301,2409,{"$f":"_xlfn.XLOOKUP(B100,'Battery - Hand Held'!$F$13:$F$83,'Battery - Hand Held'!$W$13:$W$83)","v":1},20240402,2414,{"$f":"_xlfn.XLOOKUP(B100,'Battery - Hand Held'!$F$13:$F$83,'Battery - Hand Held'!$X$13:$X$83)","v":0},20240501,2418,{"$f":"_xlfn.XLOOKUP(B100,'Battery - Hand Held'!$F$13:$F$83,'Battery - Hand Held'!$Y$13:$Y$83)","v":0},20240603,2423,{"$f":"_xlfn.XLOOKUP(B100,'Battery - Hand Held'!$F$13:$F$83,'Battery - Hand Held'!$Z$13:$Z$83)","v":0},{"$f":"_xlfn.XLOOKUP(B100,'Battery - Hand Held'!$F$13:$F$83,'Battery - Hand Held'!$L$13:$L$83)","v":436.91899999999998},null,null,null,null,null,null,967884811]
["Battery - Hand Held",970536502,20240103,2401,{"$f":"_xlfn.XLOOKUP(B101,'Battery - Hand Held'!$F$13:$F$83,'Battery - Hand Held'!$U$13:$U$83)","v":0},20240201,2405,{"$f":"_xlfn.XLOOKUP(B101,'Battery - Hand Held'!$F$13:$F$83,'Battery - Hand Held'!$V$13:$V$83)","v":0},20240301,2409,{"$f":"_xlfn.XLOOKUP(B101,'Battery - Hand Held'!$F$13:$F$83,'Battery - Hand Held'!$W$13:$W$83)","v":0},20240402,2414,{"$f":"_xlfn.XLOOKUP(B101,'Battery - Hand Held'!$F$13:$F$83,'Battery - Hand Held'!$X$13:$X$83)","v":0},20240501,2418,{"$f":"_xlfn.XLOOKUP(B101,'Battery - Hand Held'!$F$13:$F$83,'Battery - Hand Held'!$Y$13:$Y$83)","v":0},20240603,2423,{"$f":"_xlfn.XLOOKUP(B101,'Battery - Hand Held'!$F$13:$F$83,'Battery - Hand Held'!$Z$13:$Z$83)","v":0},{"$f":"_xlfn.XLOOKUP(B101,'Battery - Hand Held'!$F$13:$F$83,'Battery - Hand Held'!$L$13:$L$83)","v":174.41899999999998},null,null,null,null,null,null,970515905]
["Battery - Hand Held",970536501,20240103,2401,{"$f":"_xlfn.XLOOKUP(B102,'Battery - Hand Held'!$F$13:$F$83,'Battery - Hand Held'!$U$13:$U$83)","v":0},20240201,2405,{"$f":"_xlfn.XLOOKUP(B102,'Battery - Hand Held'!$F$13:$F$83,'Battery - Hand Held'!$V$13:$V$83)","v":0},20240301,2409,{"$f":"_xlfn.XLOOKUP(B102,'Battery - Hand Held'!$F$13:$F$83,'Battery - Hand Held'!$W$13:$W$83)","v":0},20240402,2414,{"$f":"_xlfn.XLOOKUP(B102,'Battery - Hand Held'!$F$13:$F$83,'Battery - Hand Held'!$X$13:$X$83)","v":0},20240501,2418,{"$f":"_xlfn.XLOOKUP(B102,'Battery - Hand Held'!$F$13:$F$83,'Battery - Hand Held'!$Y$13:$Y$83)","v":0},20240603,2423,{"$f":"_xlfn.XLOOKUP(B102,'Battery - Hand Held'!$F$13:$F$83,'Battery - Hand Held'!$Z$13:$Z$83)","v":0},{"$f":"_xlfn.XLOOKUP(B102,'Battery - Hand Held'!$F$13:$F$83,'Battery - Hand Held'!$L$13:$L$83)","v":133.58100000000002},null,null,null,null,null,null,970515902]
["Battery - Hand Held",970536505,20240103,2401,{"$f":"_xlfn.XLOOKUP(B103,'Battery - Hand Held'!$F$13:$F$83,'Battery - Hand Held'!$U$13:$U$83)","v":0},20240201,2405,{"$f":"_xlfn.XLOOKUP(B103,'Battery - Hand Held'!$F$13:$F$83,'Battery - Hand Held'!$V$13:$V$83)","v":0},20240301,2409,{"$f":"_xlfn.XLOOKUP(B103,'Battery - Hand Held'!$F$13:$F$83,'Battery - Hand Held'!$W$13:$W$83)","v":0},20240402,2414,{"$f":"_xlfn.XLOOKUP(B103,'Battery - Hand Held'!$F$13:$F$83,'Battery - Hand Held'!$X$13:$X$83)","v":0},20240501,2418,{"$f":"_xlfn.XLOOKUP(B103,'Battery - Hand Held'!$F$13:$F$83,'Battery - Hand Held'!$Y$13:$Y$83)","v":0},20240603,2423,{"$f":"_xlfn.XLOOKUP(B103,'Battery - Hand Held'!$F$13:$F$83,'Battery - Hand Held'!$Z$13:$Z$83)","v":0},{"$f":"_xlfn.XLOOKUP(B103,'Battery - Hand Held'!$F$13:$F$83,'Battery - Hand Held'!$L$13:$L$83)","v":191.91899999999998},null,null,null,null,null,null,970515908]
["Battery - Hand Held",970536603,20240103,2401,{"$f":"_xlfn.XLOOKUP(B104,'Battery - Hand Held'!$F$13:$F$83,'Battery - Hand Held'!$U$13:$U$83)","v":0},20240201,2405,{"$f":"_xlfn.XLOOKUP(B104,'Battery - Hand Held'!$F$13:$F$83,'Battery - Hand Held'!$V$13:$V$83)","v":0},20240301,2409,{"$f":"_xlfn.XLOOKUP(B104,'Battery - Hand Held'!$F$13:$F$83,'Battery - Hand Held'!$W$13:$W$83)","v":0},20240402,2414,{"$f":"_xlfn.XLOOKUP(B104,'Battery - Hand Held'!$F$13:$F$83,'Battery - Hand Held'!$X$13:$X$83)","v":0},20240501,2418,{"$f":"_xlfn.XLOOKUP(B104,'Battery - Hand Held'!$F$13:$F$83,'Battery - Hand Held'!$Y$13:$Y$83)","v":0},20240603,2423,{"$f":"_xlfn.XLOOKUP(B104,'Battery - Hand Held'!$F$13:$F$83,'Battery - Hand Held'!$Z$13:$Z$83)","v":0},{"$f":"_xlfn.XLOOKUP(B104,'Battery - Hand Held'!$F$13:$F$83,'Battery - Hand Held'!$L$13:$L$83)","v":145.25},null,null,null,null,null,null,970515906]
["Battery - Hand Held",970466401,20240103,2401,{"$f":"_xlfn.XLOOKUP(B105,'Battery - Hand Held'!$F$13:$F$83,'Battery - Hand Held'!$U$13:$U$83)","v":0},20240201,2405,{"$f":"_xlfn.XLOOKUP(B105,'Battery - Hand Held'!$F$13:$F$83,'Battery - Hand Held'!$V$13:$V$83)","v":0},20240301,2409,{"$f":"_xlfn.XLOOKUP(B105,'Battery - Hand Held'!$F$13:$F$83,'Battery - Hand Held'!$W$13:$W$83)","v":0},20240402,2414,{"$f":"_xlfn.XLOOKUP(B105,'Battery - Hand Held'!$F$13:$F$83,'Battery - Hand Held'!$X$13:$X$83)","v":0},20240501,2418,{"$f":"_xlfn.XLOOKUP(B105,'Battery - Hand Held'!$F$13:$F$83,'Battery - Hand Held'!$Y$13:$Y$83)","v":0},20240603,2423,{"$f":"_xlfn.XLOOKUP(B105,'Battery - Hand Held'!$F$13:$F$83,'Battery - Hand Held'!$Z$13:$Z$83)","v":0},{"$f":"_xlfn.XLOOKUP(B105,'Battery - Hand Held'!$F$13:$F$83,'Battery - Hand Held'!$L$13:$L$83)","v":221.08099999999996},null,null,null,null,null,null,970515903]
["Battery - Hand Held",967915813,20240103,2401,{"$f":"_xlfn.XLOOKUP(B106,'Battery - Hand Held'!$F$13:$F$83,'Battery - Hand Held'!$U$13:$U$83)","v":3},20240201,2405,{"$f":"_xlfn.XLOOKUP(B106,'Battery - Hand Held'!$F$13:$F$83,'Battery - Hand Held'!$V$13:$V$83)","v":2},20240301,2409,{"$f":"_xlfn.XLOOKUP(B106,'Battery - Hand Held'!$F$13:$F$83,'Battery - Hand Held'!$W$13:$W$83)","v":2},20240402,2414,{"$f":"_xlfn.XLOOKUP(B106,'Battery - Hand Held'!$F$13:$F$83,'Battery - Hand Held'!$X$13:$X$83)","v":2},20240501,2418,{"$f":"_xlfn.XLOOKUP(B106,'Battery - Hand Held'!$F$13:$F$83,'Battery - Hand Held'!$Y$13:$Y$83)","v":2},20240603,2423,{"$f":"_xlfn.XLOOKUP(B106,'Battery - Hand Held'!$F$13:$F$83,'Battery - Hand Held'!$Z$13:$Z$83)","v":2},{"$f":"_xlfn.XLOOKUP(B106,'Battery - Hand Held'!$F$13:$F$83,'Battery - Hand Held'!$L$13:$L$83)","v":279.41899999999998},null,null,null,null,null,null,529351901]
["Battery - Hand Held",967971203,20240103,2401,{"$f":"_xlfn.XLOOKUP(B107,'Battery - Hand Held'!$F$13:$F$83,'Battery - Hand Held'!$U$13:$U$83)","v":1},20240201,2405,{"$f":"_xlfn.XLOOKUP(B107,'Battery - Hand Held'!$F$13:$F$83,'Battery - Hand Held'!$V$13:$V$83)","v":0},20240301,2409,{"$f":"_xlfn.XLOOKUP(B107,'Battery - Hand Held'!$F$13:$F$83,'Battery - Hand Held'!$W$13:$W$83)","v":1},20240402,2414,{"$f":"_xlfn.XLOOKUP(B107,'Battery - Hand Held'!$F$13:$F$83,'Battery - Hand Held'!$X$13:$X$83)","v":0},20240501,2418,{"$f":"_xlfn.XLOOKUP(B107,'Battery - Hand Held'!$F$13:$F$83,'Battery - Hand Held'!$Y$13:$Y$83)","v":1},20240603,2423,{"$f":"_xlfn.XLOOKUP(B107,'Battery - Hand Held'!$F$13:$F$83,'Battery - Hand Held'!$Z$13:$Z$83)","v":0},{"$f":"_xlfn.XLOOKUP(B107,'Battery - Hand Held'!$F$13:$F$83,'Battery - Hand Held'!$L$13:$L$83)","v":337.75}]
["Battery - Hand Held",970466002,20240103,2401,{"$f":"_xlfn.XLOOKUP(B108,'Battery - Hand Held'!$F$13:$F$83,'Battery - Hand Held'!$U$13:$U$83)","v":2},20240201,2405,{"$f":"_xlfn.XLOOKUP(B108,'Battery - Hand Held'!$F$13:$F$83,'Battery - Hand Held'!$V$13:$V$83)","v":0},20240301,2409,{"$f":"_xlfn.XLOOKUP(B108,'Battery - Hand Held'!$F$13:$F$83,'Battery - Hand Held'!$W$13:$W$83)","v":2},20240402,2414,{"$f":"_xlfn.XLOOKUP(B108,'Battery - Hand Held'!$F$13:$F$83,'Battery - Hand Held'!$X$13:$X$83)","v":0},20240501,2418,{"$f":"_xlfn.XLOOKUP(B108,'Battery - Hand Held'!$F$13:$F$83,'Battery - Hand Held'!$Y$13:$Y$83)","v":2},20240603,2423,{"$f":"_xlfn.XLOOKUP(B108,'Battery - Hand Held'!$F$13:$F$83,'Battery - Hand Held'!$Z$13:$Z$83)","v":0},{"$f":"_xlfn.XLOOKUP(B108,'Battery - Hand Held'!$F$13:$F$83,'Battery - Hand Held'!$L$13:$L$83)","v":337.75}]
["Battery - Hand Held",970466102,20240103,2401,{"$f":"_xlfn.XLOOKUP(B109,'Battery - Hand Held'!$F$13:$F$83,'Battery - Hand Held'!$U$13:$U$83)","v":1},20240201,2405,{"$f":"_xlfn.XLOOKUP(B109,'Battery - Hand Held'!$F$13:$F$83,'Battery - Hand Held'!$V$13:$V$83)","v":0},20240301,2409,{"$f":"_xlfn.XLOOKUP(B109,'Battery - Hand Held'!$F$13:$F$83,'Battery - Hand Held'!$W$13:$W$83)","v":1},20240402,2414,{"$f":"_xlfn.XLOOKUP(B109,'Battery - Hand Held'!$F$13:$F$83,'Battery - Hand Held'!$X$13:$X$83)","v":0},20240501,2418,{"$f":"_xlfn.XLOOKUP(B109,'Battery - Hand Held'!$F$13:$F$83,'Battery - Hand Held'!$Y$13:$Y$83)","v":1},20240603,2423,{"$f":"_xlfn.XLOOKUP(B109,'Battery - Hand Held'!$F$13:$F$83,'Battery - Hand Held'!$Z$13:$Z$83)","v":0},{"$f":"_xlfn.XLOOKUP(B109,'Battery - Hand Held'!$F$13:$F$83,'Battery - Hand Held'!$L$13:$L$83)","v":366.91899999999998}]
["Battery - Hand Held",970466202,20240103,2401,{"$f":"_xlfn.XLOOKUP(B110,'Battery - Hand Held'!$F$13:$F$83,'Battery - Hand Held'!$U$13:$U$83)","v":0},20240201,2405,{"$f":"_xlfn.XLOOKUP(B110,'Battery - Hand Held'!$F$13:$F$83,'Battery - Hand Held'!$V$13:$V$83)","v":0},20240301,2409,{"$f":"_xlfn.XLOOKUP(B110,'Battery - Hand Held'!$F$13:$F$83,'Battery - Hand Held'!$W$13:$W$83)","v":0},20240402,2414,{"$f":"_xlfn.XLOOKUP(B110,'Battery - Hand Held'!$F$13:$F$83,'Battery - Hand Held'!$X$13:$X$83)","v":0},20240501,2418,{"$f":"_xlfn.XLOOKUP(B110,'Battery - Hand Held'!$F$13:$F$83,'Battery - Hand Held'!$Y$13:$Y$83)","v":0},20240603,2423,{"$f":"_xlfn.XLOOKUP(B110,'Battery - Hand Held'!$F$13:$F$83,'Battery - Hand Held'!$Z$13:$Z$83)","v":0},{"$f":"_xlfn.XLOOKUP(B110,'Battery - Hand Held'!$F$13:$F$83,'Battery - Hand Held'!$L$13:$L$83)","v":337.75}]
["Battery - Hand Held",967884711,20240103,2401,{"$f":"_xlfn.XLOOKUP(B111,'Battery - Hand Held'!$F$13:$F$83,'Battery - Hand Held'!$U$13:$U$83)","v":0},20240201,2405,{"$f":"_xlfn.XLOOKUP(B111,'Battery - Hand Held'!$F$13:$F$83,'Battery - Hand Held'!$V$13:$V$83)","v":0},20240301,2409,{"$f":"_xlfn.XLOOKUP(B111,'Battery - Hand Held'!$F$13:$F$83,'Battery - Hand Held'!$W$13:$W$83)","v":0},20240402,2414,{"$f":"_xlfn.XLOOKUP(B111,'Battery - Hand Held'!$F$13:$F$83,'Battery - Hand Held'!$X$13:$X$83)","v":0},20240501,2418,{"$f":"_xlfn.XLOOKUP(B111,'Battery - Hand Held'!$F$13:$F$83,'Battery - Hand Held'!$Y$13:$Y$83)","v":0},20240603,2423,{"$f":"_xlfn.XLOOKUP(B111,'Battery - Hand Held'!$F$13:$F$83,'Battery - Hand Held'!$Z$13:$Z$83)","v":0},{"$f":"_xlfn.XLOOKUP(B111,'Battery - Hand Held'!$F$13:$F$83,'Battery - Hand Held'!$L$13:$L$83)","v":349.41899999999998}]
["Battery - Hand Held",967884811,20240103,2401,{"$f":"_xlfn.XLOOKUP(B112,'Battery - Hand Held'!$F$13:$F$83,'Battery - Hand Held'!$U$13:$U$83)","v":0},20240201,2405,{"$f":"_xlfn.XLOOKUP(B112,'Battery - Hand Held'!$F$13:$F$83,'Battery - Hand Held'!$V$13:$V$83)","v":0},20240301,2409,{"$f":"_xlfn.XLOOKUP(B112,'Battery - Hand Held'!$F$13:$F$83,'Battery - Hand Held'!$W$13:$W$83)","v":0},20240402,2414,{"$f":"_xlfn.XLOOKUP(B112,'Battery - Hand Held'!$F$13:$F$83,'Battery - Hand Held'!$X$13:$X$83)","v":0},20240501,2418,{"$f":"_xlfn.XLOOKUP(B112,'Battery - Hand Held'!$F$13:$F$83,'Battery - Hand Held'!$Y$13:$Y$83)","v":0},20240603,2423,{"$f":"_xlfn.XLOOKUP(B112,'Battery - Hand Held'!$F$13:$F$83,'Battery - Hand Held'!$Z$13:$Z$83)","v":0},{"$f":"_xlfn.XLOOKUP(B112,'Battery - Hand Held'!$F$13:$F$83,'Battery - Hand Held'!$L$13:$L$83)","v":407.75}]
["Battery - Hand Held",970515907,20240103,2401,{"$f":"_xlfn.XLOOKUP(B113,'Battery - Hand Held'!$F$13:$F$83,'Battery - Hand Held'!$U$13:$U$83)","v":0},20240201,2405,{"$f":"_xlfn.XLOOKUP(B113,'Battery - Hand Held'!$F$13:$F$83,'Battery - Hand Held'!$V$13:$V$83)","v":0},20240301,2409,{"$f":"_xlfn.XLOOKUP(B113,'Battery - Hand Held'!$F$13:$F$83,'Battery - Hand Held'!$W$13:$W$83)","v":0},20240402,2414,{"$f":"_xlfn.XLOOKUP(B113,'Battery - Hand Held'!$F$13:$F$83,'Battery - Hand Held'!$X$13:$X$83)","v":0},20240501,2418,{"$f":"_xlfn.XLOOKUP(B113,'Battery - Hand Held'!$F$13:$F$83,'Battery - Hand Held'!$Y$13:$Y$83)","v":0},20240603,2423,{"$f":"_xlfn.XLOOKUP(B113,'Battery - Hand Held'!$F$13:$F$83,'Battery - Hand Held'!$Z$13:$Z$83)","v":0},{"$f":"_xlfn.XLOOKUP(B113,'Battery - Hand Held'!$F$13:$F$83,'Battery - Hand Held'!$L$13:$L$83)","v":191.91899999999998}]
["Battery - Hand Held",970515902,20240103,2401,{"$f":"_xlfn.XLOOKUP(B114,'Battery - Hand Held'!$F$13:$F$83,'Battery - Hand Held'!$U$13:$U$83)","v":0},20240201,2405,{"$f":"_xlfn.XLOOKUP(B114,'Battery - Hand Held'!$F$13:$F$83,'Battery - Hand Held'!$V$13:$V$83)","v":0},20240301,2409,{"$f":"_xlfn.XLOOKUP(B114,'Battery - Hand Held'!$F$13:$F$83,'Battery - Hand Held'!$W$13:$W$83)","v":0},20240402,2414,{"$f":"_xlfn.XLOOKUP(B114,'Battery - Hand Held'!$F$13:$F$83,'Battery - Hand Held'!$X$13:$X$83)","v":0},20240501,2418,{"$f":"_xlfn.XLOOKUP(B114,'Battery - Hand Held'!$F$13:$F$83,'Battery - Hand Held'!$Y$13:$Y$83)","v":0},20240603,2423,{"$f":"_xlfn.XLOOKUP(B114,'Battery - Hand Held'!$F$13:$F$83,'Battery - Hand Held'!$Z$13:$Z$83)","v":0},{"$f":"_xlfn.XLOOKUP(B114,'Battery - Hand Held'!$F$13:$F$83,'Battery - Hand Held'!$L$13:$L$83)","v":133.58100000000002}]
["Battery - Hand Held",529351902,20240103,2401,{"$f":"_xlfn.XLOOKUP(B115,'Battery - Hand Held'!$F$13:$F$83,'Battery - Hand Held'!$U$13:$U$83)","v":0},20240201,2405,{"$f":"_xlfn.XLOOKUP(B115,'Battery - Hand Held'!$F$13:$F$83,'Battery - Hand Held'!$V$13:$V$83)","v":0},20240301,2409,{"$f":"_xlfn.XLOOKUP(B115,'Battery - Hand Held'!$F$13:$F$83,'Battery - Hand Held'!$W$13:$W$83)","v":0},20240402,2414,{"$f":"_xlfn.XLOOKUP(B115,'Battery - Hand Held'!$F$13:$F$83,'Battery - Hand Held'!$X$13:$X$83)","v":0},20240501,2418,{"$f":"_xlfn.XLOOKUP(B115,'Battery - Hand Held'!$F$13:$F$83,'Battery - Hand Held'!$Y$13:$Y$83)","v":0},20240603,2423,{"$f":"_xlfn.XLOOKUP(B115,'Battery - Hand Held'!$F$13:$F$83,'Battery - Hand Held'!$Z$13:$Z$83)","v":0},{"$f":"_xlfn.XLOOKUP(B115,'Battery - Hand Held'!$F$13:$F$83,'Battery - Hand Held'!$L$13:$L$83)","v":69.992999999999995}]
["Battery - Hand Held",970515904,20240103,2401,{"$f":"_xlfn.XLOOKUP(B116,'Battery - Hand Held'!$F$13:$F$83,'Battery - Hand Held'!$U$13:$U$83)","v":0},20240201,2405,{"$f":"_xlfn.XLOOKUP(B116,'Battery - Hand Held'!$F$13:$F$83,'Battery - Hand Held'!$V$13:$V$83)","v":0},20240301,2409,{"$f":"_xlfn.XLOOKUP(B116,'Battery - Hand Held'!$F$13:$F$83,'Battery - Hand Held'!$W$13:$W$83)","v":0},20240402,2414,{"$f":"_xlfn.XLOOKUP(B116,'Battery - Hand Held'!$F$13:$F$83,'Battery - Hand Held'!$X$13:$X$83)","v":0},20240501,2418,{"$f":"_xlfn.XLOOKUP(B116,'Battery - Hand Held'!$F$13:$F$83,'Battery - Hand Held'!$Y$13:$Y$83)","v":0},20240603,2423,{"$f":"_xlfn.XLOOKUP(B116,'Battery - Hand Held'!$F$13:$F$83,'Battery - Hand Held'!$Z$13:$Z$83)","v":0},{"$f":"_xlfn.XLOOKUP(B116,'Battery - Hand Held'!$F$13:$F$83,'Battery - Hand Held'!$L$13:$L$83)","v":191.91899999999998}]
["Battery - Lawn",970648203,20240103,2401,{"$f":"_xlfn.XLOOKUP(B117,'Battery - Lawn'!$F$13:$F$45,'Battery - Lawn'!$U$13:$U$45)","v":0},20240201,2405,{"$f":"_xlfn.XLOOKUP(B117,'Battery - Lawn'!$F$20:$F$45,'Battery - Lawn'!$V$20:$V$45)","v":0},20240301,2409,{"$f":"_xlfn.XLOOKUP(B117,'Battery - Lawn'!$F$20:$F$45,'Battery - Lawn'!$W$20:$W$45)","v":0},20240402,2414,{"$f":"_xlfn.XLOOKUP(B117,'Battery - Lawn'!$F$20:$F$45,'Battery - Lawn'!$X$20:$X$45)","v":0},20240501,2418,{"$f":"_xlfn.XLOOKUP(B117,'Battery - Lawn'!$F$20:$F$45,'Battery - Lawn'!$Y$20:$Y$45)","v":0},20240603,2423,{"$f":"_xlfn.XLOOKUP(B117,'Battery - Lawn'!$F$20:$F$45,'Battery - Lawn'!$Z$20:$Z$45)","v":0},{"$f":"_xlfn.XLOOKUP(B117,'Battery - Lawn'!$F$20:$F$45,'Battery - Lawn'!$L$20:$L$45)","v":320.25}]
["Battery - Lawn",970648201,20240103,2401,{"$f":"_xlfn.XLOOKUP(B118,'Battery - Lawn'!$F$13:$F$45,'Battery - Lawn'!$U$13:$U$45)","v":0},20240201,2405,{"$f":"_xlfn.XLOOKUP(B118,'Battery - Lawn'!$F$13:$F$45,'Battery - Lawn'!$V$13:$V$45)","v":0},20240301,2409,{"$f":"_xlfn.XLOOKUP(B118,'Battery - Lawn'!$F$13:$F$45,'Battery - Lawn'!$W$13:$W$45)","v":0},20240402,2414,{"$f":"_xlfn.XLOOKUP(B118,'Battery - Lawn'!$F$13:$F$45,'Battery - Lawn'!$X$13:$X$45)","v":0},20240501,2418,{"$f":"_xlfn.XLOOKUP(B118,'Battery - Lawn'!$F$13:$F$45,'Battery - Lawn'!$Y$13:$Y$45)","v":0},20240603,2423,{"$f":"_xlfn.XLOOKUP(B118,'Battery - Lawn'!$F$13:$F$45,'Battery - Lawn'!$Z$13:$Z$45)","v":0},{"$f":"_xlfn.XLOOKUP(B118,'Battery - Lawn'!$F$13:$F$45,'Battery - Lawn'!$L$13:$L$45)","v":244.41899999999998}]
["Battery - Lawn",970626001,20240103,2401,{"$f":"_xlfn.XLOOKUP(B119,'Battery - Lawn'!$F$13:$F$45,'Battery - Lawn'!$U$13:$U$45)","v":0},20240201,2405,{"$f":"_xlfn.XLOOKUP(B119,'Battery - Lawn'!$F$13:$F$45,'Battery - Lawn'!$V$13:$V$45)","v":0},20240301,2409,{"$f":"_xlfn.XLOOKUP(B119,'Battery - Lawn'!$F$13:$F$45,'Battery - Lawn'!$W$13:$W$45)","v":0},20240402,2414,{"$f":"_xlfn.XLOOKUP(B119,'Battery - Lawn'!$F$13:$F$45,'Battery - Lawn'!$X$13:$X$45)","v":0},20240501,2418,{"$f":"_xlfn.XLOOKUP(B119,'Battery - Lawn'!$F$13:$F$45,'Battery - Lawn'!$Y$13:$Y$45)","v":0},20240603,2423,{"$f":"_xlfn.XLOOKUP(B119,'Battery - Lawn'!$F$13:$F$45,'Battery - Lawn'!$Z$13:$Z$45)","v":0},{"$f":"_xlfn.XLOOKUP(B119,'Battery - Lawn'!$F$20:$F$45,'Battery - Lawn'!$L$20:$L$45)","v":827.75}]
["Battery - Lawn",970541801,20240103,2401,{"$f":"_xlfn.XLOOKUP(B120,'Battery - Lawn'!$F$13:$F$45,'Battery - Lawn'!$U$13:$U$45)","v":0},20240201,2405,{"$f":"_xlfn.XLOOKUP(B120,'Battery - Lawn'!$F$13:$F$45,'Battery - Lawn'!$V$13:$V$45)","v":0},20240301,2409,{"$f":"_xlfn.XLOOKUP(B120,'Battery - Lawn'!$F$13:$F$45,'Battery - Lawn'!$W$13:$W$45)","v":0},20240402,2414,{"$f":"_xlfn.XLOOKUP(B120,'Battery - Lawn'!$F$13:$F$45,'Battery - Lawn'!$X$13:$X$45)","v":0},20240501,2418,{"$f":"_xlfn.XLOOKUP(B120,'Battery - Lawn'!$F$13:$F$45,'Battery - Lawn'!$Y$13:$Y$45)","v":0},20240603,2423,{"$f":"_xlfn.XLOOKUP(B120,'Battery - Lawn'!$F$13:$F$45,'Battery - Lawn'!$Z$13:$Z$45)","v":0},{"$f":"_xlfn.XLOOKUP(B120,'Battery - Lawn'!$F$13:$F$45,'Battery - Lawn'!$L$13:$L$45)","v":250.25}]
["Battery - Lawn",970541901,20240103,2401,{"$f":"_xlfn.XLOOKUP(B121,'Battery - Lawn'!$F$13:$F$45,'Battery - Lawn'!$U$13:$U$45)","v":0},20240201,2405,{"$f":"_xlfn.XLOOKUP(B121,'Battery - Lawn'!$F$13:$F$45,'Battery - Lawn'!$V$13:$V$45)","v":0},20240301,2409,{"$f":"_xlfn.XLOOKUP(B121,'Battery - Lawn'!$F$13:$F$45,'Battery - Lawn'!$W$13:$W$45)","v":0},20240402,2414,{"$f":"_xlfn.XLOOKUP(B121,'Battery - Lawn'!$F$13:$F$45,'Battery - Lawn'!$X$13:$X$45)","v":0},20240501,2418,{"$f":"_xlfn.XLOOKUP(B121,'Battery - Lawn'!$F$13:$F$45,'Battery - Lawn'!$Y$13:$Y$45)","v":0},20240603,2423,{"$f":"_xlfn.XLOOKUP(B121,'Battery - Lawn'!$F$13:$F$45,'Battery - Lawn'!$Z$13:$Z$45)","v":0},{"$f":"_xlfn.XLOOKUP(B121,'Battery - Lawn'!$F$13:$F$45,'Battery - Lawn'!$L$13:$L$45)","v":320.25}]
["Battery - Lawn",531223201,20240103,2401,{"$f":"_xlfn.XLOOKUP(B122,'Battery - Lawn'!$F$13:$F$45,'Battery - Lawn'!$U$13:$U$45)","v":0},20240201,2405,{"$f":"_xlfn.XLOOKUP(B122,'Battery - Lawn'!$F$13:$F$45,'Battery - Lawn'!$V$13:$V$45)","v":0},20240301,2409,{"$f":"_xlfn.XLOOKUP(B122,'Battery - Lawn'!$F$13:$F$45,'Battery - Lawn'!$W$13:$W$45)","v":0},20240402,2414,{"$f":"_xlfn.XLOOKUP(B122,'Battery - Lawn'!$F$13:$F$45,'Battery - Lawn'!$X$13:$X$45)","v":0},20240501,2418,{"$f":"_xlfn.XLOOKUP(B122,'Battery - Lawn'!$F$13:$F$45,'Battery - Lawn'!$Y$13:$Y$45)","v":0},20240603,2423,{"$f":"_xlfn.XLOOKUP(B122,'Battery - Lawn'!$F$13:$F$45,'Battery - Lawn'!$Z$13:$Z$45)","v":0},{"$f":"_xlfn.XLOOKUP(B122,'Battery - Lawn'!$F$13:$F$45,'Battery - Lawn'!$L$13:$L$45)","v":26.243000000000002}]
["Battery - Lawn",970542001,20240103,2401,{"$f":"_xlfn.XLOOKUP(B123,'Battery - Lawn'!$F$13:$F$45,'Battery - Lawn'!$U$13:$U$45)","v":0},20240201,2405,{"$f":"_xlfn.XLOOKUP(B123,'Battery - Lawn'!$F$13:$F$45,'Battery - Lawn'!$V$13:$V$45)","v":0},20240301,2409,{"$f":"_xlfn.XLOOKUP(B123,'Battery - Lawn'!$F$13:$F$45,'Battery - Lawn'!$W$13:$W$45)","v":0},20240402,2414,{"$f":"_xlfn.XLOOKUP(B123,'Battery - Lawn'!$F$13:$F$45,'Battery - Lawn'!$X$13:$X$45)","v":0},20240501,2418,{"$f":"_xlfn.XLOOKUP(B123,'Battery - Lawn'!$F$13:$F$45,'Battery - Lawn'!$Y$13:$Y$45)","v":0},20240603,2423,{"$f":"_xlfn.XLOOKUP(B123,'Battery - Lawn'!$F$13:$F$45,'Battery - Lawn'!$Z$13:$Z$45)","v":0},{"$f":"_xlfn.XLOOKUP(B123,'Battery - Lawn'!$F$13:$F$45,'Battery - Lawn'!$L$13:$L$45)","v":349.41899999999998}]
["Battery - Lawn",970525701,20240103,2401,{"$f":"_xlfn.XLOOKUP(B124,'Battery - Lawn'!$F$13:$F$45,'Battery - Lawn'!$U$13:$U$45)","v":0},20240201,2405,{"$f":"_xlfn.XLOOKUP(B124,'Battery - Lawn'!$F$13:$F$45,'Battery - Lawn'!$V$13:$V$45)","v":0},20240301,2409,{"$f":"_xlfn.XLOOKUP(B124,'Battery - Lawn'!$F$13:$F$45,'Battery - Lawn'!$W$13:$W$45)","v":0},20240402,2414,{"$f":"_xlfn.XLOOKUP(B124,'Battery - Lawn'!$F$13:$F$45,'Battery - Lawn'!$X$13:$X$45)","v":0},20240501,2418,{"$f":"_xlfn.XLOOKUP(B124,'Battery - Lawn'!$F$13:$F$45,'Battery - Lawn'!$Y$13:$Y$45)","v":0},20240603,2423,{"$f":"_xlfn.XLOOKUP(B124,'Battery - Lawn'!$F$13:$F$45,'Battery - Lawn'!$Z$13:$Z$45)","v":0},{"$f":"_xlfn.XLOOKUP(B124,'Battery - Lawn'!$F$13:$F$45,'Battery - Lawn'!$L$13:$L$45)","v":874.41899999999998}]
["Battery - Lawn",970648301,20240103,2401,{"$f":"_xlfn.XLOOKUP(B125,Aspire!$F$13:$F$45,Aspire!$U$13:$U$45)","v":0},20240201,2405,{"$f":"_xlfn.XLOOKUP(B125,Aspire!$F$13:$F$45,Aspire!$V$13:$V$45)","v":0},20240301,2409,{"$f":"_xlfn.XLOOKUP(B125,Aspire!$F$13:$F$45,Aspire!$W$13:$W$45)","v":0},20240402,2414,{"$f":"_xlfn.XLOOKUP(B125,Aspire!$F$13:$F$45,Aspire!$X$13:$X$45)","v":0},20240501,2418,{"$f":"_xlfn.XLOOKUP(B125,Aspire!$F$13:$F$45,Aspire!$Y$13:$Y$45)","v":0},20240603,2423,{"$f":"_xlfn.XLOOKUP(B125,Aspire!$F$13:$F$45,Aspire!$Z$13:$Z$45)","v":0},{"$f":"_xlfn.XLOOKUP(B125,Aspire!$F$13:$F$45,Aspire!$L$13:$L$45)","v":162.75}]
["Battery - Lawn",970648305,20240103,2401,{"$f":"_xlfn.XLOOKUP(B126,Aspire!$F$13:$F$45,Aspire!$U$13:$U$45)","v":0},20240201,2405,{"$f":"_xlfn.XLOOKUP(B126,Aspire!$F$13:$F$45,Aspire!$V$13:$V$45)","v":4},20240301,2409,{"$f":"_xlfn.XLOOKUP(B126,Aspire!$F$13:$F$45,Aspire!$W$13:$W$45)","v":4},20240402,2414,{"$f":"_xlfn.XLOOKUP(B126,Aspire!$F$13:$F$45,Aspire!$X$13:$X$45)","v":4},20240501,2418,{"$f":"_xlfn.XLOOKUP(B126,Aspire!$F$13:$F$45,Aspire!$Y$13:$Y$45)","v":4},20240603,2423,{"$f":"_xlfn.XLOOKUP(B126,Aspire!$F$13:$F$45,Aspire!$Z$13:$Z$45)","v":0},{"$f":"_xlfn.XLOOKUP(B126,Aspire!$F$13:$F$45,Aspire!$L$13:$L$45)","v":203.58099999999996}]
["Battery - Hand Held",970621302,20240103,2401,{"$f":"_xlfn.XLOOKUP(B127,Aspire!$F$13:$F$45,Aspire!$U$13:$U$45)","v":0},20240201,2405,{"$f":"_xlfn.XLOOKUP(B127,Aspire!$F$13:$F$45,Aspire!$V$13:$V$45)","v":0},20240301,2409,{"$f":"_xlfn.XLOOKUP(B127,Aspire!$F$13:$F$45,Aspire!$W$13:$W$45)","v":0},20240402,2414,{"$f":"_xlfn.XLOOKUP(B127,Aspire!$F$13:$F$45,Aspire!$X$13:$X$45)","v":0},20240501,2418,{"$f":"_xlfn.XLOOKUP(B127,Aspire!$F$13:$F$45,Aspire!$Y$13:$Y$45)","v":0},20240603,2423,{"$f":"_xlfn.XLOOKUP(B127,Aspire!$F$13:$F$45,Aspire!$Z$13:$Z$45)","v":0},{"$f":"_xlfn.XLOOKUP(B127,Aspire!$F$13:$F$45,Aspire!$L$13:$L$45)","v":69.992999999999995}]
["Battery - Hand Held",970621306,20240103,2401,{"$f":"_xlfn.XLOOKUP(B128,Aspire!$F$13:$F$45,Aspire!$U$13:$U$45)","v":2},20240201,2405,{"$f":"_xlfn.XLOOKUP(B128,Aspire!$F$13:$F$45,Aspire!$V$13:$V$45)","v":2},20240301,2409,{"$f":"_xlfn.XLOOKUP(B128,Aspire!$F$13:$F$45,Aspire!$W$13:$W$45)","v":2},20240402,2414,{"$f":"_xlfn.XLOOKUP(B128,Aspire!$F$13:$F$45,Aspire!$X$13:$X$45)","v":2},20240501,2418,{"$f":"_xlfn.XLOOKUP(B128,Aspire!$F$13:$F$45,Aspire!$Y$13:$Y$45)","v":2},20240603,2423,{"$f":"_xlfn.XLOOKUP(B128,Aspire!$F$13:$F$45,Aspire!$Z$13:$Z$45)","v":2},{"$f":"_xlfn.XLOOKUP(B128,Aspire!$F$13:$F$45,Aspire!$L$13:$L$45)","v":99.161999999999992}]
["Battery - Hand Held",970621402,20240103,2401,{"$f":"_xlfn.XLOOKUP(B129,Aspire!$F$13:$F$45,Aspire!$U$13:$U$45)","v":0},20240201,2405,{"$f":"_xlfn.XLOOKUP(B129,Aspire!$F$13:$F$45,Aspire!$V$13:$V$45)","v":0},20240301,2409,{"$f":"_xlfn.XLOOKUP(B129,Aspire!$F$13:$F$45,Aspire!$W$13:$W$45)","v":0},20240402,2414,{"$f":"_xlfn.XLOOKUP(B129,Aspire!$F$13:$F$45,Aspire!$X$13:$X$45)","v":0},20240501,2418,{"$f":"_xlfn.XLOOKUP(B129,Aspire!$F$13:$F$45,Aspire!$Y$13:$Y$45)","v":0},20240603,2423,{"$f":"_xlfn.XLOOKUP(B129,Aspire!$F$13:$F$45,Aspire!$Z$13:$Z$45)","v":0},{"$f":"_xlfn.XLOOKUP(B129,Aspire!$F$13:$F$45,Aspire!$L$13:$L$45)","v":104.99299999999999}]
["Battery - Hand Held",970621406,20240103,2401,{"$f":"_xlfn.XLOOKUP(B130,Aspire!$F$13:$F$45,Aspire!$U$13:$U$45)","v":2},20240201,2405,{"$f":"_xlfn.XLOOKUP(B130,Aspire!$F$13:$F$45,Aspire!$V$13:$V$45)","v":2},20240301,2409,{"$f":"_xlfn.XLOOKUP(B130,Aspire!$F$13:$F$45,Aspire!$W$13:$W$45)","v":2},20240402,2414,{"$f":"_xlfn.XLOOKUP(B130,Aspire!$F$13:$F$45,Aspire!$X$13:$X$45)","v":2},20240501,2418,{"$f":"_xlfn.XLOOKUP(B130,Aspire!$F$13:$F$45,Aspire!$Y$13:$Y$45)","v":2},20240603,2423,{"$f":"_xlfn.XLOOKUP(B130,Aspire!$F$13:$F$45,Aspire!$Z$13:$Z$45)","v":2},{"$f":"_xlfn.XLOOKUP(B130,Aspire!$F$13:$F$45,Aspire!$L$13:$L$45)","v":162.75}]
["Battery - Hand Held",970620402,20240103,2401,{"$f":"_xlfn.XLOOKUP(B131,Aspire!$F$13:$F$45,Aspire!$U$13:$U$45)","v":0},20240201,2405,{"$f":"_xlfn.XLOOKUP(B131,Aspire!$F$13:$F$45,Aspire!$V$13:$V$45)","v":0},20240301,2409,{"$f":"_xlfn.XLOOKUP(B131,Aspire!$F$13:$F$45,Aspire!$W$13:$W$45)","v":0},20240402,2414,{"$f":"_xlfn.XLOOKUP(B131,Aspire!$F$13:$F$45,Aspire!$X$13:$X$45)","v":0},20240501,2418,{"$f":"_xlfn.XLOOKUP(B131,Aspire!$F$13:$F$45,Aspire!$Y$13:$Y$45)","v":0},20240603,2423,{"$f":"_xlfn.XLOOKUP(B131,Aspire!$F$13:$F$45,Aspire!$Z$13:$Z$45)","v":0},{"$f":"_xlfn.XLOOKUP(B131,Aspire!$F$13:$F$45,Aspire!$L$13:$L$45)","v":75.830999999999989}]
["Battery - Hand Held",970620405,20240103,2401,{"$f":"_xlfn.XLOOKUP(B132,Aspire!$F$13:$F$45,Aspire!$U$13:$U$45)","v":2},20240201,2405,{"$f":"_xlfn.XLOOKUP(B132,Aspire!$F$13:$F$45,Aspire!$V$13:$V$45)","v":0},20240301,2409,{"$f":"_xlfn.XLOOKUP(B132,Aspire!$F$13:$F$45,Aspire!$W$13:$W$45)","v":2},20240402,2414,{"$f":"_xlfn.XLOOKUP(B132,Aspire!$F$13:$F$45,Aspire!$X$13:$X$45)","v":0},20240501,2418,{"$f":"_xlfn.XLOOKUP(B132,Aspire!$F$13:$F$45,Aspire!$Y$13:$Y$45)","v":2},20240603,2423,{"$f":"_xlfn.XLOOKUP(B132,Aspire!$F$13:$F$45,Aspire!$Z$13:$Z$45)","v":2},{"$f":"_xlfn.XLOOKUP(B132,Aspire!$F$13:$F$45,Aspire!$L$13:$L$45)","v":133.58100000000002}]
["Battery - Hand Held",970620302,20240103,2401,{"$f":"_xlfn.XLOOKUP(B133,Aspire!$F$13:$F$45,Aspire!$U$13:$U$45)","v":0},20240201,2405,{"$f":"_xlfn.XLOOKUP(B133,Aspire!$F$13:$F$45,Aspire!$V$13:$V$45)","v":0},20240301,2409,{"$f":"_xlfn.XLOOKUP(B133,Aspire!$F$13:$F$45,Aspire!$W$13:$W$45)","v":0},20240402,2414,{"$f":"_xlfn.XLOOKUP(B133,Aspire!$F$13:$F$45,Aspire!$X$13:$X$45)","v":0},20240501,2418,{"$f":"_xlfn.XLOOKUP(B133,Aspire!$F$13:$F$45,Aspire!$Y$13:$Y$45)","v":0},20240603,2423,{"$f":"_xlfn.XLOOKUP(B133,Aspire!$F$13:$F$45,Aspire!$Z$13:$Z$45)","v":0},{"$f":"_xlfn.XLOOKUP(B133,Aspire!$F$13:$F$45,Aspire!$L$13:$L$45)","v":81.661999999999992}]
["Battery - Hand Held",970620305,20240103,2401,{"$f":"_xlfn.XLOOKUP(B134,Aspire!$F$13:$F$45,Aspire!$U$13:$U$45)","v":0},20240201,2405,{"$f":"_xlfn.XLOOKUP(B134,Aspire!$F$13:$F$45,Aspire!$V$13:$V$45)","v":0},20240301,2409,{"$f":"_xlfn.XLOOKUP(B134,Aspire!$F$13:$F$45,Aspire!$W$13:$W$45)","v":2},20240402,2414,{"$f":"_xlfn.XLOOKUP(B134,Aspire!$F$13:$F$45,Aspire!$X$13:$X$45)","v":2},20240501,2418,{"$f":"_xlfn.XLOOKUP(B134,Aspire!$F$13:$F$45,Aspire!$Y$13:$Y$45)","v":2},20240603,2423,{"$f":"_xlfn.XLOOKUP(B134,Aspire!$F$13:$F$45,Aspire!$Z$13:$Z$45)","v":2},{"$f":"_xlfn.XLOOKUP(B134,Aspire!$F$13:$F$45,Aspire!$L$13:$L$45)","v":116.66199999999999}]
["Battery - Hand Held",970620202,20240103,2401,{"$f":"_xlfn.XLOOKUP(B135,Aspire!$F$13:$F$45,Aspire!$U$13:$U$45)","v":0},20240201,2405,{"$f":"_xlfn.XLOOKUP(B135,Aspire!$F$13:$F$45,Aspire!$V$13:$V$45)","v":0},20240301,2409,{"$f":"_xlfn.XLOOKUP(B135,Aspire!$F$13:$F$45,Aspire!$W$13:$W$45)","v":0},20240402,2414,{"$f":"_xlfn.XLOOKUP(B135,Aspire!$F$13:$F$45,Aspire!$X$13:$X$45)","v":0},20240501,2418,{"$f":"_xlfn.XLOOKUP(B135,Aspire!$F$13:$F$45,Aspire!$Y$13:$Y$45)","v":0},20240603,2423,{"$f":"_xlfn.XLOOKUP(B135,Aspire!$F$13:$F$45,Aspire!$Z$13:$Z$45)","v":0},{"$f":"_xlfn.XLOOKUP(B135,Aspire!$F$13:$F$45,Aspire!$L$13:$L$45)","v":75.830999999999989}]
["Battery - Hand Held",970620205,20240103,2401,{"$f":"_xlfn.XLOOKUP(B136,Aspire!$F$13:$F$45,Aspire!$U$13:$U$45)","v":2},20240201,2405,{"$f":"_xlfn.XLOOKUP(B136,Aspire!$F$13:$F$45,Aspire!$V$13:$V$45)","v":3},20240301,2409,{"$f":"_xlfn.XLOOKUP(B136,Aspire!$F$13:$F$45,Aspire!$W$13:$W$45)","v":3},20240402,2414,{"$f":"_xlfn.XLOOKUP(B136,Aspire!$F$13:$F$45,Aspire!$X$13:$X$45)","v":3},20240501,2418,{"$f":"_xlfn.XLOOKUP(B136,Aspire!$F$13:$F$45,Aspire!$Y$13:$Y$45)","v":3},20240603,2423,{"$f":"_xlfn.XLOOKUP(B136,Aspire!$F$13:$F$45,Aspire!$Z$13:$Z$45)","v":3},{"$f":"_xlfn.XLOOKUP(B136,Aspire!$F$13:$F$45,Aspire!$L$13:$L$45)","v":104.99299999999999}]
["Battery - Hand Held",970620208,20240103,2401,{"$f":"_xlfn.XLOOKUP(B137,Aspire!$F$13:$F$45,Aspire!$U$13:$U$45)","v":0},20240201,2405,{"$f":"_xlfn.XLOOKUP(B137,Aspire!$F$13:$F$45,Aspire!$V$13:$V$45)","v":1},20240301,2409,{"$f":"_xlfn.XLOOKUP(B137,Aspire!$F$13:$F$45,Aspire!$W$13:$W$45)","v":1},20240402,2414,{"$f":"_xlfn.XLOOKUP(B137,Aspire!$F$13:$F$45,Aspire!$X$13:$X$45)","v":1},20240501,2418,{"$f":"_xlfn.XLOOKUP(B137,Aspire!$F$13:$F$45,Aspire!$Y$13:$Y$45)","v":1},20240603,2423,{"$f":"_xlfn.XLOOKUP(B137,Aspire!$F$13:$F$45,Aspire!$Z$13:$Z$45)","v":1},{"$f":"_xlfn.XLOOKUP(B137,Aspire!$F$13:$F$45,Aspire!$L$13:$L$45)","v":116.66199999999999}]
["Battery - Lawn",970500904,20240103,2401,{"$f":"_xlfn.XLOOKUP(B138,'Battery - Lawn'!$F$13:$F$45,'Battery - Lawn'!$U$13:$U$45)","v":0},20240201,2405,{"$f":"_xlfn.XLOOKUP(B138,'Battery - Lawn'!$F$13:$F$45,'Battery - Lawn'!$V$13:$V$45)","v":0},20240301,2409,{"$f":"_xlfn.XLOOKUP(B138,'Battery - Lawn'!$F$13:$F$45,'Battery - Lawn'!$W$13:$W$45)","v":0},20240402,2414,{"$f":"_xlfn.XLOOKUP(B138,'Battery - Lawn'!$F$13:$F$45,'Battery - Lawn'!$X$13:$X$45)","v":0},20240501,2418,{"$f":"_xlfn.XLOOKUP(B138,'Battery - Lawn'!$F$13:$F$45,'Battery - Lawn'!$Y$13:$Y$45)","v":0},20240603,2423,{"$f":"_xlfn.XLOOKUP(B138,'Battery - Lawn'!$F$13:$F$45,'Battery - Lawn'!$Z$13:$Z$45)","v":0},{"$f":"_xlfn.XLOOKUP(B138,'Battery - Lawn'!$F$13:$F$45,'Battery - Lawn'!$L$13:$L$45)","v":261.91899999999998}]
["Battery - Lawn",970541804,20240103,2401,{"$f":"_xlfn.XLOOKUP(B139,'Battery - Lawn'!$F$13:$F$45,'Battery - Lawn'!$U$13:$U$45)","v":0},20240201,2405,{"$f":"_xlfn.XLOOKUP(B139,'Battery - Lawn'!$F$13:$F$45,'Battery - Lawn'!$V$13:$V$45)","v":0},20240301,2409,{"$f":"_xlfn.XLOOKUP(B139,'Battery - Lawn'!$F$13:$F$45,'Battery - Lawn'!$W$13:$W$45)","v":0},20240402,2414,{"$f":"_xlfn.XLOOKUP(B139,'Battery - Lawn'!$F$13:$F$45,'Battery - Lawn'!$X$13:$X$45)","v":0},20240501,2418,{"$f":"_xlfn.XLOOKUP(B139,'Battery - Lawn'!$F$13:$F$45,'Battery - Lawn'!$Y$13:$Y$45)","v":0},20240603,2423,{"$f":"_xlfn.XLOOKUP(B139,'Battery - Lawn'!$F$13:$F$45,'Battery - Lawn'!$Z$13:$Z$45)","v":0},{"$f":"_xlfn.XLOOKUP(B139,'Battery - Lawn'!$F$13:$F$45,'Battery - Lawn'!$L$13:$L$45)","v":320.25}]
["Battery - Lawn",970541902,20240103,2401,{"$f":"_xlfn.XLOOKUP(B140,'Battery - Lawn'!$F$13:$F$45,'Battery - Lawn'!$U$13:$U$45)","v":0},20240201,2405,{"$f":"_xlfn.XLOOKUP(B140,'Battery - Lawn'!$F$13:$F$45,'Battery - Lawn'!$V$13:$V$45)","v":0},20240301,2409,{"$f":"_xlfn.XLOOKUP(B140,'Battery - Lawn'!$F$13:$F$45,'Battery - Lawn'!$W$13:$W$45)","v":0},20240402,2414,{"$f":"_xlfn.XLOOKUP(B140,'Battery - Lawn'!$F$13:$F$45,'Battery - Lawn'!$X$13:$X$45)","v":0},20240501,2418,{"$f":"_xlfn.XLOOKUP(B140,'Battery - Lawn'!$F$13:$F$45,'Battery - Lawn'!$Y$13:$Y$45)","v":0},20240603,2423,{"$f":"_xlfn.XLOOKUP(B140,'Battery - Lawn'!$F$13:$F$45,'Battery - Lawn'!$Z$13:$Z$45)","v":0},{"$f":"_xlfn.XLOOKUP(B140,'Battery - Lawn'!$F$13:$F$45,'Battery - Lawn'!$L$13:$L$45)","v":378.58100000000002}]
["Battery - Lawn",967848201,20240103,2401,{"$f":"_xlfn.XLOOKUP(B141,'Battery - Lawn'!$F$13:$F$45,'Battery - Lawn'!$U$13:$U$45)","v":0},20240201,2405,{"$f":"_xlfn.XLOOKUP(B141,'Battery - Lawn'!$F$13:$F$45,'Battery - Lawn'!$V$13:$V$45)","v":0},20240301,2409,{"$f":"_xlfn.XLOOKUP(B141,'Battery - Lawn'!$F$13:$F$45,'Battery - Lawn'!$W$13:$W$45)","v":0},20240402,2414,{"$f":"_xlfn.XLOOKUP(B141,'Battery - Lawn'!$F$13:$F$45,'Battery - Lawn'!$X$13:$X$45)","v":0},20240501,2418,{"$f":"_xlfn.XLOOKUP(B141,'Battery - Lawn'!$F$13:$F$45,'Battery - Lawn'!$Y$13:$Y$45)","v":0},20240603,2423,{"$f":"_xlfn.XLOOKUP(B141,'Battery - Lawn'!$F$13:$F$45,'Battery - Lawn'!$Z$13:$Z$45)","v":0},{"$f":"_xlfn.XLOOKUP(B141,'Battery - Lawn'!$F$13:$F$45,'Battery - Lawn'!$L$13:$L$45)","v":3382.75}]
["Battery - Lawn",595308601,20240103,2401,{"$f":"_xlfn.XLOOKUP(B142,'Battery - Lawn'!$F$13:$F$45,'Battery - Lawn'!$U$13:$U$45)","v":0},20240201,2405,{"$f":"_xlfn.XLOOKUP(B142,'Battery - Lawn'!$F$13:$F$45,'Battery - Lawn'!$V$13:$V$45)","v":0},20240301,2409,{"$f":"_xlfn.XLOOKUP(B142,'Battery - Lawn'!$F$13:$F$45,'Battery - Lawn'!$W$13:$W$45)","v":0},20240402,2414,{"$f":"_xlfn.XLOOKUP(B142,'Battery - Lawn'!$F$13:$F$45,'Battery - Lawn'!$X$13:$X$45)","v":0},20240501,2418,{"$f":"_xlfn.XLOOKUP(B142,'Battery - Lawn'!$F$13:$F$45,'Battery - Lawn'!$Y$13:$Y$45)","v":0},20240603,2423,{"$f":"_xlfn.XLOOKUP(B142,'Battery - Lawn'!$F$13:$F$45,'Battery - Lawn'!$Z$13:$Z$45)","v":0},{"$f":"_xlfn.XLOOKUP(B142,'Battery - Lawn'!$F$13:$F$45,'Battery - Lawn'!$L$13:$L$45)","v":133.58100000000002}]
["Battery - Lawn",537548002,20240103,2401,{"$f":"_xlfn.XLOOKUP(B143,'Battery - Lawn'!$F$13:$F$45,'Battery - Lawn'!$U$13:$U$45)","v":0},20240201,2405,{"$f":"_xlfn.XLOOKUP(B143,'Battery - Lawn'!$F$13:$F$45,'Battery - Lawn'!$V$13:$V$45)","v":0},20240301,2409,{"$f":"_xlfn.XLOOKUP(B143,'Battery - Lawn'!$F$13:$F$45,'Battery - Lawn'!$W$13:$W$45)","v":0},20240402,2414,{"$f":"_xlfn.XLOOKUP(B143,'Battery - Lawn'!$F$13:$F$45,'Battery - Lawn'!$X$13:$X$45)","v":0},20240501,2418,{"$f":"_xlfn.XLOOKUP(B143,'Battery - Lawn'!$F$13:$F$45,'Battery - Lawn'!$Y$13:$Y$45)","v":0},20240603,2423,{"$f":"_xlfn.XLOOKUP(B143,'Battery - Lawn'!$F$13:$F$45,'Battery - Lawn'!$Z$13:$Z$45)","v":0},{"$f":"_xlfn.XLOOKUP(B143,'Battery - Lawn'!$F$13:$F$45,'Battery - Lawn'!$L$13:$L$45)","v":156.91899999999998}]
["Battery - Lawn",970500901,20240103,2401,{"$f":"_xlfn.XLOOKUP(B144,'Battery - Lawn'!$F$13:$F$45,'Battery - Lawn'!$U$13:$U$45)","v":0},20240201,2405,{"$f":"_xlfn.XLOOKUP(B144,'Battery - Lawn'!$F$13:$F$45,'Battery - Lawn'!$V$13:$V$45)","v":0},20240301,2409,{"$f":"_xlfn.XLOOKUP(B144,'Battery - Lawn'!$F$13:$F$45,'Battery - Lawn'!$W$13:$W$45)","v":0},20240402,2414,{"$f":"_xlfn.XLOOKUP(B144,'Battery - Lawn'!$F$13:$F$45,'Battery - Lawn'!$X$13:$X$45)","v":0},20240501,2418,{"$f":"_xlfn.XLOOKUP(B144,'Battery - Lawn'!$F$13:$F$45,'Battery - Lawn'!$Y$13:$Y$45)","v":0},20240603,2423,{"$f":"_xlfn.XLOOKUP(B144,'Battery - Lawn'!$F$13:$F$45,'Battery - Lawn'!$Z$13:$Z$45)","v":0},{"$f":"_xlfn.XLOOKUP(B144,'Battery - Lawn'!$F$13:$F$45,'Battery - Lawn'!$L$13:$L$45)","v":186.08099999999996}]
["Battery - Lawn",970482301,20240103,2401,{"$f":"_xlfn.XLOOKUP(B145,'Battery - Lawn'!$F$13:$F$45,'Battery - Lawn'!$U$13:$U$45)","v":0},20240201,2405,{"$f":"_xlfn.XLOOKUP(B145,'Battery - Lawn'!$F$20:$F$45,'Battery - Lawn'!$V$20:$V$45)","v":0},20240301,2409,{"$f":"_xlfn.XLOOKUP(B145,'Battery - Lawn'!$F$13:$F$45,'Battery - Lawn'!$W$13:$W$45)","v":0},20240402,2414,{"$f":"_xlfn.XLOOKUP(B145,'Battery - Lawn'!$F$13:$F$45,'Battery - Lawn'!$X$13:$X$45)","v":0},20240501,2418,{"$f":"_xlfn.XLOOKUP(B145,'Battery - Lawn'!$F$13:$F$45,'Battery - Lawn'!$Y$13:$Y$45)","v":0},20240603,2423,{"$f":"_xlfn.XLOOKUP(B145,'Battery - Lawn'!$F$13:$F$45,'Battery - Lawn'!$Z$13:$Z$45)","v":0},{"$f":"_xlfn.XLOOKUP(B145,'Battery - Lawn'!$F$13:$F$45,'Battery - Lawn'!$L$13:$L$45)","v":407.75}]
["Battery - Lawn",970482401,20240103,2401,{"$f":"_xlfn.XLOOKUP(B146,'Battery - Lawn'!$F$13:$F$45,'Battery - Lawn'!$U$13:$U$45)","v":0},20240201,2405,{"$f":"_xlfn.XLOOKUP(B146,'Battery - Lawn'!$F$20:$F$45,'Battery - Lawn'!$V$20:$V$45)","v":0},20240301,2409,{"$f":"_xlfn.XLOOKUP(B146,'Battery - Lawn'!$F$13:$F$45,'Battery - Lawn'!$W$13:$W$45)","v":0},20240402,2414,{"$f":"_xlfn.XLOOKUP(B146,'Battery - Lawn'!$F$13:$F$45,'Battery - Lawn'!$X$13:$X$45)","v":0},20240501,2418,{"$f":"_xlfn.XLOOKUP(B146,'Battery - Lawn'!$F$13:$F$45,'Battery - Lawn'!$Y$13:$Y$45)","v":0},20240603,2423,{"$f":"_xlfn.XLOOKUP(B146,'Battery - Lawn'!$F$13:$F$45,'Battery - Lawn'!$Z$13:$Z$45)","v":0},{"$f":"_xlfn.XLOOKUP(B146,'Battery - Lawn'!$F$20:$F$45,'Battery - Lawn'!$L$20:$L$45)","v":553.58100000000002}]
["Battery - Lawn",967977301,20240103,2401,{"$f":"_xlfn.XLOOKUP(B147,'Battery - Lawn'!$F$13:$F$45,'Battery - Lawn'!$U$13:$U$45)","v":0},20240201,2405,{"$f":"_xlfn.XLOOKUP(B147,'Battery - Lawn'!$F$20:$F$45,'Battery - Lawn'!$V$20:$V$45)","v":0},20240301,2409,{"$f":"_xlfn.XLOOKUP(B147,'Battery - Lawn'!$F$20:$F$45,'Battery - Lawn'!$W$20:$W$45)","v":0},20240402,2414,{"$f":"_xlfn.XLOOKUP(B147,'Battery - Lawn'!$F$20:$F$45,'Battery - Lawn'!$X$20:$X$45)","v":0},20240501,2418,{"$f":"_xlfn.XLOOKUP(B147,'Battery - Lawn'!$F$13:$F$45,'Battery - Lawn'!$Y$13:$Y$45)","v":0},20240603,2423,{"$f":"_xlfn.XLOOKUP(B147,'Battery - Lawn'!$F$13:$F$45,'Battery - Lawn'!$Z$13:$Z$45)","v":0},{"$f":"_xlfn.XLOOKUP(B147,'Battery - Lawn'!$F$20:$F$45,'Battery - Lawn'!$L$20:$L$45)","v":664.41899999999987}]
["Battery - Lawn",967862301,20240103,2401,{"$f":"_xlfn.XLOOKUP(B148,'Battery - Lawn'!$F$13:$F$45,'Battery - Lawn'!$U$13:$U$45)","v":0},20240201,2405,{"$f":"_xlfn.XLOOKUP(B148,'Battery - Lawn'!$F$20:$F$45,'Battery - Lawn'!$V$20:$V$45)","v":0},20240301,2409,{"$f":"_xlfn.XLOOKUP(B148,'Battery - Lawn'!$F$20:$F$45,'Battery - Lawn'!$W$20:$W$45)","v":0},20240402,2414,{"$f":"_xlfn.XLOOKUP(B148,'Battery - Lawn'!$F$20:$F$45,'Battery - Lawn'!$X$20:$X$45)","v":0},20240501,2418,{"$f":"_xlfn.XLOOKUP(B148,'Battery - Lawn'!$F$13:$F$45,'Battery - Lawn'!$Y$13:$Y$45)","v":0},20240603,2423,{"$f":"_xlfn.XLOOKUP(B148,'Battery - Lawn'!$F$13:$F$45,'Battery - Lawn'!$Z$13:$Z$45)","v":0},{"$f":"_xlfn.XLOOKUP(B148,'Battery - Lawn'!$F$20:$F$45,'Battery - Lawn'!$L$20:$L$45)","v":436.91899999999998}]
["Battery - Lawn",967862001,20240103,2401,{"$f":"_xlfn.XLOOKUP(B149,'Battery - Lawn'!$F$13:$F$45,'Battery - Lawn'!$U$13:$U$45)","v":0},20240201,2405,{"$f":"_xlfn.XLOOKUP(B149,'Battery - Lawn'!$F$20:$F$45,'Battery - Lawn'!$V$20:$V$45)","v":0},20240301,2409,{"$f":"_xlfn.XLOOKUP(B149,'Battery - Lawn'!$F$20:$F$45,'Battery - Lawn'!$W$20:$W$45)","v":0},20240402,2414,{"$f":"_xlfn.XLOOKUP(B149,'Battery - Lawn'!$F$20:$F$45,'Battery - Lawn'!$X$20:$X$45)","v":0},20240501,2418,{"$f":"_xlfn.XLOOKUP(B149,'Battery - Lawn'!$F$13:$F$45,'Battery - Lawn'!$Y$13:$Y$45)","v":0},20240603,2423,{"$f":"_xlfn.XLOOKUP(B149,'Battery - Lawn'!$F$20:$F$45,'Battery - Lawn'!$Z$20:$Z$45)","v":0},{"$f":"_xlfn.XLOOKUP(B149,'Battery - Lawn'!$F$20:$F$45,'Battery - Lawn'!$L$20:$L$45)","v":466.08100000000002}]
["Battery - Lawn",599831201,20240103,2401,{"$f":"_xlfn.XLOOKUP(B150,'Battery - Lawn'!$F$13:$F$45,'Battery - Lawn'!$U$13:$U$45)","v":0},20240201,2405,{"$f":"_xlfn.XLOOKUP(B150,'Battery - Lawn'!$F$20:$F$45,'Battery - Lawn'!$V$20:$V$45)","v":0},20240301,2409,{"$f":"_xlfn.XLOOKUP(B150,'Battery - Lawn'!$F$20:$F$45,'Battery - Lawn'!$W$20:$W$45)","v":0},20240402,2414,{"$f":"_xlfn.XLOOKUP(B150,'Battery - Lawn'!$F$20:$F$45,'Battery - Lawn'!$X$20:$X$45)","v":0},20240501,2418,{"$f":"_xlfn.XLOOKUP(B150,'Battery - Lawn'!$F$20:$F$45,'Battery - Lawn'!$Y$20:$Y$45)","v":0},20240603,2423,{"$f":"_xlfn.XLOOKUP(B150,'Battery - Lawn'!$F$20:$F$45,'Battery - Lawn'!$Z$20:$Z$45)","v":0},{"$f":"_xlfn.XLOOKUP(B150,'Battery - Lawn'!$F$20:$F$45,'Battery - Lawn'!$L$20:$L$45)","v":20.411999999999999}]
["Battery - Lawn",597848701,20240103,2401,{"$f":"_xlfn.XLOOKUP(B151,'Battery - Lawn'!$F$13:$F$45,'Battery - Lawn'!$U$13:$U$45)","v":0},20240201,2405,{"$f":"_xlfn.XLOOKUP(B151,'Battery - Lawn'!$F$20:$F$45,'Battery - Lawn'!$V$20:$V$45)","v":0},20240301,2409,{"$f":"_xlfn.XLOOKUP(B151,'Battery - Lawn'!$F$20:$F$45,'Battery - Lawn'!$W$20:$W$45)","v":0},20240402,2414,{"$f":"_xlfn.XLOOKUP(B151,'Battery - Lawn'!$F$20:$F$45,'Battery - Lawn'!$X$20:$X$45)","v":0},20240501,2418,{"$f":"_xlfn.XLOOKUP(B151,'Battery - Lawn'!$F$20:$F$45,'Battery - Lawn'!$Y$20:$Y$45)","v":0},20240603,2423,{"$f":"_xlfn.XLOOKUP(B151,'Battery - Lawn'!$F$20:$F$45,'Battery - Lawn'!$Z$20:$Z$45)","v":0},{"$f":"_xlfn.XLOOKUP(B151,'Battery - Lawn'!$F$20:$F$45,'Battery - Lawn'!$L$20:$L$45)","v":33.242999999999995}]
["Battery - Lawn",597413701,20240103,2401,{"$f":"_xlfn.XLOOKUP(B152,'Battery - Lawn'!$F$13:$F$45,'Battery - Lawn'!$U$13:$U$45)","v":0},20240201,2405,{"$f":"_xlfn.XLOOKUP(B152,'Battery - Lawn'!$F$20:$F$45,'Battery - Lawn'!$V$20:$V$45)","v":0},20240301,2409,{"$f":"_xlfn.XLOOKUP(B152,'Battery - Lawn'!$F$20:$F$45,'Battery - Lawn'!$W$20:$W$45)","v":0},20240402,2414,{"$f":"_xlfn.XLOOKUP(B152,'Battery - Lawn'!$F$20:$F$45,'Battery - Lawn'!$X$20:$X$45)","v":0},20240501,2418,{"$f":"_xlfn.XLOOKUP(B152,'Battery - Lawn'!$F$20:$F$45,'Battery - Lawn'!$Y$20:$Y$45)","v":0},20240603,2423,{"$f":"_xlfn.XLOOKUP(B152,'Battery - Lawn'!$F$20:$F$45,'Battery - Lawn'!$Z$20:$Z$45)","v":0},{"$f":"_xlfn.XLOOKUP(B152,'Battery - Lawn'!$F$20:$F$45,'Battery - Lawn'!$L$20:$L$45)","v":33.242999999999995}]
["Battery - Lawn",595001101,20240103,2401,{"$f":"_xlfn.XLOOKUP(B153,'Battery - Lawn'!$F$13:$F$45,'Battery - Lawn'!$U$13:$U$45)","v":0},20240201,2405,{"$f":"_xlfn.XLOOKUP(B153,'Battery - Lawn'!$F$20:$F$45,'Battery - Lawn'!$V$20:$V$45)","v":0},20240301,2409,{"$f":"_xlfn.XLOOKUP(B153,'Battery - Lawn'!$F$20:$F$45,'Battery - Lawn'!$W$20:$W$45)","v":0},20240402,2414,{"$f":"_xlfn.XLOOKUP(B153,'Battery - Lawn'!$F$20:$F$45,'Battery - Lawn'!$X$20:$X$45)","v":0},20240501,2418,{"$f":"_xlfn.XLOOKUP(B153,'Battery - Lawn'!$F$20:$F$45,'Battery - Lawn'!$Y$20:$Y$45)","v":0},20240603,2423,{"$f":"_xlfn.XLOOKUP(B153,'Battery - Lawn'!$F$20:$F$45,'Battery - Lawn'!$Z$20:$Z$45)","v":0},{"$f":"_xlfn.XLOOKUP(B153,'Battery - Lawn'!$F$20:$F$45,'Battery - Lawn'!$L$20:$L$45)","v":29.161999999999995}]
["Battery - Lawn",590790901,20240103,2401,{"$f":"_xlfn.XLOOKUP(B154,'Battery - Lawn'!$F$13:$F$45,'Battery - Lawn'!$U$13:$U$45)","v":0},20240201,2405,{"$f":"_xlfn.XLOOKUP(B154,'Battery - Lawn'!$F$20:$F$45,'Battery - Lawn'!$V$20:$V$45)","v":0},20240301,2409,{"$f":"_xlfn.XLOOKUP(B154,'Battery - Lawn'!$F$20:$F$45,'Battery - Lawn'!$W$20:$W$45)","v":0},20240402,2414,{"$f":"_xlfn.XLOOKUP(B154,'Battery - Lawn'!$F$20:$F$45,'Battery - Lawn'!$X$20:$X$45)","v":0},20240501,2418,{"$f":"_xlfn.XLOOKUP(B154,'Battery - Lawn'!$F$20:$F$45,'Battery - Lawn'!$Y$20:$Y$45)","v":0},20240603,2423,{"$f":"_xlfn.XLOOKUP(B154,'Battery - Lawn'!$F$20:$F$45,'Battery - Lawn'!$Z$20:$Z$45)","v":0},{"$f":"_xlfn.XLOOKUP(B154,'Battery - Lawn'!$F$20:$F$45,'Battery - Lawn'!$L$20:$L$45)","v":29.161999999999995}]
["Battery - Lawn",589222701,20240103,2401,{"$f":"_xlfn.XLOOKUP(B155,'Battery - Lawn'!$F$13:$F$45,'Battery - Lawn'!$U$13:$U$45)","v":0},20240201,2405,{"$f":"_xlfn.XLOOKUP(B155,'Battery - Lawn'!$F$20:$F$45,'Battery - Lawn'!$V$20:$V$45)","v":0},20240301,2409,{"$f":"_xlfn.XLOOKUP(B155,'Battery - Lawn'!$F$20:$F$45,'Battery - Lawn'!$W$20:$W$45)","v":0},20240402,2414,{"$f":"_xlfn.XLOOKUP(B155,'Battery - Lawn'!$F$20:$F$45,'Battery - Lawn'!$X$20:$X$45)","v":0},20240501,2418,{"$f":"_xlfn.XLOOKUP(B155,'Battery - Lawn'!$F$20:$F$45,'Battery - Lawn'!$Y$20:$Y$45)","v":0},20240603,2423,{"$f":"_xlfn.XLOOKUP(B155,'Battery - Lawn'!$F$20:$F$45,'Battery - Lawn'!$Z$20:$Z$45)","v":0},{"$f":"_xlfn.XLOOKUP(B155,'Battery - Lawn'!$F$20:$F$45,'Battery - Lawn'!$L$20:$L$45)","v":20.411999999999999}]
["Battery - Lawn",970649901,20240103,2401,{"$f":"_xlfn.XLOOKUP(B156,'Battery - Lawn'!$F$13:$F$45,'Battery - Lawn'!$U$13:$U$45)","v":0},20240201,2405,{"$f":"_xlfn.XLOOKUP(B156,'Battery - Lawn'!$F$20:$F$45,'Battery - Lawn'!$V$20:$V$45)","v":0},20240301,2409,{"$f":"_xlfn.XLOOKUP(B156,'Battery - Lawn'!$F$20:$F$45,'Battery - Lawn'!$W$20:$W$45)","v":0},20240402,2414,{"$f":"_xlfn.XLOOKUP(B156,'Battery - Lawn'!$F$20:$F$45,'Battery - Lawn'!$X$20:$X$45)","v":0},20240501,2418,{"$f":"_xlfn.XLOOKUP(B156,'Battery - Lawn'!$F$20:$F$45,'Battery - Lawn'!$Y$20:$Y$45)","v":0},20240603,2423,{"$f":"_xlfn.XLOOKUP(B156,'Battery - Lawn'!$F$20:$F$45,'Battery - Lawn'!$Z$20:$Z$45)","v":0},{"$f":"_xlfn.XLOOKUP(B156,'Battery - Lawn'!$F$20:$F$45,'Battery - Lawn'!$L$20:$L$45)","v":3936.9189999999999}]
["Battery - Lawn",970650001,20240103,2401,{"$f":"_xlfn.XLOOKUP(B157,'Battery - Lawn'!$F$13:$F$45,'Battery - Lawn'!$U$13:$U$45)","v":0},20240201,2405,{"$f":"_xlfn.XLOOKUP(B157,'Battery - Lawn'!$F$20:$F$45,'Battery - Lawn'!$V$20:$V$45)","v":0},20240301,2409,{"$f":"_xlfn.XLOOKUP(B157,'Battery - Lawn'!$F$20:$F$45,'Battery - Lawn'!$W$20:$W$45)","v":0},20240402,2414,{"$f":"_xlfn.XLOOKUP(B157,'Battery - Lawn'!$F$20:$F$45,'Battery - Lawn'!$X$20:$X$45)","v":0},20240501,2418,{"$f":"_xlfn.XLOOKUP(B157,'Battery - Lawn'!$F$20:$F$45,'Battery - Lawn'!$Y$20:$Y$45)","v":0},20240603,2423,{"$f":"_xlfn.XLOOKUP(B157,'Battery - Lawn'!$F$20:$F$45,'Battery - Lawn'!$Z$20:$Z$45)","v":0},{"$f":"_xlfn.XLOOKUP(B157,'Battery - Lawn'!$F$20:$F$45,'Battery - Lawn'!$L$20:$L$45)","v":757.75}]
["Battery - Lawn",970650101,20240103,2401,{"$f":"_xlfn.XLOOKUP(B158,'Battery - Lawn'!$F$13:$F$45,'Battery - Lawn'!$U$13:$U$45)","v":0},20240201,2405,{"$f":"_xlfn.XLOOKUP(B158,'Battery - Lawn'!$F$20:$F$45,'Battery - Lawn'!$V$20:$V$45)","v":0},20240301,2409,{"$f":"_xlfn.XLOOKUP(B158,'Battery - Lawn'!$F$20:$F$45,'Battery - Lawn'!$W$20:$W$45)","v":0},20240402,2414,{"$f":"_xlfn.XLOOKUP(B158,'Battery - Lawn'!$F$20:$F$45,'Battery - Lawn'!$X$20:$X$45)","v":0},20240501,2418,{"$f":"_xlfn.XLOOKUP(B158,'Battery - Lawn'!$F$20:$F$45,'Battery - Lawn'!$Y$20:$Y$45)","v":0},20240603,2423,{"$f":"_xlfn.XLOOKUP(B158,'Battery - Lawn'!$F$20:$F$45,'Battery - Lawn'!$Z$20:$Z$45)","v":0},{"$f":"_xlfn.XLOOKUP(B158,'Battery - Lawn'!$F$20:$F$45,'Battery - Lawn'!$L$20:$L$45)","v":816.0809999999999}]
["Battery - Lawn",967922203,20240103,2401,{"$f":"_xlfn.XLOOKUP(B159,'Battery - Lawn'!$F$13:$F$45,'Battery - Lawn'!$U$13:$U$45)","v":0},20240201,2405,{"$f":"_xlfn.XLOOKUP(B159,'Battery - Lawn'!$F$20:$F$45,'Battery - Lawn'!$V$20:$V$45)","v":0},20240301,2409,{"$f":"_xlfn.XLOOKUP(B159,'Battery - Lawn'!$F$20:$F$45,'Battery - Lawn'!$W$20:$W$45)","v":0},20240402,2414,{"$f":"_xlfn.XLOOKUP(B159,'Battery - Lawn'!$F$20:$F$45,'Battery - Lawn'!$X$20:$X$45)","v":0},20240501,2418,{"$f":"_xlfn.XLOOKUP(B159,'Battery - Lawn'!$F$20:$F$45,'Battery - Lawn'!$Y$20:$Y$45)","v":0},20240603,2423,{"$f":"_xlfn.XLOOKUP(B159,'Battery - Lawn'!$F$20:$F$45,'Battery - Lawn'!$Z$20:$Z$45)","v":0},{"$f":"_xlfn.XLOOKUP(B159,'Battery - Lawn'!$F$20:$F$45,'Battery - Lawn'!$L$20:$L$45)","v":291.08099999999996}]
["Battery - Lawn",967922201,20240103,2401,{"$f":"_xlfn.XLOOKUP(B160,'Battery - Lawn'!$F$13:$F$45,'Battery - Lawn'!$U$13:$U$45)","v":0},20240201,2405,{"$f":"_xlfn.XLOOKUP(B160,'Battery - Lawn'!$F$20:$F$45,'Battery - Lawn'!$V$20:$V$45)","v":0},20240301,2409,{"$f":"_xlfn.XLOOKUP(B160,'Battery - Lawn'!$F$20:$F$45,'Battery - Lawn'!$W$20:$W$45)","v":0},20240402,2414,{"$f":"_xlfn.XLOOKUP(B160,'Battery - Lawn'!$F$20:$F$45,'Battery - Lawn'!$X$20:$X$45)","v":0},20240501,2418,{"$f":"_xlfn.XLOOKUP(B160,'Battery - Lawn'!$F$20:$F$45,'Battery - Lawn'!$Y$20:$Y$45)","v":0},20240603,2423,{"$f":"_xlfn.XLOOKUP(B160,'Battery - Lawn'!$F$20:$F$45,'Battery - Lawn'!$Z$20:$Z$45)","v":0},{"$f":"_xlfn.XLOOKUP(B160,'Battery - Lawn'!$F$20:$F$45,'Battery - Lawn'!$L$20:$L$45)","v":232.75}]
["Blowers",970466903,20240103,2401,{"$f":"_xlfn.XLOOKUP(B161,Blowers!$F$16:$F$19,Blowers!$U$16:$U$19)","v":0},20240201,2405,{"$f":"_xlfn.XLOOKUP(B161,Blowers!$F$16:$F$19,Blowers!$V$16:$V$19)","v":0},20240301,2409,{"$f":"_xlfn.XLOOKUP(B161,Blowers!$F$16:$F$19,Blowers!$W$16:$W$19)","v":0},20240402,2414,{"$f":"_xlfn.XLOOKUP(B161,Blowers!$F$16:$F$19,Blowers!X16:X19)","v":0},20240501,2418,{"$f":"_xlfn.XLOOKUP(B161,Blowers!$F$16:$F$19,Blowers!$Y$16:$Y$19)","v":0},20240603,2423,{"$f":"_xlfn.XLOOKUP(B161,Blowers!$F$16:$F$19,Blowers!$Z$16:$Z$19)","v":0},{"$f":"_xlfn.XLOOKUP(B161,Blowers!$F$16:$F$19,Blowers!$L$16:$L$19)","v":216.125}]
["Blowers",967144304,20240103,2401,{"$f":"_xlfn.XLOOKUP(B162,Blowers!$F$16:$F$19,Blowers!$U$16:$U$19)","v":0},20240201,2405,{"$f":"_xlfn.XLOOKUP(B162,Blowers!$F$16:$F$19,Blowers!$V$16:$V$19)","v":0},20240301,2409,{"$f":"_xlfn.XLOOKUP(B162,Blowers!$F$16:$F$19,Blowers!$W$16:$W$19)","v":0},20240402,2414,{"$f":"_xlfn.XLOOKUP(B162,Blowers!$F$16:$F$19,Blowers!$X$16:$X$19)","v":0},20240501,2418,{"$f":"_xlfn.XLOOKUP(B162,Blowers!$F$16:$F$19,Blowers!$Y$16:$Y$19)","v":0},20240603,2423,{"$f":"_xlfn.XLOOKUP(B162,Blowers!$F$16:$F$19,Blowers!$Z$16:$Z$19)","v":0},{"$f":"_xlfn.XLOOKUP(B162,Blowers!$F$16:$F$19,Blowers!$L$16:$L$19)","v":351.53949999999998}]
["Blowers",966629401,20240103,2401,{"$f":"_xlfn.XLOOKUP(B163,Blowers!$F$16:$F$19,Blowers!$U$16:$U$19)","v":0},20240201,2405,{"$f":"_xlfn.XLOOKUP(B163,Blowers!$F$16:$F$19,Blowers!$V$16:$V$19)","v":0},20240301,2409,{"$f":"_xlfn.XLOOKUP(B163,Blowers!$F$16:$F$19,Blowers!$W$16:$W$19)","v":0},20240402,2414,{"$f":"_xlfn.XLOOKUP(B163,Blowers!$F$16:$F$19,Blowers!$X$16:$X$19)","v":0},20240501,2418,{"$f":"_xlfn.XLOOKUP(B163,Blowers!$F$16:$F$19,Blowers!$Y$16:$Y$19)","v":0},20240603,2423,{"$f":"_xlfn.XLOOKUP(B163,Blowers!$F$16:$F$19,Blowers!$Z$16:$Z$19)","v":6},{"$f":"_xlfn.XLOOKUP(B163,Blowers!$F$16:$F$19,Blowers!$L$16:$L$19)","v":467.48207999999994}]
["Blowers",966629601,20240103,2401,{"$f":"_xlfn.XLOOKUP(B164,Blowers!$F$16:$F$19,Blowers!$U$16:$U$19)","v":0},20240201,2405,{"$f":"_xlfn.XLOOKUP(B164,Blowers!$F$16:$F$19,Blowers!$V$16:$V$19)","v":0},20240301,2409,{"$f":"_xlfn.XLOOKUP(B164,Blowers!$F$16:$F$19,Blowers!$W$16:$W$19)","v":0},20240402,2414,{"$f":"_xlfn.XLOOKUP(B164,Blowers!$F$16:$F$19,Blowers!$X$16:$X$19)","v":0},20240501,2418,{"$f":"_xlfn.XLOOKUP(B164,Blowers!$F$16:$F$19,Blowers!$Y$16:$Y$19)","v":0},20240603,2423,{"$f":"_xlfn.XLOOKUP(B164,Blowers!$F$16:$F$19,Blowers!$Z$16:$Z$19)","v":0},{"$f":"_xlfn.XLOOKUP(B164,Blowers!$F$16:$F$19,Blowers!$L$16:$L$19)","v":514.03949999999998}]
["Blowers",967284201,20240103,2401,{"$f":"_xlfn.XLOOKUP(B165,Blowers!$F$13:$F$19,Blowers!$U$13:$U$19)","v":0},20240201,2405,{"$f":"_xlfn.XLOOKUP(B165,Blowers!$F$13:$F$19,Blowers!$V$13:$V$19)","v":0},20240301,2409,{"$f":"_xlfn.XLOOKUP(B165,Blowers!$F$13:$F$19,Blowers!$W$13:$W$19)","v":0},20240402,2414,{"$f":"_xlfn.XLOOKUP(B165,Blowers!$F$13:$F$19,Blowers!$X$13:$X$19)","v":0},20240501,2418,{"$f":"_xlfn.XLOOKUP(B165,Blowers!$F$13:$F$19,Blowers!$Y$13:$Y$19)","v":0},20240603,2423,{"$f":"_xlfn.XLOOKUP(B165,Blowers!$F$13:$F$19,Blowers!$Z$13:$Z$19)","v":16},{"$f":"_xlfn.XLOOKUP(B165,Blowers!$F$13:$F$19,Blowers!$L$13:$L$19)","v":233.48208}]
["Blowers",952715643,20240103,2401,{"$f":"_xlfn.XLOOKUP(B166,Blowers!$F$13:$F$19,Blowers!$U$13:$U$19)","v":0},20240201,2405,{"$f":"_xlfn.XLOOKUP(B166,Blowers!$F$13:$F$19,Blowers!$V$13:$V$19)","v":0},20240301,2409,{"$f":"_xlfn.XLOOKUP(B166,Blowers!$F$13:$F$19,Blowers!$W$13:$W$19)","v":0},20240402,2414,{"$f":"_xlfn.XLOOKUP(B166,Blowers!$F$13:$F$19,Blowers!$X$13:$X$19)","v":0},20240501,2418,{"$f":"_xlfn.XLOOKUP(B166,Blowers!$F$13:$F$19,Blowers!$Y$13:$Y$19)","v":0},20240603,2423,{"$f":"_xlfn.XLOOKUP(B166,Blowers!$F$13:$F$19,Blowers!$Z$13:$Z$19)","v":0},{"$f":"_xlfn.XLOOKUP(B166,Blowers!$F$13:$F$19,Blowers!$L$13:$L$19)","v":172.78949999999998}]
["Blowers",952715645,20240103,2401,{"$f":"_xlfn.XLOOKUP(B167,Blowers!$F$13:$F$19,Blowers!$U$13:$U$19)","v":0},20240201,2405,{"$f":"_xlfn.XLOOKUP(B167,Blowers!$F$13:$F$19,Blowers!$V$13:$V$19)","v":0},20240301,2409,{"$f":"_xlfn.XLOOKUP(B167,Blowers!$F$13:$F$19,Blowers!$W$13:$W$19)","v":0},20240402,2414,{"$f":"_xlfn.XLOOKUP(B167,Blowers!$F$13:$F$19,Blowers!$X$13:$X$19)","v":0},20240501,2418,{"$f":"_xlfn.XLOOKUP(B167,Blowers!$F$13:$F$19,Blowers!$Y$13:$Y$19)","v":0},20240603,2423,{"$f":"_xlfn.XLOOKUP(B167,Blowers!$F$13:$F$19,Blowers!$Z$13:$Z$19)","v":0},{"$f":"_xlfn.XLOOKUP(B167,Blowers!$F$13:$F$19,Blowers!$L$13:$L$19)","v":216.125}]
["Chainsaws & Polesaws",970518212,20240103,2401,{"$f":"_xlfn.XLOOKUP(B168,'Chainsaws & Polesaws'!$F$13:$F$59,'Chainsaws & Polesaws'!$U$13:$U$59)","v":0},20240201,2405,{"$f":"_xlfn.XLOOKUP(B168,'Chainsaws & Polesaws'!$F$13:$F$59,'Chainsaws & Polesaws'!$V$13:$V$59)","v":0},20240301,2409,{"$f":"_xlfn.XLOOKUP(B168,'Chainsaws & Polesaws'!$F$13:$F$59,'Chainsaws & Polesaws'!$W$13:$W$59)","v":0},20240402,2414,{"$f":"_xlfn.XLOOKUP(B168,'Chainsaws & Polesaws'!$F$13:$F$59,'Chainsaws & Polesaws'!$X$13:$X$59)","v":0},20240501,2418,{"$f":"_xlfn.XLOOKUP(B168,'Chainsaws & Polesaws'!$F$13:$F$59,'Chainsaws & Polesaws'!$Y$13:$Y$59)","v":0},20240603,2423,{"$f":"_xlfn.XLOOKUP(B168,'Chainsaws & Polesaws'!$F$13:$F$59,'Chainsaws & Polesaws'!$Z$13:$Z$59)","v":0},{"$f":"_xlfn.XLOOKUP(B168,'Chainsaws & Polesaws'!$F$17:$F$59,'Chainsaws & Polesaws'!$L$17:$L$59)","v":449.03949999999998}]
["Chainsaws & Polesaws",970518216,20240103,2401,{"$f":"_xlfn.XLOOKUP(B169,'Chainsaws & Polesaws'!$F$13:$F$59,'Chainsaws & Polesaws'!$U$13:$U$59)","v":0},20240201,2405,{"$f":"_xlfn.XLOOKUP(B169,'Chainsaws & Polesaws'!$F$13:$F$59,'Chainsaws & Polesaws'!$V$13:$V$59)","v":0},20240301,2409,{"$f":"_xlfn.XLOOKUP(B169,'Chainsaws & Polesaws'!$F$13:$F$59,'Chainsaws & Polesaws'!$W$13:$W$59)","v":0},20240402,2414,{"$f":"_xlfn.XLOOKUP(B169,'Chainsaws & Polesaws'!$F$13:$F$59,'Chainsaws & Polesaws'!$X$13:$X$59)","v":0},20240501,2418,{"$f":"_xlfn.XLOOKUP(B169,'Chainsaws & Polesaws'!$F$13:$F$59,'Chainsaws & Polesaws'!$Y$13:$Y$59)","v":0},20240603,2423,{"$f":"_xlfn.XLOOKUP(B169,'Chainsaws & Polesaws'!$F$13:$F$59,'Chainsaws & Polesaws'!$Z$13:$Z$59)","v":0},{"$f":"_xlfn.XLOOKUP(B169,'Chainsaws & Polesaws'!$F$17:$F$59,'Chainsaws & Polesaws'!$L$17:$L$59)","v":459.875}]
["Chainsaws & Polesaws",970657015,20240103,2401,{"$f":"_xlfn.XLOOKUP(B170,'Chainsaws & Polesaws'!$F$13:$F$59,'Chainsaws & Polesaws'!$U$13:$U$59)","v":0},20240201,2405,{"$f":"_xlfn.XLOOKUP(B170,'Chainsaws & Polesaws'!$F$13:$F$59,'Chainsaws & Polesaws'!$V$13:$V$59)","v":0},20240301,2409,{"$f":"_xlfn.XLOOKUP(B170,'Chainsaws & Polesaws'!$F$13:$F$59,'Chainsaws & Polesaws'!$W$13:$W$59)","v":0},20240402,2414,{"$f":"_xlfn.XLOOKUP(B170,'Chainsaws & Polesaws'!$F$13:$F$59,'Chainsaws & Polesaws'!$X$13:$X$59)","v":0},20240501,2418,{"$f":"_xlfn.XLOOKUP(B170,'Chainsaws & Polesaws'!$F$13:$F$59,'Chainsaws & Polesaws'!$Y$13:$Y$59)","v":0},20240603,2423,{"$f":"_xlfn.XLOOKUP(B170,'Chainsaws & Polesaws'!$F$13:$F$59,'Chainsaws & Polesaws'!$Z$13:$Z$59)","v":0},{"$f":"_xlfn.XLOOKUP(B170,'Chainsaws & Polesaws'!$F$17:$F$59,'Chainsaws & Polesaws'!$L$17:$L$59)","v":595.28949999999998}]
["Chainsaws & Polesaws",970657018,20240103,2401,{"$f":"_xlfn.XLOOKUP(B171,'Chainsaws & Polesaws'!$F$13:$F$59,'Chainsaws & Polesaws'!$U$13:$U$59)","v":0},20240201,2405,{"$f":"_xlfn.XLOOKUP(B171,'Chainsaws & Polesaws'!$F$13:$F$59,'Chainsaws & Polesaws'!$V$13:$V$59)","v":0},20240301,2409,{"$f":"_xlfn.XLOOKUP(B171,'Chainsaws & Polesaws'!$F$13:$F$59,'Chainsaws & Polesaws'!$W$13:$W$59)","v":0},20240402,2414,{"$f":"_xlfn.XLOOKUP(B171,'Chainsaws & Polesaws'!$F$13:$F$59,'Chainsaws & Polesaws'!$X$13:$X$59)","v":0},20240501,2418,{"$f":"_xlfn.XLOOKUP(B171,'Chainsaws & Polesaws'!$F$13:$F$59,'Chainsaws & Polesaws'!$Y$13:$Y$59)","v":0},20240603,2423,{"$f":"_xlfn.XLOOKUP(B171,'Chainsaws & Polesaws'!$F$13:$F$59,'Chainsaws & Polesaws'!$Z$13:$Z$59)","v":0},{"$f":"_xlfn.XLOOKUP(B171,'Chainsaws & Polesaws'!$F$17:$F$59,'Chainsaws & Polesaws'!$L$17:$L$59)","v":600.71049999999991}]
["Chainsaws & Polesaws",970656915,20240103,2401,{"$f":"_xlfn.XLOOKUP(B172,'Chainsaws & Polesaws'!$F$13:$F$59,'Chainsaws & Polesaws'!$U$13:$U$59)","v":0},20240201,2405,{"$f":"_xlfn.XLOOKUP(B172,'Chainsaws & Polesaws'!$F$13:$F$59,'Chainsaws & Polesaws'!$V$13:$V$59)","v":0},20240301,2409,{"$f":"_xlfn.XLOOKUP(B172,'Chainsaws & Polesaws'!$F$13:$F$59,'Chainsaws & Polesaws'!$W$13:$W$59)","v":0},20240402,2414,{"$f":"_xlfn.XLOOKUP(B172,'Chainsaws & Polesaws'!$F$13:$F$59,'Chainsaws & Polesaws'!$X$13:$X$59)","v":0},20240501,2418,{"$f":"_xlfn.XLOOKUP(B172,'Chainsaws & Polesaws'!$F$13:$F$59,'Chainsaws & Polesaws'!$Y$13:$Y$59)","v":0},20240603,2423,{"$f":"_xlfn.XLOOKUP(B172,'Chainsaws & Polesaws'!$F$13:$F$59,'Chainsaws & Polesaws'!$Z$13:$Z$59)","v":0},{"$f":"_xlfn.XLOOKUP(B172,'Chainsaws & Polesaws'!$F$17:$F$59,'Chainsaws & Polesaws'!$L$17:$L$59)","v":622.375}]
["Chainsaws & Polesaws",970656918,20240103,2401,{"$f":"_xlfn.XLOOKUP(B173,'Chainsaws & Polesaws'!$F$13:$F$59,'Chainsaws & Polesaws'!$U$13:$U$59)","v":0},20240201,2405,{"$f":"_xlfn.XLOOKUP(B173,'Chainsaws & Polesaws'!$F$13:$F$59,'Chainsaws & Polesaws'!$V$13:$V$59)","v":0},20240301,2409,{"$f":"_xlfn.XLOOKUP(B173,'Chainsaws & Polesaws'!$F$13:$F$59,'Chainsaws & Polesaws'!$W$13:$W$59)","v":0},20240402,2414,{"$f":"_xlfn.XLOOKUP(B173,'Chainsaws & Polesaws'!$F$13:$F$59,'Chainsaws & Polesaws'!$X$13:$X$59)","v":0},20240501,2418,{"$f":"_xlfn.XLOOKUP(B173,'Chainsaws & Polesaws'!$F$13:$F$59,'Chainsaws & Polesaws'!$Y$13:$Y$59)","v":0},20240603,2423,{"$f":"_xlfn.XLOOKUP(B173,'Chainsaws & Polesaws'!$F$13:$F$59,'Chainsaws & Polesaws'!$Z$13:$Z$59)","v":0},{"$f":"_xlfn.XLOOKUP(B173,'Chainsaws & Polesaws'!$F$17:$F$59,'Chainsaws & Polesaws'!$L$17:$L$59)","v":627.78949999999998}]
["Chainsaws & Polesaws",970518214,20240103,2401,{"$f":"_xlfn.XLOOKUP(B174,'Chainsaws & Polesaws'!$F$13:$F$59,'Chainsaws & Polesaws'!$U$13:$U$59)","v":0},20240201,2405,{"$f":"_xlfn.XLOOKUP(B174,'Chainsaws & Polesaws'!$F$13:$F$59,'Chainsaws & Polesaws'!$V$13:$V$59)","v":0},20240301,2409,{"$f":"_xlfn.XLOOKUP(B174,'Chainsaws & Polesaws'!$F$13:$F$59,'Chainsaws & Polesaws'!$W$13:$W$59)","v":0},20240402,2414,{"$f":"_xlfn.XLOOKUP(B174,'Chainsaws & Polesaws'!$F$13:$F$59,'Chainsaws & Polesaws'!$X$13:$X$59)","v":0},20240501,2418,{"$f":"_xlfn.XLOOKUP(B174,'Chainsaws & Polesaws'!$F$13:$F$59,'Chainsaws & Polesaws'!$Y$13:$Y$59)","v":0},20240603,2423,{"$f":"_xlfn.XLOOKUP(B174,'Chainsaws & Polesaws'!$F$13:$F$59,'Chainsaws & Polesaws'!$Z$13:$Z$59)","v":0},{"$f":"_xlfn.XLOOKUP(B174,'Chainsaws & Polesaws'!$F$17:$F$59,'Chainsaws & Polesaws'!$L$17:$L$59)","v":454.46049999999991}]
["Chainsaws & Polesaws",970663518,20240103,2401,{"$f":"_xlfn.XLOOKUP(B175,'Chainsaws & Polesaws'!$F$13:$F$59,'Chainsaws & Polesaws'!$U$13:$U$59)","v":2},20240201,2405,{"$f":"_xlfn.XLOOKUP(B175,'Chainsaws & Polesaws'!$F$13:$F$59,'Chainsaws & Polesaws'!$V$13:$V$59)","v":2},20240301,2409,{"$f":"_xlfn.XLOOKUP(B175,'Chainsaws & Polesaws'!$F$13:$F$59,'Chainsaws & Polesaws'!$W$13:$W$59)","v":2},20240402,2414,{"$f":"_xlfn.XLOOKUP(B175,'Chainsaws & Polesaws'!$F$13:$F$59,'Chainsaws & Polesaws'!$X$13:$X$59)","v":0},20240501,2418,{"$f":"_xlfn.XLOOKUP(B175,'Chainsaws & Polesaws'!$F$13:$F$59,'Chainsaws & Polesaws'!$Y$13:$Y$59)","v":0},20240603,2423,{"$f":"_xlfn.XLOOKUP(B175,'Chainsaws & Polesaws'!$F$13:$F$59,'Chainsaws & Polesaws'!$Z$13:$Z$59)","v":0},{"$f":"_xlfn.XLOOKUP(B175,'Chainsaws & Polesaws'!$F$17:$F$59,'Chainsaws & Polesaws'!$L$17:$L$59)","v":627.78949999999998}]
["Chainsaws & Polesaws",970663618,20240103,2401,{"$f":"_xlfn.XLOOKUP(B176,'Chainsaws & Polesaws'!$F$13:$F$59,'Chainsaws & Polesaws'!$U$13:$U$59)","v":0},20240201,2405,{"$f":"_xlfn.XLOOKUP(B176,'Chainsaws & Polesaws'!$F$13:$F$59,'Chainsaws & Polesaws'!$V$13:$V$59)","v":0},20240301,2409,{"$f":"_xlfn.XLOOKUP(B176,'Chainsaws & Polesaws'!$F$13:$F$59,'Chainsaws & Polesaws'!$W$13:$W$59)","v":0},20240402,2414,{"$f":"_xlfn.XLOOKUP(B176,'Chainsaws & Polesaws'!$F$13:$F$59,'Chainsaws & Polesaws'!$X$13:$X$59)","v":0},20240501,2418,{"$f":"_xlfn.XLOOKUP(B176,'Chainsaws & Polesaws'!$F$13:$F$59,'Chainsaws & Polesaws'!$Y$13:$Y$59)","v":0},20240603,2423,{"$f":"_xlfn.XLOOKUP(B176,'Chainsaws & Polesaws'!$F$13:$F$59,'Chainsaws & Polesaws'!$Z$13:$Z$59)","v":0},{"$f":"_xlfn.XLOOKUP(B176,'Chainsaws & Polesaws'!$F$17:$F$59,'Chainsaws & Polesaws'!$L$17:$L$59)","v":654.875}]
["Chainsaws & Polesaws",970613718,20240103,2401,{"$f":"_xlfn.XLOOKUP(B177,'Chainsaws & Polesaws'!$F$13:$F$59,'Chainsaws & Polesaws'!$U$13:$U$59)","v":0},20240201,2405,{"$f":"_xlfn.XLOOKUP(B177,'Chainsaws & Polesaws'!$F$13:$F$59,'Chainsaws & Polesaws'!$V$13:$V$59)","v":0},20240301,2409,{"$f":"_xlfn.XLOOKUP(B177,'Chainsaws & Polesaws'!$F$13:$F$59,'Chainsaws & Polesaws'!$W$13:$W$59)","v":0},20240402,2414,{"$f":"_xlfn.XLOOKUP(B177,'Chainsaws & Polesaws'!$F$13:$F$59,'Chainsaws & Polesaws'!$X$13:$X$59)","v":0},20240501,2418,{"$f":"_xlfn.XLOOKUP(B177,'Chainsaws & Polesaws'!$F$13:$F$59,'Chainsaws & Polesaws'!$Y$13:$Y$59)","v":0},20240603,2423,{"$f":"_xlfn.XLOOKUP(B177,'Chainsaws & Polesaws'!$F$13:$F$59,'Chainsaws & Polesaws'!$Z$13:$Z$59)","v":0},{"$f":"_xlfn.XLOOKUP(B177,'Chainsaws & Polesaws'!$F$17:$F$59,'Chainsaws & Polesaws'!$L$17:$L$59)","v":378.625}]
["Chainsaws & Polesaws",970559735,20240103,2401,{"$f":"_xlfn.XLOOKUP(B178,'Chainsaws & Polesaws'!$F$13:$F$59,'Chainsaws & Polesaws'!$U$13:$U$59)","v":10},20240201,2405,{"$f":"_xlfn.XLOOKUP(B178,'Chainsaws & Polesaws'!$F$13:$F$59,'Chainsaws & Polesaws'!$V$13:$V$59)","v":0},20240301,2409,{"$f":"_xlfn.XLOOKUP(B178,'Chainsaws & Polesaws'!$F$13:$F$59,'Chainsaws & Polesaws'!$W$13:$W$59)","v":10},20240402,2414,{"$f":"_xlfn.XLOOKUP(B178,'Chainsaws & Polesaws'!$F$13:$F$59,'Chainsaws & Polesaws'!$X$13:$X$59)","v":2},20240501,2418,{"$f":"_xlfn.XLOOKUP(B178,'Chainsaws & Polesaws'!$F$13:$F$59,'Chainsaws & Polesaws'!$Y$13:$Y$59)","v":2},20240603,2423,{"$f":"_xlfn.XLOOKUP(B178,'Chainsaws & Polesaws'!$F$13:$F$59,'Chainsaws & Polesaws'!$Z$13:$Z$59)","v":2},{"$f":"_xlfn.XLOOKUP(B178,'Chainsaws & Polesaws'!$F$17:$F$59,'Chainsaws & Polesaws'!$L$17:$L$59)","v":270.28949999999998}]
["Chainsaws & Polesaws",970560035,20240103,2401,{"$f":"_xlfn.XLOOKUP(B179,'Chainsaws & Polesaws'!$F$13:$F$59,'Chainsaws & Polesaws'!$U$13:$U$59)","v":4},20240201,2405,{"$f":"_xlfn.XLOOKUP(B179,'Chainsaws & Polesaws'!$F$13:$F$59,'Chainsaws & Polesaws'!$V$13:$V$59)","v":4},20240301,2409,{"$f":"_xlfn.XLOOKUP(B179,'Chainsaws & Polesaws'!$F$13:$F$59,'Chainsaws & Polesaws'!$W$13:$W$59)","v":2},20240402,2414,{"$f":"_xlfn.XLOOKUP(B179,'Chainsaws & Polesaws'!$F$13:$F$59,'Chainsaws & Polesaws'!$X$13:$X$59)","v":0},20240501,2418,{"$f":"_xlfn.XLOOKUP(B179,'Chainsaws & Polesaws'!$F$13:$F$59,'Chainsaws & Polesaws'!$Y$13:$Y$59)","v":0},20240603,2423,{"$f":"_xlfn.XLOOKUP(B179,'Chainsaws & Polesaws'!$F$13:$F$59,'Chainsaws & Polesaws'!$Z$13:$Z$59)","v":0},{"$f":"_xlfn.XLOOKUP(B179,'Chainsaws & Polesaws'!$F$17:$F$59,'Chainsaws & Polesaws'!$L$17:$L$59)","v":297.375}]
["Chainsaws & Polesaws",970558738,20240103,2401,{"$f":"_xlfn.XLOOKUP(B180,'Chainsaws & Polesaws'!$F$13:$F$59,'Chainsaws & Polesaws'!$U$13:$U$59)","v":6},20240201,2405,{"$f":"_xlfn.XLOOKUP(B180,'Chainsaws & Polesaws'!$F$13:$F$59,'Chainsaws & Polesaws'!$V$13:$V$59)","v":2},20240301,2409,{"$f":"_xlfn.XLOOKUP(B180,'Chainsaws & Polesaws'!$F$13:$F$59,'Chainsaws & Polesaws'!$W$13:$W$59)","v":2},20240402,2414,{"$f":"_xlfn.XLOOKUP(B180,'Chainsaws & Polesaws'!$F$13:$F$59,'Chainsaws & Polesaws'!$X$13:$X$59)","v":0},20240501,2418,{"$f":"_xlfn.XLOOKUP(B180,'Chainsaws & Polesaws'!$F$13:$F$59,'Chainsaws & Polesaws'!$Y$13:$Y$59)","v":0},20240603,2423,{"$f":"_xlfn.XLOOKUP(B180,'Chainsaws & Polesaws'!$F$13:$F$59,'Chainsaws & Polesaws'!$Z$13:$Z$59)","v":0},{"$f":"_xlfn.XLOOKUP(B180,'Chainsaws & Polesaws'!$F$17:$F$59,'Chainsaws & Polesaws'!$L$17:$L$59)","v":324.46050000000002}]
["Chainsaws & Polesaws",970559338,20240103,2401,{"$f":"_xlfn.XLOOKUP(B181,'Chainsaws & Polesaws'!$F$13:$F$59,'Chainsaws & Polesaws'!$U$13:$U$59)","v":4},20240201,2405,{"$f":"_xlfn.XLOOKUP(B181,'Chainsaws & Polesaws'!$F$13:$F$59,'Chainsaws & Polesaws'!$V$13:$V$59)","v":4},20240301,2409,{"$f":"_xlfn.XLOOKUP(B181,'Chainsaws & Polesaws'!$F$13:$F$59,'Chainsaws & Polesaws'!$W$13:$W$59)","v":0},20240402,2414,{"$f":"_xlfn.XLOOKUP(B181,'Chainsaws & Polesaws'!$F$13:$F$59,'Chainsaws & Polesaws'!$X$13:$X$59)","v":0},20240501,2418,{"$f":"_xlfn.XLOOKUP(B181,'Chainsaws & Polesaws'!$F$13:$F$59,'Chainsaws & Polesaws'!$Y$13:$Y$59)","v":0},20240603,2423,{"$f":"_xlfn.XLOOKUP(B181,'Chainsaws & Polesaws'!$F$13:$F$59,'Chainsaws & Polesaws'!$Z$13:$Z$59)","v":0},{"$f":"_xlfn.XLOOKUP(B181,'Chainsaws & Polesaws'!$F$17:$F$59,'Chainsaws & Polesaws'!$L$17:$L$59)","v":337.47791999999998}]
["Chainsaws & Polesaws",970493020,20240103,2401,{"$f":"_xlfn.XLOOKUP(B182,'Chainsaws & Polesaws'!$F$13:$F$59,'Chainsaws & Polesaws'!$U$13:$U$59)","v":0},20240201,2405,{"$f":"_xlfn.XLOOKUP(B182,'Chainsaws & Polesaws'!$F$13:$F$59,'Chainsaws & Polesaws'!$V$13:$V$59)","v":0},20240301,2409,{"$f":"_xlfn.XLOOKUP(B182,'Chainsaws & Polesaws'!$F$13:$F$59,'Chainsaws & Polesaws'!$W$13:$W$59)","v":0},20240402,2414,{"$f":"_xlfn.XLOOKUP(B182,'Chainsaws & Polesaws'!$F$13:$F$59,'Chainsaws & Polesaws'!$X$13:$X$59)","v":0},20240501,2418,{"$f":"_xlfn.XLOOKUP(B182,'Chainsaws & Polesaws'!$F$13:$F$59,'Chainsaws & Polesaws'!$Y$13:$Y$59)","v":0},20240603,2423,{"$f":"_xlfn.XLOOKUP(B182,'Chainsaws & Polesaws'!$F$13:$F$59,'Chainsaws & Polesaws'!$Z$13:$Z$59)","v":0},{"$f":"_xlfn.XLOOKUP(B182,'Chainsaws & Polesaws'!$F$17:$F$59,'Chainsaws & Polesaws'!$L$17:$L$59)","v":763.21050000000002}]
["Chainsaws & Polesaws",970493024,20240103,2401,{"$f":"_xlfn.XLOOKUP(B183,'Chainsaws & Polesaws'!$F$13:$F$59,'Chainsaws & Polesaws'!$U$13:$U$59)","v":0},20240201,2405,{"$f":"_xlfn.XLOOKUP(B183,'Chainsaws & Polesaws'!$F$13:$F$59,'Chainsaws & Polesaws'!$V$13:$V$59)","v":0},20240301,2409,{"$f":"_xlfn.XLOOKUP(B183,'Chainsaws & Polesaws'!$F$13:$F$59,'Chainsaws & Polesaws'!$W$13:$W$59)","v":0},20240402,2414,{"$f":"_xlfn.XLOOKUP(B183,'Chainsaws & Polesaws'!$F$13:$F$59,'Chainsaws & Polesaws'!$X$13:$X$59)","v":0},20240501,2418,{"$f":"_xlfn.XLOOKUP(B183,'Chainsaws & Polesaws'!$F$13:$F$59,'Chainsaws & Polesaws'!$Y$13:$Y$59)","v":0},20240603,2423,{"$f":"_xlfn.XLOOKUP(B183,'Chainsaws & Polesaws'!$F$13:$F$59,'Chainsaws & Polesaws'!$Z$13:$Z$59)","v":0},{"$f":"_xlfn.XLOOKUP(B183,'Chainsaws & Polesaws'!$F$17:$F$59,'Chainsaws & Polesaws'!$L$17:$L$59)","v":774.03949999999986}]
["Chainsaws & Polesaws",970493028,20240103,2401,{"$f":"_xlfn.XLOOKUP(B184,'Chainsaws & Polesaws'!$F$13:$F$59,'Chainsaws & Polesaws'!$U$13:$U$59)","v":0},20240201,2405,{"$f":"_xlfn.XLOOKUP(B184,'Chainsaws & Polesaws'!$F$13:$F$59,'Chainsaws & Polesaws'!$V$13:$V$59)","v":0},20240301,2409,{"$f":"_xlfn.XLOOKUP(B184,'Chainsaws & Polesaws'!$F$13:$F$59,'Chainsaws & Polesaws'!$W$13:$W$59)","v":0},20240402,2414,{"$f":"_xlfn.XLOOKUP(B184,'Chainsaws & Polesaws'!$F$13:$F$59,'Chainsaws & Polesaws'!$X$13:$X$59)","v":0},20240501,2418,{"$f":"_xlfn.XLOOKUP(B184,'Chainsaws & Polesaws'!$F$13:$F$59,'Chainsaws & Polesaws'!$Y$13:$Y$59)","v":0},20240603,2423,{"$f":"_xlfn.XLOOKUP(B184,'Chainsaws & Polesaws'!$F$13:$F$59,'Chainsaws & Polesaws'!$Z$13:$Z$59)","v":0},{"$f":"_xlfn.XLOOKUP(B184,'Chainsaws & Polesaws'!$F$17:$F$59,'Chainsaws & Polesaws'!$L$17:$L$59)","v":784.875}]
["Chainsaws & Polesaws",970493032,20240103,2401,{"$f":"_xlfn.XLOOKUP(B185,'Chainsaws & Polesaws'!$F$13:$F$59,'Chainsaws & Polesaws'!$U$13:$U$59)","v":0},20240201,2405,{"$f":"_xlfn.XLOOKUP(B185,'Chainsaws & Polesaws'!$F$13:$F$59,'Chainsaws & Polesaws'!$V$13:$V$59)","v":0},20240301,2409,{"$f":"_xlfn.XLOOKUP(B185,'Chainsaws & Polesaws'!$F$13:$F$59,'Chainsaws & Polesaws'!$W$13:$W$59)","v":0},20240402,2414,{"$f":"_xlfn.XLOOKUP(B185,'Chainsaws & Polesaws'!$F$13:$F$59,'Chainsaws & Polesaws'!$X$13:$X$59)","v":0},20240501,2418,{"$f":"_xlfn.XLOOKUP(B185,'Chainsaws & Polesaws'!$F$13:$F$59,'Chainsaws & Polesaws'!$Y$13:$Y$59)","v":0},20240603,2423,{"$f":"_xlfn.XLOOKUP(B185,'Chainsaws & Polesaws'!$F$13:$F$59,'Chainsaws & Polesaws'!$Z$13:$Z$59)","v":0},{"$f":"_xlfn.XLOOKUP(B185,'Chainsaws & Polesaws'!$F$17:$F$59,'Chainsaws & Polesaws'!$L$17:$L$59)","v":795.71050000000002}]
["Chainsaws & Polesaws",970493130,20240103,2401,{"$f":"_xlfn.XLOOKUP(B186,'Chainsaws & Polesaws'!$F$13:$F$59,'Chainsaws & Polesaws'!$U$13:$U$59)","v":0},20240201,2405,{"$f":"_xlfn.XLOOKUP(B186,'Chainsaws & Polesaws'!$F$13:$F$59,'Chainsaws & Polesaws'!$V$13:$V$59)","v":0},20240301,2409,{"$f":"_xlfn.XLOOKUP(B186,'Chainsaws & Polesaws'!$F$13:$F$59,'Chainsaws & Polesaws'!$W$13:$W$59)","v":0},20240402,2414,{"$f":"_xlfn.XLOOKUP(B186,'Chainsaws & Polesaws'!$F$13:$F$59,'Chainsaws & Polesaws'!$X$13:$X$59)","v":0},20240501,2418,{"$f":"_xlfn.XLOOKUP(B186,'Chainsaws & Polesaws'!$F$13:$F$59,'Chainsaws & Polesaws'!$Y$13:$Y$59)","v":0},20240603,2423,{"$f":"_xlfn.XLOOKUP(B186,'Chainsaws & Polesaws'!$F$13:$F$59,'Chainsaws & Polesaws'!$Z$13:$Z$59)","v":0},{"$f":"_xlfn.XLOOKUP(B186,'Chainsaws & Polesaws'!$F$17:$F$59,'Chainsaws & Polesaws'!$L$17:$L$59)","v":866.125}]
["Chainsaws & Polesaws",970493124,20240103,2401,{"$f":"_xlfn.XLOOKUP(B187,'Chainsaws & Polesaws'!$F$13:$F$59,'Chainsaws & Polesaws'!$U$13:$U$59)","v":2},20240201,2405,{"$f":"_xlfn.XLOOKUP(B187,'Chainsaws & Polesaws'!$F$13:$F$59,'Chainsaws & Polesaws'!$V$13:$V$59)","v":1},20240301,2409,{"$f":"_xlfn.XLOOKUP(B187,'Chainsaws & Polesaws'!$F$13:$F$59,'Chainsaws & Polesaws'!$W$13:$W$59)","v":1},20240402,2414,{"$f":"_xlfn.XLOOKUP(B187,'Chainsaws & Polesaws'!$F$13:$F$59,'Chainsaws & Polesaws'!$X$13:$X$59)","v":0},20240501,2418,{"$f":"_xlfn.XLOOKUP(B187,'Chainsaws & Polesaws'!$F$13:$F$59,'Chainsaws & Polesaws'!$Y$13:$Y$59)","v":1},20240603,2423,{"$f":"_xlfn.XLOOKUP(B187,'Chainsaws & Polesaws'!$F$13:$F$59,'Chainsaws & Polesaws'!$Z$13:$Z$59)","v":0},{"$f":"_xlfn.XLOOKUP(B187,'Chainsaws & Polesaws'!$F$17:$F$59,'Chainsaws & Polesaws'!$L$17:$L$59)","v":876.96050000000002}]
["Chainsaws & Polesaws",970493128,20240103,2401,{"$f":"_xlfn.XLOOKUP(B188,'Chainsaws & Polesaws'!$F$13:$F$59,'Chainsaws & Polesaws'!$U$13:$U$59)","v":1},20240201,2405,{"$f":"_xlfn.XLOOKUP(B188,'Chainsaws & Polesaws'!$F$13:$F$59,'Chainsaws & Polesaws'!$V$13:$V$59)","v":0},20240301,2409,{"$f":"_xlfn.XLOOKUP(B188,'Chainsaws & Polesaws'!$F$13:$F$59,'Chainsaws & Polesaws'!$W$13:$W$59)","v":1},20240402,2414,{"$f":"_xlfn.XLOOKUP(B188,'Chainsaws & Polesaws'!$F$13:$F$59,'Chainsaws & Polesaws'!$X$13:$X$59)","v":1},20240501,2418,{"$f":"_xlfn.XLOOKUP(B188,'Chainsaws & Polesaws'!$F$13:$F$59,'Chainsaws & Polesaws'!$Y$13:$Y$59)","v":0},20240603,2423,{"$f":"_xlfn.XLOOKUP(B188,'Chainsaws & Polesaws'!$F$13:$F$59,'Chainsaws & Polesaws'!$Z$13:$Z$59)","v":0},{"$f":"_xlfn.XLOOKUP(B188,'Chainsaws & Polesaws'!$F$17:$F$59,'Chainsaws & Polesaws'!$L$17:$L$59)","v":882.375}]
["Chainsaws & Polesaws",970493458,20240103,2401,{"$f":"_xlfn.XLOOKUP(B189,'Chainsaws & Polesaws'!$F$13:$F$59,'Chainsaws & Polesaws'!$U$13:$U$59)","v":0},20240201,2405,{"$f":"_xlfn.XLOOKUP(B189,'Chainsaws & Polesaws'!$F$13:$F$59,'Chainsaws & Polesaws'!$V$13:$V$59)","v":0},20240301,2409,{"$f":"_xlfn.XLOOKUP(B189,'Chainsaws & Polesaws'!$F$13:$F$59,'Chainsaws & Polesaws'!$W$13:$W$59)","v":0},20240402,2414,{"$f":"_xlfn.XLOOKUP(B189,'Chainsaws & Polesaws'!$F$13:$F$59,'Chainsaws & Polesaws'!$X$13:$X$59)","v":0},20240501,2418,{"$f":"_xlfn.XLOOKUP(B189,'Chainsaws & Polesaws'!$F$13:$F$59,'Chainsaws & Polesaws'!$Y$13:$Y$59)","v":0},20240603,2423,{"$f":"_xlfn.XLOOKUP(B189,'Chainsaws & Polesaws'!$F$13:$F$59,'Chainsaws & Polesaws'!$Z$13:$Z$59)","v":0},{"$f":"_xlfn.XLOOKUP(B189,'Chainsaws & Polesaws'!$F$17:$F$59,'Chainsaws & Polesaws'!$L$17:$L$59)","v":920.28949999999986}]
["Chainsaws & Polesaws",970501218,20240103,2401,{"$f":"_xlfn.XLOOKUP(B190,'Chainsaws & Polesaws'!$F$13:$F$59,'Chainsaws & Polesaws'!$U$13:$U$59)","v":0},20240201,2405,{"$f":"_xlfn.XLOOKUP(B190,'Chainsaws & Polesaws'!$F$13:$F$59,'Chainsaws & Polesaws'!$V$13:$V$59)","v":0},20240301,2409,{"$f":"_xlfn.XLOOKUP(B190,'Chainsaws & Polesaws'!$F$13:$F$59,'Chainsaws & Polesaws'!$W$13:$W$59)","v":0},20240402,2414,{"$f":"_xlfn.XLOOKUP(B190,'Chainsaws & Polesaws'!$F$13:$F$59,'Chainsaws & Polesaws'!$X$13:$X$59)","v":0},20240501,2418,{"$f":"_xlfn.XLOOKUP(B190,'Chainsaws & Polesaws'!$F$13:$F$59,'Chainsaws & Polesaws'!$Y$13:$Y$59)","v":0},20240603,2423,{"$f":"_xlfn.XLOOKUP(B190,'Chainsaws & Polesaws'!$F$13:$F$59,'Chainsaws & Polesaws'!$Z$13:$Z$59)","v":0},{"$f":"_xlfn.XLOOKUP(B190,'Chainsaws & Polesaws'!$F$17:$F$59,'Chainsaws & Polesaws'!$L$17:$L$59)","v":573.625}]
["Chainsaws & Polesaws",967690615,20240103,2401,{"$f":"_xlfn.XLOOKUP(B191,'Chainsaws & Polesaws'!$F$13:$F$59,'Chainsaws & Polesaws'!$U$13:$U$59)","v":0},20240201,2405,{"$f":"_xlfn.XLOOKUP(B191,'Chainsaws & Polesaws'!$F$13:$F$59,'Chainsaws & Polesaws'!$V$13:$V$59)","v":0},20240301,2409,{"$f":"_xlfn.XLOOKUP(B191,'Chainsaws & Polesaws'!$F$13:$F$59,'Chainsaws & Polesaws'!$W$13:$W$59)","v":0},20240402,2414,{"$f":"_xlfn.XLOOKUP(B191,'Chainsaws & Polesaws'!$F$13:$F$59,'Chainsaws & Polesaws'!$X$13:$X$59)","v":0},20240501,2418,{"$f":"_xlfn.XLOOKUP(B191,'Chainsaws & Polesaws'!$F$13:$F$59,'Chainsaws & Polesaws'!$Y$13:$Y$59)","v":0},20240603,2423,{"$f":"_xlfn.XLOOKUP(B191,'Chainsaws & Polesaws'!$F$13:$F$59,'Chainsaws & Polesaws'!$Z$13:$Z$59)","v":0},{"$f":"_xlfn.XLOOKUP(B191,'Chainsaws & Polesaws'!$F$17:$F$59,'Chainsaws & Polesaws'!$L$17:$L$59)","v":470.71049999999991}]
["Chainsaws & Polesaws",967690815,20240103,2401,{"$f":"_xlfn.XLOOKUP(B192,'Chainsaws & Polesaws'!$F$13:$F$59,'Chainsaws & Polesaws'!$U$13:$U$59)","v":30},20240201,2405,{"$f":"_xlfn.XLOOKUP(B192,'Chainsaws & Polesaws'!$F$13:$F$59,'Chainsaws & Polesaws'!$V$13:$V$59)","v":30},20240301,2409,{"$f":"_xlfn.XLOOKUP(B192,'Chainsaws & Polesaws'!$F$13:$F$59,'Chainsaws & Polesaws'!$W$13:$W$59)","v":20},20240402,2414,{"$f":"_xlfn.XLOOKUP(B192,'Chainsaws & Polesaws'!$F$13:$F$59,'Chainsaws & Polesaws'!$X$13:$X$59)","v":20},20240501,2418,{"$f":"_xlfn.XLOOKUP(B192,'Chainsaws & Polesaws'!$F$13:$F$59,'Chainsaws & Polesaws'!$Y$13:$Y$59)","v":20},20240603,2423,{"$f":"_xlfn.XLOOKUP(B192,'Chainsaws & Polesaws'!$F$13:$F$59,'Chainsaws & Polesaws'!$Z$13:$Z$59)","v":20},{"$f":"_xlfn.XLOOKUP(B192,'Chainsaws & Polesaws'!$F$17:$F$59,'Chainsaws & Polesaws'!$L$17:$L$59)","v":498.68207999999987}]
["Chainsaws & Polesaws",967690818,20240103,2401,{"$f":"_xlfn.XLOOKUP(B193,'Chainsaws & Polesaws'!$F$13:$F$59,'Chainsaws & Polesaws'!$U$13:$U$59)","v":0},20240201,2405,{"$f":"_xlfn.XLOOKUP(B193,'Chainsaws & Polesaws'!$F$13:$F$59,'Chainsaws & Polesaws'!$V$13:$V$59)","v":0},20240301,2409,{"$f":"_xlfn.XLOOKUP(B193,'Chainsaws & Polesaws'!$F$13:$F$59,'Chainsaws & Polesaws'!$W$13:$W$59)","v":0},20240402,2414,{"$f":"_xlfn.XLOOKUP(B193,'Chainsaws & Polesaws'!$F$13:$F$59,'Chainsaws & Polesaws'!$X$13:$X$59)","v":0},20240501,2418,{"$f":"_xlfn.XLOOKUP(B193,'Chainsaws & Polesaws'!$F$13:$F$59,'Chainsaws & Polesaws'!$Y$13:$Y$59)","v":0},20240603,2423,{"$f":"_xlfn.XLOOKUP(B193,'Chainsaws & Polesaws'!$F$13:$F$59,'Chainsaws & Polesaws'!$Z$13:$Z$59)","v":0},{"$f":"_xlfn.XLOOKUP(B193,'Chainsaws & Polesaws'!$F$17:$F$59,'Chainsaws & Polesaws'!$L$17:$L$59)","v":524.875}]
["Chainsaws & Polesaws",967690915,20240103,2401,{"$f":"_xlfn.XLOOKUP(B194,'Chainsaws & Polesaws'!$F$13:$F$59,'Chainsaws & Polesaws'!$U$13:$U$59)","v":2},20240201,2405,{"$f":"_xlfn.XLOOKUP(B194,'Chainsaws & Polesaws'!$F$13:$F$59,'Chainsaws & Polesaws'!$V$13:$V$59)","v":4},20240301,2409,{"$f":"_xlfn.XLOOKUP(B194,'Chainsaws & Polesaws'!$F$13:$F$59,'Chainsaws & Polesaws'!$W$13:$W$59)","v":2},20240402,2414,{"$f":"_xlfn.XLOOKUP(B194,'Chainsaws & Polesaws'!$F$13:$F$59,'Chainsaws & Polesaws'!$X$13:$X$59)","v":2},20240501,2418,{"$f":"_xlfn.XLOOKUP(B194,'Chainsaws & Polesaws'!$F$13:$F$59,'Chainsaws & Polesaws'!$Y$13:$Y$59)","v":0},20240603,2423,{"$f":"_xlfn.XLOOKUP(B194,'Chainsaws & Polesaws'!$F$13:$F$59,'Chainsaws & Polesaws'!$Z$13:$Z$59)","v":0},{"$f":"_xlfn.XLOOKUP(B194,'Chainsaws & Polesaws'!$F$17:$F$59,'Chainsaws & Polesaws'!$L$17:$L$59)","v":557.375}]
["Chainsaws & Polesaws",967690918,20240103,2401,{"$f":"_xlfn.XLOOKUP(B195,'Chainsaws & Polesaws'!$F$13:$F$59,'Chainsaws & Polesaws'!$U$13:$U$59)","v":0},20240201,2405,{"$f":"_xlfn.XLOOKUP(B195,'Chainsaws & Polesaws'!$F$13:$F$59,'Chainsaws & Polesaws'!$V$13:$V$59)","v":0},20240301,2409,{"$f":"_xlfn.XLOOKUP(B195,'Chainsaws & Polesaws'!$F$13:$F$59,'Chainsaws & Polesaws'!$W$13:$W$59)","v":0},20240402,2414,{"$f":"_xlfn.XLOOKUP(B195,'Chainsaws & Polesaws'!$F$13:$F$59,'Chainsaws & Polesaws'!$X$13:$X$59)","v":0},20240501,2418,{"$f":"_xlfn.XLOOKUP(B195,'Chainsaws & Polesaws'!$F$13:$F$59,'Chainsaws & Polesaws'!$Y$13:$Y$59)","v":0},20240603,2423,{"$f":"_xlfn.XLOOKUP(B195,'Chainsaws & Polesaws'!$F$13:$F$59,'Chainsaws & Polesaws'!$Z$13:$Z$59)","v":0},{"$f":"_xlfn.XLOOKUP(B195,'Chainsaws & Polesaws'!$F$17:$F$59,'Chainsaws & Polesaws'!$L$17:$L$59)","v":562.78949999999998}]
["Chainsaws & Polesaws",967108401,20240103,2401,{"$f":"_xlfn.XLOOKUP(B196,'Chainsaws & Polesaws'!$F$13:$F$59,'Chainsaws & Polesaws'!$U$13:$U$59)","v":10},20240201,2405,{"$f":"_xlfn.XLOOKUP(B196,'Chainsaws & Polesaws'!$F$13:$F$59,'Chainsaws & Polesaws'!$V$13:$V$59)","v":10},20240301,2409,{"$f":"_xlfn.XLOOKUP(B196,'Chainsaws & Polesaws'!$F$13:$F$59,'Chainsaws & Polesaws'!$W$13:$W$59)","v":0},20240402,2414,{"$f":"_xlfn.XLOOKUP(B196,'Chainsaws & Polesaws'!$F$13:$F$59,'Chainsaws & Polesaws'!$X$13:$X$59)","v":10},20240501,2418,{"$f":"_xlfn.XLOOKUP(B196,'Chainsaws & Polesaws'!$F$13:$F$59,'Chainsaws & Polesaws'!$Y$13:$Y$59)","v":0},20240603,2423,{"$f":"_xlfn.XLOOKUP(B196,'Chainsaws & Polesaws'!$F$13:$F$59,'Chainsaws & Polesaws'!$Z$13:$Z$59)","v":0},{"$f":"_xlfn.XLOOKUP(B196,'Chainsaws & Polesaws'!$F$13:$F$59,'Chainsaws & Polesaws'!$L$13:$L$59)","v":134.875}]
["Chainsaws & Polesaws",967861814,20240103,2401,{"$f":"_xlfn.XLOOKUP(B197,'Chainsaws & Polesaws'!$F$13:$F$59,'Chainsaws & Polesaws'!$U$13:$U$59)","v":20},20240201,2405,{"$f":"_xlfn.XLOOKUP(B197,'Chainsaws & Polesaws'!$F$13:$F$59,'Chainsaws & Polesaws'!$V$13:$V$59)","v":0},20240301,2409,{"$f":"_xlfn.XLOOKUP(B197,'Chainsaws & Polesaws'!$F$13:$F$59,'Chainsaws & Polesaws'!$W$13:$W$59)","v":10},20240402,2414,{"$f":"_xlfn.XLOOKUP(B197,'Chainsaws & Polesaws'!$F$13:$F$59,'Chainsaws & Polesaws'!$X$13:$X$59)","v":0},20240501,2418,{"$f":"_xlfn.XLOOKUP(B197,'Chainsaws & Polesaws'!$F$13:$F$59,'Chainsaws & Polesaws'!$Y$13:$Y$59)","v":0},20240603,2423,{"$f":"_xlfn.XLOOKUP(B197,'Chainsaws & Polesaws'!$F$13:$F$59,'Chainsaws & Polesaws'!$Z$13:$Z$59)","v":0},{"$f":"_xlfn.XLOOKUP(B197,'Chainsaws & Polesaws'!$F$13:$F$59,'Chainsaws & Polesaws'!$L$13:$L$59)","v":178.2105}]
["Chainsaws & Polesaws",967861903,20240103,2401,{"$f":"_xlfn.XLOOKUP(B198,'Chainsaws & Polesaws'!$F$13:$F$59,'Chainsaws & Polesaws'!$U$13:$U$59)","v":30},20240201,2405,{"$f":"_xlfn.XLOOKUP(B198,'Chainsaws & Polesaws'!$F$13:$F$59,'Chainsaws & Polesaws'!$V$13:$V$59)","v":20},20240301,2409,{"$f":"_xlfn.XLOOKUP(B198,'Chainsaws & Polesaws'!$F$13:$F$59,'Chainsaws & Polesaws'!$W$13:$W$59)","v":20},20240402,2414,{"$f":"_xlfn.XLOOKUP(B198,'Chainsaws & Polesaws'!$F$13:$F$59,'Chainsaws & Polesaws'!$X$13:$X$59)","v":10},20240501,2418,{"$f":"_xlfn.XLOOKUP(B198,'Chainsaws & Polesaws'!$F$13:$F$59,'Chainsaws & Polesaws'!$Y$13:$Y$59)","v":0},20240603,2423,{"$f":"_xlfn.XLOOKUP(B198,'Chainsaws & Polesaws'!$F$13:$F$59,'Chainsaws & Polesaws'!$Z$13:$Z$59)","v":0},{"$f":"_xlfn.XLOOKUP(B198,'Chainsaws & Polesaws'!$F$13:$F$59,'Chainsaws & Polesaws'!$L$13:$L$59)","v":108.32899999999999}]
["Chainsaws & Polesaws",966733148,20240103,2401,{"$f":"_xlfn.XLOOKUP(B199,'Chainsaws & Polesaws'!$F$17:$F$59,'Chainsaws & Polesaws'!$U$17:$U$59)","v":0},20240201,2405,{"$f":"_xlfn.XLOOKUP(B199,'Chainsaws & Polesaws'!$F$17:$F$59,'Chainsaws & Polesaws'!$V$17:$V$59)","v":0},20240301,2409,{"$f":"_xlfn.XLOOKUP(B199,'Chainsaws & Polesaws'!$F$17:$F$59,'Chainsaws & Polesaws'!$W$17:$W$59)","v":0},20240402,2414,{"$f":"_xlfn.XLOOKUP(B199,'Chainsaws & Polesaws'!$F$17:$F$59,'Chainsaws & Polesaws'!$X$17:$X$59)","v":0},20240501,2418,{"$f":"_xlfn.XLOOKUP(B199,'Chainsaws & Polesaws'!$F$17:$F$59,'Chainsaws & Polesaws'!$Y$17:$Y$59)","v":0},20240603,2423,{"$f":"_xlfn.XLOOKUP(B199,'Chainsaws & Polesaws'!$F$17:$F$59,'Chainsaws & Polesaws'!$Z$17:$Z$59)","v":0},{"$f":"_xlfn.XLOOKUP(B199,'Chainsaws & Polesaws'!$F$17:$F$59,'Chainsaws & Polesaws'!$L$17:$L$59)","v":779.46050000000002}]
["Chainsaws & Polesaws",966733444,20240103,2401,{"$f":"_xlfn.XLOOKUP(B200,'Chainsaws & Polesaws'!$F$17:$F$59,'Chainsaws & Polesaws'!$U$17:$U$59)","v":0},20240201,2405,{"$f":"_xlfn.XLOOKUP(B200,'Chainsaws & Polesaws'!$F$17:$F$59,'Chainsaws & Polesaws'!$V$17:$V$59)","v":0},20240301,2409,{"$f":"_xlfn.XLOOKUP(B200,'Chainsaws & Polesaws'!$F$17:$F$59,'Chainsaws & Polesaws'!$W$17:$W$59)","v":0},20240402,2414,{"$f":"_xlfn.XLOOKUP(B200,'Chainsaws & Polesaws'!$F$17:$F$59,'Chainsaws & Polesaws'!$X$17:$X$59)","v":0},20240501,2418,{"$f":"_xlfn.XLOOKUP(B200,'Chainsaws & Polesaws'!$F$17:$F$59,'Chainsaws & Polesaws'!$Y$17:$Y$59)","v":0},20240603,2423,{"$f":"_xlfn.XLOOKUP(B200,'Chainsaws & Polesaws'!$F$17:$F$59,'Chainsaws & Polesaws'!$Z$17:$Z$59)","v":0},{"$f":"_xlfn.XLOOKUP(B200,'Chainsaws & Polesaws'!$F$17:$F$59,'Chainsaws & Polesaws'!$L$17:$L$59)","v":806.53949999999986}]
["Chainsaws & Polesaws",966733918,20240103,2401,{"$f":"_xlfn.XLOOKUP(B201,'Chainsaws & Polesaws'!$F$17:$F$59,'Chainsaws & Polesaws'!$U$17:$U$59)","v":0},20240201,2405,{"$f":"_xlfn.XLOOKUP(B201,'Chainsaws & Polesaws'!$F$17:$F$59,'Chainsaws & Polesaws'!$V$17:$V$59)","v":0},20240301,2409,{"$f":"_xlfn.XLOOKUP(B201,'Chainsaws & Polesaws'!$F$17:$F$59,'Chainsaws & Polesaws'!$W$17:$W$59)","v":0},20240402,2414,{"$f":"_xlfn.XLOOKUP(B201,'Chainsaws & Polesaws'!$F$17:$F$59,'Chainsaws & Polesaws'!$X$17:$X$59)","v":0},20240501,2418,{"$f":"_xlfn.XLOOKUP(B201,'Chainsaws & Polesaws'!$F$17:$F$59,'Chainsaws & Polesaws'!$Y$17:$Y$59)","v":0},20240603,2423,{"$f":"_xlfn.XLOOKUP(B201,'Chainsaws & Polesaws'!$F$17:$F$59,'Chainsaws & Polesaws'!$Z$17:$Z$59)","v":0},{"$f":"_xlfn.XLOOKUP(B201,'Chainsaws & Polesaws'!$F$17:$F$59,'Chainsaws & Polesaws'!$L$17:$L$59)","v":627.78949999999998}]
["Chainsaws & Polesaws",966733920,20240103,2401,{"$f":"_xlfn.XLOOKUP(B202,'Chainsaws & Polesaws'!$F$17:$F$59,'Chainsaws & Polesaws'!$U$17:$U$59)","v":0},20240201,2405,{"$f":"_xlfn.XLOOKUP(B202,'Chainsaws & Polesaws'!$F$17:$F$59,'Chainsaws & Polesaws'!$V$17:$V$59)","v":0},20240301,2409,{"$f":"_xlfn.XLOOKUP(B202,'Chainsaws & Polesaws'!$F$17:$F$59,'Chainsaws & Polesaws'!$W$17:$W$59)","v":0},20240402,2414,{"$f":"_xlfn.XLOOKUP(B202,'Chainsaws & Polesaws'!$F$17:$F$59,'Chainsaws & Polesaws'!$X$17:$X$59)","v":0},20240501,2418,{"$f":"_xlfn.XLOOKUP(B202,'Chainsaws & Polesaws'!$F$17:$F$59,'Chainsaws & Polesaws'!$Y$17:$Y$59)","v":0},20240603,2423,{"$f":"_xlfn.XLOOKUP(B202,'Chainsaws & Polesaws'!$F$17:$F$59,'Chainsaws & Polesaws'!$Z$17:$Z$59)","v":0},{"$f":"_xlfn.XLOOKUP(B202,'Chainsaws & Polesaws'!$F$17:$F$59,'Chainsaws & Polesaws'!$L$17:$L$59)","v":633.21049999999991}]
["Chainsaws & Polesaws",966733118,20240103,2401,{"$f":"_xlfn.XLOOKUP(B203,'Chainsaws & Polesaws'!$F$17:$F$59,'Chainsaws & Polesaws'!$U$17:$U$59)","v":0},20240201,2405,{"$f":"_xlfn.XLOOKUP(B203,'Chainsaws & Polesaws'!$F$17:$F$59,'Chainsaws & Polesaws'!$V$17:$V$59)","v":0},20240301,2409,{"$f":"_xlfn.XLOOKUP(B203,'Chainsaws & Polesaws'!$F$17:$F$59,'Chainsaws & Polesaws'!$W$17:$W$59)","v":0},20240402,2414,{"$f":"_xlfn.XLOOKUP(B203,'Chainsaws & Polesaws'!$F$17:$F$59,'Chainsaws & Polesaws'!$X$17:$X$59)","v":0},20240501,2418,{"$f":"_xlfn.XLOOKUP(B203,'Chainsaws & Polesaws'!$F$17:$F$59,'Chainsaws & Polesaws'!$Y$17:$Y$59)","v":0},20240603,2423,{"$f":"_xlfn.XLOOKUP(B203,'Chainsaws & Polesaws'!$F$17:$F$59,'Chainsaws & Polesaws'!$Z$17:$Z$59)","v":0},{"$f":"_xlfn.XLOOKUP(B203,'Chainsaws & Polesaws'!$F$17:$F$59,'Chainsaws & Polesaws'!$L$17:$L$59)","v":752.375}]
["Chainsaws & Polesaws",966733120,20240103,2401,{"$f":"_xlfn.XLOOKUP(B204,'Chainsaws & Polesaws'!$F$17:$F$59,'Chainsaws & Polesaws'!$U$17:$U$59)","v":1},20240201,2405,{"$f":"_xlfn.XLOOKUP(B204,'Chainsaws & Polesaws'!$F$17:$F$59,'Chainsaws & Polesaws'!$V$17:$V$59)","v":0},20240301,2409,{"$f":"_xlfn.XLOOKUP(B204,'Chainsaws & Polesaws'!$F$17:$F$59,'Chainsaws & Polesaws'!$W$17:$W$59)","v":1},20240402,2414,{"$f":"_xlfn.XLOOKUP(B204,'Chainsaws & Polesaws'!$F$17:$F$59,'Chainsaws & Polesaws'!$X$17:$X$59)","v":0},20240501,2418,{"$f":"_xlfn.XLOOKUP(B204,'Chainsaws & Polesaws'!$F$17:$F$59,'Chainsaws & Polesaws'!$Y$17:$Y$59)","v":1},20240603,2423,{"$f":"_xlfn.XLOOKUP(B204,'Chainsaws & Polesaws'!$F$17:$F$59,'Chainsaws & Polesaws'!$Z$17:$Z$59)","v":0},{"$f":"_xlfn.XLOOKUP(B204,'Chainsaws & Polesaws'!$F$17:$F$59,'Chainsaws & Polesaws'!$L$17:$L$59)","v":757.78949999999986}]
["Chainsaws & Polesaws",966733144,20240103,2401,{"$f":"_xlfn.XLOOKUP(B205,'Chainsaws & Polesaws'!$F$17:$F$59,'Chainsaws & Polesaws'!$U$17:$U$59)","v":1},20240201,2405,{"$f":"_xlfn.XLOOKUP(B205,'Chainsaws & Polesaws'!$F$17:$F$59,'Chainsaws & Polesaws'!$V$17:$V$59)","v":0},20240301,2409,{"$f":"_xlfn.XLOOKUP(B205,'Chainsaws & Polesaws'!$F$17:$F$59,'Chainsaws & Polesaws'!$W$17:$W$59)","v":0},20240402,2414,{"$f":"_xlfn.XLOOKUP(B205,'Chainsaws & Polesaws'!$F$17:$F$59,'Chainsaws & Polesaws'!$X$17:$X$59)","v":0},20240501,2418,{"$f":"_xlfn.XLOOKUP(B205,'Chainsaws & Polesaws'!$F$17:$F$59,'Chainsaws & Polesaws'!$Y$17:$Y$59)","v":0},20240603,2423,{"$f":"_xlfn.XLOOKUP(B205,'Chainsaws & Polesaws'!$F$17:$F$59,'Chainsaws & Polesaws'!$Z$17:$Z$59)","v":0},{"$f":"_xlfn.XLOOKUP(B205,'Chainsaws & Polesaws'!$F$17:$F$59,'Chainsaws & Polesaws'!$L$17:$L$59)","v":768.625}]
["Chainsaws & Polesaws",966733418,20240103,2401,{"$f":"_xlfn.XLOOKUP(B206,'Chainsaws & Polesaws'!$F$17:$F$59,'Chainsaws & Polesaws'!$U$17:$U$59)","v":0},20240201,2405,{"$f":"_xlfn.XLOOKUP(B206,'Chainsaws & Polesaws'!$F$17:$F$59,'Chainsaws & Polesaws'!$V$17:$V$59)","v":0},20240301,2409,{"$f":"_xlfn.XLOOKUP(B206,'Chainsaws & Polesaws'!$F$17:$F$59,'Chainsaws & Polesaws'!$W$17:$W$59)","v":0},20240402,2414,{"$f":"_xlfn.XLOOKUP(B206,'Chainsaws & Polesaws'!$F$17:$F$59,'Chainsaws & Polesaws'!$X$17:$X$59)","v":0},20240501,2418,{"$f":"_xlfn.XLOOKUP(B206,'Chainsaws & Polesaws'!$F$17:$F$59,'Chainsaws & Polesaws'!$Y$17:$Y$59)","v":0},20240603,2423,{"$f":"_xlfn.XLOOKUP(B206,'Chainsaws & Polesaws'!$F$17:$F$59,'Chainsaws & Polesaws'!$Z$17:$Z$59)","v":0},{"$f":"_xlfn.XLOOKUP(B206,'Chainsaws & Polesaws'!$F$17:$F$59,'Chainsaws & Polesaws'!$L$17:$L$59)","v":790.28949999999986}]
["Chainsaws & Polesaws",966733420,20240103,2401,{"$f":"_xlfn.XLOOKUP(B207,'Chainsaws & Polesaws'!$F$17:$F$59,'Chainsaws & Polesaws'!$U$17:$U$59)","v":0},20240201,2405,{"$f":"_xlfn.XLOOKUP(B207,'Chainsaws & Polesaws'!$F$17:$F$59,'Chainsaws & Polesaws'!$V$17:$V$59)","v":0},20240301,2409,{"$f":"_xlfn.XLOOKUP(B207,'Chainsaws & Polesaws'!$F$17:$F$59,'Chainsaws & Polesaws'!$W$17:$W$59)","v":0},20240402,2414,{"$f":"_xlfn.XLOOKUP(B207,'Chainsaws & Polesaws'!$F$17:$F$59,'Chainsaws & Polesaws'!$X$17:$X$59)","v":0},20240501,2418,{"$f":"_xlfn.XLOOKUP(B207,'Chainsaws & Polesaws'!$F$17:$F$59,'Chainsaws & Polesaws'!$Y$17:$Y$59)","v":0},20240603,2423,{"$f":"_xlfn.XLOOKUP(B207,'Chainsaws & Polesaws'!$F$17:$F$59,'Chainsaws & Polesaws'!$Z$17:$Z$59)","v":0},{"$f":"_xlfn.XLOOKUP(B207,'Chainsaws & Polesaws'!$F$17:$F$59,'Chainsaws & Polesaws'!$L$17:$L$59)","v":795.71050000000002}]
["Chainsaws & Polesaws",967256516,20240103,2401,{"$f":"_xlfn.XLOOKUP(B208,'Chainsaws & Polesaws'!$F$13:$F$59,'Chainsaws & Polesaws'!$U$13:$U$59)","v":0},20240201,2405,{"$f":"_xlfn.XLOOKUP(B208,'Chainsaws & Polesaws'!$F$13:$F$59,'Chainsaws & Polesaws'!$V$13:$V$59)","v":0},20240301,2409,{"$f":"_xlfn.XLOOKUP(B208,'Chainsaws & Polesaws'!$F$13:$F$59,'Chainsaws & Polesaws'!$W$13:$W$59)","v":0},20240402,2414,{"$f":"_xlfn.XLOOKUP(B208,'Chainsaws & Polesaws'!$F$13:$F$59,'Chainsaws & Polesaws'!$X$13:$X$59)","v":0},20240501,2418,{"$f":"_xlfn.XLOOKUP(B208,'Chainsaws & Polesaws'!$F$13:$F$59,'Chainsaws & Polesaws'!$Y$13:$Y$59)","v":0},20240603,2423,{"$f":"_xlfn.XLOOKUP(B208,'Chainsaws & Polesaws'!$F$13:$F$59,'Chainsaws & Polesaws'!$Z$13:$Z$59)","v":0},{"$f":"_xlfn.XLOOKUP(B208,'Chainsaws & Polesaws'!$F$13:$F$59,'Chainsaws & Polesaws'!$L$13:$L$59)","v":151.125}]
["Chainsaws & Polesaws",967329401,20240103,2401,{"$f":"_xlfn.XLOOKUP(B209,'Chainsaws & Polesaws'!$F$17:$F$59,'Chainsaws & Polesaws'!$U$17:$U$59)","v":0},20240201,2405,{"$f":"_xlfn.XLOOKUP(B209,'Chainsaws & Polesaws'!$F$17:$F$59,'Chainsaws & Polesaws'!$V$17:$V$59)","v":0},20240301,2409,{"$f":"_xlfn.XLOOKUP(B209,'Chainsaws & Polesaws'!$F$17:$F$59,'Chainsaws & Polesaws'!$W$17:$W$59)","v":0},20240402,2414,{"$f":"_xlfn.XLOOKUP(B209,'Chainsaws & Polesaws'!$F$17:$F$59,'Chainsaws & Polesaws'!$X$17:$X$59)","v":0},20240501,2418,{"$f":"_xlfn.XLOOKUP(B209,'Chainsaws & Polesaws'!$F$17:$F$59,'Chainsaws & Polesaws'!$Y$17:$Y$59)","v":0},20240603,2423,{"$f":"_xlfn.XLOOKUP(B209,'Chainsaws & Polesaws'!$F$17:$F$59,'Chainsaws & Polesaws'!$Z$17:$Z$59)","v":0},{"$f":"_xlfn.XLOOKUP(B209,'Chainsaws & Polesaws'!$F$17:$F$59,'Chainsaws & Polesaws'!$L$17:$L$59)","v":459.875}]
["Chainsaws & Polesaws",967329601,20240103,2401,{"$f":"_xlfn.XLOOKUP(B210,'Chainsaws & Polesaws'!$F$17:$F$59,'Chainsaws & Polesaws'!$U$17:$U$59)","v":0},20240201,2405,{"$f":"_xlfn.XLOOKUP(B210,'Chainsaws & Polesaws'!$F$17:$F$59,'Chainsaws & Polesaws'!$V$17:$V$59)","v":0},20240301,2409,{"$f":"_xlfn.XLOOKUP(B210,'Chainsaws & Polesaws'!$F$17:$F$59,'Chainsaws & Polesaws'!$W$17:$W$59)","v":0},20240402,2414,{"$f":"_xlfn.XLOOKUP(B210,'Chainsaws & Polesaws'!$F$17:$F$59,'Chainsaws & Polesaws'!$X$17:$X$59)","v":0},20240501,2418,{"$f":"_xlfn.XLOOKUP(B210,'Chainsaws & Polesaws'!$F$17:$F$59,'Chainsaws & Polesaws'!$Y$17:$Y$59)","v":0},20240603,2423,{"$f":"_xlfn.XLOOKUP(B210,'Chainsaws & Polesaws'!$F$17:$F$59,'Chainsaws & Polesaws'!$Z$17:$Z$59)","v":0},{"$f":"_xlfn.XLOOKUP(B210,'Chainsaws & Polesaws'!$F$17:$F$59,'Chainsaws & Polesaws'!$L$17:$L$59)","v":541.125}]
["Chainsaws & Polesaws",970517916,20240103,2401,{"$f":"_xlfn.XLOOKUP(B211,'Chainsaws & Polesaws'!$F$17:$F$59,'Chainsaws & Polesaws'!$U$17:$U$59)","v":0},20240201,2405,{"$f":"_xlfn.XLOOKUP(B211,'Chainsaws & Polesaws'!$F$17:$F$59,'Chainsaws & Polesaws'!$V$17:$V$59)","v":0},20240301,2409,{"$f":"_xlfn.XLOOKUP(B211,'Chainsaws & Polesaws'!$F$17:$F$59,'Chainsaws & Polesaws'!$W$17:$W$59)","v":0},20240402,2414,{"$f":"_xlfn.XLOOKUP(B211,'Chainsaws & Polesaws'!$F$17:$F$59,'Chainsaws & Polesaws'!$X$17:$X$59)","v":0},20240501,2418,{"$f":"_xlfn.XLOOKUP(B211,'Chainsaws & Polesaws'!$F$17:$F$59,'Chainsaws & Polesaws'!$Y$17:$Y$59)","v":0},20240603,2423,{"$f":"_xlfn.XLOOKUP(B211,'Chainsaws & Polesaws'!$F$17:$F$59,'Chainsaws & Polesaws'!$Z$17:$Z$59)","v":0},{"$f":"_xlfn.XLOOKUP(B211,'Chainsaws & Polesaws'!$F$17:$F$59,'Chainsaws & Polesaws'!$L$17:$L$59)","v":443.625}]
["Chainsaws & Polesaws",970517912,20240103,2401,{"$f":"_xlfn.XLOOKUP(B212,'Chainsaws & Polesaws'!$F$17:$F$59,'Chainsaws & Polesaws'!$U$17:$U$59)","v":1},20240201,2405,{"$f":"_xlfn.XLOOKUP(B212,'Chainsaws & Polesaws'!$F$17:$F$59,'Chainsaws & Polesaws'!$V$17:$V$59)","v":1},20240301,2409,{"$f":"_xlfn.XLOOKUP(B212,'Chainsaws & Polesaws'!$F$17:$F$59,'Chainsaws & Polesaws'!$W$17:$W$59)","v":1},20240402,2414,{"$f":"_xlfn.XLOOKUP(B212,'Chainsaws & Polesaws'!$F$17:$F$59,'Chainsaws & Polesaws'!$X$17:$X$59)","v":0},20240501,2418,{"$f":"_xlfn.XLOOKUP(B212,'Chainsaws & Polesaws'!$F$17:$F$59,'Chainsaws & Polesaws'!$Y$17:$Y$59)","v":1},20240603,2423,{"$f":"_xlfn.XLOOKUP(B212,'Chainsaws & Polesaws'!$F$17:$F$59,'Chainsaws & Polesaws'!$Z$17:$Z$59)","v":0},{"$f":"_xlfn.XLOOKUP(B212,'Chainsaws & Polesaws'!$F$17:$F$59,'Chainsaws & Polesaws'!$L$17:$L$59)","v":432.78949999999998}]
["Chainsaws & Polesaws",970517914,20240103,2401,{"$f":"_xlfn.XLOOKUP(B213,'Chainsaws & Polesaws'!$F$17:$F$59,'Chainsaws & Polesaws'!$U$17:$U$59)","v":1},20240201,2405,{"$f":"_xlfn.XLOOKUP(B213,'Chainsaws & Polesaws'!$F$17:$F$59,'Chainsaws & Polesaws'!$V$17:$V$59)","v":1},20240301,2409,{"$f":"_xlfn.XLOOKUP(B213,'Chainsaws & Polesaws'!$F$17:$F$59,'Chainsaws & Polesaws'!$W$17:$W$59)","v":1},20240402,2414,{"$f":"_xlfn.XLOOKUP(B213,'Chainsaws & Polesaws'!$F$17:$F$59,'Chainsaws & Polesaws'!$X$17:$X$59)","v":0},20240501,2418,{"$f":"_xlfn.XLOOKUP(B213,'Chainsaws & Polesaws'!$F$17:$F$59,'Chainsaws & Polesaws'!$Y$17:$Y$59)","v":0},20240603,2423,{"$f":"_xlfn.XLOOKUP(B213,'Chainsaws & Polesaws'!$F$17:$F$59,'Chainsaws & Polesaws'!$Z$17:$Z$59)","v":0},{"$f":"_xlfn.XLOOKUP(B213,'Chainsaws & Polesaws'!$F$17:$F$59,'Chainsaws & Polesaws'!$L$17:$L$59)","v":438.21049999999991}]
["Combi (engine units)",967185902,20240103,2401,{"$f":"_xlfn.XLOOKUP(B214,'Combi Tools'!$F$17:$F$31,'Combi Tools'!$U$17:$U$31)","v":0},20240201,2405,{"$f":"_xlfn.XLOOKUP(B214,'Combi Tools'!$F$17:$F$31,'Combi Tools'!$V$17:$V$31)","v":0},20240301,2409,{"$f":"_xlfn.XLOOKUP(B214,'Combi Tools'!$F$17:$F$31,'Combi Tools'!$W$17:$W$31)","v":0},20240402,2414,{"$f":"_xlfn.XLOOKUP(B214,'Combi Tools'!$F$17:$F$31,'Combi Tools'!X17:X31)","v":0},20240501,2418,{"$f":"_xlfn.XLOOKUP(B214,'Combi Tools'!$F$17:$F$31,'Combi Tools'!$Y$17:$Y$31)","v":0},20240603,2423,{"$f":"_xlfn.XLOOKUP(B214,'Combi Tools'!$F$17:$F$31,'Combi Tools'!$Z$17:$Z$31)","v":0},{"$f":"_xlfn.XLOOKUP(B214,'Combi Tools'!$F$17:$F$31,'Combi Tools'!$L$17:$L$31)","v":75.289500000000004}]
["Combi (engine units)",537353503,20240103,2401,{"$f":"_xlfn.XLOOKUP(B215,'Combi Tools'!$F$17:$F$31,'Combi Tools'!$U$17:$U$31)","v":0},20240201,2405,{"$f":"_xlfn.XLOOKUP(B215,'Combi Tools'!$F$17:$F$31,'Combi Tools'!$V$17:$V$31)","v":0},20240301,2409,{"$f":"_xlfn.XLOOKUP(B215,'Combi Tools'!$F$17:$F$31,'Combi Tools'!$W$17:$W$31)","v":0},20240402,2414,{"$f":"_xlfn.XLOOKUP(B215,'Combi Tools'!$F$17:$F$31,'Combi Tools'!$X$17:$X$31)","v":0},20240501,2418,{"$f":"_xlfn.XLOOKUP(B215,'Combi Tools'!$F$17:$F$31,'Combi Tools'!$Y$17:$Y$31)","v":0},20240603,2423,{"$f":"_xlfn.XLOOKUP(B215,'Combi Tools'!$F$17:$F$31,'Combi Tools'!$Z$17:$Z$31)","v":0},{"$f":"_xlfn.XLOOKUP(B215,'Combi Tools'!$F$17:$F$31,'Combi Tools'!$L$17:$L$31)","v":75.289500000000004}]
["Combi (engine units)",596316503,20240103,2401,{"$f":"_xlfn.XLOOKUP(B216,'Combi Tools'!$F$17:$F$31,'Combi Tools'!$U$17:$U$31)","v":0},20240201,2405,{"$f":"_xlfn.XLOOKUP(B216,'Combi Tools'!$F$17:$F$31,'Combi Tools'!$V$17:$V$31)","v":0},20240301,2409,{"$f":"_xlfn.XLOOKUP(B216,'Combi Tools'!$F$17:$F$31,'Combi Tools'!$W$17:$W$31)","v":0},20240402,2414,{"$f":"_xlfn.XLOOKUP(B216,'Combi Tools'!$F$17:$F$31,'Combi Tools'!$X$17:$X$31)","v":0},20240501,2418,{"$f":"_xlfn.XLOOKUP(B216,'Combi Tools'!$F$17:$F$31,'Combi Tools'!$Y$17:$Y$31)","v":0},20240603,2423,{"$f":"_xlfn.XLOOKUP(B216,'Combi Tools'!$F$17:$F$31,'Combi Tools'!$Z$17:$Z$31)","v":0},{"$f":"_xlfn.XLOOKUP(B216,'Combi Tools'!$F$17:$F$31,'Combi Tools'!$L$17:$L$31)","v":237.78949999999998}]
["Combi (engine units)",596316603,20240103,2401,{"$f":"_xlfn.XLOOKUP(B217,'Combi Tools'!$F$17:$F$31,'Combi Tools'!$U$17:$U$31)","v":0},20240201,2405,{"$f":"_xlfn.XLOOKUP(B217,'Combi Tools'!$F$17:$F$31,'Combi Tools'!$V$17:$V$31)","v":0},20240301,2409,{"$f":"_xlfn.XLOOKUP(B217,'Combi Tools'!$F$17:$F$31,'Combi Tools'!$W$17:$W$31)","v":0},20240402,2414,{"$f":"_xlfn.XLOOKUP(B217,'Combi Tools'!$F$17:$F$31,'Combi Tools'!$X$17:$X$31)","v":0},20240501,2418,{"$f":"_xlfn.XLOOKUP(B217,'Combi Tools'!$F$17:$F$31,'Combi Tools'!$Y$17:$Y$31)","v":0},20240603,2423,{"$f":"_xlfn.XLOOKUP(B217,'Combi Tools'!$F$17:$F$31,'Combi Tools'!$Z$17:$Z$31)","v":0},{"$f":"_xlfn.XLOOKUP(B217,'Combi Tools'!$F$17:$F$31,'Combi Tools'!$L$17:$L$31)","v":243.2105}]
["Combi (engine units)",537183327,20240103,2401,{"$f":"_xlfn.XLOOKUP(B218,'Combi Tools'!$F$17:$F$31,'Combi Tools'!$U$17:$U$31)","v":0},20240201,2405,{"$f":"_xlfn.XLOOKUP(B218,'Combi Tools'!$F$17:$F$31,'Combi Tools'!$V$17:$V$31)","v":0},20240301,2409,{"$f":"_xlfn.XLOOKUP(B218,'Combi Tools'!$F$17:$F$31,'Combi Tools'!$W$17:$W$31)","v":0},20240402,2414,{"$f":"_xlfn.XLOOKUP(B218,'Combi Tools'!$F$17:$F$31,'Combi Tools'!$X$17:$X$31)","v":0},20240501,2418,{"$f":"_xlfn.XLOOKUP(B218,'Combi Tools'!$F$17:$F$31,'Combi Tools'!$Y$17:$Y$31)","v":0},20240603,2423,{"$f":"_xlfn.XLOOKUP(B218,'Combi Tools'!$F$17:$F$31,'Combi Tools'!$Z$17:$Z$31)","v":0},{"$f":"_xlfn.XLOOKUP(B218,'Combi Tools'!$F$17:$F$31,'Combi Tools'!$L$17:$L$31)","v":205.28949999999998}]
["Combi (engine units)",967925504,20240103,2401,{"$f":"_xlfn.XLOOKUP(B219,'Combi Tools'!$F$17:$F$31,'Combi Tools'!$U$17:$U$31)","v":0},20240201,2405,{"$f":"_xlfn.XLOOKUP(B219,'Combi Tools'!$F$17:$F$31,'Combi Tools'!$V$17:$V$31)","v":0},20240301,2409,{"$f":"_xlfn.XLOOKUP(B219,'Combi Tools'!$F$17:$F$31,'Combi Tools'!$W$17:$W$31)","v":0},20240402,2414,{"$f":"_xlfn.XLOOKUP(B219,'Combi Tools'!$F$17:$F$31,'Combi Tools'!$X$17:$X$31)","v":0},20240501,2418,{"$f":"_xlfn.XLOOKUP(B219,'Combi Tools'!$F$17:$F$31,'Combi Tools'!$Y$17:$Y$31)","v":0},20240603,2423,{"$f":"_xlfn.XLOOKUP(B219,'Combi Tools'!$F$17:$F$31,'Combi Tools'!$Z$17:$Z$31)","v":0},{"$f":"_xlfn.XLOOKUP(B219,'Combi Tools'!$F$17:$F$31,'Combi Tools'!$L$17:$L$31)","v":96.953999999999994}]
["Combi (engine units)",967925604,20240103,2401,{"$f":"_xlfn.XLOOKUP(B220,'Combi Tools'!$F$17:$F$31,'Combi Tools'!$U$17:$U$31)","v":0},20240201,2405,{"$f":"_xlfn.XLOOKUP(B220,'Combi Tools'!$F$17:$F$31,'Combi Tools'!$V$17:$V$31)","v":0},20240301,2409,{"$f":"_xlfn.XLOOKUP(B220,'Combi Tools'!$F$17:$F$31,'Combi Tools'!$W$17:$W$31)","v":0},20240402,2414,{"$f":"_xlfn.XLOOKUP(B220,'Combi Tools'!$F$17:$F$31,'Combi Tools'!$X$17:$X$31)","v":0},20240501,2418,{"$f":"_xlfn.XLOOKUP(B220,'Combi Tools'!$F$17:$F$31,'Combi Tools'!$Y$17:$Y$31)","v":0},20240603,2423,{"$f":"_xlfn.XLOOKUP(B220,'Combi Tools'!$F$17:$F$31,'Combi Tools'!$Z$17:$Z$31)","v":0},{"$f":"_xlfn.XLOOKUP(B220,'Combi Tools'!$F$17:$F$31,'Combi Tools'!$L$17:$L$31)","v":102.3685}]
["Combi (engine units)",967908501,20240103,2401,{"$f":"_xlfn.XLOOKUP(B221,'Combi Tools'!$F$17:$F$31,'Combi Tools'!$U$17:$U$31)","v":0},20240201,2405,{"$f":"_xlfn.XLOOKUP(B221,'Combi Tools'!$F$17:$F$31,'Combi Tools'!$V$17:$V$31)","v":0},20240301,2409,{"$f":"_xlfn.XLOOKUP(B221,'Combi Tools'!$F$17:$F$31,'Combi Tools'!$W$17:$W$31)","v":0},20240402,2414,{"$f":"_xlfn.XLOOKUP(B221,'Combi Tools'!$F$17:$F$31,'Combi Tools'!$X$17:$X$31)","v":0},20240501,2418,{"$f":"_xlfn.XLOOKUP(B221,'Combi Tools'!$F$17:$F$31,'Combi Tools'!$Y$17:$Y$31)","v":0},20240603,2423,{"$f":"_xlfn.XLOOKUP(B221,'Combi Tools'!$F$17:$F$31,'Combi Tools'!$Z$17:$Z$31)","v":0},{"$f":"_xlfn.XLOOKUP(B221,'Combi Tools'!$F$17:$F$31,'Combi Tools'!$L$17:$L$31)","v":259.46050000000002}]
["Combi (engine units)",967908601,20240103,2401,{"$f":"_xlfn.XLOOKUP(B222,'Combi Tools'!$F$17:$F$31,'Combi Tools'!$U$17:$U$31)","v":0},20240201,2405,{"$f":"_xlfn.XLOOKUP(B222,'Combi Tools'!$F$17:$F$31,'Combi Tools'!$V$17:$V$31)","v":0},20240301,2409,{"$f":"_xlfn.XLOOKUP(B222,'Combi Tools'!$F$17:$F$31,'Combi Tools'!$W$17:$W$31)","v":0},20240402,2414,{"$f":"_xlfn.XLOOKUP(B222,'Combi Tools'!$F$17:$F$31,'Combi Tools'!$X$17:$X$31)","v":0},20240501,2418,{"$f":"_xlfn.XLOOKUP(B222,'Combi Tools'!$F$17:$F$31,'Combi Tools'!$Y$17:$Y$31)","v":0},20240603,2423,{"$f":"_xlfn.XLOOKUP(B222,'Combi Tools'!$F$17:$F$31,'Combi Tools'!$Z$17:$Z$31)","v":0},{"$f":"_xlfn.XLOOKUP(B222,'Combi Tools'!$F$17:$F$31,'Combi Tools'!$L$17:$L$31)","v":232.375}]
["Combi (engine units)",967294201,20240103,2401,{"$f":"_xlfn.XLOOKUP(B223,'Combi Tools'!$F$17:$F$31,'Combi Tools'!$U$17:$U$31)","v":0},20240201,2405,{"$f":"_xlfn.XLOOKUP(B223,'Combi Tools'!$F$17:$F$31,'Combi Tools'!$V$17:$V$31)","v":0},20240301,2409,{"$f":"_xlfn.XLOOKUP(B223,'Combi Tools'!$F$17:$F$31,'Combi Tools'!$W$17:$W$31)","v":0},20240402,2414,{"$f":"_xlfn.XLOOKUP(B223,'Combi Tools'!$F$17:$F$31,'Combi Tools'!$X$17:$X$31)","v":0},20240501,2418,{"$f":"_xlfn.XLOOKUP(B223,'Combi Tools'!$F$17:$F$31,'Combi Tools'!$Y$17:$Y$31)","v":0},20240603,2423,{"$f":"_xlfn.XLOOKUP(B223,'Combi Tools'!$F$17:$F$31,'Combi Tools'!$Z$17:$Z$31)","v":0},{"$f":"_xlfn.XLOOKUP(B223,'Combi Tools'!$F$17:$F$31,'Combi Tools'!$L$17:$L$31)","v":156.5395}]
["Combi (engine units)",967294401,20240103,2401,{"$f":"_xlfn.XLOOKUP(B224,'Combi Tools'!$F$17:$F$31,'Combi Tools'!$U$17:$U$31)","v":0},20240201,2405,{"$f":"_xlfn.XLOOKUP(B224,'Combi Tools'!$F$17:$F$31,'Combi Tools'!$V$17:$V$31)","v":0},20240301,2409,{"$f":"_xlfn.XLOOKUP(B224,'Combi Tools'!$F$17:$F$31,'Combi Tools'!$W$17:$W$31)","v":0},20240402,2414,{"$f":"_xlfn.XLOOKUP(B224,'Combi Tools'!$F$17:$F$31,'Combi Tools'!$X$17:$X$31)","v":0},20240501,2418,{"$f":"_xlfn.XLOOKUP(B224,'Combi Tools'!$F$17:$F$31,'Combi Tools'!$Y$17:$Y$31)","v":0},20240603,2423,{"$f":"_xlfn.XLOOKUP(B224,'Combi Tools'!$F$17:$F$31,'Combi Tools'!$Z$17:$Z$31)","v":0},{"$f":"_xlfn.XLOOKUP(B224,'Combi Tools'!$F$17:$F$31,'Combi Tools'!$L$17:$L$31)","v":259.46050000000002}]
["Combi (engine units)",967296701,20240103,2401,{"$f":"_xlfn.XLOOKUP(B225,'Combi Tools'!$F$17:$F$31,'Combi Tools'!$U$17:$U$31)","v":0},20240201,2405,{"$f":"_xlfn.XLOOKUP(B225,'Combi Tools'!$F$17:$F$31,'Combi Tools'!$V$17:$V$31)","v":0},20240301,2409,{"$f":"_xlfn.XLOOKUP(B225,'Combi Tools'!$F$17:$F$31,'Combi Tools'!$W$17:$W$31)","v":0},20240402,2414,{"$f":"_xlfn.XLOOKUP(B225,'Combi Tools'!$F$17:$F$31,'Combi Tools'!$X$17:$X$31)","v":0},20240501,2418,{"$f":"_xlfn.XLOOKUP(B225,'Combi Tools'!$F$17:$F$31,'Combi Tools'!$Y$17:$Y$31)","v":0},20240603,2423,{"$f":"_xlfn.XLOOKUP(B225,'Combi Tools'!$F$17:$F$31,'Combi Tools'!$Z$17:$Z$31)","v":0},{"$f":"_xlfn.XLOOKUP(B225,'Combi Tools'!$F$17:$F$31,'Combi Tools'!$L$17:$L$31)","v":270.28949999999998}]
["Combi (engine units)",967296901,20240103,2401,{"$f":"_xlfn.XLOOKUP(B226,'Combi Tools'!$F$17:$F$31,'Combi Tools'!$U$17:$U$31)","v":0},20240201,2405,{"$f":"_xlfn.XLOOKUP(B226,'Combi Tools'!$F$17:$F$31,'Combi Tools'!$V$17:$V$31)","v":0},20240301,2409,{"$f":"_xlfn.XLOOKUP(B226,'Combi Tools'!$F$17:$F$31,'Combi Tools'!$W$17:$W$31)","v":0},20240402,2414,{"$f":"_xlfn.XLOOKUP(B226,'Combi Tools'!$F$17:$F$31,'Combi Tools'!$X$17:$X$31)","v":0},20240501,2418,{"$f":"_xlfn.XLOOKUP(B226,'Combi Tools'!$F$17:$F$31,'Combi Tools'!$Y$17:$Y$31)","v":0},20240603,2423,{"$f":"_xlfn.XLOOKUP(B226,'Combi Tools'!$F$17:$F$31,'Combi Tools'!$Z$17:$Z$31)","v":0},{"$f":"_xlfn.XLOOKUP(B226,'Combi Tools'!$F$17:$F$31,'Combi Tools'!$L$17:$L$31)","v":270.28949999999998}]
["Combi (engine units)",967297101,20240103,2401,{"$f":"_xlfn.XLOOKUP(B227,'Combi Tools'!$F$17:$F$31,'Combi Tools'!$U$17:$U$31)","v":0},20240201,2405,{"$f":"_xlfn.XLOOKUP(B227,'Combi Tools'!$F$17:$F$31,'Combi Tools'!$V$17:$V$31)","v":0},20240301,2409,{"$f":"_xlfn.XLOOKUP(B227,'Combi Tools'!$F$17:$F$31,'Combi Tools'!$W$17:$W$31)","v":0},20240402,2414,{"$f":"_xlfn.XLOOKUP(B227,'Combi Tools'!$F$17:$F$31,'Combi Tools'!$X$17:$X$31)","v":0},20240501,2418,{"$f":"_xlfn.XLOOKUP(B227,'Combi Tools'!$F$17:$F$31,'Combi Tools'!$Y$17:$Y$31)","v":0},20240603,2423,{"$f":"_xlfn.XLOOKUP(B227,'Combi Tools'!$F$17:$F$31,'Combi Tools'!$Z$17:$Z$31)","v":0},{"$f":"_xlfn.XLOOKUP(B227,'Combi Tools'!$F$17:$F$31,'Combi Tools'!$L$17:$L$31)","v":47.664499999999997}]
["Combi (engine units)",967286401,20240103,2401,{"$f":"_xlfn.XLOOKUP(B228,'Combi Tools'!$F$17:$F$31,'Combi Tools'!$U$17:$U$31)","v":0},20240201,2405,{"$f":"_xlfn.XLOOKUP(B228,'Combi Tools'!$F$17:$F$31,'Combi Tools'!$V$17:$V$31)","v":0},20240301,2409,{"$f":"_xlfn.XLOOKUP(B228,'Combi Tools'!$F$17:$F$31,'Combi Tools'!$W$17:$W$31)","v":0},20240402,2414,{"$f":"_xlfn.XLOOKUP(B228,'Combi Tools'!$F$17:$F$31,'Combi Tools'!$X$17:$X$31)","v":0},20240501,2418,{"$f":"_xlfn.XLOOKUP(B228,'Combi Tools'!$F$17:$F$31,'Combi Tools'!$Y$17:$Y$31)","v":0},20240603,2423,{"$f":"_xlfn.XLOOKUP(B228,'Combi Tools'!$F$17:$F$31,'Combi Tools'!$Z$17:$Z$31)","v":0},{"$f":"_xlfn.XLOOKUP(B228,'Combi Tools'!$F$17:$F$31,'Combi Tools'!$L$17:$L$31)","v":100.7435}]
["Combi (engine units)",967688103,20240103,2401,{"$f":"_xlfn.XLOOKUP(B229,'Combi Tools'!$F$13:$F$31,'Combi Tools'!$U$13:$U$31)","v":0},20240201,2405,{"$f":"_xlfn.XLOOKUP(B229,'Combi Tools'!$F$13:$F$31,'Combi Tools'!$V$13:$V$31)","v":0},20240301,2409,{"$f":"_xlfn.XLOOKUP(B229,'Combi Tools'!$F$13:$F$31,'Combi Tools'!$W$13:$W$31)","v":0},20240402,2414,{"$f":"_xlfn.XLOOKUP(B229,'Combi Tools'!$F$13:$F$31,'Combi Tools'!$X$13:$X$31)","v":0},20240501,2418,{"$f":"_xlfn.XLOOKUP(B229,'Combi Tools'!$F$13:$F$31,'Combi Tools'!$Y$13:$Y$31)","v":0},20240603,2423,{"$f":"_xlfn.XLOOKUP(B229,'Combi Tools'!$F$13:$F$31,'Combi Tools'!$Z$13:$Z$31)","v":0},{"$f":"_xlfn.XLOOKUP(B229,'Combi Tools'!$F$13:$F$31,'Combi Tools'!$L$13:$L$31)","v":405.71049999999991}]
["Combi (engine units)",967193603,20240103,2401,{"$f":"_xlfn.XLOOKUP(B230,'Combi Tools'!$F$13:$F$31,'Combi Tools'!$U$13:$U$31)","v":0},20240201,2405,{"$f":"_xlfn.XLOOKUP(B230,'Combi Tools'!$F$13:$F$31,'Combi Tools'!$V$13:$V$31)","v":0},20240301,2409,{"$f":"_xlfn.XLOOKUP(B230,'Combi Tools'!$F$13:$F$31,'Combi Tools'!$W$13:$W$31)","v":0},20240402,2414,{"$f":"_xlfn.XLOOKUP(B230,'Combi Tools'!$F$13:$F$31,'Combi Tools'!$X$13:$X$31)","v":0},20240501,2418,{"$f":"_xlfn.XLOOKUP(B230,'Combi Tools'!$F$13:$F$31,'Combi Tools'!$Y$13:$Y$31)","v":0},20240603,2423,{"$f":"_xlfn.XLOOKUP(B230,'Combi Tools'!$F$13:$F$31,'Combi Tools'!$Z$13:$Z$31)","v":0},{"$f":"_xlfn.XLOOKUP(B230,'Combi Tools'!$F$13:$F$31,'Combi Tools'!$L$13:$L$31)","v":161.96049999999997}]
["Combi (engine units)",967148301,20240103,2401,{"$f":"_xlfn.XLOOKUP(B231,'Combi Tools'!$F$13:$F$31,'Combi Tools'!$U$13:$U$31)","v":0},20240201,2405,{"$f":"_xlfn.XLOOKUP(B231,'Combi Tools'!$F$13:$F$31,'Combi Tools'!$V$13:$V$31)","v":0},20240301,2409,{"$f":"_xlfn.XLOOKUP(B231,'Combi Tools'!$F$13:$F$31,'Combi Tools'!$W$13:$W$31)","v":0},20240402,2414,{"$f":"_xlfn.XLOOKUP(B231,'Combi Tools'!$F$13:$F$31,'Combi Tools'!$X$13:$X$31)","v":0},20240501,2418,{"$f":"_xlfn.XLOOKUP(B231,'Combi Tools'!$F$13:$F$31,'Combi Tools'!$Y$13:$Y$31)","v":0},20240603,2423,{"$f":"_xlfn.XLOOKUP(B231,'Combi Tools'!$F$13:$F$31,'Combi Tools'!$Z$13:$Z$31)","v":0},{"$f":"_xlfn.XLOOKUP(B231,'Combi Tools'!$F$13:$F$31,'Combi Tools'!$L$13:$L$31)","v":270.28949999999998}]
["Combi (engine units)",952715616,20240103,2401,{"$f":"_xlfn.XLOOKUP(B232,'Combi Tools'!$F$13:$F$31,'Combi Tools'!$U$13:$U$31)","v":0},20240201,2405,{"$f":"_xlfn.XLOOKUP(B232,'Combi Tools'!$F$13:$F$31,'Combi Tools'!$V$13:$V$31)","v":0},20240301,2409,{"$f":"_xlfn.XLOOKUP(B232,'Combi Tools'!$F$13:$F$31,'Combi Tools'!$W$13:$W$31)","v":0},20240402,2414,{"$f":"_xlfn.XLOOKUP(B232,'Combi Tools'!$F$13:$F$31,'Combi Tools'!$X$13:$X$31)","v":0},20240501,2418,{"$f":"_xlfn.XLOOKUP(B232,'Combi Tools'!$F$13:$F$31,'Combi Tools'!$Y$13:$Y$31)","v":0},20240603,2423,{"$f":"_xlfn.XLOOKUP(B232,'Combi Tools'!$F$13:$F$31,'Combi Tools'!$Z$13:$Z$31)","v":0},{"$f":"_xlfn.XLOOKUP(B232,'Combi Tools'!$F$13:$F$31,'Combi Tools'!$L$13:$L$31)","v":36.289499999999997}]
["Domestic Automower® (100 to 400-series)",970535103,20240103,2401,{"$f":"_xlfn.XLOOKUP(B233,'Automower®'!$F$13:$F$26,'Automower®'!$U$13:$U$26)","v":0},20240201,2405,{"$f":"_xlfn.XLOOKUP(B233,'Automower®'!$F$13:$F$26,'Automower®'!$V$13:$V$26)","v":0},20240301,2409,{"$f":"_xlfn.XLOOKUP(B233,'Automower®'!$F$13:$F$26,'Automower®'!$W$13:$W$26)","v":1},20240402,2414,{"$f":"_xlfn.XLOOKUP(B233,'Automower®'!$F$13:$F$26,'Automower®'!$X$13:$X$26)","v":1},20240501,2418,{"$f":"_xlfn.XLOOKUP(B233,'Automower®'!$F$13:$F$26,'Automower®'!$Y$13:$Y$26)","v":0},20240603,2423,{"$f":"_xlfn.XLOOKUP(B233,'Automower®'!$F$13:$F$26,'Automower®'!$Z$13:$Z$26)","v":0},{"$f":"_xlfn.XLOOKUP(B233,'Automower®'!$F$13:$F$26,'Automower®'!$L$13:$L$26)","v":1842.675}]
["Domestic Automower® (100 to 400-series)",970535303,20240103,2401,{"$f":"_xlfn.XLOOKUP(B234,'Automower®'!$F$13:$F$26,'Automower®'!$U$13:$U$26)","v":0},20240201,2405,{"$f":"_xlfn.XLOOKUP(B234,'Automower®'!$F$13:$F$26,'Automower®'!$V$13:$V$26)","v":0},20240301,2409,{"$f":"_xlfn.XLOOKUP(B234,'Automower®'!$F$13:$F$26,'Automower®'!$W$13:$W$26)","v":3},20240402,2414,{"$f":"_xlfn.XLOOKUP(B234,'Automower®'!$F$13:$F$26,'Automower®'!$X$13:$X$26)","v":3},20240501,2418,{"$f":"_xlfn.XLOOKUP(B234,'Automower®'!$F$13:$F$26,'Automower®'!$Y$13:$Y$26)","v":3},20240603,2423,{"$f":"_xlfn.XLOOKUP(B234,'Automower®'!$F$13:$F$26,'Automower®'!$Z$13:$Z$26)","v":3},{"$f":"_xlfn.XLOOKUP(B234,'Automower®'!$F$13:$F$26,'Automower®'!$L$13:$L$26)","v":3159.3443000000002}]
["Domestic Automower® (100 to 400-series)",535545301,20240103,2401,{"$f":"_xlfn.XLOOKUP(B235,'Automower®'!$F$13:$F$26,'Automower®'!$U$13:$U$26)","v":0},20240201,2405,{"$f":"_xlfn.XLOOKUP(B235,'Automower®'!$F$13:$F$26,'Automower®'!$V$13:$V$26)","v":0},20240301,2409,{"$f":"_xlfn.XLOOKUP(B235,'Automower®'!$F$13:$F$26,'Automower®'!$W$13:$W$26)","v":0},20240402,2414,{"$f":"_xlfn.XLOOKUP(B235,'Automower®'!$F$13:$F$26,'Automower®'!$X$13:$X$26)","v":0},20240501,2418,{"$f":"_xlfn.XLOOKUP(B235,'Automower®'!$F$13:$F$26,'Automower®'!$Y$13:$Y$26)","v":0},20240603,2423,{"$f":"_xlfn.XLOOKUP(B235,'Automower®'!$F$13:$F$26,'Automower®'!$Z$13:$Z$26)","v":0},{"$f":"_xlfn.XLOOKUP(B235,'Automower®'!$F$13:$F$26,'Automower®'!$L$13:$L$26)","v":196.84429999999998}]
["Domestic Automower® (100 to 400-series)",970663403,20240103,2401,{"$f":"_xlfn.XLOOKUP(B236,'Automower®'!$F$13:$F$26,'Automower®'!$U$13:$U$26)","v":0},20240201,2405,{"$f":"_xlfn.XLOOKUP(B236,'Automower®'!$F$13:$F$26,'Automower®'!$V$13:$V$26)","v":0},20240301,2409,{"$f":"_xlfn.XLOOKUP(B236,'Automower®'!$F$13:$F$26,'Automower®'!$W$13:$W$26)","v":3},20240402,2414,{"$f":"_xlfn.XLOOKUP(B236,'Automower®'!$F$13:$F$26,'Automower®'!$X$13:$X$26)","v":3},20240501,2418,{"$f":"_xlfn.XLOOKUP(B236,'Automower®'!$F$13:$F$26,'Automower®'!$Y$13:$Y$26)","v":3},20240603,2423,{"$f":"_xlfn.XLOOKUP(B236,'Automower®'!$F$13:$F$26,'Automower®'!$Z$13:$Z$26)","v":0},{"$f":"_xlfn.XLOOKUP(B236,'Automower®'!$F$13:$F$26,'Automower®'!$L$13:$L$26)","v":855.17499999999995}]
["Domestic Automower® (100 to 400-series)",967645403,20240103,2401,{"$f":"_xlfn.XLOOKUP(B237,'Automower®'!$F$13:$F$26,'Automower®'!$U$13:$U$26)","v":0},20240201,2405,{"$f":"_xlfn.XLOOKUP(B237,'Automower®'!$F$13:$F$26,'Automower®'!$V$13:$V$26)","v":0},20240301,2409,{"$f":"_xlfn.XLOOKUP(B237,'Automower®'!$F$13:$F$26,'Automower®'!$W$13:$W$26)","v":0},20240402,2414,{"$f":"_xlfn.XLOOKUP(B237,'Automower®'!$F$13:$F$26,'Automower®'!$X$13:$X$26)","v":0},20240501,2418,{"$f":"_xlfn.XLOOKUP(B237,'Automower®'!$F$13:$F$26,'Automower®'!$Y$13:$Y$26)","v":0},20240603,2423,{"$f":"_xlfn.XLOOKUP(B237,'Automower®'!$F$13:$F$26,'Automower®'!$Z$13:$Z$26)","v":0},{"$f":"_xlfn.XLOOKUP(B237,'Automower®'!$F$13:$F$26,'Automower®'!$L$13:$L$26)","v":526.00570000000005}]
["Domestic Automower® (100 to 400-series)",967852803,20240103,2401,{"$f":"_xlfn.XLOOKUP(B238,'Automower®'!$F$13:$F$26,'Automower®'!$U$13:$U$26)","v":0},20240201,2405,{"$f":"_xlfn.XLOOKUP(B238,'Automower®'!$F$13:$F$26,'Automower®'!$V$13:$V$26)","v":0},20240301,2409,{"$f":"_xlfn.XLOOKUP(B238,'Automower®'!$F$13:$F$26,'Automower®'!$W$13:$W$26)","v":0},20240402,2414,{"$f":"_xlfn.XLOOKUP(B238,'Automower®'!$F$13:$F$26,'Automower®'!$X$13:$X$26)","v":0},20240501,2418,{"$f":"_xlfn.XLOOKUP(B238,'Automower®'!$F$13:$F$26,'Automower®'!$Y$13:$Y$26)","v":0},20240603,2423,{"$f":"_xlfn.XLOOKUP(B238,'Automower®'!$F$13:$F$26,'Automower®'!$Z$13:$Z$26)","v":0},{"$f":"_xlfn.XLOOKUP(B238,'Automower®'!$F$13:$F$26,'Automower®'!$L$13:$L$26)","v":2171.8443000000002}]
["Domestic Automower® (100 to 400-series)",970568503,20240103,2401,{"$f":"_xlfn.XLOOKUP(B239,Aspire!$F$13:$F$26,Aspire!$U$13:$U$26)","v":0},20240201,2405,{"$f":"_xlfn.XLOOKUP(B239,Aspire!$F$13:$F$26,Aspire!$V$13:$V$26)","v":0},20240301,2409,{"$f":"_xlfn.XLOOKUP(B239,Aspire!$F$13:$F$26,Aspire!$W$13:$W$26)","v":1},20240402,2414,{"$f":"_xlfn.XLOOKUP(B239,Aspire!$F$13:$F$26,Aspire!$X$13:$X$26)","v":0},20240501,2418,{"$f":"_xlfn.XLOOKUP(B239,Aspire!$F$13:$F$26,Aspire!$Y$13:$Y$26)","v":1},20240603,2423,{"$f":"_xlfn.XLOOKUP(B239,Aspire!$F$13:$F$26,Aspire!$Z$13:$Z$26)","v":0},{"$f":"_xlfn.XLOOKUP(B239,Aspire!$F$13:$F$26,Aspire!$L$13:$L$26)","v":644.50570000000005}]
["Domestic Automower® (100 to 400-series)",967853003,20240103,2401,{"$f":"_xlfn.XLOOKUP(B240,'Automower®'!$F$13:$F$26,'Automower®'!$U$13:$U$26)","v":0},20240201,2405,{"$f":"_xlfn.XLOOKUP(B240,'Automower®'!$F$13:$F$26,'Automower®'!$V$13:$V$26)","v":0},20240301,2409,{"$f":"_xlfn.XLOOKUP(B240,'Automower®'!$F$13:$F$26,'Automower®'!$W$13:$W$26)","v":0},20240402,2414,{"$f":"_xlfn.XLOOKUP(B240,'Automower®'!$F$13:$F$26,'Automower®'!$X$13:$X$26)","v":0},20240501,2418,{"$f":"_xlfn.XLOOKUP(B240,'Automower®'!$F$13:$F$26,'Automower®'!$Y$13:$Y$26)","v":0},20240603,2423,{"$f":"_xlfn.XLOOKUP(B240,'Automower®'!$F$13:$F$26,'Automower®'!$Z$13:$Z$26)","v":0},{"$f":"_xlfn.XLOOKUP(B240,'Automower®'!$F$13:$F$26,'Automower®'!$L$13:$L$26)","v":2698.5056999999997}]
["Domestic Automower® (100 to 400-series)",970526703,20240103,2401,{"$f":"_xlfn.XLOOKUP(B241,'Automower®'!$F$13:$F$26,'Automower®'!$U$13:$U$26)","v":0},20240201,2405,{"$f":"_xlfn.XLOOKUP(B241,'Automower®'!$F$13:$F$26,'Automower®'!$V$13:$V$26)","v":0},20240301,2409,{"$f":"_xlfn.XLOOKUP(B241,'Automower®'!$F$13:$F$26,'Automower®'!$W$13:$W$26)","v":1},20240402,2414,{"$f":"_xlfn.XLOOKUP(B241,'Automower®'!$F$13:$F$26,'Automower®'!$X$13:$X$26)","v":1},20240501,2418,{"$f":"_xlfn.XLOOKUP(B241,'Automower®'!$F$13:$F$26,'Automower®'!$Y$13:$Y$26)","v":1},20240603,2423,{"$f":"_xlfn.XLOOKUP(B241,'Automower®'!$F$13:$F$26,'Automower®'!$Z$13:$Z$26)","v":0},{"$f":"_xlfn.XLOOKUP(B241,'Automower®'!$F$13:$F$26,'Automower®'!$L$13:$L$26)","v":1118.5056999999999}]
["Domestic Automower® (100 to 400-series)",970535203,20240103,2401,{"$f":"_xlfn.XLOOKUP(B242,'Automower®'!$F$13:$F$26,'Automower®'!$U$13:$U$26)","v":0},20240201,2405,{"$f":"_xlfn.XLOOKUP(B242,'Automower®'!$F$13:$F$26,'Automower®'!$V$13:$V$26)","v":0},20240301,2409,{"$f":"_xlfn.XLOOKUP(B242,'Automower®'!$F$13:$F$26,'Automower®'!$W$13:$W$26)","v":0},20240402,2414,{"$f":"_xlfn.XLOOKUP(B242,'Automower®'!$F$13:$F$26,'Automower®'!$X$13:$X$26)","v":1},20240501,2418,{"$f":"_xlfn.XLOOKUP(B242,'Automower®'!$F$13:$F$26,'Automower®'!$Y$13:$Y$26)","v":0},20240603,2423,{"$f":"_xlfn.XLOOKUP(B242,'Automower®'!$F$13:$F$26,'Automower®'!$Z$13:$Z$26)","v":0},{"$f":"_xlfn.XLOOKUP(B242,'Automower®'!$F$13:$F$26,'Automower®'!$L$13:$L$26)","v":2303.5056999999997}]
["Domestic Automower® (100 to 400-series)",970526803,20240103,2401,{"$f":"_xlfn.XLOOKUP(B243,'Automower®'!$F$13:$F$26,'Automower®'!$U$13:$U$26)","v":0},20240201,2405,{"$f":"_xlfn.XLOOKUP(B243,'Automower®'!$F$13:$F$26,'Automower®'!$V$13:$V$26)","v":0},20240301,2409,{"$f":"_xlfn.XLOOKUP(B243,'Automower®'!$F$13:$F$26,'Automower®'!$W$13:$W$26)","v":1},20240402,2414,{"$f":"_xlfn.XLOOKUP(B243,'Automower®'!$F$13:$F$26,'Automower®'!$X$13:$X$26)","v":0},20240501,2418,{"$f":"_xlfn.XLOOKUP(B243,'Automower®'!$F$13:$F$26,'Automower®'!$Y$13:$Y$26)","v":0},20240603,2423,{"$f":"_xlfn.XLOOKUP(B243,'Automower®'!$F$13:$F$26,'Automower®'!$Z$13:$Z$26)","v":0},{"$f":"_xlfn.XLOOKUP(B243,'Automower®'!$F$13:$F$26,'Automower®'!$L$13:$L$26)","v":1250.175}]
["Domestic Automower® (100 to 400-series)",970456203,20240103,2401,{"$f":"_xlfn.XLOOKUP(B244,'Automower®'!$F$13:$F$26,'Automower®'!$U$13:$U$26)","v":0},20240201,2405,{"$f":"_xlfn.XLOOKUP(B244,'Automower®'!$F$13:$F$26,'Automower®'!$V$13:$V$26)","v":0},20240301,2409,{"$f":"_xlfn.XLOOKUP(B244,'Automower®'!$F$13:$F$26,'Automower®'!$W$13:$W$26)","v":2},20240402,2414,{"$f":"_xlfn.XLOOKUP(B244,'Automower®'!$F$13:$F$26,'Automower®'!$X$13:$X$26)","v":2},20240501,2418,{"$f":"_xlfn.XLOOKUP(B244,'Automower®'!$F$13:$F$26,'Automower®'!$Y$13:$Y$26)","v":0},20240603,2423,{"$f":"_xlfn.XLOOKUP(B244,'Automower®'!$F$13:$F$26,'Automower®'!$Z$13:$Z$26)","v":0},{"$f":"_xlfn.XLOOKUP(B244,'Automower®'!$F$13:$F$26,'Automower®'!$L$13:$L$26)","v":1250.175}]
["Domestic Automower® (100 to 400-series)",970471703,20240103,2401,{"$f":"_xlfn.XLOOKUP(B245,'Automower®'!$F$13:$F$26,'Automower®'!$U$13:$U$26)","v":0},20240201,2405,{"$f":"_xlfn.XLOOKUP(B245,'Automower®'!$F$13:$F$26,'Automower®'!$V$13:$V$26)","v":0},20240301,2409,{"$f":"_xlfn.XLOOKUP(B245,'Automower®'!$F$13:$F$26,'Automower®'!$W$13:$W$26)","v":1},20240402,2414,{"$f":"_xlfn.XLOOKUP(B245,'Automower®'!$F$13:$F$26,'Automower®'!$X$13:$X$26)","v":2},20240501,2418,{"$f":"_xlfn.XLOOKUP(B245,'Automower®'!$F$13:$F$26,'Automower®'!$Y$13:$Y$26)","v":2},20240603,2423,{"$f":"_xlfn.XLOOKUP(B245,'Automower®'!$F$13:$F$26,'Automower®'!$Z$13:$Z$26)","v":0},{"$f":"_xlfn.XLOOKUP(B245,'Automower®'!$F$13:$F$26,'Automower®'!$L$13:$L$26)","v":1513.5056999999999}]
["Domestic Automower® (100 to 400-series)",967974003,20240103,2401,{"$f":"_xlfn.XLOOKUP(B246,'Automower®'!$F$13:$F$26,'Automower®'!$U$13:$U$26)","v":0},20240201,2405,{"$f":"_xlfn.XLOOKUP(B246,'Automower®'!$F$13:$F$26,'Automower®'!$V$13:$V$26)","v":0},20240301,2409,{"$f":"_xlfn.XLOOKUP(B246,'Automower®'!$F$13:$F$26,'Automower®'!$W$13:$W$26)","v":1},20240402,2414,{"$f":"_xlfn.XLOOKUP(B246,'Automower®'!$F$13:$F$26,'Automower®'!$X$13:$X$26)","v":1},20240501,2418,{"$f":"_xlfn.XLOOKUP(B246,'Automower®'!$F$13:$F$26,'Automower®'!$Y$13:$Y$26)","v":0},20240603,2423,{"$f":"_xlfn.XLOOKUP(B246,'Automower®'!$F$13:$F$26,'Automower®'!$Z$13:$Z$26)","v":0},{"$f":"_xlfn.XLOOKUP(B246,'Automower®'!$F$13:$F$26,'Automower®'!$L$13:$L$26)","v":855.17499999999995}]
["Domestic Automower® (100 to 400-series)",967853303,20240103,2401,{"$f":"_xlfn.XLOOKUP(B247,'Automower®'!$F$13:$F$26,'Automower®'!$U$13:$U$26)","v":0},20240201,2405,{"$f":"_xlfn.XLOOKUP(B247,'Automower®'!$F$13:$F$26,'Automower®'!$V$13:$V$26)","v":0},20240301,2409,{"$f":"_xlfn.XLOOKUP(B247,'Automower®'!$F$13:$F$26,'Automower®'!$W$13:$W$26)","v":0},20240402,2414,{"$f":"_xlfn.XLOOKUP(B247,'Automower®'!$F$13:$F$26,'Automower®'!$X$13:$X$26)","v":0},20240501,2418,{"$f":"_xlfn.XLOOKUP(B247,'Automower®'!$F$13:$F$26,'Automower®'!$Y$13:$Y$26)","v":0},20240603,2423,{"$f":"_xlfn.XLOOKUP(B247,'Automower®'!$F$13:$F$26,'Automower®'!$Z$13:$Z$26)","v":0},{"$f":"_xlfn.XLOOKUP(B247,'Automower®'!$F$13:$F$26,'Automower®'!$L$13:$L$26)","v":3291.0056999999997}]
["Domestic Riders (100 to 400-series)",970542601,20240103,2401,{"$f":"_xlfn.XLOOKUP(B248,'Tractor Rider & Zero Turn'!$F$13:$F$120,'Tractor Rider & Zero Turn'!$U$13:$U$120)","v":0},20240201,2405,{"$f":"_xlfn.XLOOKUP(B248,'Tractor Rider & Zero Turn'!$F$13:$F$120,'Tractor Rider & Zero Turn'!$V$13:$V$120)","v":0},20240301,2409,{"$f":"_xlfn.XLOOKUP(B248,'Tractor Rider & Zero Turn'!$F$13:$F$120,'Tractor Rider & Zero Turn'!$W$13:$W$120)","v":0},20240402,2414,{"$f":"_xlfn.XLOOKUP(B248,'Tractor Rider & Zero Turn'!$F$13:$F$120,'Tractor Rider & Zero Turn'!$X$13:$X$120)","v":0},20240501,2418,{"$f":"_xlfn.XLOOKUP(B248,'Tractor Rider & Zero Turn'!$F$13:$F$120,'Tractor Rider & Zero Turn'!$Y$13:$Y$120)","v":0},20240603,2423,{"$f":"_xlfn.XLOOKUP(B248,'Tractor Rider & Zero Turn'!$F$13:$F$120,'Tractor Rider & Zero Turn'!$Z$13:$Z$120)","v":0},{"$f":"_xlfn.XLOOKUP(B248,'Tractor Rider & Zero Turn'!$F$13:$F$120,'Tractor Rider & Zero Turn'!$L$13:$L$120)","v":4316.0810000000001}]
["Domestic Riders (100 to 400-series)",970542701,20240103,2401,{"$f":"_xlfn.XLOOKUP(B249,'Tractor Rider & Zero Turn'!$F$13:$F$120,'Tractor Rider & Zero Turn'!$U$13:$U$120)","v":0},20240201,2405,{"$f":"_xlfn.XLOOKUP(B249,'Tractor Rider & Zero Turn'!$F$13:$F$120,'Tractor Rider & Zero Turn'!$V$13:$V$120)","v":0},20240301,2409,{"$f":"_xlfn.XLOOKUP(B249,'Tractor Rider & Zero Turn'!$F$13:$F$120,'Tractor Rider & Zero Turn'!$W$13:$W$120)","v":0},20240402,2414,{"$f":"_xlfn.XLOOKUP(B249,'Tractor Rider & Zero Turn'!$F$13:$F$120,'Tractor Rider & Zero Turn'!$X$13:$X$120)","v":0},20240501,2418,{"$f":"_xlfn.XLOOKUP(B249,'Tractor Rider & Zero Turn'!$F$13:$F$120,'Tractor Rider & Zero Turn'!$Y$13:$Y$120)","v":0},20240603,2423,{"$f":"_xlfn.XLOOKUP(B249,'Tractor Rider & Zero Turn'!$F$13:$F$120,'Tractor Rider & Zero Turn'!$Z$13:$Z$120)","v":0},{"$f":"_xlfn.XLOOKUP(B249,'Tractor Rider & Zero Turn'!$F$13:$F$120,'Tractor Rider & Zero Turn'!$L$13:$L$120)","v":3674.4189999999999}]
["Domestic Riders (100 to 400-series)",970542901,20240103,2401,{"$f":"_xlfn.XLOOKUP(B250,'Tractor Rider & Zero Turn'!$F$13:$F$120,'Tractor Rider & Zero Turn'!$U$13:$U$120)","v":0},20240201,2405,{"$f":"_xlfn.XLOOKUP(B250,'Tractor Rider & Zero Turn'!$F$13:$F$120,'Tractor Rider & Zero Turn'!$V$13:$V$120)","v":0},20240301,2409,{"$f":"_xlfn.XLOOKUP(B250,'Tractor Rider & Zero Turn'!$F$13:$F$120,'Tractor Rider & Zero Turn'!$W$13:$W$120)","v":0},20240402,2414,{"$f":"_xlfn.XLOOKUP(B250,'Tractor Rider & Zero Turn'!$F$13:$F$120,'Tractor Rider & Zero Turn'!$X$13:$X$120)","v":0},20240501,2418,{"$f":"_xlfn.XLOOKUP(B250,'Tractor Rider & Zero Turn'!$F$13:$F$120,'Tractor Rider & Zero Turn'!$Y$13:$Y$120)","v":0},20240603,2423,{"$f":"_xlfn.XLOOKUP(B250,'Tractor Rider & Zero Turn'!$F$13:$F$120,'Tractor Rider & Zero Turn'!$Z$13:$Z$120)","v":0},{"$f":"_xlfn.XLOOKUP(B250,'Tractor Rider & Zero Turn'!$F$13:$F$120,'Tractor Rider & Zero Turn'!$L$13:$L$120)","v":4957.75}]
["Domestic Riders (100 to 400-series)",970542101,20240103,2401,{"$f":"_xlfn.XLOOKUP(B251,'Tractor Rider & Zero Turn'!$F$13:$F$120,'Tractor Rider & Zero Turn'!$U$13:$U$120)","v":0},20240201,2405,{"$f":"_xlfn.XLOOKUP(B251,'Tractor Rider & Zero Turn'!$F$13:$F$120,'Tractor Rider & Zero Turn'!$V$13:$V$120)","v":0},20240301,2409,{"$f":"_xlfn.XLOOKUP(B251,'Tractor Rider & Zero Turn'!$F$13:$F$120,'Tractor Rider & Zero Turn'!$W$13:$W$120)","v":0},20240402,2414,{"$f":"_xlfn.XLOOKUP(B251,'Tractor Rider & Zero Turn'!$F$13:$F$120,'Tractor Rider & Zero Turn'!$X$13:$X$120)","v":0},20240501,2418,{"$f":"_xlfn.XLOOKUP(B251,'Tractor Rider & Zero Turn'!$F$13:$F$120,'Tractor Rider & Zero Turn'!$Y$13:$Y$120)","v":0},20240603,2423,{"$f":"_xlfn.XLOOKUP(B251,'Tractor Rider & Zero Turn'!$F$13:$F$120,'Tractor Rider & Zero Turn'!$Z$13:$Z$120)","v":0},{"$f":"_xlfn.XLOOKUP(B251,'Tractor Rider & Zero Turn'!$F$13:$F$120,'Tractor Rider & Zero Turn'!$L$13:$L$120)","v":2186.9189999999999}]
["Domestic Riders (100 to 400-series)",970542201,20240103,2401,{"$f":"_xlfn.XLOOKUP(B252,'Tractor Rider & Zero Turn'!$F$13:$F$120,'Tractor Rider & Zero Turn'!$U$13:$U$120)","v":0},20240201,2405,{"$f":"_xlfn.XLOOKUP(B252,'Tractor Rider & Zero Turn'!$F$13:$F$120,'Tractor Rider & Zero Turn'!$V$13:$V$120)","v":0},20240301,2409,{"$f":"_xlfn.XLOOKUP(B252,'Tractor Rider & Zero Turn'!$F$13:$F$120,'Tractor Rider & Zero Turn'!$W$13:$W$120)","v":0},20240402,2414,{"$f":"_xlfn.XLOOKUP(B252,'Tractor Rider & Zero Turn'!$F$13:$F$120,'Tractor Rider & Zero Turn'!$X$13:$X$120)","v":0},20240501,2418,{"$f":"_xlfn.XLOOKUP(B252,'Tractor Rider & Zero Turn'!$F$13:$F$120,'Tractor Rider & Zero Turn'!$Y$13:$Y$120)","v":0},20240603,2423,{"$f":"_xlfn.XLOOKUP(B252,'Tractor Rider & Zero Turn'!$F$13:$F$120,'Tractor Rider & Zero Turn'!$Z$13:$Z$120)","v":0},{"$f":"_xlfn.XLOOKUP(B252,'Tractor Rider & Zero Turn'!$F$13:$F$120,'Tractor Rider & Zero Turn'!$L$13:$L$120)","v":2216.0809999999997}]
["Domestic Riders (100 to 400-series)",970542301,20240103,2401,{"$f":"_xlfn.XLOOKUP(B253,'Tractor Rider & Zero Turn'!$F$13:$F$120,'Tractor Rider & Zero Turn'!$U$13:$U$120)","v":6},20240201,2405,{"$f":"_xlfn.XLOOKUP(B253,'Tractor Rider & Zero Turn'!$F$13:$F$120,'Tractor Rider & Zero Turn'!$V$13:$V$120)","v":4},20240301,2409,{"$f":"_xlfn.XLOOKUP(B253,'Tractor Rider & Zero Turn'!$F$13:$F$120,'Tractor Rider & Zero Turn'!$W$13:$W$120)","v":4},20240402,2414,{"$f":"_xlfn.XLOOKUP(B253,'Tractor Rider & Zero Turn'!$F$13:$F$120,'Tractor Rider & Zero Turn'!$X$13:$X$120)","v":2},20240501,2418,{"$f":"_xlfn.XLOOKUP(B253,'Tractor Rider & Zero Turn'!$F$13:$F$120,'Tractor Rider & Zero Turn'!$Y$13:$Y$120)","v":2},20240603,2423,{"$f":"_xlfn.XLOOKUP(B253,'Tractor Rider & Zero Turn'!$F$13:$F$120,'Tractor Rider & Zero Turn'!$Z$13:$Z$120)","v":2},{"$f":"_xlfn.XLOOKUP(B253,'Tractor Rider & Zero Turn'!$F$13:$F$120,'Tractor Rider & Zero Turn'!$L$13:$L$120)","v":2624.4189999999999}]
["Domestic Riders (100 to 400-series)",970542401,20240103,2401,{"$f":"_xlfn.XLOOKUP(B254,'Tractor Rider & Zero Turn'!$F$13:$F$120,'Tractor Rider & Zero Turn'!$U$13:$U$120)","v":0},20240201,2405,{"$f":"_xlfn.XLOOKUP(B254,'Tractor Rider & Zero Turn'!$F$13:$F$120,'Tractor Rider & Zero Turn'!$V$13:$V$120)","v":1},20240301,2409,{"$f":"_xlfn.XLOOKUP(B254,'Tractor Rider & Zero Turn'!$F$13:$F$120,'Tractor Rider & Zero Turn'!$W$13:$W$120)","v":1},20240402,2414,{"$f":"_xlfn.XLOOKUP(B254,'Tractor Rider & Zero Turn'!$F$13:$F$120,'Tractor Rider & Zero Turn'!$X$13:$X$120)","v":1},20240501,2418,{"$f":"_xlfn.XLOOKUP(B254,'Tractor Rider & Zero Turn'!$F$13:$F$120,'Tractor Rider & Zero Turn'!$Y$13:$Y$120)","v":0},20240603,2423,{"$f":"_xlfn.XLOOKUP(B254,'Tractor Rider & Zero Turn'!$F$13:$F$120,'Tractor Rider & Zero Turn'!$Z$13:$Z$120)","v":0},{"$f":"_xlfn.XLOOKUP(B254,'Tractor Rider & Zero Turn'!$F$13:$F$120,'Tractor Rider & Zero Turn'!$L$13:$L$120)","v":2741.6689999999999}]
["Domestic Riders (100 to 400-series)",967178402,20240103,2401,{"$f":"_xlfn.XLOOKUP(B255,'Tractor Rider & Zero Turn'!$F$13:$F$120,'Tractor Rider & Zero Turn'!$U$13:$U$120)","v":0},20240201,2405,{"$f":"_xlfn.XLOOKUP(B255,'Tractor Rider & Zero Turn'!$F$13:$F$120,'Tractor Rider & Zero Turn'!$V$13:$V$120)","v":0},20240301,2409,{"$f":"_xlfn.XLOOKUP(B255,'Tractor Rider & Zero Turn'!$F$13:$F$120,'Tractor Rider & Zero Turn'!$W$13:$W$120)","v":0},20240402,2414,{"$f":"_xlfn.XLOOKUP(B255,'Tractor Rider & Zero Turn'!$F$13:$F$120,'Tractor Rider & Zero Turn'!$X$13:$X$120)","v":0},20240501,2418,{"$f":"_xlfn.XLOOKUP(B255,'Tractor Rider & Zero Turn'!$F$13:$F$120,'Tractor Rider & Zero Turn'!$Y$13:$Y$120)","v":0},20240603,2423,{"$f":"_xlfn.XLOOKUP(B255,'Tractor Rider & Zero Turn'!$F$13:$F$120,'Tractor Rider & Zero Turn'!$Z$13:$Z$120)","v":0},{"$f":"_xlfn.XLOOKUP(B255,'Tractor Rider & Zero Turn'!$F$13:$F$120,'Tractor Rider & Zero Turn'!$L$13:$L$120)","v":1924.4189999999999}]
["Domestic Riders (100 to 400-series)",970519401,20240103,2401,{"$f":"_xlfn.XLOOKUP(B256,'Tractor Rider & Zero Turn'!$F$13:$F$120,'Tractor Rider & Zero Turn'!$U$13:$U$120)","v":0},20240201,2405,{"$f":"_xlfn.XLOOKUP(B256,'Tractor Rider & Zero Turn'!$F$13:$F$120,'Tractor Rider & Zero Turn'!$V$13:$V$120)","v":0},20240301,2409,{"$f":"_xlfn.XLOOKUP(B256,'Tractor Rider & Zero Turn'!$F$13:$F$120,'Tractor Rider & Zero Turn'!$W$13:$W$120)","v":0},20240402,2414,{"$f":"_xlfn.XLOOKUP(B256,'Tractor Rider & Zero Turn'!$F$13:$F$120,'Tractor Rider & Zero Turn'!$X$13:$X$120)","v":0},20240501,2418,{"$f":"_xlfn.XLOOKUP(B256,'Tractor Rider & Zero Turn'!$F$13:$F$120,'Tractor Rider & Zero Turn'!$Y$13:$Y$120)","v":0},20240603,2423,{"$f":"_xlfn.XLOOKUP(B256,'Tractor Rider & Zero Turn'!$F$13:$F$120,'Tractor Rider & Zero Turn'!$Z$13:$Z$120)","v":0},{"$f":"_xlfn.XLOOKUP(B256,'Tractor Rider & Zero Turn'!$F$13:$F$120,'Tractor Rider & Zero Turn'!$L$13:$L$120)","v":2449.4189999999999}]
["Domestic Riders (100 to 400-series)",967648401,20240103,2401,{"$f":"_xlfn.XLOOKUP(B257,'Tractor Rider & Zero Turn'!$F$13:$F$120,'Tractor Rider & Zero Turn'!$U$13:$U$120)","v":0},20240201,2405,{"$f":"_xlfn.XLOOKUP(B257,'Tractor Rider & Zero Turn'!$F$13:$F$120,'Tractor Rider & Zero Turn'!$V$13:$V$120)","v":1},20240301,2409,{"$f":"_xlfn.XLOOKUP(B257,'Tractor Rider & Zero Turn'!$F$13:$F$120,'Tractor Rider & Zero Turn'!$W$13:$W$120)","v":0},20240402,2414,{"$f":"_xlfn.XLOOKUP(B257,'Tractor Rider & Zero Turn'!$F$13:$F$120,'Tractor Rider & Zero Turn'!$X$13:$X$120)","v":0},20240501,2418,{"$f":"_xlfn.XLOOKUP(B257,'Tractor Rider & Zero Turn'!$F$13:$F$120,'Tractor Rider & Zero Turn'!$Y$13:$Y$120)","v":0},20240603,2423,{"$f":"_xlfn.XLOOKUP(B257,'Tractor Rider & Zero Turn'!$F$13:$F$120,'Tractor Rider & Zero Turn'!$Z$13:$Z$120)","v":0},{"$f":"_xlfn.XLOOKUP(B257,'Tractor Rider & Zero Turn'!$F$13:$F$120,'Tractor Rider & Zero Turn'!$L$13:$L$120)","v":8049.4189999999999}]
["Domestic Riders (100 to 400-series)",594988301,20240103,2401,{"$f":"_xlfn.XLOOKUP(B258,'Tractor Rider & Zero Turn'!$F$13:$F$120,'Tractor Rider & Zero Turn'!$U$13:$U$120)","v":0},20240201,2405,{"$f":"_xlfn.XLOOKUP(B258,'Tractor Rider & Zero Turn'!$F$13:$F$120,'Tractor Rider & Zero Turn'!$V$13:$V$120)","v":0},20240301,2409,{"$f":"_xlfn.XLOOKUP(B258,'Tractor Rider & Zero Turn'!$F$13:$F$120,'Tractor Rider & Zero Turn'!$W$13:$W$120)","v":0},20240402,2414,{"$f":"_xlfn.XLOOKUP(B258,'Tractor Rider & Zero Turn'!$F$13:$F$120,'Tractor Rider & Zero Turn'!$X$13:$X$120)","v":0},20240501,2418,{"$f":"_xlfn.XLOOKUP(B258,'Tractor Rider & Zero Turn'!$F$13:$F$120,'Tractor Rider & Zero Turn'!$Y$13:$Y$120)","v":0},20240603,2423,{"$f":"_xlfn.XLOOKUP(B258,'Tractor Rider & Zero Turn'!$F$13:$F$120,'Tractor Rider & Zero Turn'!$Z$13:$Z$120)","v":0},{"$f":"_xlfn.XLOOKUP(B258,'Tractor Rider & Zero Turn'!$F$13:$F$120,'Tractor Rider & Zero Turn'!$L$13:$L$120)","v":87.492999999999995}]
["Domestic Riders (100 to 400-series)",596289201,20240103,2401,{"$f":"_xlfn.XLOOKUP(B259,'Tractor Rider & Zero Turn'!$F$13:$F$120,'Tractor Rider & Zero Turn'!$U$13:$U$120)","v":0},20240201,2405,{"$f":"_xlfn.XLOOKUP(B259,'Tractor Rider & Zero Turn'!$F$13:$F$120,'Tractor Rider & Zero Turn'!$V$13:$V$120)","v":0},20240301,2409,{"$f":"_xlfn.XLOOKUP(B259,'Tractor Rider & Zero Turn'!$F$13:$F$120,'Tractor Rider & Zero Turn'!$W$13:$W$120)","v":0},20240402,2414,{"$f":"_xlfn.XLOOKUP(B259,'Tractor Rider & Zero Turn'!$F$13:$F$120,'Tractor Rider & Zero Turn'!$X$13:$X$120)","v":0},20240501,2418,{"$f":"_xlfn.XLOOKUP(B259,'Tractor Rider & Zero Turn'!$F$13:$F$120,'Tractor Rider & Zero Turn'!$Y$13:$Y$120)","v":0},20240603,2423,{"$f":"_xlfn.XLOOKUP(B259,'Tractor Rider & Zero Turn'!$F$13:$F$120,'Tractor Rider & Zero Turn'!$Z$13:$Z$120)","v":0},{"$f":"_xlfn.XLOOKUP(B259,'Tractor Rider & Zero Turn'!$F$13:$F$120,'Tractor Rider & Zero Turn'!$L$13:$L$120)","v":1352.75}]
["Domestic Riders (100 to 400-series)",596293001,20240103,2401,{"$f":"_xlfn.XLOOKUP(B260,'Tractor Rider & Zero Turn'!$F$13:$F$120,'Tractor Rider & Zero Turn'!$U$13:$U$120)","v":0},20240201,2405,{"$f":"_xlfn.XLOOKUP(B260,'Tractor Rider & Zero Turn'!$F$13:$F$120,'Tractor Rider & Zero Turn'!$V$13:$V$120)","v":0},20240301,2409,{"$f":"_xlfn.XLOOKUP(B260,'Tractor Rider & Zero Turn'!$F$13:$F$120,'Tractor Rider & Zero Turn'!$W$13:$W$120)","v":0},20240402,2414,{"$f":"_xlfn.XLOOKUP(B260,'Tractor Rider & Zero Turn'!$F$13:$F$120,'Tractor Rider & Zero Turn'!$X$13:$X$120)","v":0},20240501,2418,{"$f":"_xlfn.XLOOKUP(B260,'Tractor Rider & Zero Turn'!$F$13:$F$120,'Tractor Rider & Zero Turn'!$Y$13:$Y$120)","v":0},20240603,2423,{"$f":"_xlfn.XLOOKUP(B260,'Tractor Rider & Zero Turn'!$F$13:$F$120,'Tractor Rider & Zero Turn'!$Z$13:$Z$120)","v":0},{"$f":"_xlfn.XLOOKUP(B260,'Tractor Rider & Zero Turn'!$F$13:$F$120,'Tractor Rider & Zero Turn'!$L$13:$L$120)","v":903.5809999999999}]
["Domestic Riders (100 to 400-series)",596288701,20240103,2401,{"$f":"_xlfn.XLOOKUP(B261,'Tractor Rider & Zero Turn'!$F$13:$F$120,'Tractor Rider & Zero Turn'!$U$13:$U$120)","v":0},20240201,2405,{"$f":"_xlfn.XLOOKUP(B261,'Tractor Rider & Zero Turn'!$F$13:$F$120,'Tractor Rider & Zero Turn'!$V$13:$V$120)","v":0},20240301,2409,{"$f":"_xlfn.XLOOKUP(B261,'Tractor Rider & Zero Turn'!$F$13:$F$120,'Tractor Rider & Zero Turn'!$W$13:$W$120)","v":0},20240402,2414,{"$f":"_xlfn.XLOOKUP(B261,'Tractor Rider & Zero Turn'!$F$13:$F$120,'Tractor Rider & Zero Turn'!$X$13:$X$120)","v":0},20240501,2418,{"$f":"_xlfn.XLOOKUP(B261,'Tractor Rider & Zero Turn'!$F$13:$F$120,'Tractor Rider & Zero Turn'!$Y$13:$Y$120)","v":0},20240603,2423,{"$f":"_xlfn.XLOOKUP(B261,'Tractor Rider & Zero Turn'!$F$13:$F$120,'Tractor Rider & Zero Turn'!$Z$13:$Z$120)","v":0},{"$f":"_xlfn.XLOOKUP(B261,'Tractor Rider & Zero Turn'!$F$13:$F$120,'Tractor Rider & Zero Turn'!$L$13:$L$120)","v":1446.0809999999999}]
["Domestic Riders (100 to 400-series)",596289801,20240103,2401,{"$f":"_xlfn.XLOOKUP(B262,'Tractor Rider & Zero Turn'!$F$13:$F$120,'Tractor Rider & Zero Turn'!$U$13:$U$120)","v":0},20240201,2405,{"$f":"_xlfn.XLOOKUP(B262,'Tractor Rider & Zero Turn'!$F$13:$F$120,'Tractor Rider & Zero Turn'!$V$13:$V$120)","v":0},20240301,2409,{"$f":"_xlfn.XLOOKUP(B262,'Tractor Rider & Zero Turn'!$F$13:$F$120,'Tractor Rider & Zero Turn'!$W$13:$W$120)","v":0},20240402,2414,{"$f":"_xlfn.XLOOKUP(B262,'Tractor Rider & Zero Turn'!$F$13:$F$120,'Tractor Rider & Zero Turn'!$X$13:$X$120)","v":0},20240501,2418,{"$f":"_xlfn.XLOOKUP(B262,'Tractor Rider & Zero Turn'!$F$13:$F$120,'Tractor Rider & Zero Turn'!$Y$13:$Y$120)","v":0},20240603,2423,{"$f":"_xlfn.XLOOKUP(B262,'Tractor Rider & Zero Turn'!$F$13:$F$120,'Tractor Rider & Zero Turn'!$Z$13:$Z$120)","v":0},{"$f":"_xlfn.XLOOKUP(B262,'Tractor Rider & Zero Turn'!$F$13:$F$120,'Tractor Rider & Zero Turn'!$L$13:$L$120)","v":1049.4189999999999}]
["Domestic Riders (100 to 400-series)",593024301,20240103,2401,{"$f":"_xlfn.XLOOKUP(B263,'Tractor Rider & Zero Turn'!$F$13:$F$120,'Tractor Rider & Zero Turn'!$U$13:$U$120)","v":0},20240201,2405,{"$f":"_xlfn.XLOOKUP(B263,'Tractor Rider & Zero Turn'!$F$13:$F$120,'Tractor Rider & Zero Turn'!$V$13:$V$120)","v":0},20240301,2409,{"$f":"_xlfn.XLOOKUP(B263,'Tractor Rider & Zero Turn'!$F$13:$F$120,'Tractor Rider & Zero Turn'!$W$13:$W$120)","v":0},20240402,2414,{"$f":"_xlfn.XLOOKUP(B263,'Tractor Rider & Zero Turn'!$F$13:$F$120,'Tractor Rider & Zero Turn'!$X$13:$X$120)","v":0},20240501,2418,{"$f":"_xlfn.XLOOKUP(B263,'Tractor Rider & Zero Turn'!$F$13:$F$120,'Tractor Rider & Zero Turn'!$Y$13:$Y$120)","v":0},20240603,2423,{"$f":"_xlfn.XLOOKUP(B263,'Tractor Rider & Zero Turn'!$F$13:$F$120,'Tractor Rider & Zero Turn'!$Z$13:$Z$120)","v":0},{"$f":"_xlfn.XLOOKUP(B263,'Tractor Rider & Zero Turn'!$F$13:$F$120,'Tractor Rider & Zero Turn'!$L$13:$L$120)","v":1078.5809999999999}]
["Domestic Riders (100 to 400-series)",587932001,20240103,2401,{"$f":"_xlfn.XLOOKUP(B264,'Tractor Rider & Zero Turn'!$F$13:$F$120,'Tractor Rider & Zero Turn'!$U$13:$U$120)","v":0},20240201,2405,{"$f":"_xlfn.XLOOKUP(B264,'Tractor Rider & Zero Turn'!$F$13:$F$120,'Tractor Rider & Zero Turn'!$V$13:$V$120)","v":0},20240301,2409,{"$f":"_xlfn.XLOOKUP(B264,'Tractor Rider & Zero Turn'!$F$13:$F$120,'Tractor Rider & Zero Turn'!$W$13:$W$120)","v":0},20240402,2414,{"$f":"_xlfn.XLOOKUP(B264,'Tractor Rider & Zero Turn'!$F$13:$F$120,'Tractor Rider & Zero Turn'!$X$13:$X$120)","v":0},20240501,2418,{"$f":"_xlfn.XLOOKUP(B264,'Tractor Rider & Zero Turn'!$F$13:$F$120,'Tractor Rider & Zero Turn'!$Y$13:$Y$120)","v":0},20240603,2423,{"$f":"_xlfn.XLOOKUP(B264,'Tractor Rider & Zero Turn'!$F$13:$F$120,'Tractor Rider & Zero Turn'!$Z$13:$Z$120)","v":0},{"$f":"_xlfn.XLOOKUP(B264,'Tractor Rider & Zero Turn'!$F$13:$F$120,'Tractor Rider & Zero Turn'!$L$13:$L$120)","v":1166.0809999999999}]
["Domestic Riders (100 to 400-series)",587932501,20240103,2401,{"$f":"_xlfn.XLOOKUP(B265,'Tractor Rider & Zero Turn'!$F$13:$F$120,'Tractor Rider & Zero Turn'!$U$13:$U$120)","v":0},20240201,2405,{"$f":"_xlfn.XLOOKUP(B265,'Tractor Rider & Zero Turn'!$F$13:$F$120,'Tractor Rider & Zero Turn'!$V$13:$V$120)","v":0},20240301,2409,{"$f":"_xlfn.XLOOKUP(B265,'Tractor Rider & Zero Turn'!$F$13:$F$120,'Tractor Rider & Zero Turn'!$W$13:$W$120)","v":0},20240402,2414,{"$f":"_xlfn.XLOOKUP(B265,'Tractor Rider & Zero Turn'!$F$13:$F$120,'Tractor Rider & Zero Turn'!$X$13:$X$120)","v":0},20240501,2418,{"$f":"_xlfn.XLOOKUP(B265,'Tractor Rider & Zero Turn'!$F$13:$F$120,'Tractor Rider & Zero Turn'!$Y$13:$Y$120)","v":0},20240603,2423,{"$f":"_xlfn.XLOOKUP(B265,'Tractor Rider & Zero Turn'!$F$13:$F$120,'Tractor Rider & Zero Turn'!$Z$13:$Z$120)","v":0},{"$f":"_xlfn.XLOOKUP(B265,'Tractor Rider & Zero Turn'!$F$13:$F$120,'Tractor Rider & Zero Turn'!$L$13:$L$120)","v":991.0809999999999}]
["Domestic Riders (100 to 400-series)",587024701,20240103,2401,{"$f":"_xlfn.XLOOKUP(B266,'Tractor Rider & Zero Turn'!$F$13:$F$120,'Tractor Rider & Zero Turn'!$U$13:$U$120)","v":0},20240201,2405,{"$f":"_xlfn.XLOOKUP(B266,'Tractor Rider & Zero Turn'!$F$13:$F$120,'Tractor Rider & Zero Turn'!$V$13:$V$120)","v":0},20240301,2409,{"$f":"_xlfn.XLOOKUP(B266,'Tractor Rider & Zero Turn'!$F$13:$F$120,'Tractor Rider & Zero Turn'!$W$13:$W$120)","v":0},20240402,2414,{"$f":"_xlfn.XLOOKUP(B266,'Tractor Rider & Zero Turn'!$F$13:$F$120,'Tractor Rider & Zero Turn'!$X$13:$X$120)","v":0},20240501,2418,{"$f":"_xlfn.XLOOKUP(B266,'Tractor Rider & Zero Turn'!$F$13:$F$120,'Tractor Rider & Zero Turn'!$Y$13:$Y$120)","v":0},20240603,2423,{"$f":"_xlfn.XLOOKUP(B266,'Tractor Rider & Zero Turn'!$F$13:$F$120,'Tractor Rider & Zero Turn'!$Z$13:$Z$120)","v":0},{"$f":"_xlfn.XLOOKUP(B266,'Tractor Rider & Zero Turn'!$F$13:$F$120,'Tractor Rider & Zero Turn'!$L$13:$L$120)","v":1049.4189999999999}]
["Domestic Riders (100 to 400-series)",587024601,20240103,2401,{"$f":"_xlfn.XLOOKUP(B267,'Tractor Rider & Zero Turn'!$F$13:$F$120,'Tractor Rider & Zero Turn'!$U$13:$U$120)","v":0},20240201,2405,{"$f":"_xlfn.XLOOKUP(B267,'Tractor Rider & Zero Turn'!$F$13:$F$120,'Tractor Rider & Zero Turn'!$V$13:$V$120)","v":0},20240301,2409,{"$f":"_xlfn.XLOOKUP(B267,'Tractor Rider & Zero Turn'!$F$13:$F$120,'Tractor Rider & Zero Turn'!$W$13:$W$120)","v":0},20240402,2414,{"$f":"_xlfn.XLOOKUP(B267,'Tractor Rider & Zero Turn'!$F$13:$F$120,'Tractor Rider & Zero Turn'!$X$13:$X$120)","v":0},20240501,2418,{"$f":"_xlfn.XLOOKUP(B267,'Tractor Rider & Zero Turn'!$F$13:$F$120,'Tractor Rider & Zero Turn'!$Y$13:$Y$120)","v":0},20240603,2423,{"$f":"_xlfn.XLOOKUP(B267,'Tractor Rider & Zero Turn'!$F$13:$F$120,'Tractor Rider & Zero Turn'!$Z$13:$Z$120)","v":0},{"$f":"_xlfn.XLOOKUP(B267,'Tractor Rider & Zero Turn'!$F$13:$F$120,'Tractor Rider & Zero Turn'!$L$13:$L$120)","v":1049.4189999999999}]
["Domestic Riders (100 to 400-series)",967276701,20240103,2401,{"$f":"_xlfn.XLOOKUP(B268,'Tractor Rider & Zero Turn'!$F$13:$F$120,'Tractor Rider & Zero Turn'!$U$13:$U$120)","v":0},20240201,2405,{"$f":"_xlfn.XLOOKUP(B268,'Tractor Rider & Zero Turn'!$F$13:$F$120,'Tractor Rider & Zero Turn'!$V$13:$V$120)","v":0},20240301,2409,{"$f":"_xlfn.XLOOKUP(B268,'Tractor Rider & Zero Turn'!$F$13:$F$120,'Tractor Rider & Zero Turn'!$W$13:$W$120)","v":0},20240402,2414,{"$f":"_xlfn.XLOOKUP(B268,'Tractor Rider & Zero Turn'!$F$13:$F$120,'Tractor Rider & Zero Turn'!$X$13:$X$120)","v":0},20240501,2418,{"$f":"_xlfn.XLOOKUP(B268,'Tractor Rider & Zero Turn'!$F$13:$F$120,'Tractor Rider & Zero Turn'!$Y$13:$Y$120)","v":0},20240603,2423,{"$f":"_xlfn.XLOOKUP(B268,'Tractor Rider & Zero Turn'!$F$13:$F$120,'Tractor Rider & Zero Turn'!$Z$13:$Z$120)","v":0},{"$f":"_xlfn.XLOOKUP(B268,'Tractor Rider & Zero Turn'!$F$13:$F$120,'Tractor Rider & Zero Turn'!$L$13:$L$120)","v":1049.4189999999999}]
["Domestic Riders (100 to 400-series)",966416101,20240103,2401,{"$f":"_xlfn.XLOOKUP(B269,'Tractor Rider & Zero Turn'!$F$13:$F$120,'Tractor Rider & Zero Turn'!$U$13:$U$120)","v":0},20240201,2405,{"$f":"_xlfn.XLOOKUP(B269,'Tractor Rider & Zero Turn'!$F$13:$F$120,'Tractor Rider & Zero Turn'!$V$13:$V$120)","v":0},20240301,2409,{"$f":"_xlfn.XLOOKUP(B269,'Tractor Rider & Zero Turn'!$F$13:$F$120,'Tractor Rider & Zero Turn'!$W$13:$W$120)","v":0},20240402,2414,{"$f":"_xlfn.XLOOKUP(B269,'Tractor Rider & Zero Turn'!$F$13:$F$120,'Tractor Rider & Zero Turn'!$X$13:$X$120)","v":0},20240501,2418,{"$f":"_xlfn.XLOOKUP(B269,'Tractor Rider & Zero Turn'!$F$13:$F$120,'Tractor Rider & Zero Turn'!$Y$13:$Y$120)","v":0},20240603,2423,{"$f":"_xlfn.XLOOKUP(B269,'Tractor Rider & Zero Turn'!$F$13:$F$120,'Tractor Rider & Zero Turn'!$Z$13:$Z$120)","v":0},{"$f":"_xlfn.XLOOKUP(B269,'Tractor Rider & Zero Turn'!$F$13:$F$120,'Tractor Rider & Zero Turn'!$L$13:$L$120)","v":1049.4189999999999}]
["Domestic Riders (100 to 400-series)",966415901,20240103,2401,{"$f":"_xlfn.XLOOKUP(B270,'Tractor Rider & Zero Turn'!$F$13:$F$120,'Tractor Rider & Zero Turn'!$U$13:$U$120)","v":0},20240201,2405,{"$f":"_xlfn.XLOOKUP(B270,'Tractor Rider & Zero Turn'!$F$13:$F$120,'Tractor Rider & Zero Turn'!$V$13:$V$120)","v":0},20240301,2409,{"$f":"_xlfn.XLOOKUP(B270,'Tractor Rider & Zero Turn'!$F$13:$F$120,'Tractor Rider & Zero Turn'!$W$13:$W$120)","v":0},20240402,2414,{"$f":"_xlfn.XLOOKUP(B270,'Tractor Rider & Zero Turn'!$F$13:$F$120,'Tractor Rider & Zero Turn'!$X$13:$X$120)","v":0},20240501,2418,{"$f":"_xlfn.XLOOKUP(B270,'Tractor Rider & Zero Turn'!$F$13:$F$120,'Tractor Rider & Zero Turn'!$Y$13:$Y$120)","v":0},20240603,2423,{"$f":"_xlfn.XLOOKUP(B270,'Tractor Rider & Zero Turn'!$F$13:$F$120,'Tractor Rider & Zero Turn'!$Z$13:$Z$120)","v":0},{"$f":"_xlfn.XLOOKUP(B270,'Tractor Rider & Zero Turn'!$F$13:$F$120,'Tractor Rider & Zero Turn'!$L$13:$L$120)","v":378.58100000000002}]
["Domestic Riders (100 to 400-series)",965070901,20240103,2401,{"$f":"_xlfn.XLOOKUP(B271,'Tractor Rider & Zero Turn'!$F$13:$F$120,'Tractor Rider & Zero Turn'!$U$13:$U$120)","v":0},20240201,2405,{"$f":"_xlfn.XLOOKUP(B271,'Tractor Rider & Zero Turn'!$F$13:$F$120,'Tractor Rider & Zero Turn'!$V$13:$V$120)","v":0},20240301,2409,{"$f":"_xlfn.XLOOKUP(B271,'Tractor Rider & Zero Turn'!$F$13:$F$120,'Tractor Rider & Zero Turn'!$W$13:$W$120)","v":0},20240402,2414,{"$f":"_xlfn.XLOOKUP(B271,'Tractor Rider & Zero Turn'!$F$13:$F$120,'Tractor Rider & Zero Turn'!$X$13:$X$120)","v":0},20240501,2418,{"$f":"_xlfn.XLOOKUP(B271,'Tractor Rider & Zero Turn'!$F$13:$F$120,'Tractor Rider & Zero Turn'!$Y$13:$Y$120)","v":0},20240603,2423,{"$f":"_xlfn.XLOOKUP(B271,'Tractor Rider & Zero Turn'!$F$13:$F$120,'Tractor Rider & Zero Turn'!$Z$13:$Z$120)","v":0},{"$f":"_xlfn.XLOOKUP(B271,'Tractor Rider & Zero Turn'!$F$13:$F$120,'Tractor Rider & Zero Turn'!$L$13:$L$120)","v":320.25}]
["Domestic Riders (100 to 400-series)",953534901,20240103,2401,{"$f":"_xlfn.XLOOKUP(B272,'Tractor Rider & Zero Turn'!$F$13:$F$120,'Tractor Rider & Zero Turn'!$U$13:$U$120)","v":0},20240201,2405,{"$f":"_xlfn.XLOOKUP(B272,'Tractor Rider & Zero Turn'!$F$13:$F$120,'Tractor Rider & Zero Turn'!$V$13:$V$120)","v":0},20240301,2409,{"$f":"_xlfn.XLOOKUP(B272,'Tractor Rider & Zero Turn'!$F$13:$F$120,'Tractor Rider & Zero Turn'!$W$13:$W$120)","v":0},20240402,2414,{"$f":"_xlfn.XLOOKUP(B272,'Tractor Rider & Zero Turn'!$F$13:$F$120,'Tractor Rider & Zero Turn'!$X$13:$X$120)","v":0},20240501,2418,{"$f":"_xlfn.XLOOKUP(B272,'Tractor Rider & Zero Turn'!$F$13:$F$120,'Tractor Rider & Zero Turn'!$Y$13:$Y$120)","v":0},20240603,2423,{"$f":"_xlfn.XLOOKUP(B272,'Tractor Rider & Zero Turn'!$F$13:$F$120,'Tractor Rider & Zero Turn'!$Z$13:$Z$120)","v":0},{"$f":"_xlfn.XLOOKUP(B272,'Tractor Rider & Zero Turn'!$F$13:$F$120,'Tractor Rider & Zero Turn'!$L$13:$L$120)","v":54.242999999999995}]
["Domestic Riders (100 to 400-series)",531021240,20240103,2401,{"$f":"_xlfn.XLOOKUP(B273,'Tractor Rider & Zero Turn'!$F$13:$F$120,'Tractor Rider & Zero Turn'!$U$13:$U$120)","v":0},20240201,2405,{"$f":"_xlfn.XLOOKUP(B273,'Tractor Rider & Zero Turn'!$F$13:$F$120,'Tractor Rider & Zero Turn'!$V$13:$V$120)","v":0},20240301,2409,{"$f":"_xlfn.XLOOKUP(B273,'Tractor Rider & Zero Turn'!$F$13:$F$120,'Tractor Rider & Zero Turn'!$W$13:$W$120)","v":0},20240402,2414,{"$f":"_xlfn.XLOOKUP(B273,'Tractor Rider & Zero Turn'!$F$13:$F$120,'Tractor Rider & Zero Turn'!$X$13:$X$120)","v":0},20240501,2418,{"$f":"_xlfn.XLOOKUP(B273,'Tractor Rider & Zero Turn'!$F$13:$F$120,'Tractor Rider & Zero Turn'!$Y$13:$Y$120)","v":0},20240603,2423,{"$f":"_xlfn.XLOOKUP(B273,'Tractor Rider & Zero Turn'!$F$13:$F$120,'Tractor Rider & Zero Turn'!$Z$13:$Z$120)","v":0},{"$f":"_xlfn.XLOOKUP(B273,'Tractor Rider & Zero Turn'!$F$13:$F$120,'Tractor Rider & Zero Turn'!$L$13:$L$120)","v":46.661999999999992}]
["Domestic Riders (100 to 400-series)",505630870,20240103,2401,{"$f":"_xlfn.XLOOKUP(B274,'Tractor Rider & Zero Turn'!$F$13:$F$120,'Tractor Rider & Zero Turn'!$U$13:$U$120)","v":0},20240201,2405,{"$f":"_xlfn.XLOOKUP(B274,'Tractor Rider & Zero Turn'!$F$13:$F$120,'Tractor Rider & Zero Turn'!$V$13:$V$120)","v":0},20240301,2409,{"$f":"_xlfn.XLOOKUP(B274,'Tractor Rider & Zero Turn'!$F$13:$F$120,'Tractor Rider & Zero Turn'!$W$13:$W$120)","v":0},20240402,2414,{"$f":"_xlfn.XLOOKUP(B274,'Tractor Rider & Zero Turn'!$F$13:$F$120,'Tractor Rider & Zero Turn'!$X$13:$X$120)","v":0},20240501,2418,{"$f":"_xlfn.XLOOKUP(B274,'Tractor Rider & Zero Turn'!$F$13:$F$120,'Tractor Rider & Zero Turn'!$Y$13:$Y$120)","v":0},20240603,2423,{"$f":"_xlfn.XLOOKUP(B274,'Tractor Rider & Zero Turn'!$F$13:$F$120,'Tractor Rider & Zero Turn'!$Z$13:$Z$120)","v":0},{"$f":"_xlfn.XLOOKUP(B274,'Tractor Rider & Zero Turn'!$F$13:$F$120,'Tractor Rider & Zero Turn'!$L$13:$L$120)","v":54.242999999999995}]
["Domestic Riders (100 to 400-series)",970621101,20240103,2401,{"$f":"_xlfn.XLOOKUP(B275,'Tractor Rider & Zero Turn'!$F$13:$F$120,'Tractor Rider & Zero Turn'!$U$13:$U$120)","v":0},20240201,2405,{"$f":"_xlfn.XLOOKUP(B275,'Tractor Rider & Zero Turn'!$F$13:$F$120,'Tractor Rider & Zero Turn'!$V$13:$V$120)","v":0},20240301,2409,{"$f":"_xlfn.XLOOKUP(B275,'Tractor Rider & Zero Turn'!$F$13:$F$120,'Tractor Rider & Zero Turn'!$W$13:$W$120)","v":0},20240402,2414,{"$f":"_xlfn.XLOOKUP(B275,'Tractor Rider & Zero Turn'!$F$13:$F$120,'Tractor Rider & Zero Turn'!$X$13:$X$120)","v":0},20240501,2418,{"$f":"_xlfn.XLOOKUP(B275,'Tractor Rider & Zero Turn'!$F$13:$F$120,'Tractor Rider & Zero Turn'!$Y$13:$Y$120)","v":0},20240603,2423,{"$f":"_xlfn.XLOOKUP(B275,'Tractor Rider & Zero Turn'!$F$13:$F$120,'Tractor Rider & Zero Turn'!$Z$13:$Z$120)","v":0},{"$f":"_xlfn.XLOOKUP(B275,'Tractor Rider & Zero Turn'!$F$13:$F$120,'Tractor Rider & Zero Turn'!$L$13:$L$120)","v":4374.4189999999999}]
["Domestic Riders (100 to 400-series)",970621201,20240103,2401,{"$f":"_xlfn.XLOOKUP(B276,'Tractor Rider & Zero Turn'!$F$13:$F$120,'Tractor Rider & Zero Turn'!$U$13:$U$120)","v":0},20240201,2405,{"$f":"_xlfn.XLOOKUP(B276,'Tractor Rider & Zero Turn'!$F$13:$F$120,'Tractor Rider & Zero Turn'!$V$13:$V$120)","v":0},20240301,2409,{"$f":"_xlfn.XLOOKUP(B276,'Tractor Rider & Zero Turn'!$F$13:$F$120,'Tractor Rider & Zero Turn'!$W$13:$W$120)","v":0},20240402,2414,{"$f":"_xlfn.XLOOKUP(B276,'Tractor Rider & Zero Turn'!$F$13:$F$120,'Tractor Rider & Zero Turn'!$X$13:$X$120)","v":0},20240501,2418,{"$f":"_xlfn.XLOOKUP(B276,'Tractor Rider & Zero Turn'!$F$13:$F$120,'Tractor Rider & Zero Turn'!$Y$13:$Y$120)","v":0},20240603,2423,{"$f":"_xlfn.XLOOKUP(B276,'Tractor Rider & Zero Turn'!$F$13:$F$120,'Tractor Rider & Zero Turn'!$Z$13:$Z$120)","v":0},{"$f":"_xlfn.XLOOKUP(B276,'Tractor Rider & Zero Turn'!$F$13:$F$120,'Tractor Rider & Zero Turn'!$L$13:$L$120)","v":5774.4189999999999}]
["Domestic Riders (100 to 400-series)",967978101,20240103,2401,{"$f":"_xlfn.XLOOKUP(B277,'Tractor Rider & Zero Turn'!$F$13:$F$120,'Tractor Rider & Zero Turn'!$U$13:$U$120)","v":0},20240201,2405,{"$f":"_xlfn.XLOOKUP(B277,'Tractor Rider & Zero Turn'!$F$13:$F$120,'Tractor Rider & Zero Turn'!$V$13:$V$120)","v":0},20240301,2409,{"$f":"_xlfn.XLOOKUP(B277,'Tractor Rider & Zero Turn'!$F$13:$F$120,'Tractor Rider & Zero Turn'!$W$13:$W$120)","v":0},20240402,2414,{"$f":"_xlfn.XLOOKUP(B277,'Tractor Rider & Zero Turn'!$F$13:$F$120,'Tractor Rider & Zero Turn'!$X$13:$X$120)","v":0},20240501,2418,{"$f":"_xlfn.XLOOKUP(B277,'Tractor Rider & Zero Turn'!$F$13:$F$120,'Tractor Rider & Zero Turn'!$Y$13:$Y$120)","v":0},20240603,2423,{"$f":"_xlfn.XLOOKUP(B277,'Tractor Rider & Zero Turn'!$F$13:$F$120,'Tractor Rider & Zero Turn'!$Z$13:$Z$120)","v":0},{"$f":"_xlfn.XLOOKUP(B277,'Tractor Rider & Zero Turn'!$F$13:$F$120,'Tractor Rider & Zero Turn'!$L$13:$L$120)","v":757.75}]
["Domestic Riders (100 to 400-series)",967978201,20240103,2401,{"$f":"_xlfn.XLOOKUP(B278,'Tractor Rider & Zero Turn'!$F$13:$F$120,'Tractor Rider & Zero Turn'!$U$13:$U$120)","v":0},20240201,2405,{"$f":"_xlfn.XLOOKUP(B278,'Tractor Rider & Zero Turn'!$F$13:$F$120,'Tractor Rider & Zero Turn'!$V$13:$V$120)","v":0},20240301,2409,{"$f":"_xlfn.XLOOKUP(B278,'Tractor Rider & Zero Turn'!$F$13:$F$120,'Tractor Rider & Zero Turn'!$W$13:$W$120)","v":0},20240402,2414,{"$f":"_xlfn.XLOOKUP(B278,'Tractor Rider & Zero Turn'!$F$13:$F$120,'Tractor Rider & Zero Turn'!$X$13:$X$120)","v":0},20240501,2418,{"$f":"_xlfn.XLOOKUP(B278,'Tractor Rider & Zero Turn'!$F$13:$F$120,'Tractor Rider & Zero Turn'!$Y$13:$Y$120)","v":0},20240603,2423,{"$f":"_xlfn.XLOOKUP(B278,'Tractor Rider & Zero Turn'!$F$13:$F$120,'Tractor Rider & Zero Turn'!$Z$13:$Z$120)","v":0},{"$f":"_xlfn.XLOOKUP(B278,'Tractor Rider & Zero Turn'!$F$13:$F$120,'Tractor Rider & Zero Turn'!$L$13:$L$120)","v":816.0809999999999}]
["Domestic Riders (100 to 400-series)",967648901,20240103,2401,{"$f":"_xlfn.XLOOKUP(B279,'Tractor Rider & Zero Turn'!$F$13:$F$120,'Tractor Rider & Zero Turn'!$U$13:$U$120)","v":0},20240201,2405,{"$f":"_xlfn.XLOOKUP(B279,'Tractor Rider & Zero Turn'!$F$13:$F$120,'Tractor Rider & Zero Turn'!$V$13:$V$120)","v":0},20240301,2409,{"$f":"_xlfn.XLOOKUP(B279,'Tractor Rider & Zero Turn'!$F$13:$F$120,'Tractor Rider & Zero Turn'!$W$13:$W$120)","v":0},20240402,2414,{"$f":"_xlfn.XLOOKUP(B279,'Tractor Rider & Zero Turn'!$F$13:$F$120,'Tractor Rider & Zero Turn'!$X$13:$X$120)","v":0},20240501,2418,{"$f":"_xlfn.XLOOKUP(B279,'Tractor Rider & Zero Turn'!$F$13:$F$120,'Tractor Rider & Zero Turn'!$Y$13:$Y$120)","v":0},20240603,2423,{"$f":"_xlfn.XLOOKUP(B279,'Tractor Rider & Zero Turn'!$F$13:$F$120,'Tractor Rider & Zero Turn'!$Z$13:$Z$120)","v":0},{"$f":"_xlfn.XLOOKUP(B279,'Tractor Rider & Zero Turn'!$F$13:$F$120,'Tractor Rider & Zero Turn'!$L$13:$L$120)","v":1224.4189999999999}]
["Domestic Riders (100 to 400-series)",967649001,20240103,2401,{"$f":"_xlfn.XLOOKUP(B280,'Tractor Rider & Zero Turn'!$F$13:$F$120,'Tractor Rider & Zero Turn'!$U$13:$U$120)","v":0},20240201,2405,{"$f":"_xlfn.XLOOKUP(B280,'Tractor Rider & Zero Turn'!$F$13:$F$120,'Tractor Rider & Zero Turn'!$V$13:$V$120)","v":0},20240301,2409,{"$f":"_xlfn.XLOOKUP(B280,'Tractor Rider & Zero Turn'!$F$13:$F$120,'Tractor Rider & Zero Turn'!$W$13:$W$120)","v":0},20240402,2414,{"$f":"_xlfn.XLOOKUP(B280,'Tractor Rider & Zero Turn'!$F$13:$F$120,'Tractor Rider & Zero Turn'!$X$13:$X$120)","v":0},20240501,2418,{"$f":"_xlfn.XLOOKUP(B280,'Tractor Rider & Zero Turn'!$F$13:$F$120,'Tractor Rider & Zero Turn'!$Y$13:$Y$120)","v":0},20240603,2423,{"$f":"_xlfn.XLOOKUP(B280,'Tractor Rider & Zero Turn'!$F$13:$F$120,'Tractor Rider & Zero Turn'!$Z$13:$Z$120)","v":0},{"$f":"_xlfn.XLOOKUP(B280,'Tractor Rider & Zero Turn'!$F$13:$F$120,'Tractor Rider & Zero Turn'!$L$13:$L$120)","v":1236.0809999999999}]
["Domestic Riders (100 to 400-series)",967649101,20240103,2401,{"$f":"_xlfn.XLOOKUP(B281,'Tractor Rider & Zero Turn'!$F$13:$F$120,'Tractor Rider & Zero Turn'!$U$13:$U$120)","v":0},20240201,2405,{"$f":"_xlfn.XLOOKUP(B281,'Tractor Rider & Zero Turn'!$F$13:$F$120,'Tractor Rider & Zero Turn'!$V$13:$V$120)","v":0},20240301,2409,{"$f":"_xlfn.XLOOKUP(B281,'Tractor Rider & Zero Turn'!$F$13:$F$120,'Tractor Rider & Zero Turn'!$W$13:$W$120)","v":0},20240402,2414,{"$f":"_xlfn.XLOOKUP(B281,'Tractor Rider & Zero Turn'!$F$13:$F$120,'Tractor Rider & Zero Turn'!$X$13:$X$120)","v":0},20240501,2418,{"$f":"_xlfn.XLOOKUP(B281,'Tractor Rider & Zero Turn'!$F$13:$F$120,'Tractor Rider & Zero Turn'!$Y$13:$Y$120)","v":0},20240603,2423,{"$f":"_xlfn.XLOOKUP(B281,'Tractor Rider & Zero Turn'!$F$13:$F$120,'Tractor Rider & Zero Turn'!$Z$13:$Z$120)","v":0},{"$f":"_xlfn.XLOOKUP(B281,'Tractor Rider & Zero Turn'!$F$13:$F$120,'Tractor Rider & Zero Turn'!$L$13:$L$120)","v":1352.75}]
["Domestic Riders (100 to 400-series)",967152201,20240103,2401,{"$f":"_xlfn.XLOOKUP(B282,'Tractor Rider & Zero Turn'!$F$13:$F$120,'Tractor Rider & Zero Turn'!$U$13:$U$120)","v":0},20240201,2405,{"$f":"_xlfn.XLOOKUP(B282,'Tractor Rider & Zero Turn'!$F$13:$F$120,'Tractor Rider & Zero Turn'!$V$13:$V$120)","v":0},20240301,2409,{"$f":"_xlfn.XLOOKUP(B282,'Tractor Rider & Zero Turn'!$F$13:$F$120,'Tractor Rider & Zero Turn'!$W$13:$W$120)","v":0},20240402,2414,{"$f":"_xlfn.XLOOKUP(B282,'Tractor Rider & Zero Turn'!$F$13:$F$120,'Tractor Rider & Zero Turn'!$X$13:$X$120)","v":0},20240501,2418,{"$f":"_xlfn.XLOOKUP(B282,'Tractor Rider & Zero Turn'!$F$13:$F$120,'Tractor Rider & Zero Turn'!$Y$13:$Y$120)","v":0},20240603,2423,{"$f":"_xlfn.XLOOKUP(B282,'Tractor Rider & Zero Turn'!$F$13:$F$120,'Tractor Rider & Zero Turn'!$Z$13:$Z$120)","v":0},{"$f":"_xlfn.XLOOKUP(B282,'Tractor Rider & Zero Turn'!$F$13:$F$120,'Tractor Rider & Zero Turn'!$L$13:$L$120)","v":582.75}]
["Domestic Riders (100 to 400-series)",967152301,20240103,2401,{"$f":"_xlfn.XLOOKUP(B283,'Tractor Rider & Zero Turn'!$F$13:$F$120,'Tractor Rider & Zero Turn'!$U$13:$U$120)","v":0},20240201,2405,{"$f":"_xlfn.XLOOKUP(B283,'Tractor Rider & Zero Turn'!$F$13:$F$120,'Tractor Rider & Zero Turn'!$V$13:$V$120)","v":1},20240301,2409,{"$f":"_xlfn.XLOOKUP(B283,'Tractor Rider & Zero Turn'!$F$13:$F$120,'Tractor Rider & Zero Turn'!$W$13:$W$120)","v":1},20240402,2414,{"$f":"_xlfn.XLOOKUP(B283,'Tractor Rider & Zero Turn'!$F$13:$F$120,'Tractor Rider & Zero Turn'!$X$13:$X$120)","v":1},20240501,2418,{"$f":"_xlfn.XLOOKUP(B283,'Tractor Rider & Zero Turn'!$F$13:$F$120,'Tractor Rider & Zero Turn'!$Y$13:$Y$120)","v":0},20240603,2423,{"$f":"_xlfn.XLOOKUP(B283,'Tractor Rider & Zero Turn'!$F$13:$F$120,'Tractor Rider & Zero Turn'!$Z$13:$Z$120)","v":0},{"$f":"_xlfn.XLOOKUP(B283,'Tractor Rider & Zero Turn'!$F$13:$F$120,'Tractor Rider & Zero Turn'!$L$13:$L$120)","v":641.0809999999999}]
["Domestic Riders (100 to 400-series)",967152601,20240103,2401,{"$f":"_xlfn.XLOOKUP(B284,'Tractor Rider & Zero Turn'!$F$13:$F$120,'Tractor Rider & Zero Turn'!$U$13:$U$120)","v":0},20240201,2405,{"$f":"_xlfn.XLOOKUP(B284,'Tractor Rider & Zero Turn'!$F$13:$F$120,'Tractor Rider & Zero Turn'!$V$13:$V$120)","v":0},20240301,2409,{"$f":"_xlfn.XLOOKUP(B284,'Tractor Rider & Zero Turn'!$F$13:$F$120,'Tractor Rider & Zero Turn'!$W$13:$W$120)","v":0},20240402,2414,{"$f":"_xlfn.XLOOKUP(B284,'Tractor Rider & Zero Turn'!$F$13:$F$120,'Tractor Rider & Zero Turn'!$X$13:$X$120)","v":0},20240501,2418,{"$f":"_xlfn.XLOOKUP(B284,'Tractor Rider & Zero Turn'!$F$13:$F$120,'Tractor Rider & Zero Turn'!$Y$13:$Y$120)","v":0},20240603,2423,{"$f":"_xlfn.XLOOKUP(B284,'Tractor Rider & Zero Turn'!$F$13:$F$120,'Tractor Rider & Zero Turn'!$Z$13:$Z$120)","v":0},{"$f":"_xlfn.XLOOKUP(B284,'Tractor Rider & Zero Turn'!$F$13:$F$120,'Tractor Rider & Zero Turn'!$L$13:$L$120)","v":728.5809999999999}]
["Domestic Riders (100 to 400-series)",967152401,20240103,2401,{"$f":"_xlfn.XLOOKUP(B285,'Tractor Rider & Zero Turn'!$F$13:$F$120,'Tractor Rider & Zero Turn'!$U$13:$U$120)","v":0},20240201,2405,{"$f":"_xlfn.XLOOKUP(B285,'Tractor Rider & Zero Turn'!$F$13:$F$120,'Tractor Rider & Zero Turn'!$V$13:$V$120)","v":0},20240301,2409,{"$f":"_xlfn.XLOOKUP(B285,'Tractor Rider & Zero Turn'!$F$13:$F$120,'Tractor Rider & Zero Turn'!$W$13:$W$120)","v":0},20240402,2414,{"$f":"_xlfn.XLOOKUP(B285,'Tractor Rider & Zero Turn'!$F$13:$F$120,'Tractor Rider & Zero Turn'!$X$13:$X$120)","v":0},20240501,2418,{"$f":"_xlfn.XLOOKUP(B285,'Tractor Rider & Zero Turn'!$F$13:$F$120,'Tractor Rider & Zero Turn'!$Y$13:$Y$120)","v":0},20240603,2423,{"$f":"_xlfn.XLOOKUP(B285,'Tractor Rider & Zero Turn'!$F$13:$F$120,'Tractor Rider & Zero Turn'!$Z$13:$Z$120)","v":0},{"$f":"_xlfn.XLOOKUP(B285,'Tractor Rider & Zero Turn'!$F$13:$F$120,'Tractor Rider & Zero Turn'!$L$13:$L$120)","v":757.75}]
["Domestic Riders (100 to 400-series)",967188501,20240103,2401,{"$f":"_xlfn.XLOOKUP(B286,'Tractor Rider & Zero Turn'!$F$13:$F$120,'Tractor Rider & Zero Turn'!$U$13:$U$120)","v":0},20240201,2405,{"$f":"_xlfn.XLOOKUP(B286,'Tractor Rider & Zero Turn'!$F$13:$F$120,'Tractor Rider & Zero Turn'!$V$13:$V$120)","v":0},20240301,2409,{"$f":"_xlfn.XLOOKUP(B286,'Tractor Rider & Zero Turn'!$F$13:$F$120,'Tractor Rider & Zero Turn'!$W$13:$W$120)","v":0},20240402,2414,{"$f":"_xlfn.XLOOKUP(B286,'Tractor Rider & Zero Turn'!$F$13:$F$120,'Tractor Rider & Zero Turn'!$X$13:$X$120)","v":0},20240501,2418,{"$f":"_xlfn.XLOOKUP(B286,'Tractor Rider & Zero Turn'!$F$13:$F$120,'Tractor Rider & Zero Turn'!$Y$13:$Y$120)","v":0},20240603,2423,{"$f":"_xlfn.XLOOKUP(B286,'Tractor Rider & Zero Turn'!$F$13:$F$120,'Tractor Rider & Zero Turn'!$Z$13:$Z$120)","v":0},{"$f":"_xlfn.XLOOKUP(B286,'Tractor Rider & Zero Turn'!$F$13:$F$120,'Tractor Rider & Zero Turn'!$L$13:$L$120)","v":816.0809999999999}]
["Domestic Riders (100 to 400-series)",586636702,20240103,2401,{"$f":"_xlfn.XLOOKUP(B287,'Tractor Rider & Zero Turn'!$F$13:$F$120,'Tractor Rider & Zero Turn'!$U$13:$U$120)","v":0},20240201,2405,{"$f":"_xlfn.XLOOKUP(B287,'Tractor Rider & Zero Turn'!$F$13:$F$120,'Tractor Rider & Zero Turn'!$V$13:$V$120)","v":0},20240301,2409,{"$f":"_xlfn.XLOOKUP(B287,'Tractor Rider & Zero Turn'!$F$13:$F$120,'Tractor Rider & Zero Turn'!$W$13:$W$120)","v":0},20240402,2414,{"$f":"_xlfn.XLOOKUP(B287,'Tractor Rider & Zero Turn'!$F$13:$F$120,'Tractor Rider & Zero Turn'!$X$13:$X$120)","v":0},20240501,2418,{"$f":"_xlfn.XLOOKUP(B287,'Tractor Rider & Zero Turn'!$F$13:$F$120,'Tractor Rider & Zero Turn'!$Y$13:$Y$120)","v":0},20240603,2423,{"$f":"_xlfn.XLOOKUP(B287,'Tractor Rider & Zero Turn'!$F$13:$F$120,'Tractor Rider & Zero Turn'!$Z$13:$Z$120)","v":0},{"$f":"_xlfn.XLOOKUP(B287,'Tractor Rider & Zero Turn'!$F$13:$F$120,'Tractor Rider & Zero Turn'!$L$13:$L$120)","v":133.58100000000002}]
["Domestic Riders (100 to 400-series)",588212701,20240103,2401,{"$f":"_xlfn.XLOOKUP(B288,'Tractor Rider & Zero Turn'!$F$13:$F$120,'Tractor Rider & Zero Turn'!$U$13:$U$120)","v":0},20240201,2405,{"$f":"_xlfn.XLOOKUP(B288,'Tractor Rider & Zero Turn'!$F$13:$F$120,'Tractor Rider & Zero Turn'!$V$13:$V$120)","v":0},20240301,2409,{"$f":"_xlfn.XLOOKUP(B288,'Tractor Rider & Zero Turn'!$F$13:$F$120,'Tractor Rider & Zero Turn'!$W$13:$W$120)","v":0},20240402,2414,{"$f":"_xlfn.XLOOKUP(B288,'Tractor Rider & Zero Turn'!$F$13:$F$120,'Tractor Rider & Zero Turn'!$X$13:$X$120)","v":0},20240501,2418,{"$f":"_xlfn.XLOOKUP(B288,'Tractor Rider & Zero Turn'!$F$13:$F$120,'Tractor Rider & Zero Turn'!$Y$13:$Y$120)","v":0},20240603,2423,{"$f":"_xlfn.XLOOKUP(B288,'Tractor Rider & Zero Turn'!$F$13:$F$120,'Tractor Rider & Zero Turn'!$Z$13:$Z$120)","v":0},{"$f":"_xlfn.XLOOKUP(B288,'Tractor Rider & Zero Turn'!$F$13:$F$120,'Tractor Rider & Zero Turn'!$L$13:$L$120)","v":69.411999999999992}]
["Domestic Riders (100 to 400-series)",586636501,20240103,2401,{"$f":"_xlfn.XLOOKUP(B289,'Tractor Rider & Zero Turn'!$F$13:$F$120,'Tractor Rider & Zero Turn'!$U$13:$U$120)","v":0},20240201,2405,{"$f":"_xlfn.XLOOKUP(B289,'Tractor Rider & Zero Turn'!$F$13:$F$120,'Tractor Rider & Zero Turn'!$V$13:$V$120)","v":0},20240301,2409,{"$f":"_xlfn.XLOOKUP(B289,'Tractor Rider & Zero Turn'!$F$13:$F$120,'Tractor Rider & Zero Turn'!$W$13:$W$120)","v":0},20240402,2414,{"$f":"_xlfn.XLOOKUP(B289,'Tractor Rider & Zero Turn'!$F$13:$F$120,'Tractor Rider & Zero Turn'!$X$13:$X$120)","v":0},20240501,2418,{"$f":"_xlfn.XLOOKUP(B289,'Tractor Rider & Zero Turn'!$F$13:$F$120,'Tractor Rider & Zero Turn'!$Y$13:$Y$120)","v":0},20240603,2423,{"$f":"_xlfn.XLOOKUP(B289,'Tractor Rider & Zero Turn'!$F$13:$F$120,'Tractor Rider & Zero Turn'!$Z$13:$Z$120)","v":0},{"$f":"_xlfn.XLOOKUP(B289,'Tractor Rider & Zero Turn'!$F$13:$F$120,'Tractor Rider & Zero Turn'!$L$13:$L$120)","v":320.25}]
["Domestic Riders (100 to 400-series)",586636601,20240103,2401,{"$f":"_xlfn.XLOOKUP(B290,'Tractor Rider & Zero Turn'!$F$13:$F$120,'Tractor Rider & Zero Turn'!$U$13:$U$120)","v":0},20240201,2405,{"$f":"_xlfn.XLOOKUP(B290,'Tractor Rider & Zero Turn'!$F$13:$F$120,'Tractor Rider & Zero Turn'!$V$13:$V$120)","v":0},20240301,2409,{"$f":"_xlfn.XLOOKUP(B290,'Tractor Rider & Zero Turn'!$F$13:$F$120,'Tractor Rider & Zero Turn'!$W$13:$W$120)","v":0},20240402,2414,{"$f":"_xlfn.XLOOKUP(B290,'Tractor Rider & Zero Turn'!$F$13:$F$120,'Tractor Rider & Zero Turn'!$X$13:$X$120)","v":0},20240501,2418,{"$f":"_xlfn.XLOOKUP(B290,'Tractor Rider & Zero Turn'!$F$13:$F$120,'Tractor Rider & Zero Turn'!$Y$13:$Y$120)","v":0},20240603,2423,{"$f":"_xlfn.XLOOKUP(B290,'Tractor Rider & Zero Turn'!$F$13:$F$120,'Tractor Rider & Zero Turn'!$Z$13:$Z$120)","v":0},{"$f":"_xlfn.XLOOKUP(B290,'Tractor Rider & Zero Turn'!$F$13:$F$120,'Tractor Rider & Zero Turn'!$L$13:$L$120)","v":78.742999999999995}]
["Domestic Riders (100 to 400-series)",586636901,20240103,2401,{"$f":"_xlfn.XLOOKUP(B291,'Tractor Rider & Zero Turn'!$F$13:$F$120,'Tractor Rider & Zero Turn'!$U$13:$U$120)","v":0},20240201,2405,{"$f":"_xlfn.XLOOKUP(B291,'Tractor Rider & Zero Turn'!$F$13:$F$120,'Tractor Rider & Zero Turn'!$V$13:$V$120)","v":0},20240301,2409,{"$f":"_xlfn.XLOOKUP(B291,'Tractor Rider & Zero Turn'!$F$13:$F$120,'Tractor Rider & Zero Turn'!$W$13:$W$120)","v":0},20240402,2414,{"$f":"_xlfn.XLOOKUP(B291,'Tractor Rider & Zero Turn'!$F$13:$F$120,'Tractor Rider & Zero Turn'!$X$13:$X$120)","v":0},20240501,2418,{"$f":"_xlfn.XLOOKUP(B291,'Tractor Rider & Zero Turn'!$F$13:$F$120,'Tractor Rider & Zero Turn'!$Y$13:$Y$120)","v":0},20240603,2423,{"$f":"_xlfn.XLOOKUP(B291,'Tractor Rider & Zero Turn'!$F$13:$F$120,'Tractor Rider & Zero Turn'!$Z$13:$Z$120)","v":0},{"$f":"_xlfn.XLOOKUP(B291,'Tractor Rider & Zero Turn'!$F$13:$F$120,'Tractor Rider & Zero Turn'!$L$13:$L$120)","v":69.992999999999995}]
["Domestic Riders (100 to 400-series)",586636801,20240103,2401,{"$f":"_xlfn.XLOOKUP(B292,'Tractor Rider & Zero Turn'!$F$13:$F$120,'Tractor Rider & Zero Turn'!$U$13:$U$120)","v":0},20240201,2405,{"$f":"_xlfn.XLOOKUP(B292,'Tractor Rider & Zero Turn'!$F$13:$F$120,'Tractor Rider & Zero Turn'!$V$13:$V$120)","v":0},20240301,2409,{"$f":"_xlfn.XLOOKUP(B292,'Tractor Rider & Zero Turn'!$F$13:$F$120,'Tractor Rider & Zero Turn'!$W$13:$W$120)","v":0},20240402,2414,{"$f":"_xlfn.XLOOKUP(B292,'Tractor Rider & Zero Turn'!$F$13:$F$120,'Tractor Rider & Zero Turn'!$X$13:$X$120)","v":0},20240501,2418,{"$f":"_xlfn.XLOOKUP(B292,'Tractor Rider & Zero Turn'!$F$13:$F$120,'Tractor Rider & Zero Turn'!$Y$13:$Y$120)","v":0},20240603,2423,{"$f":"_xlfn.XLOOKUP(B292,'Tractor Rider & Zero Turn'!$F$13:$F$120,'Tractor Rider & Zero Turn'!$Z$13:$Z$120)","v":0},{"$f":"_xlfn.XLOOKUP(B292,'Tractor Rider & Zero Turn'!$F$13:$F$120,'Tractor Rider & Zero Turn'!$L$13:$L$120)","v":61.242999999999995}]
["Domestic Riders (100 to 400-series)",953515902,20240103,2401,{"$f":"_xlfn.XLOOKUP(B293,'Tractor Rider & Zero Turn'!$F$13:$F$120,'Tractor Rider & Zero Turn'!$U$13:$U$120)","v":0},20240201,2405,{"$f":"_xlfn.XLOOKUP(B293,'Tractor Rider & Zero Turn'!$F$13:$F$120,'Tractor Rider & Zero Turn'!$V$13:$V$120)","v":0},20240301,2409,{"$f":"_xlfn.XLOOKUP(B293,'Tractor Rider & Zero Turn'!$F$13:$F$120,'Tractor Rider & Zero Turn'!$W$13:$W$120)","v":0},20240402,2414,{"$f":"_xlfn.XLOOKUP(B293,'Tractor Rider & Zero Turn'!$F$13:$F$120,'Tractor Rider & Zero Turn'!$X$13:$X$120)","v":0},20240501,2418,{"$f":"_xlfn.XLOOKUP(B293,'Tractor Rider & Zero Turn'!$F$13:$F$120,'Tractor Rider & Zero Turn'!$Y$13:$Y$120)","v":0},20240603,2423,{"$f":"_xlfn.XLOOKUP(B293,'Tractor Rider & Zero Turn'!$F$13:$F$120,'Tractor Rider & Zero Turn'!$Z$13:$Z$120)","v":0},{"$f":"_xlfn.XLOOKUP(B293,'Tractor Rider & Zero Turn'!$F$13:$F$120,'Tractor Rider & Zero Turn'!$L$13:$L$120)","v":81.661999999999992}]
["Domestic Riders (100 to 400-series)",501008201,20240103,2401,{"$f":"_xlfn.XLOOKUP(B294,'Tractor Rider & Zero Turn'!$F$13:$F$120,'Tractor Rider & Zero Turn'!$U$13:$U$120)","v":0},20240201,2405,{"$f":"_xlfn.XLOOKUP(B294,'Tractor Rider & Zero Turn'!$F$13:$F$120,'Tractor Rider & Zero Turn'!$V$13:$V$120)","v":0},20240301,2409,{"$f":"_xlfn.XLOOKUP(B294,'Tractor Rider & Zero Turn'!$F$13:$F$120,'Tractor Rider & Zero Turn'!$W$13:$W$120)","v":0},20240402,2414,{"$f":"_xlfn.XLOOKUP(B294,'Tractor Rider & Zero Turn'!$F$13:$F$120,'Tractor Rider & Zero Turn'!$X$13:$X$120)","v":0},20240501,2418,{"$f":"_xlfn.XLOOKUP(B294,'Tractor Rider & Zero Turn'!$F$13:$F$120,'Tractor Rider & Zero Turn'!$Y$13:$Y$120)","v":0},20240603,2423,{"$f":"_xlfn.XLOOKUP(B294,'Tractor Rider & Zero Turn'!$F$13:$F$120,'Tractor Rider & Zero Turn'!$Z$13:$Z$120)","v":0},{"$f":"_xlfn.XLOOKUP(B294,'Tractor Rider & Zero Turn'!$F$13:$F$120,'Tractor Rider & Zero Turn'!$L$13:$L$120)","v":174.41899999999998}]
["Domestic Riders (100 to 400-series)",953512401,20240103,2401,{"$f":"_xlfn.XLOOKUP(B295,'Tractor Rider & Zero Turn'!$F$13:$F$120,'Tractor Rider & Zero Turn'!$U$13:$U$120)","v":0},20240201,2405,{"$f":"_xlfn.XLOOKUP(B295,'Tractor Rider & Zero Turn'!$F$13:$F$120,'Tractor Rider & Zero Turn'!$V$13:$V$120)","v":0},20240301,2409,{"$f":"_xlfn.XLOOKUP(B295,'Tractor Rider & Zero Turn'!$F$13:$F$120,'Tractor Rider & Zero Turn'!$W$13:$W$120)","v":0},20240402,2414,{"$f":"_xlfn.XLOOKUP(B295,'Tractor Rider & Zero Turn'!$F$13:$F$120,'Tractor Rider & Zero Turn'!$X$13:$X$120)","v":0},20240501,2418,{"$f":"_xlfn.XLOOKUP(B295,'Tractor Rider & Zero Turn'!$F$13:$F$120,'Tractor Rider & Zero Turn'!$Y$13:$Y$120)","v":0},20240603,2423,{"$f":"_xlfn.XLOOKUP(B295,'Tractor Rider & Zero Turn'!$F$13:$F$120,'Tractor Rider & Zero Turn'!$Z$13:$Z$120)","v":0},{"$f":"_xlfn.XLOOKUP(B295,'Tractor Rider & Zero Turn'!$F$13:$F$120,'Tractor Rider & Zero Turn'!$L$13:$L$120)","v":419.41899999999998}]
["Domestic Riders (100 to 400-series)",579450103,20240103,2401,{"$f":"_xlfn.XLOOKUP(B296,'Tractor Rider & Zero Turn'!$F$13:$F$120,'Tractor Rider & Zero Turn'!$U$13:$U$120)","v":0},20240201,2405,{"$f":"_xlfn.XLOOKUP(B296,'Tractor Rider & Zero Turn'!$F$13:$F$120,'Tractor Rider & Zero Turn'!$V$13:$V$120)","v":0},20240301,2409,{"$f":"_xlfn.XLOOKUP(B296,'Tractor Rider & Zero Turn'!$F$13:$F$120,'Tractor Rider & Zero Turn'!$W$13:$W$120)","v":0},20240402,2414,{"$f":"_xlfn.XLOOKUP(B296,'Tractor Rider & Zero Turn'!$F$13:$F$120,'Tractor Rider & Zero Turn'!$X$13:$X$120)","v":0},20240501,2418,{"$f":"_xlfn.XLOOKUP(B296,'Tractor Rider & Zero Turn'!$F$13:$F$120,'Tractor Rider & Zero Turn'!$Y$13:$Y$120)","v":0},20240603,2423,{"$f":"_xlfn.XLOOKUP(B296,'Tractor Rider & Zero Turn'!$F$13:$F$120,'Tractor Rider & Zero Turn'!$Z$13:$Z$120)","v":0},{"$f":"_xlfn.XLOOKUP(B296,'Tractor Rider & Zero Turn'!$F$13:$F$120,'Tractor Rider & Zero Turn'!$L$13:$L$120)","v":45.492999999999995}]
["Domestic Riders (100 to 400-series)",505699045,20240103,2401,{"$f":"_xlfn.XLOOKUP(B297,'Tractor Rider & Zero Turn'!$F$13:$F$120,'Tractor Rider & Zero Turn'!$U$13:$U$120)","v":0},20240201,2405,{"$f":"_xlfn.XLOOKUP(B297,'Tractor Rider & Zero Turn'!$F$13:$F$120,'Tractor Rider & Zero Turn'!$V$13:$V$120)","v":0},20240301,2409,{"$f":"_xlfn.XLOOKUP(B297,'Tractor Rider & Zero Turn'!$F$13:$F$120,'Tractor Rider & Zero Turn'!$W$13:$W$120)","v":0},20240402,2414,{"$f":"_xlfn.XLOOKUP(B297,'Tractor Rider & Zero Turn'!$F$13:$F$120,'Tractor Rider & Zero Turn'!$X$13:$X$120)","v":0},20240501,2418,{"$f":"_xlfn.XLOOKUP(B297,'Tractor Rider & Zero Turn'!$F$13:$F$120,'Tractor Rider & Zero Turn'!$Y$13:$Y$120)","v":0},20240603,2423,{"$f":"_xlfn.XLOOKUP(B297,'Tractor Rider & Zero Turn'!$F$13:$F$120,'Tractor Rider & Zero Turn'!$Z$13:$Z$120)","v":0},{"$f":"_xlfn.XLOOKUP(B297,'Tractor Rider & Zero Turn'!$F$13:$F$120,'Tractor Rider & Zero Turn'!$L$13:$L$120)","v":133.58100000000002}]
["Domestic Riders (100 to 400-series)",505699040,20240103,2401,{"$f":"_xlfn.XLOOKUP(B298,'Tractor Rider & Zero Turn'!$F$13:$F$120,'Tractor Rider & Zero Turn'!$U$13:$U$120)","v":0},20240201,2405,{"$f":"_xlfn.XLOOKUP(B298,'Tractor Rider & Zero Turn'!$F$13:$F$120,'Tractor Rider & Zero Turn'!$V$13:$V$120)","v":0},20240301,2409,{"$f":"_xlfn.XLOOKUP(B298,'Tractor Rider & Zero Turn'!$F$13:$F$120,'Tractor Rider & Zero Turn'!$W$13:$W$120)","v":0},20240402,2414,{"$f":"_xlfn.XLOOKUP(B298,'Tractor Rider & Zero Turn'!$F$13:$F$120,'Tractor Rider & Zero Turn'!$X$13:$X$120)","v":0},20240501,2418,{"$f":"_xlfn.XLOOKUP(B298,'Tractor Rider & Zero Turn'!$F$13:$F$120,'Tractor Rider & Zero Turn'!$Y$13:$Y$120)","v":0},20240603,2423,{"$f":"_xlfn.XLOOKUP(B298,'Tractor Rider & Zero Turn'!$F$13:$F$120,'Tractor Rider & Zero Turn'!$Z$13:$Z$120)","v":0},{"$f":"_xlfn.XLOOKUP(B298,'Tractor Rider & Zero Turn'!$F$13:$F$120,'Tractor Rider & Zero Turn'!$L$13:$L$120)","v":86.911999999999992}]
["Domestic Riders (100 to 400-series)",505699042,20240103,2401,{"$f":"_xlfn.XLOOKUP(B299,'Tractor Rider & Zero Turn'!$F$13:$F$120,'Tractor Rider & Zero Turn'!$U$13:$U$120)","v":0},20240201,2405,{"$f":"_xlfn.XLOOKUP(B299,'Tractor Rider & Zero Turn'!$F$13:$F$120,'Tractor Rider & Zero Turn'!$V$13:$V$120)","v":0},20240301,2409,{"$f":"_xlfn.XLOOKUP(B299,'Tractor Rider & Zero Turn'!$F$13:$F$120,'Tractor Rider & Zero Turn'!$W$13:$W$120)","v":0},20240402,2414,{"$f":"_xlfn.XLOOKUP(B299,'Tractor Rider & Zero Turn'!$F$13:$F$120,'Tractor Rider & Zero Turn'!$X$13:$X$120)","v":0},20240501,2418,{"$f":"_xlfn.XLOOKUP(B299,'Tractor Rider & Zero Turn'!$F$13:$F$120,'Tractor Rider & Zero Turn'!$Y$13:$Y$120)","v":0},20240603,2423,{"$f":"_xlfn.XLOOKUP(B299,'Tractor Rider & Zero Turn'!$F$13:$F$120,'Tractor Rider & Zero Turn'!$Z$13:$Z$120)","v":0},{"$f":"_xlfn.XLOOKUP(B299,'Tractor Rider & Zero Turn'!$F$13:$F$120,'Tractor Rider & Zero Turn'!$L$13:$L$120)","v":121.91899999999998}]
["Fuel",589227901,20240103,2401,{"$f":"_xlfn.XLOOKUP(B300,Fuel!$F$13:$F$18,Fuel!$N$13:$N$18)","v":0},20240201,2405,{"$f":"_xlfn.XLOOKUP(B300,Fuel!$F$13:$F$18,Fuel!$O$13:$O$18)","v":0},20240301,2409,{"$f":"_xlfn.XLOOKUP(B300,Fuel!$F$13:$F$18,Fuel!$P$13:$P$18)","v":0},20240402,2414,{"$f":"_xlfn.XLOOKUP(B300,Fuel!$F$13:$F$18,Fuel!$Q$13:$Q$18)","v":0},20240501,2418,{"$f":"_xlfn.XLOOKUP(B300,Fuel!$F$13:$F$18,Fuel!$R$13:$R$18)","v":0},20240603,2423,{"$f":"_xlfn.XLOOKUP(B300,Fuel!$F$13:$F$18,Fuel!$S$13:$S$18)","v":0},{"$f":"_xlfn.XLOOKUP(B300,Fuel!$F$13:$F$18,Fuel!$L$13:$L$18)","v":2.6208}]
["Fuel",589227601,20240103,2401,{"$f":"_xlfn.XLOOKUP(B301,Fuel!$F$13:$F$18,Fuel!$N$13:$N$18)","v":0},20240201,2405,{"$f":"_xlfn.XLOOKUP(B301,Fuel!$F$13:$F$18,Fuel!$O$13:$O$18)","v":0},20240301,2409,{"$f":"_xlfn.XLOOKUP(B301,Fuel!$F$13:$F$18,Fuel!$P$13:$P$18)","v":0},20240402,2414,{"$f":"_xlfn.XLOOKUP(B301,Fuel!$F$13:$F$18,Fuel!$Q$13:$Q$18)","v":0},20240501,2418,{"$f":"_xlfn.XLOOKUP(B301,Fuel!$F$13:$F$18,Fuel!$R$13:$R$18)","v":0},20240603,2423,{"$f":"_xlfn.XLOOKUP(B301,Fuel!$F$13:$F$18,Fuel!$S$13:$S$18)","v":0},{"$f":"_xlfn.XLOOKUP(B301,Fuel!$F$13:$F$18,Fuel!$L$13:$L$18)","v":3.1436999999999999}]
["Fuel",583955902,20240103,2401,{"$f":"_xlfn.XLOOKUP(B302,Fuel!$F$13:$F$18,Fuel!$N$13:$N$18)","v":0},20240201,2405,{"$f":"_xlfn.XLOOKUP(B302,Fuel!$F$13:$F$18,Fuel!$O$13:$O$18)","v":0},20240301,2409,{"$f":"_xlfn.XLOOKUP(B302,Fuel!$F$13:$F$18,Fuel!$P$13:$P$18)","v":0},20240402,2414,{"$f":"_xlfn.XLOOKUP(B302,Fuel!$F$13:$F$18,Fuel!$Q$13:$Q$18)","v":0},20240501,2418,{"$f":"_xlfn.XLOOKUP(B302,Fuel!$F$13:$F$18,Fuel!$R$13:$R$18)","v":0},20240603,2423,{"$f":"_xlfn.XLOOKUP(B302,Fuel!$F$13:$F$18,Fuel!$S$13:$S$18)","v":0},{"$f":"_xlfn.XLOOKUP(B302,Fuel!$F$13:$F$18,Fuel!$L$13:$L$18)","v":52.497900000000001}]
["Fuel",583955901,20240103,2401,{"$f":"_xlfn.XLOOKUP(B303,Fuel!$F$13:$F$18,Fuel!$N$13:$N$18)","v":0},20240201,2405,{"$f":"_xlfn.XLOOKUP(B303,Fuel!$F$13:$F$18,Fuel!$O$13:$O$18)","v":0},20240301,2409,{"$f":"_xlfn.XLOOKUP(B303,Fuel!$F$13:$F$18,Fuel!$P$13:$P$18)","v":0},20240402,2414,{"$f":"_xlfn.XLOOKUP(B303,Fuel!$F$13:$F$18,Fuel!$Q$13:$Q$18)","v":0},20240501,2418,{"$f":"_xlfn.XLOOKUP(B303,Fuel!$F$13:$F$18,Fuel!$R$13:$R$18)","v":0},20240603,2423,{"$f":"_xlfn.XLOOKUP(B303,Fuel!$F$13:$F$18,Fuel!$S$13:$S$18)","v":0},{"$f":"_xlfn.XLOOKUP(B303,Fuel!$F$13:$F$18,Fuel!$L$13:$L$18)","v":10.495799999999999}]
["Fuel",583952902,20240103,2401,{"$f":"_xlfn.XLOOKUP(B304,Fuel!$F$13:$F$18,Fuel!$N$13:$N$18)","v":0},20240201,2405,{"$f":"_xlfn.XLOOKUP(B304,Fuel!$F$13:$F$18,Fuel!$O$13:$O$18)","v":0},20240301,2409,{"$f":"_xlfn.XLOOKUP(B304,Fuel!$F$13:$F$18,Fuel!$P$13:$P$18)","v":0},20240402,2414,{"$f":"_xlfn.XLOOKUP(B304,Fuel!$F$13:$F$18,Fuel!$Q$13:$Q$18)","v":0},20240501,2418,{"$f":"_xlfn.XLOOKUP(B304,Fuel!$F$13:$F$18,Fuel!$R$13:$R$18)","v":0},20240603,2423,{"$f":"_xlfn.XLOOKUP(B304,Fuel!$F$13:$F$18,Fuel!$S$13:$S$18)","v":0},{"$f":"_xlfn.XLOOKUP(B304,Fuel!$F$13:$F$18,Fuel!$L$13:$L$18)","v":54.072900000000004}]
["Fuel",582202005,20240103,2401,{"$f":"_xlfn.XLOOKUP(B305,Fuel!$F$13:$F$18,Fuel!$N$13:$N$18)","v":12},20240201,2405,{"$f":"_xlfn.XLOOKUP(B305,Fuel!$F$13:$F$18,Fuel!$O$13:$O$18)","v":12},20240301,2409,{"$f":"_xlfn.XLOOKUP(B305,Fuel!$F$13:$F$18,Fuel!$P$13:$P$18)","v":12},20240402,2414,{"$f":"_xlfn.XLOOKUP(B305,Fuel!$F$13:$F$18,Fuel!$Q$13:$Q$18)","v":12},20240501,2418,{"$f":"_xlfn.XLOOKUP(B305,Fuel!$F$13:$F$18,Fuel!$R$13:$R$18)","v":12},20240603,2423,{"$f":"_xlfn.XLOOKUP(B305,Fuel!$F$13:$F$18,Fuel!$S$13:$S$18)","v":12},{"$f":"_xlfn.XLOOKUP(B305,Fuel!$F$13:$F$18,Fuel!$L$13:$L$18)","v":12.0708}]
["Hedgetrimmers & Pole Hedgetrimmers",967659201,20240103,2401,{"$f":"_xlfn.XLOOKUP(B306,'Hedge Trimmers'!$F$19:$F$22,'Hedge Trimmers'!$U$19:$U$22)","v":0},20240201,2405,{"$f":"_xlfn.XLOOKUP(B306,'Hedge Trimmers'!$F$19:$F$22,'Hedge Trimmers'!$V$19:$V$22)","v":0},20240301,2409,{"$f":"_xlfn.XLOOKUP(B306,'Hedge Trimmers'!$F$19:$F$22,'Hedge Trimmers'!$W$19:$W$22)","v":0},20240402,2414,{"$f":"_xlfn.XLOOKUP(B306,'Hedge Trimmers'!$F$19:$F$22,'Hedge Trimmers'!X19:X22)","v":0},20240501,2418,{"$f":"_xlfn.XLOOKUP(B306,'Hedge Trimmers'!$F$19:$F$22,'Hedge Trimmers'!$Y$19:$Y$22)","v":0},20240603,2423,{"$f":"_xlfn.XLOOKUP(B306,'Hedge Trimmers'!$F$19:$F$22,'Hedge Trimmers'!$Z$19:$Z$22)","v":0},{"$f":"_xlfn.XLOOKUP(B306,'Hedge Trimmers'!$F$19:$F$22,'Hedge Trimmers'!$L$19:$L$22)","v":459.875}]
["Hedgetrimmers & Pole Hedgetrimmers",967659001,20240103,2401,{"$f":"_xlfn.XLOOKUP(B307,'Hedge Trimmers'!$F$19:$F$22,'Hedge Trimmers'!$U$19:$U$22)","v":0},20240201,2405,{"$f":"_xlfn.XLOOKUP(B307,'Hedge Trimmers'!$F$19:$F$22,'Hedge Trimmers'!$V$19:$V$22)","v":0},20240301,2409,{"$f":"_xlfn.XLOOKUP(B307,'Hedge Trimmers'!$F$19:$F$22,'Hedge Trimmers'!$W$19:$W$22)","v":0},20240402,2414,{"$f":"_xlfn.XLOOKUP(B307,'Hedge Trimmers'!$F$19:$F$22,'Hedge Trimmers'!$X$19:$X$22)","v":0},20240501,2418,{"$f":"_xlfn.XLOOKUP(B307,'Hedge Trimmers'!$F$19:$F$22,'Hedge Trimmers'!$Y$19:$Y$22)","v":0},20240603,2423,{"$f":"_xlfn.XLOOKUP(B307,'Hedge Trimmers'!$F$19:$F$22,'Hedge Trimmers'!$Z$19:$Z$22)","v":0},{"$f":"_xlfn.XLOOKUP(B307,'Hedge Trimmers'!$F$19:$F$22,'Hedge Trimmers'!$L$19:$L$22)","v":459.875}]
["Hedgetrimmers & Pole Hedgetrimmers",967658902,20240103,2401,{"$f":"_xlfn.XLOOKUP(B308,'Hedge Trimmers'!$F$13:$F$22,'Hedge Trimmers'!$U$13:$U$22)","v":0},20240201,2405,{"$f":"_xlfn.XLOOKUP(B308,'Hedge Trimmers'!$F$13:$F$22,'Hedge Trimmers'!$V$13:$V$22)","v":0},20240301,2409,{"$f":"_xlfn.XLOOKUP(B308,'Hedge Trimmers'!$F$13:$F$22,'Hedge Trimmers'!$W$13:$W$22)","v":0},20240402,2414,{"$f":"_xlfn.XLOOKUP(B308,'Hedge Trimmers'!$F$13:$F$22,'Hedge Trimmers'!$X$13:$X$22)","v":0},20240501,2418,{"$f":"_xlfn.XLOOKUP(B308,'Hedge Trimmers'!$F$13:$F$22,'Hedge Trimmers'!$Y$13:$Y$22)","v":0},20240603,2423,{"$f":"_xlfn.XLOOKUP(B308,'Hedge Trimmers'!$F$13:$F$22,'Hedge Trimmers'!$Z$13:$Z$22)","v":0},{"$f":"_xlfn.XLOOKUP(B308,'Hedge Trimmers'!$F$13:$F$22,'Hedge Trimmers'!$L$13:$L$22)","v":270.28949999999998}]
["Hedgetrimmers & Pole Hedgetrimmers",967944901,20240103,2401,{"$f":"_xlfn.XLOOKUP(B309,'Hedge Trimmers'!$F$19:$F$22,'Hedge Trimmers'!$U$19:$U$22)","v":0},20240201,2405,{"$f":"_xlfn.XLOOKUP(B309,'Hedge Trimmers'!$F$19:$F$22,'Hedge Trimmers'!$V$19:$V$22)","v":0},20240301,2409,{"$f":"_xlfn.XLOOKUP(B309,'Hedge Trimmers'!$F$19:$F$22,'Hedge Trimmers'!$W$19:$W$22)","v":0},20240402,2414,{"$f":"_xlfn.XLOOKUP(B309,'Hedge Trimmers'!$F$19:$F$22,'Hedge Trimmers'!$X$19:$X$22)","v":0},20240501,2418,{"$f":"_xlfn.XLOOKUP(B309,'Hedge Trimmers'!$F$19:$F$22,'Hedge Trimmers'!$Y$19:$Y$22)","v":0},20240603,2423,{"$f":"_xlfn.XLOOKUP(B309,'Hedge Trimmers'!$F$19:$F$22,'Hedge Trimmers'!$Z$19:$Z$22)","v":0},{"$f":"_xlfn.XLOOKUP(B309,'Hedge Trimmers'!$F$19:$F$22,'Hedge Trimmers'!$L$19:$L$22)","v":514.03949999999998}]
["Hedgetrimmers & Pole Hedgetrimmers",967945101,20240103,2401,{"$f":"_xlfn.XLOOKUP(B310,'Hedge Trimmers'!$F$19:$F$22,'Hedge Trimmers'!$U$19:$U$22)","v":0},20240201,2405,{"$f":"_xlfn.XLOOKUP(B310,'Hedge Trimmers'!$F$19:$F$22,'Hedge Trimmers'!$V$19:$V$22)","v":0},20240301,2409,{"$f":"_xlfn.XLOOKUP(B310,'Hedge Trimmers'!$F$19:$F$22,'Hedge Trimmers'!$W$19:$W$22)","v":0},20240402,2414,{"$f":"_xlfn.XLOOKUP(B310,'Hedge Trimmers'!$F$19:$F$22,'Hedge Trimmers'!$X$19:$X$22)","v":2},20240501,2418,{"$f":"_xlfn.XLOOKUP(B310,'Hedge Trimmers'!$F$19:$F$22,'Hedge Trimmers'!$Y$19:$Y$22)","v":1},20240603,2423,{"$f":"_xlfn.XLOOKUP(B310,'Hedge Trimmers'!$F$19:$F$22,'Hedge Trimmers'!$Z$19:$Z$22)","v":1},{"$f":"_xlfn.XLOOKUP(B310,'Hedge Trimmers'!$F$19:$F$22,'Hedge Trimmers'!$L$19:$L$22)","v":541.125}]
["Hedgetrimmers & Pole Hedgetrimmers",967658701,20240103,2401,{"$f":"_xlfn.XLOOKUP(B311,'Hedge Trimmers'!$F$13:$F$22,'Hedge Trimmers'!$U$13:$U$22)","v":0},20240201,2405,{"$f":"_xlfn.XLOOKUP(B311,'Hedge Trimmers'!$F$13:$F$22,'Hedge Trimmers'!$V$13:$V$22)","v":0},20240301,2409,{"$f":"_xlfn.XLOOKUP(B311,'Hedge Trimmers'!$F$13:$F$22,'Hedge Trimmers'!$W$13:$W$22)","v":0},20240402,2414,{"$f":"_xlfn.XLOOKUP(B311,'Hedge Trimmers'!$F$13:$F$22,'Hedge Trimmers'!$X$13:$X$22)","v":0},20240501,2418,{"$f":"_xlfn.XLOOKUP(B311,'Hedge Trimmers'!$F$13:$F$22,'Hedge Trimmers'!$Y$13:$Y$22)","v":0},20240603,2423,{"$f":"_xlfn.XLOOKUP(B311,'Hedge Trimmers'!$F$13:$F$22,'Hedge Trimmers'!$Z$13:$Z$22)","v":0},{"$f":"_xlfn.XLOOKUP(B311,'Hedge Trimmers'!$F$13:$F$22,'Hedge Trimmers'!$L$13:$L$22)","v":405.71049999999991}]
["Hedgetrimmers & Pole Hedgetrimmers",967658301,20240103,2401,{"$f":"_xlfn.XLOOKUP(B312,'Hedge Trimmers'!$F$13:$F$22,'Hedge Trimmers'!$U$13:$U$22)","v":0},20240201,2405,{"$f":"_xlfn.XLOOKUP(B312,'Hedge Trimmers'!$F$13:$F$22,'Hedge Trimmers'!$V$13:$V$22)","v":0},20240301,2409,{"$f":"_xlfn.XLOOKUP(B312,'Hedge Trimmers'!$F$13:$F$22,'Hedge Trimmers'!$W$13:$W$22)","v":0},20240402,2414,{"$f":"_xlfn.XLOOKUP(B312,'Hedge Trimmers'!$F$13:$F$22,'Hedge Trimmers'!$X$13:$X$22)","v":0},20240501,2418,{"$f":"_xlfn.XLOOKUP(B312,'Hedge Trimmers'!$F$13:$F$22,'Hedge Trimmers'!$Y$13:$Y$22)","v":0},20240603,2423,{"$f":"_xlfn.XLOOKUP(B312,'Hedge Trimmers'!$F$13:$F$22,'Hedge Trimmers'!$Z$13:$Z$22)","v":0},{"$f":"_xlfn.XLOOKUP(B312,'Hedge Trimmers'!$F$13:$F$22,'Hedge Trimmers'!$L$13:$L$22)","v":405.71049999999991}]
["Hedgetrimmers & Pole Hedgetrimmers",967658401,20240103,2401,{"$f":"_xlfn.XLOOKUP(B313,'Hedge Trimmers'!$F$13:$F$22,'Hedge Trimmers'!$U$13:$U$22)","v":0},20240201,2405,{"$f":"_xlfn.XLOOKUP(B313,'Hedge Trimmers'!$F$13:$F$22,'Hedge Trimmers'!$V$13:$V$22)","v":0},20240301,2409,{"$f":"_xlfn.XLOOKUP(B313,'Hedge Trimmers'!$F$13:$F$22,'Hedge Trimmers'!$W$13:$W$22)","v":0},20240402,2414,{"$f":"_xlfn.XLOOKUP(B313,'Hedge Trimmers'!$F$13:$F$22,'Hedge Trimmers'!$X$13:$X$22)","v":2},20240501,2418,{"$f":"_xlfn.XLOOKUP(B313,'Hedge Trimmers'!$F$13:$F$22,'Hedge Trimmers'!$Y$13:$Y$22)","v":2},20240603,2423,{"$f":"_xlfn.XLOOKUP(B313,'Hedge Trimmers'!$F$13:$F$22,'Hedge Trimmers'!$Z$13:$Z$22)","v":2},{"$f":"_xlfn.XLOOKUP(B313,'Hedge Trimmers'!$F$13:$F$22,'Hedge Trimmers'!$L$13:$L$22)","v":415.47791999999998}]
["Hedgetrimmers & Pole Hedgetrimmers",966532301,20240103,2401,{"$f":"_xlfn.XLOOKUP(B314,'Hedge Trimmers'!$F$13:$F$22,'Hedge Trimmers'!$U$13:$U$22)","v":0},20240201,2405,{"$f":"_xlfn.XLOOKUP(B314,'Hedge Trimmers'!$F$13:$F$22,'Hedge Trimmers'!$V$13:$V$22)","v":0},20240301,2409,{"$f":"_xlfn.XLOOKUP(B314,'Hedge Trimmers'!$F$13:$F$22,'Hedge Trimmers'!$W$13:$W$22)","v":0},20240402,2414,{"$f":"_xlfn.XLOOKUP(B314,'Hedge Trimmers'!$F$13:$F$22,'Hedge Trimmers'!$X$13:$X$22)","v":0},20240501,2418,{"$f":"_xlfn.XLOOKUP(B314,'Hedge Trimmers'!$F$13:$F$22,'Hedge Trimmers'!$Y$13:$Y$22)","v":0},20240603,2423,{"$f":"_xlfn.XLOOKUP(B314,'Hedge Trimmers'!$F$13:$F$22,'Hedge Trimmers'!$Z$13:$Z$22)","v":0},{"$f":"_xlfn.XLOOKUP(B314,'Hedge Trimmers'!$F$13:$F$22,'Hedge Trimmers'!$L$13:$L$22)","v":178.2105}]
["Hedgetrimmers & Pole Hedgetrimmers",966532401,20240103,2401,{"$f":"_xlfn.XLOOKUP(B315,'Hedge Trimmers'!$F$13:$F$22,'Hedge Trimmers'!$U$13:$U$22)","v":0},20240201,2405,{"$f":"_xlfn.XLOOKUP(B315,'Hedge Trimmers'!$F$13:$F$22,'Hedge Trimmers'!$V$13:$V$22)","v":0},20240301,2409,{"$f":"_xlfn.XLOOKUP(B315,'Hedge Trimmers'!$F$13:$F$22,'Hedge Trimmers'!$W$13:$W$22)","v":2},20240402,2414,{"$f":"_xlfn.XLOOKUP(B315,'Hedge Trimmers'!$F$13:$F$22,'Hedge Trimmers'!$X$13:$X$22)","v":4},20240501,2418,{"$f":"_xlfn.XLOOKUP(B315,'Hedge Trimmers'!$F$13:$F$22,'Hedge Trimmers'!$Y$13:$Y$22)","v":4},20240603,2423,{"$f":"_xlfn.XLOOKUP(B315,'Hedge Trimmers'!$F$13:$F$22,'Hedge Trimmers'!$Z$13:$Z$22)","v":4},{"$f":"_xlfn.XLOOKUP(B315,'Hedge Trimmers'!$F$13:$F$22,'Hedge Trimmers'!$L$13:$L$22)","v":191.88}]
["Pressure Washers",970648002,20240103,2401,{"$f":"_xlfn.XLOOKUP(B316,'Pressure Washers'!$F$13:$F$33,'Pressure Washers'!$U$13:$U$33)","v":0},20240201,2405,{"$f":"_xlfn.XLOOKUP(B316,'Pressure Washers'!$F$13:$F$33,'Pressure Washers'!$V$13:$V$33)","v":0},20240301,2409,{"$f":"_xlfn.XLOOKUP(B316,'Pressure Washers'!$F$13:$F$33,'Pressure Washers'!$W$13:$W$33)","v":0},20240402,2414,{"$f":"_xlfn.XLOOKUP(B316,'Pressure Washers'!$F$13:$F$33,'Pressure Washers'!X13:X33)","v":0},20240501,2418,{"$f":"_xlfn.XLOOKUP(B316,'Pressure Washers'!$F$13:$F$33,'Pressure Washers'!$Y$13:$Y$33)","v":0},20240603,2423,{"$f":"_xlfn.XLOOKUP(B316,'Pressure Washers'!$F$13:$F$33,'Pressure Washers'!$Z$13:$Z$33)","v":0},{"$f":"_xlfn.XLOOKUP(B316,'Pressure Washers'!$F$13:$F$33,'Pressure Washers'!$L$13:$L$33)","v":81.243499999999983}]
["Pressure Washers",970648102,20240103,2401,{"$f":"_xlfn.XLOOKUP(B317,'Pressure Washers'!$F$13:$F$33,'Pressure Washers'!$U$13:$U$33)","v":0},20240201,2405,{"$f":"_xlfn.XLOOKUP(B317,'Pressure Washers'!$F$13:$F$33,'Pressure Washers'!$V$13:$V$33)","v":0},20240301,2409,{"$f":"_xlfn.XLOOKUP(B317,'Pressure Washers'!$F$13:$F$33,'Pressure Washers'!$W$13:$W$33)","v":0},20240402,2414,{"$f":"_xlfn.XLOOKUP(B317,'Pressure Washers'!$F$13:$F$33,'Pressure Washers'!X14:X34)","v":0},20240501,2418,{"$f":"_xlfn.XLOOKUP(B317,'Pressure Washers'!$F$13:$F$33,'Pressure Washers'!$Y$13:$Y$33)","v":0},20240603,2423,{"$f":"_xlfn.XLOOKUP(B317,'Pressure Washers'!$F$13:$F$33,'Pressure Washers'!$Z$13:$Z$33)","v":0},{"$f":"_xlfn.XLOOKUP(B317,'Pressure Washers'!$F$13:$F$33,'Pressure Washers'!$L$13:$L$33)","v":140.2895}]
["Pressure Washers",970468302,20240103,2401,{"$f":"_xlfn.XLOOKUP(B318,'Pressure Washers'!$F$13:$F$33,'Pressure Washers'!$U$13:$U$33)","v":0},20240201,2405,{"$f":"_xlfn.XLOOKUP(B318,'Pressure Washers'!$F$13:$F$33,'Pressure Washers'!$V$13:$V$33)","v":0},20240301,2409,{"$f":"_xlfn.XLOOKUP(B318,'Pressure Washers'!$F$13:$F$33,'Pressure Washers'!$W$13:$W$33)","v":0},20240402,2414,{"$f":"_xlfn.XLOOKUP(B318,'Pressure Washers'!$F$13:$F$33,'Pressure Washers'!X15:X35)","v":0},20240501,2418,{"$f":"_xlfn.XLOOKUP(B318,'Pressure Washers'!$F$13:$F$33,'Pressure Washers'!$Y$13:$Y$33)","v":0},20240603,2423,{"$f":"_xlfn.XLOOKUP(B318,'Pressure Washers'!$F$13:$F$33,'Pressure Washers'!$Z$13:$Z$33)","v":0},{"$f":"_xlfn.XLOOKUP(B318,'Pressure Washers'!$F$13:$F$33,'Pressure Washers'!$L$13:$L$33)","v":297.375}]
["Pressure Washers",590657901,20240103,2401,{"$f":"_xlfn.XLOOKUP(B319,'Pressure Washers'!$F$13:$F$33,'Pressure Washers'!$U$13:$U$33)","v":0},20240201,2405,{"$f":"_xlfn.XLOOKUP(B319,'Pressure Washers'!$F$13:$F$33,'Pressure Washers'!$V$13:$V$33)","v":0},20240301,2409,{"$f":"_xlfn.XLOOKUP(B319,'Pressure Washers'!$F$13:$F$33,'Pressure Washers'!$W$13:$W$33)","v":0},20240402,2414,{"$f":"_xlfn.XLOOKUP(B319,'Pressure Washers'!$F$13:$F$33,'Pressure Washers'!X16:X36)","v":0},20240501,2418,{"$f":"_xlfn.XLOOKUP(B319,'Pressure Washers'!$F$13:$F$33,'Pressure Washers'!$Y$13:$Y$33)","v":0},20240603,2423,{"$f":"_xlfn.XLOOKUP(B319,'Pressure Washers'!$F$13:$F$33,'Pressure Washers'!$Z$13:$Z$33)","v":0},{"$f":"_xlfn.XLOOKUP(B319,'Pressure Washers'!$F$13:$F$33,'Pressure Washers'!$L$13:$L$33)","v":24.368499999999997}]
["Pressure Washers",967676402,20240103,2401,{"$f":"_xlfn.XLOOKUP(B320,'Pressure Washers'!$F$13:$F$33,'Pressure Washers'!$U$13:$U$33)","v":10},20240201,2405,{"$f":"_xlfn.XLOOKUP(B320,'Pressure Washers'!$F$13:$F$33,'Pressure Washers'!$V$13:$V$33)","v":0},20240301,2409,{"$f":"_xlfn.XLOOKUP(B320,'Pressure Washers'!$F$13:$F$33,'Pressure Washers'!$W$13:$W$33)","v":0},20240402,2414,{"$f":"_xlfn.XLOOKUP(B320,'Pressure Washers'!$F$13:$F$33,'Pressure Washers'!X17:X37)","v":0},20240501,2418,{"$f":"_xlfn.XLOOKUP(B320,'Pressure Washers'!$F$13:$F$33,'Pressure Washers'!$Y$13:$Y$33)","v":0},20240603,2423,{"$f":"_xlfn.XLOOKUP(B320,'Pressure Washers'!$F$13:$F$33,'Pressure Washers'!$Z$13:$Z$33)","v":0},{"$f":"_xlfn.XLOOKUP(B320,'Pressure Washers'!$F$13:$F$33,'Pressure Washers'!$L$13:$L$33)","v":65.971229999999991}]
["Pressure Washers",970457402,20240103,2401,{"$f":"_xlfn.XLOOKUP(B321,'Pressure Washers'!$F$13:$F$33,'Pressure Washers'!$U$13:$U$33)","v":0},20240201,2405,{"$f":"_xlfn.XLOOKUP(B321,'Pressure Washers'!$F$13:$F$33,'Pressure Washers'!$V$13:$V$33)","v":0},20240301,2409,{"$f":"_xlfn.XLOOKUP(B321,'Pressure Washers'!$F$13:$F$33,'Pressure Washers'!$W$13:$W$33)","v":0},20240402,2414,{"$f":"_xlfn.XLOOKUP(B321,'Pressure Washers'!$F$13:$F$33,'Pressure Washers'!X18:X38)","v":0},20240501,2418,{"$f":"_xlfn.XLOOKUP(B321,'Pressure Washers'!$F$13:$F$33,'Pressure Washers'!$Y$13:$Y$33)","v":0},20240603,2423,{"$f":"_xlfn.XLOOKUP(B321,'Pressure Washers'!$F$13:$F$33,'Pressure Washers'!$Z$13:$Z$33)","v":0},{"$f":"_xlfn.XLOOKUP(B321,'Pressure Washers'!$F$13:$F$33,'Pressure Washers'!$L$13:$L$33)","v":134.875}]
["Pressure Washers",967677702,20240103,2401,{"$f":"_xlfn.XLOOKUP(B322,'Pressure Washers'!$F$13:$F$33,'Pressure Washers'!$U$13:$U$33)","v":0},20240201,2405,{"$f":"_xlfn.XLOOKUP(B322,'Pressure Washers'!$F$13:$F$33,'Pressure Washers'!$V$13:$V$33)","v":0},20240301,2409,{"$f":"_xlfn.XLOOKUP(B322,'Pressure Washers'!$F$13:$F$33,'Pressure Washers'!$W$13:$W$33)","v":0},20240402,2414,{"$f":"_xlfn.XLOOKUP(B322,'Pressure Washers'!$F$13:$F$33,'Pressure Washers'!X19:X39)","v":0},20240501,2418,{"$f":"_xlfn.XLOOKUP(B322,'Pressure Washers'!$F$13:$F$33,'Pressure Washers'!$Y$13:$Y$33)","v":0},20240603,2423,{"$f":"_xlfn.XLOOKUP(B322,'Pressure Washers'!$F$13:$F$33,'Pressure Washers'!$Z$13:$Z$33)","v":0},{"$f":"_xlfn.XLOOKUP(B322,'Pressure Washers'!$F$13:$F$33,'Pressure Washers'!$L$13:$L$33)","v":216.125}]
["Pressure Washers",590657801,20240103,2401,{"$f":"_xlfn.XLOOKUP(B323,'Pressure Washers'!$F$13:$F$33,'Pressure Washers'!$U$13:$U$33)","v":0},20240201,2405,{"$f":"_xlfn.XLOOKUP(B323,'Pressure Washers'!$F$13:$F$33,'Pressure Washers'!$V$13:$V$33)","v":0},20240301,2409,{"$f":"_xlfn.XLOOKUP(B323,'Pressure Washers'!$F$13:$F$33,'Pressure Washers'!$W$13:$W$33)","v":0},20240402,2414,{"$f":"_xlfn.XLOOKUP(B323,'Pressure Washers'!$F$13:$F$33,'Pressure Washers'!X21:X41)","v":0},20240501,2418,{"$f":"_xlfn.XLOOKUP(B323,'Pressure Washers'!$F$13:$F$33,'Pressure Washers'!$Y$13:$Y$33)","v":0},20240603,2423,{"$f":"_xlfn.XLOOKUP(B323,'Pressure Washers'!$F$13:$F$33,'Pressure Washers'!$Z$13:$Z$33)","v":0},{"$f":"_xlfn.XLOOKUP(B323,'Pressure Washers'!$F$13:$F$33,'Pressure Washers'!$L$13:$L$33)","v":54.164499999999997}]
["Pressure Washers",590660701,20240103,2401,{"$f":"_xlfn.XLOOKUP(B324,'Pressure Washers'!$F$13:$F$33,'Pressure Washers'!$U$13:$U$33)","v":0},20240201,2405,{"$f":"_xlfn.XLOOKUP(B324,'Pressure Washers'!$F$13:$F$33,'Pressure Washers'!$V$13:$V$33)","v":0},20240301,2409,{"$f":"_xlfn.XLOOKUP(B324,'Pressure Washers'!$F$13:$F$33,'Pressure Washers'!$W$13:$W$33)","v":0},20240402,2414,{"$f":"_xlfn.XLOOKUP(B324,'Pressure Washers'!$F$13:$F$33,'Pressure Washers'!X22:X42)","v":0},20240501,2418,{"$f":"_xlfn.XLOOKUP(B324,'Pressure Washers'!$F$13:$F$33,'Pressure Washers'!$Y$13:$Y$33)","v":0},20240603,2423,{"$f":"_xlfn.XLOOKUP(B324,'Pressure Washers'!$F$13:$F$33,'Pressure Washers'!$Z$13:$Z$33)","v":0},{"$f":"_xlfn.XLOOKUP(B324,'Pressure Washers'!$F$13:$F$33,'Pressure Washers'!$L$13:$L$33)","v":35.203999999999994}]
["Pressure Washers",590660601,20240103,2401,{"$f":"_xlfn.XLOOKUP(B325,'Pressure Washers'!$F$13:$F$33,'Pressure Washers'!$U$13:$U$33)","v":0},20240201,2405,{"$f":"_xlfn.XLOOKUP(B325,'Pressure Washers'!$F$13:$F$33,'Pressure Washers'!$V$13:$V$33)","v":0},20240301,2409,{"$f":"_xlfn.XLOOKUP(B325,'Pressure Washers'!$F$13:$F$33,'Pressure Washers'!$W$13:$W$33)","v":0},20240402,2414,{"$f":"_xlfn.XLOOKUP(B325,'Pressure Washers'!$F$13:$F$33,'Pressure Washers'!X23:X43)","v":0},20240501,2418,{"$f":"_xlfn.XLOOKUP(B325,'Pressure Washers'!$F$13:$F$33,'Pressure Washers'!$Y$13:$Y$33)","v":0},20240603,2423,{"$f":"_xlfn.XLOOKUP(B325,'Pressure Washers'!$F$13:$F$33,'Pressure Washers'!$Z$13:$Z$33)","v":0},{"$f":"_xlfn.XLOOKUP(B325,'Pressure Washers'!$F$13:$F$33,'Pressure Washers'!$L$13:$L$33)","v":35.203999999999994}]
["Pressure Washers",590660401,20240103,2401,{"$f":"_xlfn.XLOOKUP(B326,'Pressure Washers'!$F$13:$F$33,'Pressure Washers'!$U$13:$U$33)","v":0},20240201,2405,{"$f":"_xlfn.XLOOKUP(B326,'Pressure Washers'!$F$13:$F$33,'Pressure Washers'!$V$13:$V$33)","v":0},20240301,2409,{"$f":"_xlfn.XLOOKUP(B326,'Pressure Washers'!$F$13:$F$33,'Pressure Washers'!$W$13:$W$33)","v":0},20240402,2414,{"$f":"_xlfn.XLOOKUP(B326,'Pressure Washers'!$F$13:$F$33,'Pressure Washers'!$W$13:$W$33)","v":0},20240501,2418,{"$f":"_xlfn.XLOOKUP(B326,'Pressure Washers'!$F$13:$F$33,'Pressure Washers'!$Y$13:$Y$33)","v":0},20240603,2423,{"$f":"_xlfn.XLOOKUP(B326,'Pressure Washers'!$F$13:$F$33,'Pressure Washers'!$Z$13:$Z$33)","v":0},{"$f":"_xlfn.XLOOKUP(B326,'Pressure Washers'!$F$13:$F$33,'Pressure Washers'!$L$13:$L$33)","v":18.954000000000001}]
["Pressure Washers",590661101,20240103,2401,{"$f":"_xlfn.XLOOKUP(B327,'Pressure Washers'!$F$13:$F$33,'Pressure Washers'!$U$13:$U$33)","v":0},20240201,2405,{"$f":"_xlfn.XLOOKUP(B327,'Pressure Washers'!$F$13:$F$33,'Pressure Washers'!$V$13:$V$33)","v":0},20240301,2409,{"$f":"_xlfn.XLOOKUP(B327,'Pressure Washers'!$F$13:$F$33,'Pressure Washers'!$W$13:$W$33)","v":0},20240402,2414,{"$f":"_xlfn.XLOOKUP(B327,'Pressure Washers'!$F$13:$F$33,'Pressure Washers'!$W$13:$W$33)","v":0},20240501,2418,{"$f":"_xlfn.XLOOKUP(B327,'Pressure Washers'!$F$13:$F$33,'Pressure Washers'!$Y$13:$Y$33)","v":0},20240603,2423,{"$f":"_xlfn.XLOOKUP(B327,'Pressure Washers'!$F$13:$F$33,'Pressure Washers'!$Z$13:$Z$33)","v":0},{"$f":"_xlfn.XLOOKUP(B327,'Pressure Washers'!$F$13:$F$33,'Pressure Washers'!$L$13:$L$33)","v":43.328999999999994}]
["Pressure Washers",590661001,20240103,2401,{"$f":"_xlfn.XLOOKUP(B328,'Pressure Washers'!$F$13:$F$33,'Pressure Washers'!$U$13:$U$33)","v":0},20240201,2405,{"$f":"_xlfn.XLOOKUP(B328,'Pressure Washers'!$F$13:$F$33,'Pressure Washers'!$V$13:$V$33)","v":0},20240301,2409,{"$f":"_xlfn.XLOOKUP(B328,'Pressure Washers'!$F$13:$F$33,'Pressure Washers'!$W$13:$W$33)","v":0},20240402,2414,{"$f":"_xlfn.XLOOKUP(B328,'Pressure Washers'!$F$13:$F$33,'Pressure Washers'!$W$13:$W$33)","v":0},20240501,2418,{"$f":"_xlfn.XLOOKUP(B328,'Pressure Washers'!$F$13:$F$33,'Pressure Washers'!$Y$13:$Y$33)","v":0},20240603,2423,{"$f":"_xlfn.XLOOKUP(B328,'Pressure Washers'!$F$13:$F$33,'Pressure Washers'!$Z$13:$Z$33)","v":0},{"$f":"_xlfn.XLOOKUP(B328,'Pressure Washers'!$F$13:$F$33,'Pressure Washers'!$L$13:$L$33)","v":54.164499999999997}]
["Pressure Washers",590660501,20240103,2401,{"$f":"_xlfn.XLOOKUP(B329,'Pressure Washers'!$F$13:$F$33,'Pressure Washers'!$U$13:$U$33)","v":0},20240201,2405,{"$f":"_xlfn.XLOOKUP(B329,'Pressure Washers'!$F$13:$F$33,'Pressure Washers'!$V$13:$V$33)","v":0},20240301,2409,{"$f":"_xlfn.XLOOKUP(B329,'Pressure Washers'!$F$13:$F$33,'Pressure Washers'!$W$13:$W$33)","v":0},20240402,2414,{"$f":"_xlfn.XLOOKUP(B329,'Pressure Washers'!$F$13:$F$33,'Pressure Washers'!$W$13:$W$33)","v":0},20240501,2418,{"$f":"_xlfn.XLOOKUP(B329,'Pressure Washers'!$F$13:$F$33,'Pressure Washers'!$Y$13:$Y$33)","v":0},20240603,2423,{"$f":"_xlfn.XLOOKUP(B329,'Pressure Washers'!$F$13:$F$33,'Pressure Washers'!$Z$13:$Z$33)","v":0},{"$f":"_xlfn.XLOOKUP(B329,'Pressure Washers'!$F$13:$F$33,'Pressure Washers'!$L$13:$L$33)","v":18.954000000000001}]
["Pressure Washers",590660801,20240103,2401,{"$f":"_xlfn.XLOOKUP(B330,'Pressure Washers'!$F$13:$F$33,'Pressure Washers'!$U$13:$U$33)","v":0},20240201,2405,{"$f":"_xlfn.XLOOKUP(B330,'Pressure Washers'!$F$13:$F$33,'Pressure Washers'!$V$13:$V$33)","v":0},20240301,2409,{"$f":"_xlfn.XLOOKUP(B330,'Pressure Washers'!$F$13:$F$33,'Pressure Washers'!$W$13:$W$33)","v":0},20240402,2414,{"$f":"_xlfn.XLOOKUP(B330,'Pressure Washers'!$F$13:$F$33,'Pressure Washers'!$W$13:$W$33)","v":0},20240501,2418,{"$f":"_xlfn.XLOOKUP(B330,'Pressure Washers'!$F$13:$F$33,'Pressure Washers'!$Y$13:$Y$33)","v":0},20240603,2423,{"$f":"_xlfn.XLOOKUP(B330,'Pressure Washers'!$F$13:$F$33,'Pressure Washers'!$Z$13:$Z$33)","v":0},{"$f":"_xlfn.XLOOKUP(B330,'Pressure Washers'!$F$13:$F$33,'Pressure Washers'!$L$13:$L$33)","v":35.203999999999994}]
["Pressure Washers",590660901,20240103,2401,{"$f":"_xlfn.XLOOKUP(B331,'Pressure Washers'!$F$13:$F$33,'Pressure Washers'!$U$13:$U$33)","v":0},20240201,2405,{"$f":"_xlfn.XLOOKUP(B331,'Pressure Washers'!$F$13:$F$33,'Pressure Washers'!$V$13:$V$33)","v":0},20240301,2409,{"$f":"_xlfn.XLOOKUP(B331,'Pressure Washers'!$F$13:$F$33,'Pressure Washers'!$W$13:$W$33)","v":0},20240402,2414,{"$f":"_xlfn.XLOOKUP(B331,'Pressure Washers'!$F$13:$F$33,'Pressure Washers'!$W$13:$W$33)","v":0},20240501,2418,{"$f":"_xlfn.XLOOKUP(B331,'Pressure Washers'!$F$13:$F$33,'Pressure Washers'!$Y$13:$Y$33)","v":0},20240603,2423,{"$f":"_xlfn.XLOOKUP(B331,'Pressure Washers'!$F$13:$F$33,'Pressure Washers'!$Z$13:$Z$33)","v":0},{"$f":"_xlfn.XLOOKUP(B331,'Pressure Washers'!$F$13:$F$33,'Pressure Washers'!$L$13:$L$33)","v":64.993499999999983}]
["Pressure Washers",590659701,20240103,2401,{"$f":"_xlfn.XLOOKUP(B332,'Pressure Washers'!$F$13:$F$33,'Pressure Washers'!$U$13:$U$33)","v":0},20240201,2405,{"$f":"_xlfn.XLOOKUP(B332,'Pressure Washers'!$F$13:$F$33,'Pressure Washers'!$V$13:$V$33)","v":0},20240301,2409,{"$f":"_xlfn.XLOOKUP(B332,'Pressure Washers'!$F$13:$F$33,'Pressure Washers'!$W$13:$W$33)","v":0},20240402,2414,{"$f":"_xlfn.XLOOKUP(B332,'Pressure Washers'!$F$13:$F$33,'Pressure Washers'!$W$13:$W$33)","v":0},20240501,2418,{"$f":"_xlfn.XLOOKUP(B332,'Pressure Washers'!$F$13:$F$33,'Pressure Washers'!$Y$13:$Y$33)","v":0},20240603,2423,{"$f":"_xlfn.XLOOKUP(B332,'Pressure Washers'!$F$13:$F$33,'Pressure Washers'!$Z$13:$Z$33)","v":0},{"$f":"_xlfn.XLOOKUP(B332,'Pressure Washers'!$F$13:$F$33,'Pressure Washers'!$L$13:$L$33)","v":29.789499999999997}]
["Pressure Washers",590659501,20240103,2401,{"$f":"_xlfn.XLOOKUP(B333,'Pressure Washers'!$F$13:$F$33,'Pressure Washers'!$U$13:$U$33)","v":0},20240201,2405,{"$f":"_xlfn.XLOOKUP(B333,'Pressure Washers'!$F$13:$F$33,'Pressure Washers'!$V$13:$V$33)","v":0},20240301,2409,{"$f":"_xlfn.XLOOKUP(B333,'Pressure Washers'!$F$13:$F$33,'Pressure Washers'!$W$13:$W$33)","v":0},20240402,2414,{"$f":"_xlfn.XLOOKUP(B333,'Pressure Washers'!$F$13:$F$33,'Pressure Washers'!$W$13:$W$33)","v":0},20240501,2418,{"$f":"_xlfn.XLOOKUP(B333,'Pressure Washers'!$F$13:$F$33,'Pressure Washers'!$Y$13:$Y$33)","v":0},20240603,2423,{"$f":"_xlfn.XLOOKUP(B333,'Pressure Washers'!$F$13:$F$33,'Pressure Washers'!$Z$13:$Z$33)","v":0},{"$f":"_xlfn.XLOOKUP(B333,'Pressure Washers'!$F$13:$F$33,'Pressure Washers'!$L$13:$L$33)","v":35.203999999999994}]
["Pressure Washers",590659301,20240103,2401,{"$f":"_xlfn.XLOOKUP(B334,'Pressure Washers'!$F$13:$F$33,'Pressure Washers'!$U$13:$U$33)","v":0},20240201,2405,{"$f":"_xlfn.XLOOKUP(B334,'Pressure Washers'!$F$13:$F$33,'Pressure Washers'!$V$13:$V$33)","v":0},20240301,2409,{"$f":"_xlfn.XLOOKUP(B334,'Pressure Washers'!$F$13:$F$33,'Pressure Washers'!$W$13:$W$33)","v":0},20240402,2414,{"$f":"_xlfn.XLOOKUP(B334,'Pressure Washers'!$F$13:$F$33,'Pressure Washers'!$W$13:$W$33)","v":0},20240501,2418,{"$f":"_xlfn.XLOOKUP(B334,'Pressure Washers'!$F$13:$F$33,'Pressure Washers'!$Y$13:$Y$33)","v":0},20240603,2423,{"$f":"_xlfn.XLOOKUP(B334,'Pressure Washers'!$F$13:$F$33,'Pressure Washers'!$Z$13:$Z$33)","v":0},{"$f":"_xlfn.XLOOKUP(B334,'Pressure Washers'!$F$13:$F$33,'Pressure Washers'!$L$13:$L$33)","v":8.1185000000000009}]
["Pressure Washers",590661201,20240103,2401,{"$f":"_xlfn.XLOOKUP(B335,'Pressure Washers'!$F$13:$F$33,'Pressure Washers'!$U$13:$U$33)","v":0},20240201,2405,{"$f":"_xlfn.XLOOKUP(B335,'Pressure Washers'!$F$13:$F$33,'Pressure Washers'!$V$13:$V$33)","v":0},20240301,2409,{"$f":"_xlfn.XLOOKUP(B335,'Pressure Washers'!$F$13:$F$33,'Pressure Washers'!$W$13:$W$33)","v":0},20240402,2414,{"$f":"_xlfn.XLOOKUP(B335,'Pressure Washers'!$F$13:$F$33,'Pressure Washers'!$W$13:$W$33)","v":0},20240501,2418,{"$f":"_xlfn.XLOOKUP(B335,'Pressure Washers'!$F$13:$F$33,'Pressure Washers'!$Y$13:$Y$33)","v":0},20240603,2423,{"$f":"_xlfn.XLOOKUP(B335,'Pressure Washers'!$F$13:$F$33,'Pressure Washers'!$Z$13:$Z$33)","v":0},{"$f":"_xlfn.XLOOKUP(B335,'Pressure Washers'!$F$13:$F$33,'Pressure Washers'!$L$13:$L$33)","v":10.829000000000001}]
["Pressure Washers",590661301,20240103,2401,{"$f":"_xlfn.XLOOKUP(B336,'Pressure Washers'!$F$13:$F$33,'Pressure Washers'!$U$13:$U$33)","v":0},20240201,2405,{"$f":"_xlfn.XLOOKUP(B336,'Pressure Washers'!$F$13:$F$33,'Pressure Washers'!$V$13:$V$33)","v":0},20240301,2409,{"$f":"_xlfn.XLOOKUP(B336,'Pressure Washers'!$F$13:$F$33,'Pressure Washers'!$W$13:$W$33)","v":0},20240402,2414,{"$f":"_xlfn.XLOOKUP(B336,'Pressure Washers'!$F$13:$F$33,'Pressure Washers'!$W$13:$W$33)","v":0},20240501,2418,{"$f":"_xlfn.XLOOKUP(B336,'Pressure Washers'!$F$13:$F$33,'Pressure Washers'!$Y$13:$Y$33)","v":0},20240603,2423,{"$f":"_xlfn.XLOOKUP(B336,'Pressure Washers'!$F$13:$F$33,'Pressure Washers'!$Z$13:$Z$33)","v":0},{"$f":"_xlfn.XLOOKUP(B336,'Pressure Washers'!$F$13:$F$33,'Pressure Washers'!$L$13:$L$33)","v":10.829000000000001}]
["Riders & Zero Turns 500-series",536903301,20240103,2401,{"$f":"_xlfn.XLOOKUP(B337,'Tractor Rider & Zero Turn'!$F$13:$F$120,'Tractor Rider & Zero Turn'!$U$13:$U$120)","v":0},20240201,2405,{"$f":"_xlfn.XLOOKUP(B337,'Tractor Rider & Zero Turn'!$F$13:$F$120,'Tractor Rider & Zero Turn'!$V$13:$V$120)","v":0},20240301,2409,{"$f":"_xlfn.XLOOKUP(B337,'Tractor Rider & Zero Turn'!$F$13:$F$120,'Tractor Rider & Zero Turn'!$W$13:$W$120)","v":0},20240402,2414,{"$f":"_xlfn.XLOOKUP(B337,'Tractor Rider & Zero Turn'!$F$13:$F$120,'Tractor Rider & Zero Turn'!X13:X120)","v":0},20240501,2418,{"$f":"_xlfn.XLOOKUP(B337,'Tractor Rider & Zero Turn'!$F$13:$F$120,'Tractor Rider & Zero Turn'!$Y$13:$Y$120)","v":0},20240603,2423,{"$f":"_xlfn.XLOOKUP(B337,'Tractor Rider & Zero Turn'!$F$13:$F$120,'Tractor Rider & Zero Turn'!$Z$13:$Z$120)","v":0},{"$f":"_xlfn.XLOOKUP(B337,'Tractor Rider & Zero Turn'!$F$13:$F$120,'Tractor Rider & Zero Turn'!$L$13:$L$120)","v":934.43560000000002}]
["Riders & Zero Turns 500-series",953511703,20240103,2401,{"$f":"_xlfn.XLOOKUP(B338,'Tractor Rider & Zero Turn'!$F$13:$F$120,'Tractor Rider & Zero Turn'!$U$13:$U$120)","v":0},20240201,2405,{"$f":"_xlfn.XLOOKUP(B338,'Tractor Rider & Zero Turn'!$F$13:$F$120,'Tractor Rider & Zero Turn'!$V$13:$V$120)","v":0},20240301,2409,{"$f":"_xlfn.XLOOKUP(B338,'Tractor Rider & Zero Turn'!$F$13:$F$120,'Tractor Rider & Zero Turn'!$W$13:$W$120)","v":0},20240402,2414,{"$f":"_xlfn.XLOOKUP(B338,'Tractor Rider & Zero Turn'!$F$13:$F$120,'Tractor Rider & Zero Turn'!$X$13:$X$120)","v":0},20240501,2418,{"$f":"_xlfn.XLOOKUP(B338,'Tractor Rider & Zero Turn'!$F$13:$F$120,'Tractor Rider & Zero Turn'!$Y$13:$Y$120)","v":0},20240603,2423,{"$f":"_xlfn.XLOOKUP(B338,'Tractor Rider & Zero Turn'!$F$13:$F$120,'Tractor Rider & Zero Turn'!$Z$13:$Z$120)","v":0},{"$f":"_xlfn.XLOOKUP(B338,'Tractor Rider & Zero Turn'!$F$13:$F$120,'Tractor Rider & Zero Turn'!$L$13:$L$120)","v":433.5}]
["Riders & Zero Turns 500-series",536900001,20240103,2401,{"$f":"_xlfn.XLOOKUP(B339,'Tractor Rider & Zero Turn'!$F$13:$F$120,'Tractor Rider & Zero Turn'!$U$13:$U$120)","v":0},20240201,2405,{"$f":"_xlfn.XLOOKUP(B339,'Tractor Rider & Zero Turn'!$F$13:$F$120,'Tractor Rider & Zero Turn'!$V$13:$V$120)","v":0},20240301,2409,{"$f":"_xlfn.XLOOKUP(B339,'Tractor Rider & Zero Turn'!$F$13:$F$120,'Tractor Rider & Zero Turn'!$W$13:$W$120)","v":0},20240402,2414,{"$f":"_xlfn.XLOOKUP(B339,'Tractor Rider & Zero Turn'!$F$13:$F$120,'Tractor Rider & Zero Turn'!$X$13:$X$120)","v":0},20240501,2418,{"$f":"_xlfn.XLOOKUP(B339,'Tractor Rider & Zero Turn'!$F$13:$F$120,'Tractor Rider & Zero Turn'!$Y$13:$Y$120)","v":0},20240603,2423,{"$f":"_xlfn.XLOOKUP(B339,'Tractor Rider & Zero Turn'!$F$13:$F$120,'Tractor Rider & Zero Turn'!$Z$13:$Z$120)","v":0},{"$f":"_xlfn.XLOOKUP(B339,'Tractor Rider & Zero Turn'!$F$13:$F$120,'Tractor Rider & Zero Turn'!$L$13:$L$120)","v":1586.1}]
["Riders & Zero Turns 500-series",529958001,20240103,2401,{"$f":"_xlfn.XLOOKUP(B340,'Tractor Rider & Zero Turn'!$F$13:$F$120,'Tractor Rider & Zero Turn'!$U$13:$U$120)","v":0},20240201,2405,{"$f":"_xlfn.XLOOKUP(B340,'Tractor Rider & Zero Turn'!$F$13:$F$120,'Tractor Rider & Zero Turn'!$V$13:$V$120)","v":0},20240301,2409,{"$f":"_xlfn.XLOOKUP(B340,'Tractor Rider & Zero Turn'!$F$13:$F$120,'Tractor Rider & Zero Turn'!$W$13:$W$120)","v":0},20240402,2414,{"$f":"_xlfn.XLOOKUP(B340,'Tractor Rider & Zero Turn'!$F$13:$F$120,'Tractor Rider & Zero Turn'!$X$13:$X$120)","v":0},20240501,2418,{"$f":"_xlfn.XLOOKUP(B340,'Tractor Rider & Zero Turn'!$F$13:$F$120,'Tractor Rider & Zero Turn'!$Y$13:$Y$120)","v":0},20240603,2423,{"$f":"_xlfn.XLOOKUP(B340,'Tractor Rider & Zero Turn'!$F$13:$F$120,'Tractor Rider & Zero Turn'!$Z$13:$Z$120)","v":0},{"$f":"_xlfn.XLOOKUP(B340,'Tractor Rider & Zero Turn'!$F$13:$F$120,'Tractor Rider & Zero Turn'!$L$13:$L$120)","v":265.76439999999997}]
["Riders & Zero Turns 500-series",531039902,20240103,2401,{"$f":"_xlfn.XLOOKUP(B341,'Tractor Rider & Zero Turn'!$F$13:$F$120,'Tractor Rider & Zero Turn'!$U$13:$U$120)","v":0},20240201,2405,{"$f":"_xlfn.XLOOKUP(B341,'Tractor Rider & Zero Turn'!$F$13:$F$120,'Tractor Rider & Zero Turn'!$V$13:$V$120)","v":0},20240301,2409,{"$f":"_xlfn.XLOOKUP(B341,'Tractor Rider & Zero Turn'!$F$13:$F$120,'Tractor Rider & Zero Turn'!$W$13:$W$120)","v":0},20240402,2414,{"$f":"_xlfn.XLOOKUP(B341,'Tractor Rider & Zero Turn'!$F$13:$F$120,'Tractor Rider & Zero Turn'!$X$13:$X$120)","v":0},20240501,2418,{"$f":"_xlfn.XLOOKUP(B341,'Tractor Rider & Zero Turn'!$F$13:$F$120,'Tractor Rider & Zero Turn'!$Y$13:$Y$120)","v":0},20240603,2423,{"$f":"_xlfn.XLOOKUP(B341,'Tractor Rider & Zero Turn'!$F$13:$F$120,'Tractor Rider & Zero Turn'!$Z$13:$Z$120)","v":0},{"$f":"_xlfn.XLOOKUP(B341,'Tractor Rider & Zero Turn'!$F$13:$F$120,'Tractor Rider & Zero Turn'!$L$13:$L$120)","v":401.76440000000002}]
["Riders & Zero Turns 500-series",529957901,20240103,2401,{"$f":"_xlfn.XLOOKUP(B342,'Tractor Rider & Zero Turn'!$F$13:$F$120,'Tractor Rider & Zero Turn'!$U$13:$U$120)","v":0},20240201,2405,{"$f":"_xlfn.XLOOKUP(B342,'Tractor Rider & Zero Turn'!$F$13:$F$120,'Tractor Rider & Zero Turn'!$V$13:$V$120)","v":0},20240301,2409,{"$f":"_xlfn.XLOOKUP(B342,'Tractor Rider & Zero Turn'!$F$13:$F$120,'Tractor Rider & Zero Turn'!$W$13:$W$120)","v":0},20240402,2414,{"$f":"_xlfn.XLOOKUP(B342,'Tractor Rider & Zero Turn'!$F$13:$F$120,'Tractor Rider & Zero Turn'!$X$13:$X$120)","v":0},20240501,2418,{"$f":"_xlfn.XLOOKUP(B342,'Tractor Rider & Zero Turn'!$F$13:$F$120,'Tractor Rider & Zero Turn'!$Y$13:$Y$120)","v":0},20240603,2423,{"$f":"_xlfn.XLOOKUP(B342,'Tractor Rider & Zero Turn'!$F$13:$F$120,'Tractor Rider & Zero Turn'!$Z$13:$Z$120)","v":0},{"$f":"_xlfn.XLOOKUP(B342,'Tractor Rider & Zero Turn'!$F$13:$F$120,'Tractor Rider & Zero Turn'!$L$13:$L$120)","v":424.43559999999997}]
["Riders & Zero Turns 500-series",596867501,20240103,2401,{"$f":"_xlfn.XLOOKUP(B343,'Tractor Rider & Zero Turn'!$F$13:$F$120,'Tractor Rider & Zero Turn'!$U$13:$U$120)","v":0},20240201,2405,{"$f":"_xlfn.XLOOKUP(B343,'Tractor Rider & Zero Turn'!$F$13:$F$120,'Tractor Rider & Zero Turn'!$V$13:$V$120)","v":0},20240301,2409,{"$f":"_xlfn.XLOOKUP(B343,'Tractor Rider & Zero Turn'!$F$13:$F$120,'Tractor Rider & Zero Turn'!$W$13:$W$120)","v":0},20240402,2414,{"$f":"_xlfn.XLOOKUP(B343,'Tractor Rider & Zero Turn'!$F$13:$F$120,'Tractor Rider & Zero Turn'!$X$13:$X$120)","v":0},20240501,2418,{"$f":"_xlfn.XLOOKUP(B343,'Tractor Rider & Zero Turn'!$F$13:$F$120,'Tractor Rider & Zero Turn'!$Y$13:$Y$120)","v":0},20240603,2423,{"$f":"_xlfn.XLOOKUP(B343,'Tractor Rider & Zero Turn'!$F$13:$F$120,'Tractor Rider & Zero Turn'!$Z$13:$Z$120)","v":0},{"$f":"_xlfn.XLOOKUP(B343,'Tractor Rider & Zero Turn'!$F$13:$F$120,'Tractor Rider & Zero Turn'!$L$13:$L$120)","v":4136.1000000000004}]
["Riders & Zero Turns 500-series",590450001,20240103,2401,{"$f":"_xlfn.XLOOKUP(B344,'Tractor Rider & Zero Turn'!$F$13:$F$120,'Tractor Rider & Zero Turn'!$U$13:$U$120)","v":0},20240201,2405,{"$f":"_xlfn.XLOOKUP(B344,'Tractor Rider & Zero Turn'!$F$13:$F$120,'Tractor Rider & Zero Turn'!$V$13:$V$120)","v":0},20240301,2409,{"$f":"_xlfn.XLOOKUP(B344,'Tractor Rider & Zero Turn'!$F$13:$F$120,'Tractor Rider & Zero Turn'!$W$13:$W$120)","v":0},20240402,2414,{"$f":"_xlfn.XLOOKUP(B344,'Tractor Rider & Zero Turn'!$F$13:$F$120,'Tractor Rider & Zero Turn'!$X$13:$X$120)","v":0},20240501,2418,{"$f":"_xlfn.XLOOKUP(B344,'Tractor Rider & Zero Turn'!$F$13:$F$120,'Tractor Rider & Zero Turn'!$Y$13:$Y$120)","v":0},20240603,2423,{"$f":"_xlfn.XLOOKUP(B344,'Tractor Rider & Zero Turn'!$F$13:$F$120,'Tractor Rider & Zero Turn'!$Z$13:$Z$120)","v":0},{"$f":"_xlfn.XLOOKUP(B344,'Tractor Rider & Zero Turn'!$F$13:$F$120,'Tractor Rider & Zero Turn'!$L$13:$L$120)","v":3388.1}]
["Riders & Zero Turns 500-series",587932901,20240103,2401,{"$f":"_xlfn.XLOOKUP(B345,'Tractor Rider & Zero Turn'!$F$13:$F$120,'Tractor Rider & Zero Turn'!$U$13:$U$120)","v":0},20240201,2405,{"$f":"_xlfn.XLOOKUP(B345,'Tractor Rider & Zero Turn'!$F$13:$F$120,'Tractor Rider & Zero Turn'!$V$13:$V$120)","v":0},20240301,2409,{"$f":"_xlfn.XLOOKUP(B345,'Tractor Rider & Zero Turn'!$F$13:$F$120,'Tractor Rider & Zero Turn'!$W$13:$W$120)","v":0},20240402,2414,{"$f":"_xlfn.XLOOKUP(B345,'Tractor Rider & Zero Turn'!$F$13:$F$120,'Tractor Rider & Zero Turn'!$X$13:$X$120)","v":0},20240501,2418,{"$f":"_xlfn.XLOOKUP(B345,'Tractor Rider & Zero Turn'!$F$13:$F$120,'Tractor Rider & Zero Turn'!$Y$13:$Y$120)","v":0},20240603,2423,{"$f":"_xlfn.XLOOKUP(B345,'Tractor Rider & Zero Turn'!$F$13:$F$120,'Tractor Rider & Zero Turn'!$Z$13:$Z$120)","v":0},{"$f":"_xlfn.XLOOKUP(B345,'Tractor Rider & Zero Turn'!$F$13:$F$120,'Tractor Rider & Zero Turn'!$L$13:$L$120)","v":2917.7644}]
["Riders & Zero Turns 500-series",538828601,20240103,2401,{"$f":"_xlfn.XLOOKUP(B346,'Tractor Rider & Zero Turn'!$F$13:$F$120,'Tractor Rider & Zero Turn'!$U$13:$U$120)","v":0},20240201,2405,{"$f":"_xlfn.XLOOKUP(B346,'Tractor Rider & Zero Turn'!$F$13:$F$120,'Tractor Rider & Zero Turn'!$V$13:$V$120)","v":0},20240301,2409,{"$f":"_xlfn.XLOOKUP(B346,'Tractor Rider & Zero Turn'!$F$13:$F$120,'Tractor Rider & Zero Turn'!$W$13:$W$120)","v":0},20240402,2414,{"$f":"_xlfn.XLOOKUP(B346,'Tractor Rider & Zero Turn'!$F$13:$F$120,'Tractor Rider & Zero Turn'!$X$13:$X$120)","v":0},20240501,2418,{"$f":"_xlfn.XLOOKUP(B346,'Tractor Rider & Zero Turn'!$F$13:$F$120,'Tractor Rider & Zero Turn'!$Y$13:$Y$120)","v":0},20240603,2423,{"$f":"_xlfn.XLOOKUP(B346,'Tractor Rider & Zero Turn'!$F$13:$F$120,'Tractor Rider & Zero Turn'!$Z$13:$Z$120)","v":0},{"$f":"_xlfn.XLOOKUP(B346,'Tractor Rider & Zero Turn'!$F$13:$F$120,'Tractor Rider & Zero Turn'!$L$13:$L$120)","v":14.164399999999999}]
["Riders & Zero Turns 500-series",970727001,20240103,2401,{"$f":"_xlfn.XLOOKUP(B347,'Tractor Rider & Zero Turn'!$F$13:$F$120,'Tractor Rider & Zero Turn'!$U$13:$U$120)","v":0},20240201,2405,{"$f":"_xlfn.XLOOKUP(B347,'Tractor Rider & Zero Turn'!$F$13:$F$120,'Tractor Rider & Zero Turn'!$V$13:$V$120)","v":0},20240301,2409,{"$f":"_xlfn.XLOOKUP(B347,'Tractor Rider & Zero Turn'!$F$13:$F$120,'Tractor Rider & Zero Turn'!$W$13:$W$120)","v":0},20240402,2414,{"$f":"_xlfn.XLOOKUP(B347,'Tractor Rider & Zero Turn'!$F$13:$F$120,'Tractor Rider & Zero Turn'!$X$13:$X$120)","v":0},20240501,2418,{"$f":"_xlfn.XLOOKUP(B347,'Tractor Rider & Zero Turn'!$F$13:$F$120,'Tractor Rider & Zero Turn'!$Y$13:$Y$120)","v":0},20240603,2423,{"$f":"_xlfn.XLOOKUP(B347,'Tractor Rider & Zero Turn'!$F$13:$F$120,'Tractor Rider & Zero Turn'!$Z$13:$Z$120)","v":0},{"$f":"_xlfn.XLOOKUP(B347,'Tractor Rider & Zero Turn'!$F$13:$F$120,'Tractor Rider & Zero Turn'!$L$13:$L$120)","v":1699.4356}]
["Riders & Zero Turns 500-series",970727101,20240103,2401,{"$f":"_xlfn.XLOOKUP(B348,'Tractor Rider & Zero Turn'!$F$13:$F$120,'Tractor Rider & Zero Turn'!$U$13:$U$120)","v":0},20240201,2405,{"$f":"_xlfn.XLOOKUP(B348,'Tractor Rider & Zero Turn'!$F$13:$F$120,'Tractor Rider & Zero Turn'!$V$13:$V$120)","v":0},20240301,2409,{"$f":"_xlfn.XLOOKUP(B348,'Tractor Rider & Zero Turn'!$F$13:$F$120,'Tractor Rider & Zero Turn'!$W$13:$W$120)","v":0},20240402,2414,{"$f":"_xlfn.XLOOKUP(B348,'Tractor Rider & Zero Turn'!$F$13:$F$120,'Tractor Rider & Zero Turn'!$X$13:$X$120)","v":0},20240501,2418,{"$f":"_xlfn.XLOOKUP(B348,'Tractor Rider & Zero Turn'!$F$13:$F$120,'Tractor Rider & Zero Turn'!$Y$13:$Y$120)","v":0},20240603,2423,{"$f":"_xlfn.XLOOKUP(B348,'Tractor Rider & Zero Turn'!$F$13:$F$120,'Tractor Rider & Zero Turn'!$Z$13:$Z$120)","v":0},{"$f":"_xlfn.XLOOKUP(B348,'Tractor Rider & Zero Turn'!$F$13:$F$120,'Tractor Rider & Zero Turn'!$L$13:$L$120)","v":1812.7644}]
["Riders & Zero Turns 500-series",970727201,20240103,2401,{"$f":"_xlfn.XLOOKUP(B349,'Tractor Rider & Zero Turn'!$F$13:$F$120,'Tractor Rider & Zero Turn'!$U$13:$U$120)","v":0},20240201,2405,{"$f":"_xlfn.XLOOKUP(B349,'Tractor Rider & Zero Turn'!$F$13:$F$120,'Tractor Rider & Zero Turn'!$V$13:$V$120)","v":0},20240301,2409,{"$f":"_xlfn.XLOOKUP(B349,'Tractor Rider & Zero Turn'!$F$13:$F$120,'Tractor Rider & Zero Turn'!$W$13:$W$120)","v":0},20240402,2414,{"$f":"_xlfn.XLOOKUP(B349,'Tractor Rider & Zero Turn'!$F$13:$F$120,'Tractor Rider & Zero Turn'!$X$13:$X$120)","v":0},20240501,2418,{"$f":"_xlfn.XLOOKUP(B349,'Tractor Rider & Zero Turn'!$F$13:$F$120,'Tractor Rider & Zero Turn'!$Y$13:$Y$120)","v":0},20240603,2423,{"$f":"_xlfn.XLOOKUP(B349,'Tractor Rider & Zero Turn'!$F$13:$F$120,'Tractor Rider & Zero Turn'!$Z$13:$Z$120)","v":0},{"$f":"_xlfn.XLOOKUP(B349,'Tractor Rider & Zero Turn'!$F$13:$F$120,'Tractor Rider & Zero Turn'!$L$13:$L$120)","v":2152.7644}]
["Riders & Zero Turns 500-series",970612001,20240103,2401,{"$f":"_xlfn.XLOOKUP(B350,'Tractor Rider & Zero Turn'!$F$13:$F$120,'Tractor Rider & Zero Turn'!$U$13:$U$120)","v":0},20240201,2405,{"$f":"_xlfn.XLOOKUP(B350,'Tractor Rider & Zero Turn'!$F$13:$F$120,'Tractor Rider & Zero Turn'!$V$13:$V$120)","v":0},20240301,2409,{"$f":"_xlfn.XLOOKUP(B350,'Tractor Rider & Zero Turn'!$F$13:$F$120,'Tractor Rider & Zero Turn'!$W$13:$W$120)","v":0},20240402,2414,{"$f":"_xlfn.XLOOKUP(B350,'Tractor Rider & Zero Turn'!$F$13:$F$120,'Tractor Rider & Zero Turn'!$X$13:$X$120)","v":0},20240501,2418,{"$f":"_xlfn.XLOOKUP(B350,'Tractor Rider & Zero Turn'!$F$13:$F$120,'Tractor Rider & Zero Turn'!$Y$13:$Y$120)","v":0},20240603,2423,{"$f":"_xlfn.XLOOKUP(B350,'Tractor Rider & Zero Turn'!$F$13:$F$120,'Tractor Rider & Zero Turn'!$Z$13:$Z$120)","v":0},{"$f":"_xlfn.XLOOKUP(B350,'Tractor Rider & Zero Turn'!$F$13:$F$120,'Tractor Rider & Zero Turn'!$L$13:$L$120)","v":1863.7644}]
["Riders & Zero Turns 500-series",970626201,20240103,2401,{"$f":"_xlfn.XLOOKUP(B351,'Tractor Rider & Zero Turn'!$F$13:$F$120,'Tractor Rider & Zero Turn'!$U$13:$U$120)","v":0},20240201,2405,{"$f":"_xlfn.XLOOKUP(B351,'Tractor Rider & Zero Turn'!$F$13:$F$120,'Tractor Rider & Zero Turn'!$V$13:$V$120)","v":0},20240301,2409,{"$f":"_xlfn.XLOOKUP(B351,'Tractor Rider & Zero Turn'!$F$13:$F$120,'Tractor Rider & Zero Turn'!$W$13:$W$120)","v":0},20240402,2414,{"$f":"_xlfn.XLOOKUP(B351,'Tractor Rider & Zero Turn'!$F$13:$F$120,'Tractor Rider & Zero Turn'!$X$13:$X$120)","v":0},20240501,2418,{"$f":"_xlfn.XLOOKUP(B351,'Tractor Rider & Zero Turn'!$F$13:$F$120,'Tractor Rider & Zero Turn'!$Y$13:$Y$120)","v":0},20240603,2423,{"$f":"_xlfn.XLOOKUP(B351,'Tractor Rider & Zero Turn'!$F$13:$F$120,'Tractor Rider & Zero Turn'!$Z$13:$Z$120)","v":0},{"$f":"_xlfn.XLOOKUP(B351,'Tractor Rider & Zero Turn'!$F$13:$F$120,'Tractor Rider & Zero Turn'!$L$13:$L$120)","v":1444.4356}]
["Riders & Zero Turns 500-series",970626301,20240103,2401,{"$f":"_xlfn.XLOOKUP(B352,'Tractor Rider & Zero Turn'!$F$13:$F$120,'Tractor Rider & Zero Turn'!$U$13:$U$120)","v":0},20240201,2405,{"$f":"_xlfn.XLOOKUP(B352,'Tractor Rider & Zero Turn'!$F$13:$F$120,'Tractor Rider & Zero Turn'!$V$13:$V$120)","v":0},20240301,2409,{"$f":"_xlfn.XLOOKUP(B352,'Tractor Rider & Zero Turn'!$F$13:$F$120,'Tractor Rider & Zero Turn'!$W$13:$W$120)","v":0},20240402,2414,{"$f":"_xlfn.XLOOKUP(B352,'Tractor Rider & Zero Turn'!$F$13:$F$120,'Tractor Rider & Zero Turn'!$X$13:$X$120)","v":0},20240501,2418,{"$f":"_xlfn.XLOOKUP(B352,'Tractor Rider & Zero Turn'!$F$13:$F$120,'Tractor Rider & Zero Turn'!$Y$13:$Y$120)","v":0},20240603,2423,{"$f":"_xlfn.XLOOKUP(B352,'Tractor Rider & Zero Turn'!$F$13:$F$120,'Tractor Rider & Zero Turn'!$Z$13:$Z$120)","v":0},{"$f":"_xlfn.XLOOKUP(B352,'Tractor Rider & Zero Turn'!$F$13:$F$120,'Tractor Rider & Zero Turn'!$L$13:$L$120)","v":1484.1}]
["Riders & Zero Turns 500-series",967985601,20240103,2401,{"$f":"_xlfn.XLOOKUP(B353,'Tractor Rider & Zero Turn'!$F$13:$F$120,'Tractor Rider & Zero Turn'!$U$13:$U$120)","v":0},20240201,2405,{"$f":"_xlfn.XLOOKUP(B353,'Tractor Rider & Zero Turn'!$F$13:$F$120,'Tractor Rider & Zero Turn'!$V$13:$V$120)","v":0},20240301,2409,{"$f":"_xlfn.XLOOKUP(B353,'Tractor Rider & Zero Turn'!$F$13:$F$120,'Tractor Rider & Zero Turn'!$W$13:$W$120)","v":0},20240402,2414,{"$f":"_xlfn.XLOOKUP(B353,'Tractor Rider & Zero Turn'!$F$13:$F$120,'Tractor Rider & Zero Turn'!$X$13:$X$120)","v":0},20240501,2418,{"$f":"_xlfn.XLOOKUP(B353,'Tractor Rider & Zero Turn'!$F$13:$F$120,'Tractor Rider & Zero Turn'!$Y$13:$Y$120)","v":0},20240603,2423,{"$f":"_xlfn.XLOOKUP(B353,'Tractor Rider & Zero Turn'!$F$13:$F$120,'Tractor Rider & Zero Turn'!$Z$13:$Z$120)","v":0},{"$f":"_xlfn.XLOOKUP(B353,'Tractor Rider & Zero Turn'!$F$13:$F$120,'Tractor Rider & Zero Turn'!$L$13:$L$120)","v":4419.4355999999998}]
["Riders & Zero Turns 500-series",967978601,20240103,2401,{"$f":"_xlfn.XLOOKUP(B354,'Tractor Rider & Zero Turn'!$F$13:$F$120,'Tractor Rider & Zero Turn'!$U$13:$U$120)","v":0},20240201,2405,{"$f":"_xlfn.XLOOKUP(B354,'Tractor Rider & Zero Turn'!$F$13:$F$120,'Tractor Rider & Zero Turn'!$V$13:$V$120)","v":0},20240301,2409,{"$f":"_xlfn.XLOOKUP(B354,'Tractor Rider & Zero Turn'!$F$13:$F$120,'Tractor Rider & Zero Turn'!$W$13:$W$120)","v":0},20240402,2414,{"$f":"_xlfn.XLOOKUP(B354,'Tractor Rider & Zero Turn'!$F$13:$F$120,'Tractor Rider & Zero Turn'!$X$13:$X$120)","v":0},20240501,2418,{"$f":"_xlfn.XLOOKUP(B354,'Tractor Rider & Zero Turn'!$F$13:$F$120,'Tractor Rider & Zero Turn'!$Y$13:$Y$120)","v":0},20240603,2423,{"$f":"_xlfn.XLOOKUP(B354,'Tractor Rider & Zero Turn'!$F$13:$F$120,'Tractor Rider & Zero Turn'!$Z$13:$Z$120)","v":0},{"$f":"_xlfn.XLOOKUP(B354,'Tractor Rider & Zero Turn'!$F$13:$F$120,'Tractor Rider & Zero Turn'!$L$13:$L$120)","v":2832.7644}]
["Riders & Zero Turns 500-series",967978501,20240103,2401,{"$f":"_xlfn.XLOOKUP(B355,'Tractor Rider & Zero Turn'!$F$13:$F$120,'Tractor Rider & Zero Turn'!$U$13:$U$120)","v":0},20240201,2405,{"$f":"_xlfn.XLOOKUP(B355,'Tractor Rider & Zero Turn'!$F$13:$F$120,'Tractor Rider & Zero Turn'!$V$13:$V$120)","v":0},20240301,2409,{"$f":"_xlfn.XLOOKUP(B355,'Tractor Rider & Zero Turn'!$F$13:$F$120,'Tractor Rider & Zero Turn'!$W$13:$W$120)","v":0},20240402,2414,{"$f":"_xlfn.XLOOKUP(B355,'Tractor Rider & Zero Turn'!$F$13:$F$120,'Tractor Rider & Zero Turn'!$X$13:$X$120)","v":0},20240501,2418,{"$f":"_xlfn.XLOOKUP(B355,'Tractor Rider & Zero Turn'!$F$13:$F$120,'Tractor Rider & Zero Turn'!$Y$13:$Y$120)","v":0},20240603,2423,{"$f":"_xlfn.XLOOKUP(B355,'Tractor Rider & Zero Turn'!$F$13:$F$120,'Tractor Rider & Zero Turn'!$Z$13:$Z$120)","v":0},{"$f":"_xlfn.XLOOKUP(B355,'Tractor Rider & Zero Turn'!$F$13:$F$120,'Tractor Rider & Zero Turn'!$L$13:$L$120)","v":2770.4355999999998}]
["Riders & Zero Turns 500-series",970601701,20240103,2401,{"$f":"_xlfn.XLOOKUP(B356,'Tractor Rider & Zero Turn'!$F$13:$F$120,'Tractor Rider & Zero Turn'!$U$13:$U$120)","v":0},20240201,2405,{"$f":"_xlfn.XLOOKUP(B356,'Tractor Rider & Zero Turn'!$F$13:$F$120,'Tractor Rider & Zero Turn'!$V$13:$V$120)","v":0},20240301,2409,{"$f":"_xlfn.XLOOKUP(B356,'Tractor Rider & Zero Turn'!$F$13:$F$120,'Tractor Rider & Zero Turn'!$W$13:$W$120)","v":0},20240402,2414,{"$f":"_xlfn.XLOOKUP(B356,'Tractor Rider & Zero Turn'!$F$13:$F$120,'Tractor Rider & Zero Turn'!$X$13:$X$120)","v":0},20240501,2418,{"$f":"_xlfn.XLOOKUP(B356,'Tractor Rider & Zero Turn'!$F$13:$F$120,'Tractor Rider & Zero Turn'!$Y$13:$Y$120)","v":0},20240603,2423,{"$f":"_xlfn.XLOOKUP(B356,'Tractor Rider & Zero Turn'!$F$13:$F$120,'Tractor Rider & Zero Turn'!$Z$13:$Z$120)","v":0},{"$f":"_xlfn.XLOOKUP(B356,'Tractor Rider & Zero Turn'!$F$13:$F$120,'Tractor Rider & Zero Turn'!$L$13:$L$120)","v":12466.099999999999}]
["Riders & Zero Turns 500-series",970601501,20240103,2401,{"$f":"_xlfn.XLOOKUP(B357,'Tractor Rider & Zero Turn'!$F$13:$F$120,'Tractor Rider & Zero Turn'!$U$13:$U$120)","v":0},20240201,2405,{"$f":"_xlfn.XLOOKUP(B357,'Tractor Rider & Zero Turn'!$F$13:$F$120,'Tractor Rider & Zero Turn'!$V$13:$V$120)","v":0},20240301,2409,{"$f":"_xlfn.XLOOKUP(B357,'Tractor Rider & Zero Turn'!$F$13:$F$120,'Tractor Rider & Zero Turn'!$W$13:$W$120)","v":0},20240402,2414,{"$f":"_xlfn.XLOOKUP(B357,'Tractor Rider & Zero Turn'!$F$13:$F$120,'Tractor Rider & Zero Turn'!$X$13:$X$120)","v":0},20240501,2418,{"$f":"_xlfn.XLOOKUP(B357,'Tractor Rider & Zero Turn'!$F$13:$F$120,'Tractor Rider & Zero Turn'!$Y$13:$Y$120)","v":0},20240603,2423,{"$f":"_xlfn.XLOOKUP(B357,'Tractor Rider & Zero Turn'!$F$13:$F$120,'Tractor Rider & Zero Turn'!$Z$13:$Z$120)","v":0},{"$f":"_xlfn.XLOOKUP(B357,'Tractor Rider & Zero Turn'!$F$13:$F$120,'Tractor Rider & Zero Turn'!$L$13:$L$120)","v":8884.7644}]
["Riders & Zero Turns 500-series",970601601,20240103,2401,{"$f":"_xlfn.XLOOKUP(B358,'Tractor Rider & Zero Turn'!$F$13:$F$120,'Tractor Rider & Zero Turn'!$U$13:$U$120)","v":0},20240201,2405,{"$f":"_xlfn.XLOOKUP(B358,'Tractor Rider & Zero Turn'!$F$13:$F$120,'Tractor Rider & Zero Turn'!$V$13:$V$120)","v":0},20240301,2409,{"$f":"_xlfn.XLOOKUP(B358,'Tractor Rider & Zero Turn'!$F$13:$F$120,'Tractor Rider & Zero Turn'!$W$13:$W$120)","v":0},20240402,2414,{"$f":"_xlfn.XLOOKUP(B358,'Tractor Rider & Zero Turn'!$F$13:$F$120,'Tractor Rider & Zero Turn'!$X$13:$X$120)","v":0},20240501,2418,{"$f":"_xlfn.XLOOKUP(B358,'Tractor Rider & Zero Turn'!$F$13:$F$120,'Tractor Rider & Zero Turn'!$Y$13:$Y$120)","v":0},20240603,2423,{"$f":"_xlfn.XLOOKUP(B358,'Tractor Rider & Zero Turn'!$F$13:$F$120,'Tractor Rider & Zero Turn'!$Z$13:$Z$120)","v":0},{"$f":"_xlfn.XLOOKUP(B358,'Tractor Rider & Zero Turn'!$F$13:$F$120,'Tractor Rider & Zero Turn'!$L$13:$L$120)","v":9349.4356000000007}]
["Riders & Zero Turns 500-series",967985201,20240103,2401,{"$f":"_xlfn.XLOOKUP(B359,'Tractor Rider & Zero Turn'!$F$13:$F$120,'Tractor Rider & Zero Turn'!$U$13:$U$120)","v":0},20240201,2405,{"$f":"_xlfn.XLOOKUP(B359,'Tractor Rider & Zero Turn'!$F$13:$F$120,'Tractor Rider & Zero Turn'!$V$13:$V$120)","v":0},20240301,2409,{"$f":"_xlfn.XLOOKUP(B359,'Tractor Rider & Zero Turn'!$F$13:$F$120,'Tractor Rider & Zero Turn'!$W$13:$W$120)","v":0},20240402,2414,{"$f":"_xlfn.XLOOKUP(B359,'Tractor Rider & Zero Turn'!$F$13:$F$120,'Tractor Rider & Zero Turn'!$X$13:$X$120)","v":0},20240501,2418,{"$f":"_xlfn.XLOOKUP(B359,'Tractor Rider & Zero Turn'!$F$13:$F$120,'Tractor Rider & Zero Turn'!$Y$13:$Y$120)","v":0},20240603,2423,{"$f":"_xlfn.XLOOKUP(B359,'Tractor Rider & Zero Turn'!$F$13:$F$120,'Tractor Rider & Zero Turn'!$Z$13:$Z$120)","v":0},{"$f":"_xlfn.XLOOKUP(B359,'Tractor Rider & Zero Turn'!$F$13:$F$120,'Tractor Rider & Zero Turn'!$L$13:$L$120)","v":11899.435599999999}]
["Riders & Zero Turns 500-series",967985503,20240103,2401,{"$f":"_xlfn.XLOOKUP(B360,'Tractor Rider & Zero Turn'!$F$13:$F$120,'Tractor Rider & Zero Turn'!$U$13:$U$120)","v":0},20240201,2405,{"$f":"_xlfn.XLOOKUP(B360,'Tractor Rider & Zero Turn'!$F$13:$F$120,'Tractor Rider & Zero Turn'!$V$13:$V$120)","v":0},20240301,2409,{"$f":"_xlfn.XLOOKUP(B360,'Tractor Rider & Zero Turn'!$F$13:$F$120,'Tractor Rider & Zero Turn'!$W$13:$W$120)","v":0},20240402,2414,{"$f":"_xlfn.XLOOKUP(B360,'Tractor Rider & Zero Turn'!$F$13:$F$120,'Tractor Rider & Zero Turn'!$X$13:$X$120)","v":0},20240501,2418,{"$f":"_xlfn.XLOOKUP(B360,'Tractor Rider & Zero Turn'!$F$13:$F$120,'Tractor Rider & Zero Turn'!$Y$13:$Y$120)","v":0},20240603,2423,{"$f":"_xlfn.XLOOKUP(B360,'Tractor Rider & Zero Turn'!$F$13:$F$120,'Tractor Rider & Zero Turn'!$Z$13:$Z$120)","v":0},{"$f":"_xlfn.XLOOKUP(B360,'Tractor Rider & Zero Turn'!$F$13:$F$120,'Tractor Rider & Zero Turn'!$L$13:$L$120)","v":21532.7644}]
["Riders & Zero Turns 500-series",967985301,20240103,2401,{"$f":"_xlfn.XLOOKUP(B361,'Tractor Rider & Zero Turn'!$F$13:$F$120,'Tractor Rider & Zero Turn'!$U$13:$U$120)","v":0},20240201,2405,{"$f":"_xlfn.XLOOKUP(B361,'Tractor Rider & Zero Turn'!$F$13:$F$120,'Tractor Rider & Zero Turn'!$V$13:$V$120)","v":0},20240301,2409,{"$f":"_xlfn.XLOOKUP(B361,'Tractor Rider & Zero Turn'!$F$13:$F$120,'Tractor Rider & Zero Turn'!$W$13:$W$120)","v":0},20240402,2414,{"$f":"_xlfn.XLOOKUP(B361,'Tractor Rider & Zero Turn'!$F$13:$F$120,'Tractor Rider & Zero Turn'!$X$13:$X$120)","v":0},20240501,2418,{"$f":"_xlfn.XLOOKUP(B361,'Tractor Rider & Zero Turn'!$F$13:$F$120,'Tractor Rider & Zero Turn'!$Y$13:$Y$120)","v":0},20240603,2423,{"$f":"_xlfn.XLOOKUP(B361,'Tractor Rider & Zero Turn'!$F$13:$F$120,'Tractor Rider & Zero Turn'!$Z$13:$Z$120)","v":0},{"$f":"_xlfn.XLOOKUP(B361,'Tractor Rider & Zero Turn'!$F$13:$F$120,'Tractor Rider & Zero Turn'!$L$13:$L$120)","v":13599.435599999999}]
["Riders & Zero Turns 500-series",967985401,20240103,2401,{"$f":"_xlfn.XLOOKUP(B362,'Tractor Rider & Zero Turn'!$F$13:$F$120,'Tractor Rider & Zero Turn'!$U$13:$U$120)","v":0},20240201,2405,{"$f":"_xlfn.XLOOKUP(B362,'Tractor Rider & Zero Turn'!$F$13:$F$120,'Tractor Rider & Zero Turn'!$V$13:$V$120)","v":0},20240301,2409,{"$f":"_xlfn.XLOOKUP(B362,'Tractor Rider & Zero Turn'!$F$13:$F$120,'Tractor Rider & Zero Turn'!$W$13:$W$120)","v":0},20240402,2414,{"$f":"_xlfn.XLOOKUP(B362,'Tractor Rider & Zero Turn'!$F$13:$F$120,'Tractor Rider & Zero Turn'!$X$13:$X$120)","v":0},20240501,2418,{"$f":"_xlfn.XLOOKUP(B362,'Tractor Rider & Zero Turn'!$F$13:$F$120,'Tractor Rider & Zero Turn'!$Y$13:$Y$120)","v":0},20240603,2423,{"$f":"_xlfn.XLOOKUP(B362,'Tractor Rider & Zero Turn'!$F$13:$F$120,'Tractor Rider & Zero Turn'!$Z$13:$Z$120)","v":0},{"$f":"_xlfn.XLOOKUP(B362,'Tractor Rider & Zero Turn'!$F$13:$F$120,'Tractor Rider & Zero Turn'!$L$13:$L$120)","v":18982.7644}]
["Riders & Zero Turns 500-series",970640901,20240103,2401,{"$f":"_xlfn.XLOOKUP(B363,'Tractor Rider & Zero Turn'!$F$13:$F$120,'Tractor Rider & Zero Turn'!$U$13:$U$120)","v":0},20240201,2405,{"$f":"_xlfn.XLOOKUP(B363,'Tractor Rider & Zero Turn'!$F$13:$F$120,'Tractor Rider & Zero Turn'!$V$13:$V$120)","v":0},20240301,2409,{"$f":"_xlfn.XLOOKUP(B363,'Tractor Rider & Zero Turn'!$F$13:$F$120,'Tractor Rider & Zero Turn'!$W$13:$W$120)","v":0},20240402,2414,{"$f":"_xlfn.XLOOKUP(B363,'Tractor Rider & Zero Turn'!$F$13:$F$120,'Tractor Rider & Zero Turn'!$X$13:$X$120)","v":0},20240501,2418,{"$f":"_xlfn.XLOOKUP(B363,'Tractor Rider & Zero Turn'!$F$13:$F$120,'Tractor Rider & Zero Turn'!$Y$13:$Y$120)","v":0},20240603,2423,{"$f":"_xlfn.XLOOKUP(B363,'Tractor Rider & Zero Turn'!$F$13:$F$120,'Tractor Rider & Zero Turn'!$Z$13:$Z$120)","v":0},{"$f":"_xlfn.XLOOKUP(B363,'Tractor Rider & Zero Turn'!$F$13:$F$120,'Tractor Rider & Zero Turn'!$L$13:$L$120)","v":9066.1}]
["Riders & Zero Turns 500-series",966444701,20240103,2401,{"$f":"_xlfn.XLOOKUP(B364,'Tractor Rider & Zero Turn'!$F$13:$F$120,'Tractor Rider & Zero Turn'!$U$13:$U$120)","v":0},20240201,2405,{"$f":"_xlfn.XLOOKUP(B364,'Tractor Rider & Zero Turn'!$F$13:$F$120,'Tractor Rider & Zero Turn'!$V$13:$V$120)","v":0},20240301,2409,{"$f":"_xlfn.XLOOKUP(B364,'Tractor Rider & Zero Turn'!$F$13:$F$120,'Tractor Rider & Zero Turn'!$W$13:$W$120)","v":0},20240402,2414,{"$f":"_xlfn.XLOOKUP(B364,'Tractor Rider & Zero Turn'!$F$13:$F$120,'Tractor Rider & Zero Turn'!$X$13:$X$120)","v":0},20240501,2418,{"$f":"_xlfn.XLOOKUP(B364,'Tractor Rider & Zero Turn'!$F$13:$F$120,'Tractor Rider & Zero Turn'!$Y$13:$Y$120)","v":0},20240603,2423,{"$f":"_xlfn.XLOOKUP(B364,'Tractor Rider & Zero Turn'!$F$13:$F$120,'Tractor Rider & Zero Turn'!$Z$13:$Z$120)","v":0},{"$f":"_xlfn.XLOOKUP(B364,'Tractor Rider & Zero Turn'!$F$13:$F$120,'Tractor Rider & Zero Turn'!$L$13:$L$120)","v":175.1}]
["Riders & Zero Turns 500-series",967322601,20240103,2401,{"$f":"_xlfn.XLOOKUP(B365,'Tractor Rider & Zero Turn'!$F$13:$F$120,'Tractor Rider & Zero Turn'!$U$13:$U$120)","v":0},20240201,2405,{"$f":"_xlfn.XLOOKUP(B365,'Tractor Rider & Zero Turn'!$F$13:$F$120,'Tractor Rider & Zero Turn'!$V$13:$V$120)","v":0},20240301,2409,{"$f":"_xlfn.XLOOKUP(B365,'Tractor Rider & Zero Turn'!$F$13:$F$120,'Tractor Rider & Zero Turn'!$W$13:$W$120)","v":0},20240402,2414,{"$f":"_xlfn.XLOOKUP(B365,'Tractor Rider & Zero Turn'!$F$13:$F$120,'Tractor Rider & Zero Turn'!$X$13:$X$120)","v":0},20240501,2418,{"$f":"_xlfn.XLOOKUP(B365,'Tractor Rider & Zero Turn'!$F$13:$F$120,'Tractor Rider & Zero Turn'!$Y$13:$Y$120)","v":0},20240603,2423,{"$f":"_xlfn.XLOOKUP(B365,'Tractor Rider & Zero Turn'!$F$13:$F$120,'Tractor Rider & Zero Turn'!$Z$13:$Z$120)","v":0},{"$f":"_xlfn.XLOOKUP(B365,'Tractor Rider & Zero Turn'!$F$13:$F$120,'Tractor Rider & Zero Turn'!$L$13:$L$120)","v":1461.4356}]
["Tillers",970652601,20240103,2401,{"$f":"_xlfn.XLOOKUP(B366,Tillers!$F$14:$F$16,Tillers!$U$14:$U$16)","v":0},20240201,2405,{"$f":"_xlfn.XLOOKUP(B366,Tillers!$F$14:$F$16,Tillers!$V$14:$V$16)","v":0},20240301,2409,{"$f":"_xlfn.XLOOKUP(B366,Tillers!$F$14:$F$16,Tillers!$W$14:$W$16)","v":0},20240402,2414,{"$f":"_xlfn.XLOOKUP(B366,Tillers!$F$14:$F$16,Tillers!X14:X16)","v":0},20240501,2418,{"$f":"_xlfn.XLOOKUP(B366,Tillers!$F$14:$F$16,Tillers!$Y$14:$Y$16)","v":0},20240603,2423,{"$f":"_xlfn.XLOOKUP(B366,Tillers!$F$14:$F$16,Tillers!$Z$14:$Z$16)","v":0},{"$f":"_xlfn.XLOOKUP(B366,Tillers!$F$14:$F$16,Tillers!$L$14:$L$16)","v":432.78949999999998}]
["Tillers",970652801,20240103,2401,{"$f":"_xlfn.XLOOKUP(B367,Tillers!$F$14:$F$16,Tillers!$U$14:$U$16)","v":0},20240201,2405,{"$f":"_xlfn.XLOOKUP(B367,Tillers!$F$14:$F$16,Tillers!$V$14:$V$16)","v":0},20240301,2409,{"$f":"_xlfn.XLOOKUP(B367,Tillers!$F$14:$F$16,Tillers!$W$14:$W$16)","v":0},20240402,2414,{"$f":"_xlfn.XLOOKUP(B367,Tillers!$F$14:$F$16,Tillers!$X$14:$X$16)","v":0},20240501,2418,{"$f":"_xlfn.XLOOKUP(B367,Tillers!$F$14:$F$16,Tillers!$Y$14:$Y$16)","v":0},20240603,2423,{"$f":"_xlfn.XLOOKUP(B367,Tillers!$F$14:$F$16,Tillers!$Z$14:$Z$16)","v":0},{"$f":"_xlfn.XLOOKUP(B367,Tillers!$F$14:$F$16,Tillers!$L$14:$L$16)","v":839.03949999999986}]
["Tillers",967330101,20240103,2401,{"$f":"_xlfn.XLOOKUP(B368,Tillers!$F$13:$F$16,Tillers!$U$13:$U$16)","v":0},20240201,2405,{"$f":"_xlfn.XLOOKUP(B368,Tillers!$F$13:$F$16,Tillers!$V$13:$V$16)","v":0},20240301,2409,{"$f":"_xlfn.XLOOKUP(B368,Tillers!$F$13:$F$16,Tillers!$W$13:$W$16)","v":0},20240402,2414,{"$f":"_xlfn.XLOOKUP(B368,Tillers!$F$13:$F$16,Tillers!$X$13:$X$16)","v":0},20240501,2418,{"$f":"_xlfn.XLOOKUP(B368,Tillers!$F$13:$F$16,Tillers!$Y$13:$Y$16)","v":0},20240603,2423,{"$f":"_xlfn.XLOOKUP(B368,Tillers!$F$13:$F$16,Tillers!$Z$13:$Z$16)","v":0},{"$f":"_xlfn.XLOOKUP(B368,Tillers!$F$13:$F$16,Tillers!$L$13:$L$16)","v":324.46050000000002}]
["Tillers",966545201,20240103,2401,{"$f":"_xlfn.XLOOKUP(B369,Tillers!$F$14:$F$16,Tillers!$U$14:$U$16)","v":0},20240201,2405,{"$f":"_xlfn.XLOOKUP(B369,Tillers!$F$14:$F$16,Tillers!$V$14:$V$16)","v":1},20240301,2409,{"$f":"_xlfn.XLOOKUP(B369,Tillers!$F$14:$F$16,Tillers!$W$14:$W$16)","v":0},20240402,2414,{"$f":"_xlfn.XLOOKUP(B369,Tillers!$F$14:$F$16,Tillers!$X$14:$X$16)","v":0},20240501,2418,{"$f":"_xlfn.XLOOKUP(B369,Tillers!$F$14:$F$16,Tillers!$Y$14:$Y$16)","v":0},20240603,2423,{"$f":"_xlfn.XLOOKUP(B369,Tillers!$F$14:$F$16,Tillers!$Z$14:$Z$16)","v":0},{"$f":"_xlfn.XLOOKUP(B369,Tillers!$F$14:$F$16,Tillers!$L$14:$L$16)","v":124.0395}]
["Tractors & ZTR (Domestic)",970622201,20240103,2401,{"$f":"_xlfn.XLOOKUP(B370,'Tractor Rider & Zero Turn'!$F$13:$F$120,'Tractor Rider & Zero Turn'!$U$13:$U$120)","v":0},20240201,2405,{"$f":"_xlfn.XLOOKUP(B370,'Tractor Rider & Zero Turn'!$F$13:$F$120,'Tractor Rider & Zero Turn'!$V$13:$V$120)","v":0},20240301,2409,{"$f":"_xlfn.XLOOKUP(B370,'Tractor Rider & Zero Turn'!$F$13:$F$120,'Tractor Rider & Zero Turn'!$W$13:$W$120)","v":0},20240402,2414,{"$f":"_xlfn.XLOOKUP(B370,'Tractor Rider & Zero Turn'!$F$13:$F$120,'Tractor Rider & Zero Turn'!X13:X120)","v":0},20240501,2418,{"$f":"_xlfn.XLOOKUP(B370,'Tractor Rider & Zero Turn'!$F$13:$F$120,'Tractor Rider & Zero Turn'!$Y$13:$Y$120)","v":0},20240603,2423,{"$f":"_xlfn.XLOOKUP(B370,'Tractor Rider & Zero Turn'!$F$13:$F$120,'Tractor Rider & Zero Turn'!$Z$13:$Z$120)","v":0},{"$f":"_xlfn.XLOOKUP(B370,'Tractor Rider & Zero Turn'!$F$13:$F$120,'Tractor Rider & Zero Turn'!$L$13:$L$120)","v":1632.75}]
["Tractors & ZTR (Domestic)",970622301,20240103,2401,{"$f":"_xlfn.XLOOKUP(B371,'Tractor Rider & Zero Turn'!$F$13:$F$120,'Tractor Rider & Zero Turn'!$U$13:$U$120)","v":0},20240201,2405,{"$f":"_xlfn.XLOOKUP(B371,'Tractor Rider & Zero Turn'!$F$13:$F$120,'Tractor Rider & Zero Turn'!$V$13:$V$120)","v":0},20240301,2409,{"$f":"_xlfn.XLOOKUP(B371,'Tractor Rider & Zero Turn'!$F$13:$F$120,'Tractor Rider & Zero Turn'!$W$13:$W$120)","v":0},20240402,2414,{"$f":"_xlfn.XLOOKUP(B371,'Tractor Rider & Zero Turn'!$F$13:$F$120,'Tractor Rider & Zero Turn'!$X$13:$X$120)","v":0},20240501,2418,{"$f":"_xlfn.XLOOKUP(B371,'Tractor Rider & Zero Turn'!$F$13:$F$120,'Tractor Rider & Zero Turn'!$Y$13:$Y$120)","v":0},20240603,2423,{"$f":"_xlfn.XLOOKUP(B371,'Tractor Rider & Zero Turn'!$F$13:$F$120,'Tractor Rider & Zero Turn'!$Z$13:$Z$120)","v":0},{"$f":"_xlfn.XLOOKUP(B371,'Tractor Rider & Zero Turn'!$F$13:$F$120,'Tractor Rider & Zero Turn'!$L$13:$L$120)","v":1924.4189999999999}]
["Tractors & ZTR (Domestic)",970622401,20240103,2401,{"$f":"_xlfn.XLOOKUP(B372,'Tractor Rider & Zero Turn'!$F$13:$F$120,'Tractor Rider & Zero Turn'!$U$13:$U$120)","v":0},20240201,2405,{"$f":"_xlfn.XLOOKUP(B372,'Tractor Rider & Zero Turn'!$F$13:$F$120,'Tractor Rider & Zero Turn'!$V$13:$V$120)","v":0},20240301,2409,{"$f":"_xlfn.XLOOKUP(B372,'Tractor Rider & Zero Turn'!$F$13:$F$120,'Tractor Rider & Zero Turn'!$W$13:$W$120)","v":0},20240402,2414,{"$f":"_xlfn.XLOOKUP(B372,'Tractor Rider & Zero Turn'!$F$13:$F$120,'Tractor Rider & Zero Turn'!$X$13:$X$120)","v":0},20240501,2418,{"$f":"_xlfn.XLOOKUP(B372,'Tractor Rider & Zero Turn'!$F$13:$F$120,'Tractor Rider & Zero Turn'!$Y$13:$Y$120)","v":0},20240603,2423,{"$f":"_xlfn.XLOOKUP(B372,'Tractor Rider & Zero Turn'!$F$13:$F$120,'Tractor Rider & Zero Turn'!$Z$13:$Z$120)","v":0},{"$f":"_xlfn.XLOOKUP(B372,'Tractor Rider & Zero Turn'!$F$13:$F$120,'Tractor Rider & Zero Turn'!$L$13:$L$120)","v":1457.75}]
["Tractors & ZTR (Domestic)",970622501,20240103,2401,{"$f":"_xlfn.XLOOKUP(B373,'Tractor Rider & Zero Turn'!$F$13:$F$120,'Tractor Rider & Zero Turn'!$U$13:$U$120)","v":0},20240201,2405,{"$f":"_xlfn.XLOOKUP(B373,'Tractor Rider & Zero Turn'!$F$13:$F$120,'Tractor Rider & Zero Turn'!$V$13:$V$120)","v":0},20240301,2409,{"$f":"_xlfn.XLOOKUP(B373,'Tractor Rider & Zero Turn'!$F$13:$F$120,'Tractor Rider & Zero Turn'!$W$13:$W$120)","v":0},20240402,2414,{"$f":"_xlfn.XLOOKUP(B373,'Tractor Rider & Zero Turn'!$F$13:$F$120,'Tractor Rider & Zero Turn'!$X$13:$X$120)","v":0},20240501,2418,{"$f":"_xlfn.XLOOKUP(B373,'Tractor Rider & Zero Turn'!$F$13:$F$120,'Tractor Rider & Zero Turn'!$Y$13:$Y$120)","v":0},20240603,2423,{"$f":"_xlfn.XLOOKUP(B373,'Tractor Rider & Zero Turn'!$F$13:$F$120,'Tractor Rider & Zero Turn'!$Z$13:$Z$120)","v":0},{"$f":"_xlfn.XLOOKUP(B373,'Tractor Rider & Zero Turn'!$F$13:$F$120,'Tractor Rider & Zero Turn'!$L$13:$L$120)","v":1749.4189999999999}]
["Tractors & ZTR (Domestic)",960510201,20240103,2401,{"$f":"_xlfn.XLOOKUP(B374,'Tractor Rider & Zero Turn'!$F$13:$F$120,'Tractor Rider & Zero Turn'!$U$13:$U$120)","v":0},20240201,2405,{"$f":"_xlfn.XLOOKUP(B374,'Tractor Rider & Zero Turn'!$F$13:$F$120,'Tractor Rider & Zero Turn'!$V$13:$V$120)","v":0},20240301,2409,{"$f":"_xlfn.XLOOKUP(B374,'Tractor Rider & Zero Turn'!$F$13:$F$120,'Tractor Rider & Zero Turn'!$W$13:$W$120)","v":0},20240402,2414,{"$f":"_xlfn.XLOOKUP(B374,'Tractor Rider & Zero Turn'!$F$13:$F$120,'Tractor Rider & Zero Turn'!$X$13:$X$120)","v":0},20240501,2418,{"$f":"_xlfn.XLOOKUP(B374,'Tractor Rider & Zero Turn'!$F$13:$F$120,'Tractor Rider & Zero Turn'!$Y$13:$Y$120)","v":0},20240603,2423,{"$f":"_xlfn.XLOOKUP(B374,'Tractor Rider & Zero Turn'!$F$13:$F$120,'Tractor Rider & Zero Turn'!$Z$13:$Z$120)","v":0},{"$f":"_xlfn.XLOOKUP(B374,'Tractor Rider & Zero Turn'!$F$13:$F$120,'Tractor Rider & Zero Turn'!$L$13:$L$120)","v":2216.0809999999997}]
["Tractors & ZTR (Domestic)",960510202,20240103,2401,{"$f":"_xlfn.XLOOKUP(B375,'Tractor Rider & Zero Turn'!$F$13:$F$120,'Tractor Rider & Zero Turn'!$U$13:$U$120)","v":0},20240201,2405,{"$f":"_xlfn.XLOOKUP(B375,'Tractor Rider & Zero Turn'!$F$13:$F$120,'Tractor Rider & Zero Turn'!$V$13:$V$120)","v":0},20240301,2409,{"$f":"_xlfn.XLOOKUP(B375,'Tractor Rider & Zero Turn'!$F$13:$F$120,'Tractor Rider & Zero Turn'!$W$13:$W$120)","v":0},20240402,2414,{"$f":"_xlfn.XLOOKUP(B375,'Tractor Rider & Zero Turn'!$F$13:$F$120,'Tractor Rider & Zero Turn'!$X$13:$X$120)","v":0},20240501,2418,{"$f":"_xlfn.XLOOKUP(B375,'Tractor Rider & Zero Turn'!$F$13:$F$120,'Tractor Rider & Zero Turn'!$Y$13:$Y$120)","v":0},20240603,2423,{"$f":"_xlfn.XLOOKUP(B375,'Tractor Rider & Zero Turn'!$F$13:$F$120,'Tractor Rider & Zero Turn'!$Z$13:$Z$120)","v":0},{"$f":"_xlfn.XLOOKUP(B375,'Tractor Rider & Zero Turn'!$F$13:$F$120,'Tractor Rider & Zero Turn'!$L$13:$L$120)","v":2624.4189999999999}]
["Tractors & ZTR (Domestic)",960410457,20240103,2401,{"$f":"_xlfn.XLOOKUP(B376,'Tractor Rider & Zero Turn'!$F$13:$F$120,'Tractor Rider & Zero Turn'!$U$13:$U$120)","v":0},20240201,2405,{"$f":"_xlfn.XLOOKUP(B376,'Tractor Rider & Zero Turn'!$F$13:$F$120,'Tractor Rider & Zero Turn'!$V$13:$V$120)","v":0},20240301,2409,{"$f":"_xlfn.XLOOKUP(B376,'Tractor Rider & Zero Turn'!$F$13:$F$120,'Tractor Rider & Zero Turn'!$W$13:$W$120)","v":0},20240402,2414,{"$f":"_xlfn.XLOOKUP(B376,'Tractor Rider & Zero Turn'!$F$13:$F$120,'Tractor Rider & Zero Turn'!$X$13:$X$120)","v":0},20240501,2418,{"$f":"_xlfn.XLOOKUP(B376,'Tractor Rider & Zero Turn'!$F$13:$F$120,'Tractor Rider & Zero Turn'!$Y$13:$Y$120)","v":0},20240603,2423,{"$f":"_xlfn.XLOOKUP(B376,'Tractor Rider & Zero Turn'!$F$13:$F$120,'Tractor Rider & Zero Turn'!$Z$13:$Z$120)","v":0},{"$f":"_xlfn.XLOOKUP(B376,'Tractor Rider & Zero Turn'!$F$13:$F$120,'Tractor Rider & Zero Turn'!$L$13:$L$120)","v":2216.0809999999997}]
["Tractors & ZTR (Domestic)",960510192,20240103,2401,{"$f":"_xlfn.XLOOKUP(B377,'Tractor Rider & Zero Turn'!$F$13:$F$120,'Tractor Rider & Zero Turn'!$U$13:$U$120)","v":0},20240201,2405,{"$f":"_xlfn.XLOOKUP(B377,'Tractor Rider & Zero Turn'!$F$13:$F$120,'Tractor Rider & Zero Turn'!$V$13:$V$120)","v":0},20240301,2409,{"$f":"_xlfn.XLOOKUP(B377,'Tractor Rider & Zero Turn'!$F$13:$F$120,'Tractor Rider & Zero Turn'!$W$13:$W$120)","v":0},20240402,2414,{"$f":"_xlfn.XLOOKUP(B377,'Tractor Rider & Zero Turn'!$F$13:$F$120,'Tractor Rider & Zero Turn'!$X$13:$X$120)","v":0},20240501,2418,{"$f":"_xlfn.XLOOKUP(B377,'Tractor Rider & Zero Turn'!$F$13:$F$120,'Tractor Rider & Zero Turn'!$Y$13:$Y$120)","v":0},20240603,2423,{"$f":"_xlfn.XLOOKUP(B377,'Tractor Rider & Zero Turn'!$F$13:$F$120,'Tractor Rider & Zero Turn'!$Z$13:$Z$120)","v":0},{"$f":"_xlfn.XLOOKUP(B377,'Tractor Rider & Zero Turn'!$F$13:$F$120,'Tractor Rider & Zero Turn'!$L$13:$L$120)","v":2916.0809999999997}]
["Tractors & ZTR (Domestic)",960510191,20240103,2401,{"$f":"_xlfn.XLOOKUP(B378,'Tractor Rider & Zero Turn'!$F$13:$F$120,'Tractor Rider & Zero Turn'!$U$13:$U$120)","v":0},20240201,2405,{"$f":"_xlfn.XLOOKUP(B378,'Tractor Rider & Zero Turn'!$F$13:$F$120,'Tractor Rider & Zero Turn'!$V$13:$V$120)","v":0},20240301,2409,{"$f":"_xlfn.XLOOKUP(B378,'Tractor Rider & Zero Turn'!$F$13:$F$120,'Tractor Rider & Zero Turn'!$W$13:$W$120)","v":0},20240402,2414,{"$f":"_xlfn.XLOOKUP(B378,'Tractor Rider & Zero Turn'!$F$13:$F$120,'Tractor Rider & Zero Turn'!$X$13:$X$120)","v":0},20240501,2418,{"$f":"_xlfn.XLOOKUP(B378,'Tractor Rider & Zero Turn'!$F$13:$F$120,'Tractor Rider & Zero Turn'!$Y$13:$Y$120)","v":0},20240603,2423,{"$f":"_xlfn.XLOOKUP(B378,'Tractor Rider & Zero Turn'!$F$13:$F$120,'Tractor Rider & Zero Turn'!$Z$13:$Z$120)","v":0},{"$f":"_xlfn.XLOOKUP(B378,'Tractor Rider & Zero Turn'!$F$13:$F$120,'Tractor Rider & Zero Turn'!$L$13:$L$120)","v":2624.4189999999999}]
["Tractors & ZTR (Domestic)",960510193,20240103,2401,{"$f":"_xlfn.XLOOKUP(B379,'Tractor Rider & Zero Turn'!$F$13:$F$120,'Tractor Rider & Zero Turn'!$U$13:$U$120)","v":0},20240201,2405,{"$f":"_xlfn.XLOOKUP(B379,'Tractor Rider & Zero Turn'!$F$13:$F$120,'Tractor Rider & Zero Turn'!$V$13:$V$120)","v":0},20240301,2409,{"$f":"_xlfn.XLOOKUP(B379,'Tractor Rider & Zero Turn'!$F$13:$F$120,'Tractor Rider & Zero Turn'!$W$13:$W$120)","v":0},20240402,2414,{"$f":"_xlfn.XLOOKUP(B379,'Tractor Rider & Zero Turn'!$F$13:$F$120,'Tractor Rider & Zero Turn'!$X$13:$X$120)","v":0},20240501,2418,{"$f":"_xlfn.XLOOKUP(B379,'Tractor Rider & Zero Turn'!$F$13:$F$120,'Tractor Rider & Zero Turn'!$Y$13:$Y$120)","v":0},20240603,2423,{"$f":"_xlfn.XLOOKUP(B379,'Tractor Rider & Zero Turn'!$F$13:$F$120,'Tractor Rider & Zero Turn'!$Z$13:$Z$120)","v":0},{"$f":"_xlfn.XLOOKUP(B379,'Tractor Rider & Zero Turn'!$F$13:$F$120,'Tractor Rider & Zero Turn'!$L$13:$L$120)","v":3207.75}]
["Tractors & ZTR (Domestic)",538899201,20240103,2401,{"$f":"_xlfn.XLOOKUP(B380,'Tractor Rider & Zero Turn'!$F$13:$F$120,'Tractor Rider & Zero Turn'!$U$13:$U$120)","v":0},20240201,2405,{"$f":"_xlfn.XLOOKUP(B380,'Tractor Rider & Zero Turn'!$F$13:$F$120,'Tractor Rider & Zero Turn'!$V$13:$V$120)","v":0},20240301,2409,{"$f":"_xlfn.XLOOKUP(B380,'Tractor Rider & Zero Turn'!$F$13:$F$120,'Tractor Rider & Zero Turn'!$W$13:$W$120)","v":0},20240402,2414,{"$f":"_xlfn.XLOOKUP(B380,'Tractor Rider & Zero Turn'!$F$13:$F$120,'Tractor Rider & Zero Turn'!$X$13:$X$120)","v":0},20240501,2418,{"$f":"_xlfn.XLOOKUP(B380,'Tractor Rider & Zero Turn'!$F$13:$F$120,'Tractor Rider & Zero Turn'!$Y$13:$Y$120)","v":0},20240603,2423,{"$f":"_xlfn.XLOOKUP(B380,'Tractor Rider & Zero Turn'!$F$13:$F$120,'Tractor Rider & Zero Turn'!$Z$13:$Z$120)","v":0},{"$f":"_xlfn.XLOOKUP(B380,'Tractor Rider & Zero Turn'!$F$13:$F$120,'Tractor Rider & Zero Turn'!$L$13:$L$120)","v":191.91899999999998}]
["Tractors & ZTR (Domestic)",538898801,20240103,2401,{"$f":"_xlfn.XLOOKUP(B381,'Tractor Rider & Zero Turn'!$F$13:$F$120,'Tractor Rider & Zero Turn'!$U$13:$U$120)","v":0},20240201,2405,{"$f":"_xlfn.XLOOKUP(B381,'Tractor Rider & Zero Turn'!$F$13:$F$120,'Tractor Rider & Zero Turn'!$V$13:$V$120)","v":0},20240301,2409,{"$f":"_xlfn.XLOOKUP(B381,'Tractor Rider & Zero Turn'!$F$13:$F$120,'Tractor Rider & Zero Turn'!$W$13:$W$120)","v":0},20240402,2414,{"$f":"_xlfn.XLOOKUP(B381,'Tractor Rider & Zero Turn'!$F$13:$F$120,'Tractor Rider & Zero Turn'!$X$13:$X$120)","v":0},20240501,2418,{"$f":"_xlfn.XLOOKUP(B381,'Tractor Rider & Zero Turn'!$F$13:$F$120,'Tractor Rider & Zero Turn'!$Y$13:$Y$120)","v":0},20240603,2423,{"$f":"_xlfn.XLOOKUP(B381,'Tractor Rider & Zero Turn'!$F$13:$F$120,'Tractor Rider & Zero Turn'!$Z$13:$Z$120)","v":0},{"$f":"_xlfn.XLOOKUP(B381,'Tractor Rider & Zero Turn'!$F$13:$F$120,'Tractor Rider & Zero Turn'!$L$13:$L$120)","v":26.243000000000002}]
["Tractors & ZTR (Domestic)",538898901,20240103,2401,{"$f":"_xlfn.XLOOKUP(B382,'Tractor Rider & Zero Turn'!$F$13:$F$120,'Tractor Rider & Zero Turn'!$U$13:$U$120)","v":0},20240201,2405,{"$f":"_xlfn.XLOOKUP(B382,'Tractor Rider & Zero Turn'!$F$13:$F$120,'Tractor Rider & Zero Turn'!$V$13:$V$120)","v":0},20240301,2409,{"$f":"_xlfn.XLOOKUP(B382,'Tractor Rider & Zero Turn'!$F$13:$F$120,'Tractor Rider & Zero Turn'!$W$13:$W$120)","v":0},20240402,2414,{"$f":"_xlfn.XLOOKUP(B382,'Tractor Rider & Zero Turn'!$F$13:$F$120,'Tractor Rider & Zero Turn'!$X$13:$X$120)","v":0},20240501,2418,{"$f":"_xlfn.XLOOKUP(B382,'Tractor Rider & Zero Turn'!$F$13:$F$120,'Tractor Rider & Zero Turn'!$Y$13:$Y$120)","v":0},20240603,2423,{"$f":"_xlfn.XLOOKUP(B382,'Tractor Rider & Zero Turn'!$F$13:$F$120,'Tractor Rider & Zero Turn'!$Z$13:$Z$120)","v":0},{"$f":"_xlfn.XLOOKUP(B382,'Tractor Rider & Zero Turn'!$F$13:$F$120,'Tractor Rider & Zero Turn'!$L$13:$L$120)","v":69.992999999999995}]
["Tractors & ZTR (Domestic)",538899401,20240103,2401,{"$f":"_xlfn.XLOOKUP(B383,'Tractor Rider & Zero Turn'!$F$13:$F$120,'Tractor Rider & Zero Turn'!$U$13:$U$120)","v":0},20240201,2405,{"$f":"_xlfn.XLOOKUP(B383,'Tractor Rider & Zero Turn'!$F$13:$F$120,'Tractor Rider & Zero Turn'!$V$13:$V$120)","v":0},20240301,2409,{"$f":"_xlfn.XLOOKUP(B383,'Tractor Rider & Zero Turn'!$F$13:$F$120,'Tractor Rider & Zero Turn'!$W$13:$W$120)","v":0},20240402,2414,{"$f":"_xlfn.XLOOKUP(B383,'Tractor Rider & Zero Turn'!$F$13:$F$120,'Tractor Rider & Zero Turn'!$X$13:$X$120)","v":0},20240501,2418,{"$f":"_xlfn.XLOOKUP(B383,'Tractor Rider & Zero Turn'!$F$13:$F$120,'Tractor Rider & Zero Turn'!$Y$13:$Y$120)","v":0},20240603,2423,{"$f":"_xlfn.XLOOKUP(B383,'Tractor Rider & Zero Turn'!$F$13:$F$120,'Tractor Rider & Zero Turn'!$Z$13:$Z$120)","v":0},{"$f":"_xlfn.XLOOKUP(B383,'Tractor Rider & Zero Turn'!$F$13:$F$120,'Tractor Rider & Zero Turn'!$L$13:$L$120)","v":34.992999999999995}]
["Tractors & ZTR (Domestic)",582559601,20240103,2401,{"$f":"_xlfn.XLOOKUP(B384,'Tractor Rider & Zero Turn'!$F$13:$F$120,'Tractor Rider & Zero Turn'!$U$13:$U$120)","v":0},20240201,2405,{"$f":"_xlfn.XLOOKUP(B384,'Tractor Rider & Zero Turn'!$F$13:$F$120,'Tractor Rider & Zero Turn'!$V$13:$V$120)","v":0},20240301,2409,{"$f":"_xlfn.XLOOKUP(B384,'Tractor Rider & Zero Turn'!$F$13:$F$120,'Tractor Rider & Zero Turn'!$W$13:$W$120)","v":0},20240402,2414,{"$f":"_xlfn.XLOOKUP(B384,'Tractor Rider & Zero Turn'!$F$13:$F$120,'Tractor Rider & Zero Turn'!$X$13:$X$120)","v":0},20240501,2418,{"$f":"_xlfn.XLOOKUP(B384,'Tractor Rider & Zero Turn'!$F$13:$F$120,'Tractor Rider & Zero Turn'!$Y$13:$Y$120)","v":0},20240603,2423,{"$f":"_xlfn.XLOOKUP(B384,'Tractor Rider & Zero Turn'!$F$13:$F$120,'Tractor Rider & Zero Turn'!$Z$13:$Z$120)","v":0},{"$f":"_xlfn.XLOOKUP(B384,'Tractor Rider & Zero Turn'!$F$13:$F$120,'Tractor Rider & Zero Turn'!$L$13:$L$120)","v":320.25}]
["Tractors & ZTR (Domestic)",960730038,20240103,2401,{"$f":"_xlfn.XLOOKUP(B385,'Tractor Rider & Zero Turn'!$F$13:$F$120,'Tractor Rider & Zero Turn'!$U$13:$U$120)","v":0},20240201,2405,{"$f":"_xlfn.XLOOKUP(B385,'Tractor Rider & Zero Turn'!$F$13:$F$120,'Tractor Rider & Zero Turn'!$V$13:$V$120)","v":0},20240301,2409,{"$f":"_xlfn.XLOOKUP(B385,'Tractor Rider & Zero Turn'!$F$13:$F$120,'Tractor Rider & Zero Turn'!$W$13:$W$120)","v":0},20240402,2414,{"$f":"_xlfn.XLOOKUP(B385,'Tractor Rider & Zero Turn'!$F$13:$F$120,'Tractor Rider & Zero Turn'!$X$13:$X$120)","v":0},20240501,2418,{"$f":"_xlfn.XLOOKUP(B385,'Tractor Rider & Zero Turn'!$F$13:$F$120,'Tractor Rider & Zero Turn'!$Y$13:$Y$120)","v":0},20240603,2423,{"$f":"_xlfn.XLOOKUP(B385,'Tractor Rider & Zero Turn'!$F$13:$F$120,'Tractor Rider & Zero Turn'!$Z$13:$Z$120)","v":0},{"$f":"_xlfn.XLOOKUP(B385,'Tractor Rider & Zero Turn'!$F$13:$F$120,'Tractor Rider & Zero Turn'!$L$13:$L$120)","v":232.75}]
["Tractors & ZTR (Domestic)",960730037,20240103,2401,{"$f":"_xlfn.XLOOKUP(B386,'Tractor Rider & Zero Turn'!$F$13:$F$120,'Tractor Rider & Zero Turn'!$U$13:$U$120)","v":0},20240201,2405,{"$f":"_xlfn.XLOOKUP(B386,'Tractor Rider & Zero Turn'!$F$13:$F$120,'Tractor Rider & Zero Turn'!$V$13:$V$120)","v":0},20240301,2409,{"$f":"_xlfn.XLOOKUP(B386,'Tractor Rider & Zero Turn'!$F$13:$F$120,'Tractor Rider & Zero Turn'!$W$13:$W$120)","v":0},20240402,2414,{"$f":"_xlfn.XLOOKUP(B386,'Tractor Rider & Zero Turn'!$F$13:$F$120,'Tractor Rider & Zero Turn'!$X$13:$X$120)","v":0},20240501,2418,{"$f":"_xlfn.XLOOKUP(B386,'Tractor Rider & Zero Turn'!$F$13:$F$120,'Tractor Rider & Zero Turn'!$Y$13:$Y$120)","v":0},20240603,2423,{"$f":"_xlfn.XLOOKUP(B386,'Tractor Rider & Zero Turn'!$F$13:$F$120,'Tractor Rider & Zero Turn'!$Z$13:$Z$120)","v":0},{"$f":"_xlfn.XLOOKUP(B386,'Tractor Rider & Zero Turn'!$F$13:$F$120,'Tractor Rider & Zero Turn'!$L$13:$L$120)","v":261.91899999999998}]
["Tractors & ZTR (Domestic)",960730022,20240103,2401,{"$f":"_xlfn.XLOOKUP(B387,'Tractor Rider & Zero Turn'!$F$13:$F$120,'Tractor Rider & Zero Turn'!$U$13:$U$120)","v":0},20240201,2405,{"$f":"_xlfn.XLOOKUP(B387,'Tractor Rider & Zero Turn'!$F$13:$F$120,'Tractor Rider & Zero Turn'!$V$13:$V$120)","v":0},20240301,2409,{"$f":"_xlfn.XLOOKUP(B387,'Tractor Rider & Zero Turn'!$F$13:$F$120,'Tractor Rider & Zero Turn'!$W$13:$W$120)","v":0},20240402,2414,{"$f":"_xlfn.XLOOKUP(B387,'Tractor Rider & Zero Turn'!$F$13:$F$120,'Tractor Rider & Zero Turn'!$X$13:$X$120)","v":0},20240501,2418,{"$f":"_xlfn.XLOOKUP(B387,'Tractor Rider & Zero Turn'!$F$13:$F$120,'Tractor Rider & Zero Turn'!$Y$13:$Y$120)","v":0},20240603,2423,{"$f":"_xlfn.XLOOKUP(B387,'Tractor Rider & Zero Turn'!$F$13:$F$120,'Tractor Rider & Zero Turn'!$Z$13:$Z$120)","v":0},{"$f":"_xlfn.XLOOKUP(B387,'Tractor Rider & Zero Turn'!$F$13:$F$120,'Tractor Rider & Zero Turn'!$L$13:$L$120)","v":145.25}]
["Tractors & ZTR (Domestic)",505568813,20240103,2401,{"$f":"_xlfn.XLOOKUP(B388,'Tractor Rider & Zero Turn'!$F$13:$F$120,'Tractor Rider & Zero Turn'!$U$13:$U$120)","v":0},20240201,2405,{"$f":"_xlfn.XLOOKUP(B388,'Tractor Rider & Zero Turn'!$F$13:$F$120,'Tractor Rider & Zero Turn'!$V$13:$V$120)","v":0},20240301,2409,{"$f":"_xlfn.XLOOKUP(B388,'Tractor Rider & Zero Turn'!$F$13:$F$120,'Tractor Rider & Zero Turn'!$W$13:$W$120)","v":0},20240402,2414,{"$f":"_xlfn.XLOOKUP(B388,'Tractor Rider & Zero Turn'!$F$13:$F$120,'Tractor Rider & Zero Turn'!$X$13:$X$120)","v":0},20240501,2418,{"$f":"_xlfn.XLOOKUP(B388,'Tractor Rider & Zero Turn'!$F$13:$F$120,'Tractor Rider & Zero Turn'!$Y$13:$Y$120)","v":0},20240603,2423,{"$f":"_xlfn.XLOOKUP(B388,'Tractor Rider & Zero Turn'!$F$13:$F$120,'Tractor Rider & Zero Turn'!$Z$13:$Z$120)","v":0},{"$f":"_xlfn.XLOOKUP(B388,'Tractor Rider & Zero Turn'!$F$13:$F$120,'Tractor Rider & Zero Turn'!$L$13:$L$120)","v":51.330999999999996}]
["Tractors & ZTR (Domestic)",505630882,20240103,2401,{"$f":"_xlfn.XLOOKUP(B389,'Tractor Rider & Zero Turn'!$F$13:$F$120,'Tractor Rider & Zero Turn'!$U$13:$U$120)","v":0},20240201,2405,{"$f":"_xlfn.XLOOKUP(B389,'Tractor Rider & Zero Turn'!$F$13:$F$120,'Tractor Rider & Zero Turn'!$V$13:$V$120)","v":0},20240301,2409,{"$f":"_xlfn.XLOOKUP(B389,'Tractor Rider & Zero Turn'!$F$13:$F$120,'Tractor Rider & Zero Turn'!$W$13:$W$120)","v":0},20240402,2414,{"$f":"_xlfn.XLOOKUP(B389,'Tractor Rider & Zero Turn'!$F$13:$F$120,'Tractor Rider & Zero Turn'!$X$13:$X$120)","v":0},20240501,2418,{"$f":"_xlfn.XLOOKUP(B389,'Tractor Rider & Zero Turn'!$F$13:$F$120,'Tractor Rider & Zero Turn'!$Y$13:$Y$120)","v":0},20240603,2423,{"$f":"_xlfn.XLOOKUP(B389,'Tractor Rider & Zero Turn'!$F$13:$F$120,'Tractor Rider & Zero Turn'!$Z$13:$Z$120)","v":0},{"$f":"_xlfn.XLOOKUP(B389,'Tractor Rider & Zero Turn'!$F$13:$F$120,'Tractor Rider & Zero Turn'!$L$13:$L$120)","v":58.330999999999996}]
["Tractors & ZTR (Domestic)",505630880,20240103,2401,{"$f":"_xlfn.XLOOKUP(B390,'Tractor Rider & Zero Turn'!$F$13:$F$120,'Tractor Rider & Zero Turn'!$U$13:$U$120)","v":0},20240201,2405,{"$f":"_xlfn.XLOOKUP(B390,'Tractor Rider & Zero Turn'!$F$13:$F$120,'Tractor Rider & Zero Turn'!$V$13:$V$120)","v":0},20240301,2409,{"$f":"_xlfn.XLOOKUP(B390,'Tractor Rider & Zero Turn'!$F$13:$F$120,'Tractor Rider & Zero Turn'!$W$13:$W$120)","v":0},20240402,2414,{"$f":"_xlfn.XLOOKUP(B390,'Tractor Rider & Zero Turn'!$F$13:$F$120,'Tractor Rider & Zero Turn'!$X$13:$X$120)","v":0},20240501,2418,{"$f":"_xlfn.XLOOKUP(B390,'Tractor Rider & Zero Turn'!$F$13:$F$120,'Tractor Rider & Zero Turn'!$Y$13:$Y$120)","v":0},20240603,2423,{"$f":"_xlfn.XLOOKUP(B390,'Tractor Rider & Zero Turn'!$F$13:$F$120,'Tractor Rider & Zero Turn'!$Z$13:$Z$120)","v":0},{"$f":"_xlfn.XLOOKUP(B390,'Tractor Rider & Zero Turn'!$F$13:$F$120,'Tractor Rider & Zero Turn'!$L$13:$L$120)","v":46.661999999999992}]
["Tractors & ZTR (Domestic)",587375003,20240103,2401,{"$f":"_xlfn.XLOOKUP(B391,'Tractor Rider & Zero Turn'!$F$13:$F$120,'Tractor Rider & Zero Turn'!$U$13:$U$120)","v":0},20240201,2405,{"$f":"_xlfn.XLOOKUP(B391,'Tractor Rider & Zero Turn'!$F$13:$F$120,'Tractor Rider & Zero Turn'!$V$13:$V$120)","v":0},20240301,2409,{"$f":"_xlfn.XLOOKUP(B391,'Tractor Rider & Zero Turn'!$F$13:$F$120,'Tractor Rider & Zero Turn'!$W$13:$W$120)","v":0},20240402,2414,{"$f":"_xlfn.XLOOKUP(B391,'Tractor Rider & Zero Turn'!$F$13:$F$120,'Tractor Rider & Zero Turn'!$X$13:$X$120)","v":0},20240501,2418,{"$f":"_xlfn.XLOOKUP(B391,'Tractor Rider & Zero Turn'!$F$13:$F$120,'Tractor Rider & Zero Turn'!$Y$13:$Y$120)","v":0},20240603,2423,{"$f":"_xlfn.XLOOKUP(B391,'Tractor Rider & Zero Turn'!$F$13:$F$120,'Tractor Rider & Zero Turn'!$Z$13:$Z$120)","v":0},{"$f":"_xlfn.XLOOKUP(B391,'Tractor Rider & Zero Turn'!$F$13:$F$120,'Tractor Rider & Zero Turn'!$L$13:$L$120)","v":14.580999999999998}]
["Tractors & ZTR (Domestic)",505699041,20240103,2401,{"$f":"_xlfn.XLOOKUP(B392,'Tractor Rider & Zero Turn'!$F$13:$F$120,'Tractor Rider & Zero Turn'!$U$13:$U$120)","v":0},20240201,2405,{"$f":"_xlfn.XLOOKUP(B392,'Tractor Rider & Zero Turn'!$F$13:$F$120,'Tractor Rider & Zero Turn'!$V$13:$V$120)","v":0},20240301,2409,{"$f":"_xlfn.XLOOKUP(B392,'Tractor Rider & Zero Turn'!$F$13:$F$120,'Tractor Rider & Zero Turn'!$W$13:$W$120)","v":0},20240402,2414,{"$f":"_xlfn.XLOOKUP(B392,'Tractor Rider & Zero Turn'!$F$13:$F$120,'Tractor Rider & Zero Turn'!$X$13:$X$120)","v":0},20240501,2418,{"$f":"_xlfn.XLOOKUP(B392,'Tractor Rider & Zero Turn'!$F$13:$F$120,'Tractor Rider & Zero Turn'!$Y$13:$Y$120)","v":0},20240603,2423,{"$f":"_xlfn.XLOOKUP(B392,'Tractor Rider & Zero Turn'!$F$13:$F$120,'Tractor Rider & Zero Turn'!$Z$13:$Z$120)","v":0},{"$f":"_xlfn.XLOOKUP(B392,'Tractor Rider & Zero Turn'!$F$13:$F$120,'Tractor Rider & Zero Turn'!$L$13:$L$120)","v":99.161999999999992}]
["Tractors & ZTR (Domestic)",505699043,20240103,2401,{"$f":"_xlfn.XLOOKUP(B393,'Tractor Rider & Zero Turn'!$F$13:$F$120,'Tractor Rider & Zero Turn'!$U$13:$U$120)","v":0},20240201,2405,{"$f":"_xlfn.XLOOKUP(B393,'Tractor Rider & Zero Turn'!$F$13:$F$120,'Tractor Rider & Zero Turn'!$V$13:$V$120)","v":0},20240301,2409,{"$f":"_xlfn.XLOOKUP(B393,'Tractor Rider & Zero Turn'!$F$13:$F$120,'Tractor Rider & Zero Turn'!$W$13:$W$120)","v":0},20240402,2414,{"$f":"_xlfn.XLOOKUP(B393,'Tractor Rider & Zero Turn'!$F$13:$F$120,'Tractor Rider & Zero Turn'!$X$13:$X$120)","v":0},20240501,2418,{"$f":"_xlfn.XLOOKUP(B393,'Tractor Rider & Zero Turn'!$F$13:$F$120,'Tractor Rider & Zero Turn'!$Y$13:$Y$120)","v":0},20240603,2423,{"$f":"_xlfn.XLOOKUP(B393,'Tractor Rider & Zero Turn'!$F$13:$F$120,'Tractor Rider & Zero Turn'!$Z$13:$Z$120)","v":0},{"$f":"_xlfn.XLOOKUP(B393,'Tractor Rider & Zero Turn'!$F$13:$F$120,'Tractor Rider & Zero Turn'!$L$13:$L$120)","v":162.75}]
["Trimmers & Brushcutters",970446601,20240103,2401,{"$f":"_xlfn.XLOOKUP(B394,'Trimmers & Brush Cutters'!$F$13:$F$27,'Trimmers & Brush Cutters'!$U$13:$U$27)","v":0},20240201,2405,{"$f":"_xlfn.XLOOKUP(B394,'Trimmers & Brush Cutters'!$F$13:$F$27,'Trimmers & Brush Cutters'!$V$13:$V$27)","v":4},20240301,2409,{"$f":"_xlfn.XLOOKUP(B394,'Trimmers & Brush Cutters'!$F$13:$F$27,'Trimmers & Brush Cutters'!$W$13:$W$27)","v":0},20240402,2414,{"$f":"_xlfn.XLOOKUP(B394,'Trimmers & Brush Cutters'!$F$13:$F$27,'Trimmers & Brush Cutters'!X13:X27)","v":4},20240501,2418,{"$f":"_xlfn.XLOOKUP(B394,'Trimmers & Brush Cutters'!$F$13:$F$27,'Trimmers & Brush Cutters'!$Y$13:$Y$27)","v":0},20240603,2423,{"$f":"_xlfn.XLOOKUP(B394,'Trimmers & Brush Cutters'!$F$13:$F$27,'Trimmers & Brush Cutters'!$Z$13:$Z$27)","v":0},{"$f":"_xlfn.XLOOKUP(B394,'Trimmers & Brush Cutters'!$F$13:$F$27,'Trimmers & Brush Cutters'!$L$13:$L$27)","v":281.125}]
["Trimmers & Brushcutters",970446701,20240103,2401,{"$f":"_xlfn.XLOOKUP(B395,'Trimmers & Brush Cutters'!$F$13:$F$27,'Trimmers & Brush Cutters'!$U$13:$U$27)","v":0},20240201,2405,{"$f":"_xlfn.XLOOKUP(B395,'Trimmers & Brush Cutters'!$F$13:$F$27,'Trimmers & Brush Cutters'!$V$13:$V$27)","v":4},20240301,2409,{"$f":"_xlfn.XLOOKUP(B395,'Trimmers & Brush Cutters'!$F$13:$F$27,'Trimmers & Brush Cutters'!$W$13:$W$27)","v":4},20240402,2414,{"$f":"_xlfn.XLOOKUP(B395,'Trimmers & Brush Cutters'!$F$13:$F$27,'Trimmers & Brush Cutters'!$X$13:$X$27)","v":2},20240501,2418,{"$f":"_xlfn.XLOOKUP(B395,'Trimmers & Brush Cutters'!$F$13:$F$27,'Trimmers & Brush Cutters'!$Y$13:$Y$27)","v":2},20240603,2423,{"$f":"_xlfn.XLOOKUP(B395,'Trimmers & Brush Cutters'!$F$13:$F$27,'Trimmers & Brush Cutters'!$Z$13:$Z$27)","v":2},{"$f":"_xlfn.XLOOKUP(B395,'Trimmers & Brush Cutters'!$F$13:$F$27,'Trimmers & Brush Cutters'!$L$13:$L$27)","v":311.48208}]
["Trimmers & Brushcutters",966780202,20240103,2401,{"$f":"_xlfn.XLOOKUP(B396,'Trimmers & Brush Cutters'!$F$13:$F$27,'Trimmers & Brush Cutters'!$U$13:$U$27)","v":0},20240201,2405,{"$f":"_xlfn.XLOOKUP(B396,'Trimmers & Brush Cutters'!$F$13:$F$27,'Trimmers & Brush Cutters'!$V$13:$V$27)","v":0},20240301,2409,{"$f":"_xlfn.XLOOKUP(B396,'Trimmers & Brush Cutters'!$F$13:$F$27,'Trimmers & Brush Cutters'!$W$13:$W$27)","v":0},20240402,2414,{"$f":"_xlfn.XLOOKUP(B396,'Trimmers & Brush Cutters'!$F$13:$F$27,'Trimmers & Brush Cutters'!$X$13:$X$27)","v":0},20240501,2418,{"$f":"_xlfn.XLOOKUP(B396,'Trimmers & Brush Cutters'!$F$13:$F$27,'Trimmers & Brush Cutters'!$Y$13:$Y$27)","v":0},20240603,2423,{"$f":"_xlfn.XLOOKUP(B396,'Trimmers & Brush Cutters'!$F$13:$F$27,'Trimmers & Brush Cutters'!$Z$13:$Z$27)","v":0},{"$f":"_xlfn.XLOOKUP(B396,'Trimmers & Brush Cutters'!$F$13:$F$27,'Trimmers & Brush Cutters'!$L$13:$L$27)","v":595.28949999999998}]
["Trimmers & Brushcutters",967193402,20240103,2401,{"$f":"_xlfn.XLOOKUP(B397,'Trimmers & Brush Cutters'!$F$13:$F$27,'Trimmers & Brush Cutters'!$U$13:$U$27)","v":0},20240201,2405,{"$f":"_xlfn.XLOOKUP(B397,'Trimmers & Brush Cutters'!$F$13:$F$27,'Trimmers & Brush Cutters'!$V$13:$V$27)","v":0},20240301,2409,{"$f":"_xlfn.XLOOKUP(B397,'Trimmers & Brush Cutters'!$F$13:$F$27,'Trimmers & Brush Cutters'!$W$13:$W$27)","v":0},20240402,2414,{"$f":"_xlfn.XLOOKUP(B397,'Trimmers & Brush Cutters'!$F$13:$F$27,'Trimmers & Brush Cutters'!$X$13:$X$27)","v":0},20240501,2418,{"$f":"_xlfn.XLOOKUP(B397,'Trimmers & Brush Cutters'!$F$13:$F$27,'Trimmers & Brush Cutters'!$Y$13:$Y$27)","v":0},20240603,2423,{"$f":"_xlfn.XLOOKUP(B397,'Trimmers & Brush Cutters'!$F$13:$F$27,'Trimmers & Brush Cutters'!$Z$13:$Z$27)","v":0},{"$f":"_xlfn.XLOOKUP(B397,'Trimmers & Brush Cutters'!$F$13:$F$27,'Trimmers & Brush Cutters'!$L$13:$L$27)","v":189.03949999999998}]
["Trimmers & Brushcutters",966604802,20240103,2401,{"$f":"_xlfn.XLOOKUP(B398,'Trimmers & Brush Cutters'!$F$13:$F$27,'Trimmers & Brush Cutters'!$U$13:$U$27)","v":0},20240201,2405,{"$f":"_xlfn.XLOOKUP(B398,'Trimmers & Brush Cutters'!$F$13:$F$27,'Trimmers & Brush Cutters'!$V$13:$V$27)","v":0},20240301,2409,{"$f":"_xlfn.XLOOKUP(B398,'Trimmers & Brush Cutters'!$F$13:$F$27,'Trimmers & Brush Cutters'!$W$13:$W$27)","v":0},20240402,2414,{"$f":"_xlfn.XLOOKUP(B398,'Trimmers & Brush Cutters'!$F$13:$F$27,'Trimmers & Brush Cutters'!$X$13:$X$27)","v":0},20240501,2418,{"$f":"_xlfn.XLOOKUP(B398,'Trimmers & Brush Cutters'!$F$13:$F$27,'Trimmers & Brush Cutters'!$Y$13:$Y$27)","v":0},20240603,2423,{"$f":"_xlfn.XLOOKUP(B398,'Trimmers & Brush Cutters'!$F$13:$F$27,'Trimmers & Brush Cutters'!$Z$13:$Z$27)","v":0},{"$f":"_xlfn.XLOOKUP(B398,'Trimmers & Brush Cutters'!$F$13:$F$27,'Trimmers & Brush Cutters'!$L$13:$L$27)","v":324.46050000000002}]
["Trimmers & Brushcutters",966628902,20240103,2401,{"$f":"_xlfn.XLOOKUP(B399,'Trimmers & Brush Cutters'!$F$13:$F$27,'Trimmers & Brush Cutters'!$U$13:$U$27)","v":2},20240201,2405,{"$f":"_xlfn.XLOOKUP(B399,'Trimmers & Brush Cutters'!$F$13:$F$27,'Trimmers & Brush Cutters'!$V$13:$V$27)","v":2},20240301,2409,{"$f":"_xlfn.XLOOKUP(B399,'Trimmers & Brush Cutters'!$F$13:$F$27,'Trimmers & Brush Cutters'!$W$13:$W$27)","v":2},20240402,2414,{"$f":"_xlfn.XLOOKUP(B399,'Trimmers & Brush Cutters'!$F$13:$F$27,'Trimmers & Brush Cutters'!$X$13:$X$27)","v":2},20240501,2418,{"$f":"_xlfn.XLOOKUP(B399,'Trimmers & Brush Cutters'!$F$13:$F$27,'Trimmers & Brush Cutters'!$Y$13:$Y$27)","v":2},20240603,2423,{"$f":"_xlfn.XLOOKUP(B399,'Trimmers & Brush Cutters'!$F$13:$F$27,'Trimmers & Brush Cutters'!$Z$13:$Z$27)","v":0},{"$f":"_xlfn.XLOOKUP(B399,'Trimmers & Brush Cutters'!$F$13:$F$27,'Trimmers & Brush Cutters'!$L$13:$L$27)","v":467.48207999999994}]
["Trimmers & Brushcutters",966015902,20240103,2401,{"$f":"_xlfn.XLOOKUP(B400,'Trimmers & Brush Cutters'!$F$13:$F$27,'Trimmers & Brush Cutters'!$U$13:$U$27)","v":0},20240201,2405,{"$f":"_xlfn.XLOOKUP(B400,'Trimmers & Brush Cutters'!$F$13:$F$27,'Trimmers & Brush Cutters'!$V$13:$V$27)","v":0},20240301,2409,{"$f":"_xlfn.XLOOKUP(B400,'Trimmers & Brush Cutters'!$F$13:$F$27,'Trimmers & Brush Cutters'!$W$13:$W$27)","v":0},20240402,2414,{"$f":"_xlfn.XLOOKUP(B400,'Trimmers & Brush Cutters'!$F$13:$F$27,'Trimmers & Brush Cutters'!$X$13:$X$27)","v":0},20240501,2418,{"$f":"_xlfn.XLOOKUP(B400,'Trimmers & Brush Cutters'!$F$13:$F$27,'Trimmers & Brush Cutters'!$Y$13:$Y$27)","v":0},20240603,2423,{"$f":"_xlfn.XLOOKUP(B400,'Trimmers & Brush Cutters'!$F$13:$F$27,'Trimmers & Brush Cutters'!$Z$13:$Z$27)","v":0},{"$f":"_xlfn.XLOOKUP(B400,'Trimmers & Brush Cutters'!$F$13:$F$27,'Trimmers & Brush Cutters'!$L$13:$L$27)","v":541.125}]
["Trimmers & Brushcutters",967176704,20240103,2401,{"$f":"_xlfn.XLOOKUP(B401,'Trimmers & Brush Cutters'!$F$13:$F$27,'Trimmers & Brush Cutters'!$U$13:$U$27)","v":0},20240201,2405,{"$f":"_xlfn.XLOOKUP(B401,'Trimmers & Brush Cutters'!$F$13:$F$27,'Trimmers & Brush Cutters'!$V$13:$V$27)","v":0},20240301,2409,{"$f":"_xlfn.XLOOKUP(B401,'Trimmers & Brush Cutters'!$F$13:$F$27,'Trimmers & Brush Cutters'!$W$13:$W$27)","v":0},20240402,2414,{"$f":"_xlfn.XLOOKUP(B401,'Trimmers & Brush Cutters'!$F$13:$F$27,'Trimmers & Brush Cutters'!$X$13:$X$27)","v":0},20240501,2418,{"$f":"_xlfn.XLOOKUP(B401,'Trimmers & Brush Cutters'!$F$13:$F$27,'Trimmers & Brush Cutters'!$Y$13:$Y$27)","v":0},20240603,2423,{"$f":"_xlfn.XLOOKUP(B401,'Trimmers & Brush Cutters'!$F$13:$F$27,'Trimmers & Brush Cutters'!$Z$13:$Z$27)","v":0},{"$f":"_xlfn.XLOOKUP(B401,'Trimmers & Brush Cutters'!$F$13:$F$27,'Trimmers & Brush Cutters'!$L$13:$L$27)","v":595.28949999999998}]
["Trimmers & Brushcutters",966629004,20240103,2401,{"$f":"_xlfn.XLOOKUP(B402,'Trimmers & Brush Cutters'!$F$13:$F$27,'Trimmers & Brush Cutters'!$U$13:$U$27)","v":0},20240201,2405,{"$f":"_xlfn.XLOOKUP(B402,'Trimmers & Brush Cutters'!$F$13:$F$27,'Trimmers & Brush Cutters'!$V$13:$V$27)","v":0},20240301,2409,{"$f":"_xlfn.XLOOKUP(B402,'Trimmers & Brush Cutters'!$F$13:$F$27,'Trimmers & Brush Cutters'!$W$13:$W$27)","v":0},20240402,2414,{"$f":"_xlfn.XLOOKUP(B402,'Trimmers & Brush Cutters'!$F$13:$F$27,'Trimmers & Brush Cutters'!$X$13:$X$27)","v":0},20240501,2418,{"$f":"_xlfn.XLOOKUP(B402,'Trimmers & Brush Cutters'!$F$13:$F$27,'Trimmers & Brush Cutters'!$Y$13:$Y$27)","v":0},20240603,2423,{"$f":"_xlfn.XLOOKUP(B402,'Trimmers & Brush Cutters'!$F$13:$F$27,'Trimmers & Brush Cutters'!$Z$13:$Z$27)","v":0},{"$f":"_xlfn.XLOOKUP(B402,'Trimmers & Brush Cutters'!$F$13:$F$27,'Trimmers & Brush Cutters'!$L$13:$L$27)","v":671.125}]
["Trimmers & Brushcutters",967193305,20240103,2401,{"$f":"_xlfn.XLOOKUP(B403,'Trimmers & Brush Cutters'!$F$13:$F$27,'Trimmers & Brush Cutters'!$U$13:$U$27)","v":0},20240201,2405,{"$f":"_xlfn.XLOOKUP(B403,'Trimmers & Brush Cutters'!$F$13:$F$27,'Trimmers & Brush Cutters'!$V$13:$V$27)","v":0},20240301,2409,{"$f":"_xlfn.XLOOKUP(B403,'Trimmers & Brush Cutters'!$F$13:$F$27,'Trimmers & Brush Cutters'!$W$13:$W$27)","v":0},20240402,2414,{"$f":"_xlfn.XLOOKUP(B403,'Trimmers & Brush Cutters'!$F$13:$F$27,'Trimmers & Brush Cutters'!$X$13:$X$27)","v":0},20240501,2418,{"$f":"_xlfn.XLOOKUP(B403,'Trimmers & Brush Cutters'!$F$13:$F$27,'Trimmers & Brush Cutters'!$Y$13:$Y$27)","v":0},20240603,2423,{"$f":"_xlfn.XLOOKUP(B403,'Trimmers & Brush Cutters'!$F$13:$F$27,'Trimmers & Brush Cutters'!$Z$13:$Z$27)","v":0},{"$f":"_xlfn.XLOOKUP(B403,'Trimmers & Brush Cutters'!$F$13:$F$27,'Trimmers & Brush Cutters'!$L$13:$L$27)","v":167.375}]
["Trimmers & Brushcutters",966777101,20240103,2401,{"$f":"_xlfn.XLOOKUP(B404,'Trimmers & Brush Cutters'!$F$13:$F$27,'Trimmers & Brush Cutters'!$U$13:$U$27)","v":0},20240201,2405,{"$f":"_xlfn.XLOOKUP(B404,'Trimmers & Brush Cutters'!$F$13:$F$27,'Trimmers & Brush Cutters'!$V$13:$V$27)","v":0},20240301,2409,{"$f":"_xlfn.XLOOKUP(B404,'Trimmers & Brush Cutters'!$F$13:$F$27,'Trimmers & Brush Cutters'!$W$13:$W$27)","v":0},20240402,2414,{"$f":"_xlfn.XLOOKUP(B404,'Trimmers & Brush Cutters'!$F$13:$F$27,'Trimmers & Brush Cutters'!$X$13:$X$27)","v":0},20240501,2418,{"$f":"_xlfn.XLOOKUP(B404,'Trimmers & Brush Cutters'!$F$13:$F$27,'Trimmers & Brush Cutters'!$Y$13:$Y$27)","v":0},20240603,2423,{"$f":"_xlfn.XLOOKUP(B404,'Trimmers & Brush Cutters'!$F$13:$F$27,'Trimmers & Brush Cutters'!$Z$13:$Z$27)","v":0},{"$f":"_xlfn.XLOOKUP(B404,'Trimmers & Brush Cutters'!$F$13:$F$27,'Trimmers & Brush Cutters'!$L$13:$L$27)","v":243.2105}]
["Trimmers & Brushcutters",966779901,20240103,2401,{"$f":"_xlfn.XLOOKUP(B405,'Trimmers & Brush Cutters'!$F$13:$F$27,'Trimmers & Brush Cutters'!$U$13:$U$27)","v":0},20240201,2405,{"$f":"_xlfn.XLOOKUP(B405,'Trimmers & Brush Cutters'!$F$13:$F$27,'Trimmers & Brush Cutters'!$V$13:$V$27)","v":0},20240301,2409,{"$f":"_xlfn.XLOOKUP(B405,'Trimmers & Brush Cutters'!$F$13:$F$27,'Trimmers & Brush Cutters'!$W$13:$W$27)","v":0},20240402,2414,{"$f":"_xlfn.XLOOKUP(B405,'Trimmers & Brush Cutters'!$F$13:$F$27,'Trimmers & Brush Cutters'!$X$13:$X$27)","v":0},20240501,2418,{"$f":"_xlfn.XLOOKUP(B405,'Trimmers & Brush Cutters'!$F$13:$F$27,'Trimmers & Brush Cutters'!$Y$13:$Y$27)","v":0},20240603,2423,{"$f":"_xlfn.XLOOKUP(B405,'Trimmers & Brush Cutters'!$F$13:$F$27,'Trimmers & Brush Cutters'!$Z$13:$Z$27)","v":0},{"$f":"_xlfn.XLOOKUP(B405,'Trimmers & Brush Cutters'!$F$13:$F$27,'Trimmers & Brush Cutters'!$L$13:$L$27)","v":362.375}]
["Trimmers & Brushcutters",966629301,20240103,2401,{"$f":"_xlfn.XLOOKUP(B406,'Trimmers & Brush Cutters'!$F$13:$F$27,'Trimmers & Brush Cutters'!$U$13:$U$27)","v":0},20240201,2405,{"$f":"_xlfn.XLOOKUP(B406,'Trimmers & Brush Cutters'!$F$13:$F$27,'Trimmers & Brush Cutters'!$V$13:$V$27)","v":0},20240301,2409,{"$f":"_xlfn.XLOOKUP(B406,'Trimmers & Brush Cutters'!$F$13:$F$27,'Trimmers & Brush Cutters'!$W$13:$W$27)","v":0},20240402,2414,{"$f":"_xlfn.XLOOKUP(B406,'Trimmers & Brush Cutters'!$F$13:$F$27,'Trimmers & Brush Cutters'!$X$13:$X$27)","v":0},20240501,2418,{"$f":"_xlfn.XLOOKUP(B406,'Trimmers & Brush Cutters'!$F$13:$F$27,'Trimmers & Brush Cutters'!$Y$13:$Y$27)","v":0},20240603,2423,{"$f":"_xlfn.XLOOKUP(B406,'Trimmers & Brush Cutters'!$F$13:$F$27,'Trimmers & Brush Cutters'!$Z$13:$Z$27)","v":0},{"$f":"_xlfn.XLOOKUP(B406,'Trimmers & Brush Cutters'!$F$13:$F$27,'Trimmers & Brush Cutters'!$L$13:$L$27)","v":757.78949999999986}]
["Trimmers & Brushcutters",967193202,20240103,2401,{"$f":"_xlfn.XLOOKUP(B407,'Trimmers & Brush Cutters'!$F$13:$F$28,'Trimmers & Brush Cutters'!$U$13:$U$28)","v":0},20240201,2405,{"$f":"_xlfn.XLOOKUP(B407,'Trimmers & Brush Cutters'!$F$13:$F$28,'Trimmers & Brush Cutters'!$V$13:$V$28)","v":0},20240301,2409,{"$f":"_xlfn.XLOOKUP(B407,'Trimmers & Brush Cutters'!$F$13:$F$28,'Trimmers & Brush Cutters'!$W$13:$W$28)","v":0},20240402,2414,{"$f":"_xlfn.XLOOKUP(B407,'Trimmers & Brush Cutters'!$F$13:$F$28,'Trimmers & Brush Cutters'!$X$13:$X$28)","v":0},20240501,2418,{"$f":"_xlfn.XLOOKUP(B407,'Trimmers & Brush Cutters'!$F$13:$F$28,'Trimmers & Brush Cutters'!$Y$13:$Y$28)","v":0},20240603,2423,{"$f":"_xlfn.XLOOKUP(B407,'Trimmers & Brush Cutters'!$F$13:$F$28,'Trimmers & Brush Cutters'!$Z$13:$Z$28)","v":0},{"$f":"_xlfn.XLOOKUP(B407,'Trimmers & Brush Cutters'!$F$13:$F$28,'Trimmers & Brush Cutters'!$L$13:$L$28)","v":134.875}]
["Trimmers & Brushcutters",966779701,20240103,2401,{"$f":"_xlfn.XLOOKUP(B408,'Trimmers & Brush Cutters'!$F$13:$F$27,'Trimmers & Brush Cutters'!$U$13:$U$27)","v":0},20240201,2405,{"$f":"_xlfn.XLOOKUP(B408,'Trimmers & Brush Cutters'!$F$13:$F$27,'Trimmers & Brush Cutters'!$V$13:$V$27)","v":0},20240301,2409,{"$f":"_xlfn.XLOOKUP(B408,'Trimmers & Brush Cutters'!$F$13:$F$27,'Trimmers & Brush Cutters'!$W$13:$W$27)","v":0},20240402,2414,{"$f":"_xlfn.XLOOKUP(B408,'Trimmers & Brush Cutters'!$F$13:$F$27,'Trimmers & Brush Cutters'!$X$13:$X$27)","v":0},20240501,2418,{"$f":"_xlfn.XLOOKUP(B408,'Trimmers & Brush Cutters'!$F$13:$F$27,'Trimmers & Brush Cutters'!$Y$13:$Y$27)","v":0},20240603,2423,{"$f":"_xlfn.XLOOKUP(B408,'Trimmers & Brush Cutters'!$F$13:$F$27,'Trimmers & Brush Cutters'!$Z$13:$Z$27)","v":0},{"$f":"_xlfn.XLOOKUP(B408,'Trimmers & Brush Cutters'!$F$13:$F$27,'Trimmers & Brush Cutters'!$L$13:$L$27)","v":108.32899999999999}]
["Walk Behind Mowers",970549301,20240103,2401,{"$f":"_xlfn.XLOOKUP(B409,'Walk Behinds'!$F$13:$F$38,'Walk Behinds'!$U$13:$U$38)","v":0},20240201,2405,{"$f":"_xlfn.XLOOKUP(B409,'Walk Behinds'!$F$13:$F$38,'Walk Behinds'!$V$13:$V$38)","v":0},20240301,2409,{"$f":"_xlfn.XLOOKUP(B409,'Walk Behinds'!$F$13:$F$38,'Walk Behinds'!$W$13:$W$38)","v":0},20240402,2414,{"$f":"_xlfn.XLOOKUP(B409,'Walk Behinds'!$F$13:$F$38,'Walk Behinds'!X13:X38)","v":0},20240501,2418,{"$f":"_xlfn.XLOOKUP(B409,'Walk Behinds'!$F$13:$F$38,'Walk Behinds'!$Y$13:$Y$38)","v":0},20240603,2423,{"$f":"_xlfn.XLOOKUP(B409,'Walk Behinds'!$F$13:$F$38,'Walk Behinds'!$Z$13:$Z$38)","v":0},{"$f":"_xlfn.XLOOKUP(B409,'Walk Behinds'!$F$13:$F$38,'Walk Behinds'!$L$13:$L$38)","v":2057.7894999999999}]
["Walk Behind Mowers",967963503,20240103,2401,{"$f":"_xlfn.XLOOKUP(B410,'Walk Behinds'!$F$13:$F$38,'Walk Behinds'!$U$13:$U$38)","v":0},20240201,2405,{"$f":"_xlfn.XLOOKUP(B410,'Walk Behinds'!$F$13:$F$38,'Walk Behinds'!$V$13:$V$38)","v":0},20240301,2409,{"$f":"_xlfn.XLOOKUP(B410,'Walk Behinds'!$F$13:$F$38,'Walk Behinds'!$W$13:$W$38)","v":0},20240402,2414,{"$f":"_xlfn.XLOOKUP(B410,'Walk Behinds'!$F$13:$F$38,'Walk Behinds'!$X$13:$X$38)","v":0},20240501,2418,{"$f":"_xlfn.XLOOKUP(B410,'Walk Behinds'!$F$13:$F$38,'Walk Behinds'!$Y$13:$Y$38)","v":0},20240603,2423,{"$f":"_xlfn.XLOOKUP(B410,'Walk Behinds'!$F$13:$F$38,'Walk Behinds'!$Z$13:$Z$38)","v":0},{"$f":"_xlfn.XLOOKUP(B410,'Walk Behinds'!$F$13:$F$38,'Walk Behinds'!$L$13:$L$38)","v":2003.625}]
["Walk Behind Mowers",964954002,20240103,2401,{"$f":"_xlfn.XLOOKUP(B411,'Walk Behinds'!$F$13:$F$38,'Walk Behinds'!$U$13:$U$38)","v":0},20240201,2405,{"$f":"_xlfn.XLOOKUP(B411,'Walk Behinds'!$F$13:$F$38,'Walk Behinds'!$V$13:$V$38)","v":0},20240301,2409,{"$f":"_xlfn.XLOOKUP(B411,'Walk Behinds'!$F$13:$F$38,'Walk Behinds'!$W$13:$W$38)","v":0},20240402,2414,{"$f":"_xlfn.XLOOKUP(B411,'Walk Behinds'!$F$13:$F$38,'Walk Behinds'!$X$13:$X$38)","v":0},20240501,2418,{"$f":"_xlfn.XLOOKUP(B411,'Walk Behinds'!$F$13:$F$38,'Walk Behinds'!$Y$13:$Y$38)","v":0},20240603,2423,{"$f":"_xlfn.XLOOKUP(B411,'Walk Behinds'!$F$13:$F$38,'Walk Behinds'!$Z$13:$Z$38)","v":0},{"$f":"_xlfn.XLOOKUP(B411,'Walk Behinds'!$F$13:$F$38,'Walk Behinds'!$L$13:$L$38)","v":78.539500000000004}]
["Walk Behind Mowers",964901030,20240103,2401,{"$f":"_xlfn.XLOOKUP(B412,'Walk Behinds'!$F$13:$F$38,'Walk Behinds'!$U$13:$U$38)","v":0},20240201,2405,{"$f":"_xlfn.XLOOKUP(B412,'Walk Behinds'!$F$13:$F$38,'Walk Behinds'!$V$13:$V$38)","v":0},20240301,2409,{"$f":"_xlfn.XLOOKUP(B412,'Walk Behinds'!$F$13:$F$38,'Walk Behinds'!$W$13:$W$38)","v":0},20240402,2414,{"$f":"_xlfn.XLOOKUP(B412,'Walk Behinds'!$F$13:$F$38,'Walk Behinds'!$X$13:$X$38)","v":0},20240501,2418,{"$f":"_xlfn.XLOOKUP(B412,'Walk Behinds'!$F$13:$F$38,'Walk Behinds'!$Y$13:$Y$38)","v":0},20240603,2423,{"$f":"_xlfn.XLOOKUP(B412,'Walk Behinds'!$F$13:$F$38,'Walk Behinds'!$Z$13:$Z$38)","v":0},{"$f":"_xlfn.XLOOKUP(B412,'Walk Behinds'!$F$13:$F$38,'Walk Behinds'!$L$13:$L$38)","v":21.664499999999997}]
["Walk Behind Mowers",970608501,20240103,2401,{"$f":"_xlfn.XLOOKUP(B413,'Walk Behinds'!$F$13:$F$38,'Walk Behinds'!$U$13:$U$38)","v":0},20240201,2405,{"$f":"_xlfn.XLOOKUP(B413,'Walk Behinds'!$F$13:$F$38,'Walk Behinds'!$V$13:$V$38)","v":0},20240301,2409,{"$f":"_xlfn.XLOOKUP(B413,'Walk Behinds'!$F$13:$F$38,'Walk Behinds'!$W$13:$W$38)","v":0},20240402,2414,{"$f":"_xlfn.XLOOKUP(B413,'Walk Behinds'!$F$13:$F$38,'Walk Behinds'!$X$13:$X$38)","v":0},20240501,2418,{"$f":"_xlfn.XLOOKUP(B413,'Walk Behinds'!$F$13:$F$38,'Walk Behinds'!$Y$13:$Y$38)","v":0},20240603,2423,{"$f":"_xlfn.XLOOKUP(B413,'Walk Behinds'!$F$13:$F$38,'Walk Behinds'!$Z$13:$Z$38)","v":0},{"$f":"_xlfn.XLOOKUP(B413,'Walk Behinds'!$F$13:$F$38,'Walk Behinds'!$L$13:$L$38)","v":335.28949999999998}]
["Walk Behind Mowers",970608701,20240103,2401,{"$f":"_xlfn.XLOOKUP(B414,'Walk Behinds'!$F$13:$F$38,'Walk Behinds'!$U$13:$U$38)","v":0},20240201,2405,{"$f":"_xlfn.XLOOKUP(B414,'Walk Behinds'!$F$13:$F$38,'Walk Behinds'!$V$13:$V$38)","v":0},20240301,2409,{"$f":"_xlfn.XLOOKUP(B414,'Walk Behinds'!$F$13:$F$38,'Walk Behinds'!$W$13:$W$38)","v":0},20240402,2414,{"$f":"_xlfn.XLOOKUP(B414,'Walk Behinds'!$F$13:$F$38,'Walk Behinds'!$X$13:$X$38)","v":0},20240501,2418,{"$f":"_xlfn.XLOOKUP(B414,'Walk Behinds'!$F$13:$F$38,'Walk Behinds'!$Y$13:$Y$38)","v":0},20240603,2423,{"$f":"_xlfn.XLOOKUP(B414,'Walk Behinds'!$F$13:$F$38,'Walk Behinds'!$Z$13:$Z$38)","v":0},{"$f":"_xlfn.XLOOKUP(B414,'Walk Behinds'!$F$13:$F$38,'Walk Behinds'!$L$13:$L$38)","v":421.96049999999991}]
["Walk Behind Mowers",970608801,20240103,2401,{"$f":"_xlfn.XLOOKUP(B415,'Walk Behinds'!$F$13:$F$38,'Walk Behinds'!$U$13:$U$38)","v":0},20240201,2405,{"$f":"_xlfn.XLOOKUP(B415,'Walk Behinds'!$F$13:$F$38,'Walk Behinds'!$V$13:$V$38)","v":0},20240301,2409,{"$f":"_xlfn.XLOOKUP(B415,'Walk Behinds'!$F$13:$F$38,'Walk Behinds'!$W$13:$W$38)","v":0},20240402,2414,{"$f":"_xlfn.XLOOKUP(B415,'Walk Behinds'!$F$13:$F$38,'Walk Behinds'!$X$13:$X$38)","v":0},20240501,2418,{"$f":"_xlfn.XLOOKUP(B415,'Walk Behinds'!$F$13:$F$38,'Walk Behinds'!$Y$13:$Y$38)","v":0},20240603,2423,{"$f":"_xlfn.XLOOKUP(B415,'Walk Behinds'!$F$13:$F$38,'Walk Behinds'!$Z$13:$Z$38)","v":0},{"$f":"_xlfn.XLOOKUP(B415,'Walk Behinds'!$F$13:$F$38,'Walk Behinds'!$L$13:$L$38)","v":486.96049999999997}]
["Walk Behind Mowers",970608901,20240103,2401,{"$f":"_xlfn.XLOOKUP(B416,'Walk Behinds'!$F$13:$F$38,'Walk Behinds'!$U$13:$U$38)","v":0},20240201,2405,{"$f":"_xlfn.XLOOKUP(B416,'Walk Behinds'!$F$13:$F$38,'Walk Behinds'!$V$13:$V$38)","v":0},20240301,2409,{"$f":"_xlfn.XLOOKUP(B416,'Walk Behinds'!$F$13:$F$38,'Walk Behinds'!$W$13:$W$38)","v":1},20240402,2414,{"$f":"_xlfn.XLOOKUP(B416,'Walk Behinds'!$F$13:$F$38,'Walk Behinds'!$X$13:$X$38)","v":0},20240501,2418,{"$f":"_xlfn.XLOOKUP(B416,'Walk Behinds'!$F$13:$F$38,'Walk Behinds'!$Y$13:$Y$38)","v":0},20240603,2423,{"$f":"_xlfn.XLOOKUP(B416,'Walk Behinds'!$F$13:$F$38,'Walk Behinds'!$Z$13:$Z$38)","v":0},{"$f":"_xlfn.XLOOKUP(B416,'Walk Behinds'!$F$13:$F$38,'Walk Behinds'!$L$13:$L$38)","v":541.125}]
["Walk Behind Mowers",970621801,20240103,2401,{"$f":"_xlfn.XLOOKUP(B417,'Walk Behinds'!$F$13:$F$38,'Walk Behinds'!$U$13:$U$38)","v":0},20240201,2405,{"$f":"_xlfn.XLOOKUP(B417,'Walk Behinds'!$F$13:$F$38,'Walk Behinds'!$V$13:$V$38)","v":0},20240301,2409,{"$f":"_xlfn.XLOOKUP(B417,'Walk Behinds'!$F$13:$F$38,'Walk Behinds'!$W$13:$W$38)","v":0},20240402,2414,{"$f":"_xlfn.XLOOKUP(B417,'Walk Behinds'!$F$13:$F$38,'Walk Behinds'!$X$13:$X$38)","v":0},20240501,2418,{"$f":"_xlfn.XLOOKUP(B417,'Walk Behinds'!$F$13:$F$38,'Walk Behinds'!$Y$13:$Y$38)","v":0},20240603,2423,{"$f":"_xlfn.XLOOKUP(B417,'Walk Behinds'!$F$13:$F$38,'Walk Behinds'!$Z$13:$Z$38)","v":0},{"$f":"_xlfn.XLOOKUP(B417,'Walk Behinds'!$F$13:$F$38,'Walk Behinds'!$L$13:$L$38)","v":784.875}]
["Walk Behind Mowers",970609001,20240103,2401,{"$f":"_xlfn.XLOOKUP(B418,'Walk Behinds'!$F$13:$F$38,'Walk Behinds'!$U$13:$U$38)","v":0},20240201,2405,{"$f":"_xlfn.XLOOKUP(B418,'Walk Behinds'!$F$13:$F$38,'Walk Behinds'!$V$13:$V$38)","v":0},20240301,2409,{"$f":"_xlfn.XLOOKUP(B418,'Walk Behinds'!$F$13:$F$38,'Walk Behinds'!$W$13:$W$38)","v":0},20240402,2414,{"$f":"_xlfn.XLOOKUP(B418,'Walk Behinds'!$F$13:$F$38,'Walk Behinds'!$X$13:$X$38)","v":0},20240501,2418,{"$f":"_xlfn.XLOOKUP(B418,'Walk Behinds'!$F$13:$F$38,'Walk Behinds'!$Y$13:$Y$38)","v":0},20240603,2423,{"$f":"_xlfn.XLOOKUP(B418,'Walk Behinds'!$F$13:$F$38,'Walk Behinds'!$Z$13:$Z$38)","v":0},{"$f":"_xlfn.XLOOKUP(B418,'Walk Behinds'!$F$13:$F$38,'Walk Behinds'!$L$13:$L$38)","v":616.96049999999991}]
["Walk Behind Mowers",970609401,20240103,2401,{"$f":"_xlfn.XLOOKUP(B419,'Walk Behinds'!$F$13:$F$38,'Walk Behinds'!$U$13:$U$38)","v":0},20240201,2405,{"$f":"_xlfn.XLOOKUP(B419,'Walk Behinds'!$F$13:$F$38,'Walk Behinds'!$V$13:$V$38)","v":0},20240301,2409,{"$f":"_xlfn.XLOOKUP(B419,'Walk Behinds'!$F$13:$F$38,'Walk Behinds'!$W$13:$W$38)","v":0},20240402,2414,{"$f":"_xlfn.XLOOKUP(B419,'Walk Behinds'!$F$13:$F$38,'Walk Behinds'!$X$13:$X$38)","v":0},20240501,2418,{"$f":"_xlfn.XLOOKUP(B419,'Walk Behinds'!$F$13:$F$38,'Walk Behinds'!$Y$13:$Y$38)","v":0},20240603,2423,{"$f":"_xlfn.XLOOKUP(B419,'Walk Behinds'!$F$13:$F$38,'Walk Behinds'!$Z$13:$Z$38)","v":0},{"$f":"_xlfn.XLOOKUP(B419,'Walk Behinds'!$F$13:$F$38,'Walk Behinds'!$L$13:$L$38)","v":595.28949999999998}]
["Walk Behind Mowers",970621701,20240103,2401,{"$f":"_xlfn.XLOOKUP(B420,'Walk Behinds'!$F$13:$F$38,'Walk Behinds'!$U$13:$U$38)","v":0},20240201,2405,{"$f":"_xlfn.XLOOKUP(B420,'Walk Behinds'!$F$13:$F$38,'Walk Behinds'!$V$13:$V$38)","v":0},20240301,2409,{"$f":"_xlfn.XLOOKUP(B420,'Walk Behinds'!$F$13:$F$38,'Walk Behinds'!$W$13:$W$38)","v":0},20240402,2414,{"$f":"_xlfn.XLOOKUP(B420,'Walk Behinds'!$F$13:$F$38,'Walk Behinds'!$X$13:$X$38)","v":0},20240501,2418,{"$f":"_xlfn.XLOOKUP(B420,'Walk Behinds'!$F$13:$F$38,'Walk Behinds'!$Y$13:$Y$38)","v":0},20240603,2423,{"$f":"_xlfn.XLOOKUP(B420,'Walk Behinds'!$F$13:$F$38,'Walk Behinds'!$Z$13:$Z$38)","v":0},{"$f":"_xlfn.XLOOKUP(B420,'Walk Behinds'!$F$13:$F$38,'Walk Behinds'!$L$13:$L$38)","v":616.96049999999991}]
["Walk Behind Mowers",970609101,20240103,2401,{"$f":"_xlfn.XLOOKUP(B421,'Walk Behinds'!$F$13:$F$38,'Walk Behinds'!$U$13:$U$38)","v":1},20240201,2405,{"$f":"_xlfn.XLOOKUP(B421,'Walk Behinds'!$F$13:$F$38,'Walk Behinds'!$V$13:$V$38)","v":1},20240301,2409,{"$f":"_xlfn.XLOOKUP(B421,'Walk Behinds'!$F$13:$F$38,'Walk Behinds'!$W$13:$W$38)","v":2},20240402,2414,{"$f":"_xlfn.XLOOKUP(B421,'Walk Behinds'!$F$13:$F$38,'Walk Behinds'!$X$13:$X$38)","v":1},20240501,2418,{"$f":"_xlfn.XLOOKUP(B421,'Walk Behinds'!$F$13:$F$38,'Walk Behinds'!$Y$13:$Y$38)","v":1},20240603,2423,{"$f":"_xlfn.XLOOKUP(B421,'Walk Behinds'!$F$13:$F$38,'Walk Behinds'!$Z$13:$Z$38)","v":0},{"$f":"_xlfn.XLOOKUP(B421,'Walk Behinds'!$F$13:$F$38,'Walk Behinds'!$L$13:$L$38)","v":644.28}]
["Walk Behind Mowers",970617501,20240103,2401,{"$f":"_xlfn.XLOOKUP(B422,'Walk Behinds'!$F$13:$F$38,'Walk Behinds'!$U$13:$U$38)","v":0},20240201,2405,{"$f":"_xlfn.XLOOKUP(B422,'Walk Behinds'!$F$13:$F$38,'Walk Behinds'!$V$13:$V$38)","v":0},20240301,2409,{"$f":"_xlfn.XLOOKUP(B422,'Walk Behinds'!$F$13:$F$38,'Walk Behinds'!$W$13:$W$38)","v":1},20240402,2414,{"$f":"_xlfn.XLOOKUP(B422,'Walk Behinds'!$F$13:$F$38,'Walk Behinds'!$X$13:$X$38)","v":0},20240501,2418,{"$f":"_xlfn.XLOOKUP(B422,'Walk Behinds'!$F$13:$F$38,'Walk Behinds'!$Y$13:$Y$38)","v":1},20240603,2423,{"$f":"_xlfn.XLOOKUP(B422,'Walk Behinds'!$F$13:$F$38,'Walk Behinds'!$Z$13:$Z$38)","v":0},{"$f":"_xlfn.XLOOKUP(B422,'Walk Behinds'!$F$13:$F$38,'Walk Behinds'!$L$13:$L$38)","v":486.96049999999997}]
["Walk Behind Mowers",970541101,20240103,2401,{"$f":"_xlfn.XLOOKUP(B423,'Walk Behinds'!$F$13:$F$38,'Walk Behinds'!$U$13:$U$38)","v":0},20240201,2405,{"$f":"_xlfn.XLOOKUP(B423,'Walk Behinds'!$F$13:$F$38,'Walk Behinds'!$V$13:$V$38)","v":0},20240301,2409,{"$f":"_xlfn.XLOOKUP(B423,'Walk Behinds'!$F$13:$F$38,'Walk Behinds'!$W$13:$W$38)","v":0},20240402,2414,{"$f":"_xlfn.XLOOKUP(B423,'Walk Behinds'!$F$13:$F$38,'Walk Behinds'!$X$13:$X$38)","v":0},20240501,2418,{"$f":"_xlfn.XLOOKUP(B423,'Walk Behinds'!$F$13:$F$38,'Walk Behinds'!$Y$13:$Y$38)","v":0},20240603,2423,{"$f":"_xlfn.XLOOKUP(B423,'Walk Behinds'!$F$13:$F$38,'Walk Behinds'!$Z$13:$Z$38)","v":0},{"$f":"_xlfn.XLOOKUP(B423,'Walk Behinds'!$F$13:$F$38,'Walk Behinds'!$L$13:$L$38)","v":281.125}]
["Walk Behind Mowers",970541201,20240103,2401,{"$f":"_xlfn.XLOOKUP(B424,'Walk Behinds'!$F$13:$F$38,'Walk Behinds'!$U$13:$U$38)","v":2},20240201,2405,{"$f":"_xlfn.XLOOKUP(B424,'Walk Behinds'!$F$13:$F$38,'Walk Behinds'!$V$13:$V$38)","v":2},20240301,2409,{"$f":"_xlfn.XLOOKUP(B424,'Walk Behinds'!$F$13:$F$38,'Walk Behinds'!$W$13:$W$38)","v":4},20240402,2414,{"$f":"_xlfn.XLOOKUP(B424,'Walk Behinds'!$F$13:$F$38,'Walk Behinds'!$X$13:$X$38)","v":4},20240501,2418,{"$f":"_xlfn.XLOOKUP(B424,'Walk Behinds'!$F$13:$F$38,'Walk Behinds'!$Y$13:$Y$38)","v":0},20240603,2423,{"$f":"_xlfn.XLOOKUP(B424,'Walk Behinds'!$F$13:$F$38,'Walk Behinds'!$Z$13:$Z$38)","v":0},{"$f":"_xlfn.XLOOKUP(B424,'Walk Behinds'!$F$13:$F$38,'Walk Behinds'!$L$13:$L$38)","v":295.88208000000003}]
["Walk Behind Mowers",970541501,20240103,2401,{"$f":"_xlfn.XLOOKUP(B425,'Walk Behinds'!$F$13:$F$38,'Walk Behinds'!$U$13:$U$38)","v":0},20240201,2405,{"$f":"_xlfn.XLOOKUP(B425,'Walk Behinds'!$F$13:$F$38,'Walk Behinds'!$V$13:$V$38)","v":0},20240301,2409,{"$f":"_xlfn.XLOOKUP(B425,'Walk Behinds'!$F$13:$F$38,'Walk Behinds'!$W$13:$W$38)","v":0},20240402,2414,{"$f":"_xlfn.XLOOKUP(B425,'Walk Behinds'!$F$13:$F$38,'Walk Behinds'!$X$13:$X$38)","v":0},20240501,2418,{"$f":"_xlfn.XLOOKUP(B425,'Walk Behinds'!$F$13:$F$38,'Walk Behinds'!$Y$13:$Y$38)","v":0},20240603,2423,{"$f":"_xlfn.XLOOKUP(B425,'Walk Behinds'!$F$13:$F$38,'Walk Behinds'!$Z$13:$Z$38)","v":0},{"$f":"_xlfn.XLOOKUP(B425,'Walk Behinds'!$F$13:$F$38,'Walk Behinds'!$L$13:$L$38)","v":378.625}]
["Walk Behind Mowers",970541301,20240103,2401,{"$f":"_xlfn.XLOOKUP(B426,'Walk Behinds'!$F$13:$F$38,'Walk Behinds'!$U$13:$U$38)","v":0},20240201,2405,{"$f":"_xlfn.XLOOKUP(B426,'Walk Behinds'!$F$13:$F$38,'Walk Behinds'!$V$13:$V$38)","v":0},20240301,2409,{"$f":"_xlfn.XLOOKUP(B426,'Walk Behinds'!$F$13:$F$38,'Walk Behinds'!$W$13:$W$38)","v":0},20240402,2414,{"$f":"_xlfn.XLOOKUP(B426,'Walk Behinds'!$F$13:$F$38,'Walk Behinds'!$X$13:$X$38)","v":0},20240501,2418,{"$f":"_xlfn.XLOOKUP(B426,'Walk Behinds'!$F$13:$F$38,'Walk Behinds'!$Y$13:$Y$38)","v":0},20240603,2423,{"$f":"_xlfn.XLOOKUP(B426,'Walk Behinds'!$F$13:$F$38,'Walk Behinds'!$Z$13:$Z$38)","v":0},{"$f":"_xlfn.XLOOKUP(B426,'Walk Behinds'!$F$13:$F$38,'Walk Behinds'!$L$13:$L$38)","v":405.71049999999991}]
["Walk Behind Mowers",970541601,20240103,2401,{"$f":"_xlfn.XLOOKUP(B427,'Walk Behinds'!$F$13:$F$38,'Walk Behinds'!$U$13:$U$38)","v":0},20240201,2405,{"$f":"_xlfn.XLOOKUP(B427,'Walk Behinds'!$F$13:$F$38,'Walk Behinds'!$V$13:$V$38)","v":0},20240301,2409,{"$f":"_xlfn.XLOOKUP(B427,'Walk Behinds'!$F$13:$F$38,'Walk Behinds'!$W$13:$W$38)","v":0},20240402,2414,{"$f":"_xlfn.XLOOKUP(B427,'Walk Behinds'!$F$13:$F$38,'Walk Behinds'!$X$13:$X$38)","v":0},20240501,2418,{"$f":"_xlfn.XLOOKUP(B427,'Walk Behinds'!$F$13:$F$38,'Walk Behinds'!$Y$13:$Y$38)","v":0},20240603,2423,{"$f":"_xlfn.XLOOKUP(B427,'Walk Behinds'!$F$13:$F$38,'Walk Behinds'!$Z$13:$Z$38)","v":0},{"$f":"_xlfn.XLOOKUP(B427,'Walk Behinds'!$F$13:$F$38,'Walk Behinds'!$L$13:$L$38)","v":432.78949999999998}]
["Walk Behind Mowers",970488201,20240103,2401,{"$f":"_xlfn.XLOOKUP(B428,'Walk Behinds'!$F$13:$F$38,'Walk Behinds'!$U$13:$U$38)","v":0},20240201,2405,{"$f":"_xlfn.XLOOKUP(B428,'Walk Behinds'!$F$13:$F$38,'Walk Behinds'!$V$13:$V$38)","v":0},20240301,2409,{"$f":"_xlfn.XLOOKUP(B428,'Walk Behinds'!$F$13:$F$38,'Walk Behinds'!$W$13:$W$38)","v":0},20240402,2414,{"$f":"_xlfn.XLOOKUP(B428,'Walk Behinds'!$F$13:$F$38,'Walk Behinds'!$X$13:$X$38)","v":0},20240501,2418,{"$f":"_xlfn.XLOOKUP(B428,'Walk Behinds'!$F$13:$F$38,'Walk Behinds'!$Y$13:$Y$38)","v":0},20240603,2423,{"$f":"_xlfn.XLOOKUP(B428,'Walk Behinds'!$F$13:$F$38,'Walk Behinds'!$Z$13:$Z$38)","v":0},{"$f":"_xlfn.XLOOKUP(B428,'Walk Behinds'!$F$13:$F$38,'Walk Behinds'!$L$13:$L$38)","v":216.125}]
["Walk Behind Mowers",970488401,20240103,2401,{"$f":"_xlfn.XLOOKUP(B429,'Walk Behinds'!$F$13:$F$38,'Walk Behinds'!$U$13:$U$38)","v":0},20240201,2405,{"$f":"_xlfn.XLOOKUP(B429,'Walk Behinds'!$F$13:$F$38,'Walk Behinds'!$V$13:$V$38)","v":0},20240301,2409,{"$f":"_xlfn.XLOOKUP(B429,'Walk Behinds'!$F$13:$F$38,'Walk Behinds'!$W$13:$W$38)","v":0},20240402,2414,{"$f":"_xlfn.XLOOKUP(B429,'Walk Behinds'!$F$13:$F$38,'Walk Behinds'!$X$13:$X$38)","v":0},20240501,2418,{"$f":"_xlfn.XLOOKUP(B429,'Walk Behinds'!$F$13:$F$38,'Walk Behinds'!$Y$13:$Y$38)","v":0},20240603,2423,{"$f":"_xlfn.XLOOKUP(B429,'Walk Behinds'!$F$13:$F$38,'Walk Behinds'!$Z$13:$Z$38)","v":0},{"$f":"_xlfn.XLOOKUP(B429,'Walk Behinds'!$F$13:$F$38,'Walk Behinds'!$L$13:$L$38)","v":297.375}]
["Walk Behind Mowers",589214902,20240103,2401,{"$f":"_xlfn.XLOOKUP(B430,'Walk Behinds'!$F$13:$F$38,'Walk Behinds'!$U$13:$U$38)","v":0},20240201,2405,{"$f":"_xlfn.XLOOKUP(B430,'Walk Behinds'!$F$13:$F$38,'Walk Behinds'!$V$13:$V$38)","v":0},20240301,2409,{"$f":"_xlfn.XLOOKUP(B430,'Walk Behinds'!$F$13:$F$38,'Walk Behinds'!$W$13:$W$38)","v":0},20240402,2414,{"$f":"_xlfn.XLOOKUP(B430,'Walk Behinds'!$F$13:$F$38,'Walk Behinds'!$X$13:$X$38)","v":0},20240501,2418,{"$f":"_xlfn.XLOOKUP(B430,'Walk Behinds'!$F$13:$F$38,'Walk Behinds'!$Y$13:$Y$38)","v":0},20240603,2423,{"$f":"_xlfn.XLOOKUP(B430,'Walk Behinds'!$F$13:$F$38,'Walk Behinds'!$Z$13:$Z$38)","v":0},{"$f":"_xlfn.XLOOKUP(B430,'Walk Behinds'!$F$13:$F$38,'Walk Behinds'!$L$13:$L$38)","v":28.164499999999997}]
["Walk Behind Mowers",589817502,20240103,2401,{"$f":"_xlfn.XLOOKUP(B431,'Walk Behinds'!$F$13:$F$38,'Walk Behinds'!$U$13:$U$38)","v":0},20240201,2405,{"$f":"_xlfn.XLOOKUP(B431,'Walk Behinds'!$F$13:$F$38,'Walk Behinds'!$V$13:$V$38)","v":0},20240301,2409,{"$f":"_xlfn.XLOOKUP(B431,'Walk Behinds'!$F$13:$F$38,'Walk Behinds'!$W$13:$W$38)","v":0},20240402,2414,{"$f":"_xlfn.XLOOKUP(B431,'Walk Behinds'!$F$13:$F$38,'Walk Behinds'!$X$13:$X$38)","v":0},20240501,2418,{"$f":"_xlfn.XLOOKUP(B431,'Walk Behinds'!$F$13:$F$38,'Walk Behinds'!$Y$13:$Y$38)","v":0},20240603,2423,{"$f":"_xlfn.XLOOKUP(B431,'Walk Behinds'!$F$13:$F$38,'Walk Behinds'!$Z$13:$Z$38)","v":0},{"$f":"_xlfn.XLOOKUP(B431,'Walk Behinds'!$F$13:$F$38,'Walk Behinds'!$L$13:$L$38)","v":28.164499999999997}]
["Walk Behind Mowers",598018001,20240103,2401,{"$f":"_xlfn.XLOOKUP(B432,'Walk Behinds'!$F$13:$F$38,'Walk Behinds'!$U$13:$U$38)","v":0},20240201,2405,{"$f":"_xlfn.XLOOKUP(B432,'Walk Behinds'!$F$13:$F$38,'Walk Behinds'!$V$13:$V$38)","v":0},20240301,2409,{"$f":"_xlfn.XLOOKUP(B432,'Walk Behinds'!$F$13:$F$38,'Walk Behinds'!$W$13:$W$38)","v":0},20240402,2414,{"$f":"_xlfn.XLOOKUP(B432,'Walk Behinds'!$F$13:$F$38,'Walk Behinds'!$X$13:$X$38)","v":0},20240501,2418,{"$f":"_xlfn.XLOOKUP(B432,'Walk Behinds'!$F$13:$F$38,'Walk Behinds'!$Y$13:$Y$38)","v":0},20240603,2423,{"$f":"_xlfn.XLOOKUP(B432,'Walk Behinds'!$F$13:$F$38,'Walk Behinds'!$Z$13:$Z$38)","v":0},{"$f":"_xlfn.XLOOKUP(B432,'Walk Behinds'!$F$13:$F$38,'Walk Behinds'!$L$13:$L$38)","v":24.368499999999997}]
["Walk Behind Mowers",582680601,20240103,2401,{"$f":"_xlfn.XLOOKUP(B433,'Walk Behinds'!$F$13:$F$38,'Walk Behinds'!$U$13:$U$38)","v":0},20240201,2405,{"$f":"_xlfn.XLOOKUP(B433,'Walk Behinds'!$F$13:$F$38,'Walk Behinds'!$V$13:$V$38)","v":0},20240301,2409,{"$f":"_xlfn.XLOOKUP(B433,'Walk Behinds'!$F$13:$F$38,'Walk Behinds'!$W$13:$W$38)","v":0},20240402,2414,{"$f":"_xlfn.XLOOKUP(B433,'Walk Behinds'!$F$13:$F$38,'Walk Behinds'!$X$13:$X$38)","v":0},20240501,2418,{"$f":"_xlfn.XLOOKUP(B433,'Walk Behinds'!$F$13:$F$38,'Walk Behinds'!$Y$13:$Y$38)","v":0},20240603,2423,{"$f":"_xlfn.XLOOKUP(B433,'Walk Behinds'!$F$13:$F$38,'Walk Behinds'!$Z$13:$Z$38)","v":0},{"$f":"_xlfn.XLOOKUP(B433,'Walk Behinds'!$F$13:$F$38,'Walk Behinds'!$L$13:$L$38)","v":27.078999999999997}]
["Walk Behind Mowers",589214801,20240103,2401,{"$f":"_xlfn.XLOOKUP(B434,'Walk Behinds'!$F$13:$F$38,'Walk Behinds'!$U$13:$U$38)","v":0},20240201,2405,{"$f":"_xlfn.XLOOKUP(B434,'Walk Behinds'!$F$13:$F$38,'Walk Behinds'!$V$13:$V$38)","v":0},20240301,2409,{"$f":"_xlfn.XLOOKUP(B434,'Walk Behinds'!$F$13:$F$38,'Walk Behinds'!$W$13:$W$38)","v":0},20240402,2414,{"$f":"_xlfn.XLOOKUP(B434,'Walk Behinds'!$F$13:$F$38,'Walk Behinds'!$X$13:$X$38)","v":0},20240501,2418,{"$f":"_xlfn.XLOOKUP(B434,'Walk Behinds'!$F$13:$F$38,'Walk Behinds'!$Y$13:$Y$38)","v":0},20240603,2423,{"$f":"_xlfn.XLOOKUP(B434,'Walk Behinds'!$F$13:$F$38,'Walk Behinds'!$Z$13:$Z$38)","v":0},{"$f":"_xlfn.XLOOKUP(B434,'Walk Behinds'!$F$13:$F$38,'Walk Behinds'!$L$13:$L$38)","v":24.368499999999997}]

{"sheet":"Acc Master Data","index":4,"n_rows":768,"n_cols":32,"rows_kept":768,"cut":false,"hidden":false,"merged":[]}
[null,null,"PSO JAN ACC",null,null,"PSO FEB ACC",null,null,"PSO MAR ACC",null,null,"PSO APR ACC",null,null,"PSO MAY ACC",null,null,"PSO JUN ACC"]
["Product Group","Part Number","Delivery date","Delivery week","Qty","Delivery date2","Delivery week3","Qty4","Delivery date5","Delivery week6","Qty7","Delivery date8","Delivery week9","Qty10","Delivery date11","Delivery week12","Qty13","Delivery date14","Delivery week15","Qty16","Price",null,null,null,null,null,null,null,null,null,null,"BNPF"]
["Arborist Accessories",598035701,20240103,2401,{"$f":"_xlfn.XLOOKUP(B3,'Arborist Accessories'!$F$13:$F$45,'Arborist Accessories'!$N$13:$N$45)","v":0},20240201,2405,{"$f":"_xlfn.XLOOKUP(B3,'Arborist Accessories'!$F$13:$F$45,'Arborist Accessories'!$O$13:$O$45)","v":0},20240301,2409,{"$f":"_xlfn.XLOOKUP(B3,'Arborist Accessories'!$F$13:$F$45,'Arborist Accessories'!$P$13:$P$45)","v":0},20240402,2414,{"$f":"_xlfn.XLOOKUP(B3,'Arborist Accessories'!$F$13:$F$45,'Arborist Accessories'!$Q$13:$Q$45)","v":0},20240501,2418,{"$f":"_xlfn.XLOOKUP(B3,'Arborist Accessories'!$F$13:$F$45,'Arborist Accessories'!$R$13:$R$45)","v":0},20240603,2423,{"$f":"_xlfn.XLOOKUP(B3,'Arborist Accessories'!$F$13:$F$45,'Arborist Accessories'!$S$13:$S$45)","v":0},{"$f":"_xlfn.XLOOKUP(B3,'Arborist Accessories'!$F$13:$F$45,'Arborist Accessories'!$L$13:$L$45)","v":5.83}]
["Arborist Accessories",596936311,20240103,2401,{"$f":"_xlfn.XLOOKUP(B4,'Arborist Accessories'!$F$13:$F$45,'Arborist Accessories'!$N$13:$N$45)","v":0},20240201,2405,{"$f":"_xlfn.XLOOKUP(B4,'Arborist Accessories'!$F$13:$F$45,'Arborist Accessories'!$O$13:$O$45)","v":0},20240301,2409,{"$f":"_xlfn.XLOOKUP(B4,'Arborist Accessories'!$F$13:$F$45,'Arborist Accessories'!$P$13:$P$45)","v":0},20240402,2414,{"$f":"_xlfn.XLOOKUP(B4,'Arborist Accessories'!$F$13:$F$45,'Arborist Accessories'!$Q$13:$Q$45)","v":0},20240501,2418,{"$f":"_xlfn.XLOOKUP(B4,'Arborist Accessories'!$F$13:$F$45,'Arborist Accessories'!$R$13:$R$45)","v":0},20240603,2423,{"$f":"_xlfn.XLOOKUP(B4,'Arborist Accessories'!$F$13:$F$45,'Arborist Accessories'!$S$13:$S$45)","v":0},{"$f":"_xlfn.XLOOKUP(B4,'Arborist Accessories'!$F$13:$F$45,'Arborist Accessories'!$L$13:$L$45)","v":25.414999999999999}]
["Arborist Accessories",596936213,20240103,2401,{"$f":"_xlfn.XLOOKUP(B5,'Arborist Accessories'!$F$13:$F$45,'Arborist Accessories'!$N$13:$N$45)","v":0},20240201,2405,{"$f":"_xlfn.XLOOKUP(B5,'Arborist Accessories'!$F$13:$F$45,'Arborist Accessories'!$O$13:$O$45)","v":0},20240301,2409,{"$f":"_xlfn.XLOOKUP(B5,'Arborist Accessories'!$F$13:$F$45,'Arborist Accessories'!$P$13:$P$45)","v":0},20240402,2414,{"$f":"_xlfn.XLOOKUP(B5,'Arborist Accessories'!$F$13:$F$45,'Arborist Accessories'!$Q$13:$Q$45)","v":0},20240501,2418,{"$f":"_xlfn.XLOOKUP(B5,'Arborist Accessories'!$F$13:$F$45,'Arborist Accessories'!$R$13:$R$45)","v":0},20240603,2423,{"$f":"_xlfn.XLOOKUP(B5,'Arborist Accessories'!$F$13:$F$45,'Arborist Accessories'!$S$13:$S$45)","v":0},{"$f":"_xlfn.XLOOKUP(B5,'Arborist Accessories'!$F$13:$F$45,'Arborist Accessories'!$L$13:$L$45)","v":9.9949999999999992}]
["Arborist Accessories",596936212,20240103,2401,{"$f":"_xlfn.XLOOKUP(B6,'Arborist Accessories'!$F$13:$F$45,'Arborist Accessories'!$N$13:$N$45)","v":0},20240201,2405,{"$f":"_xlfn.XLOOKUP(B6,'Arborist Accessories'!$F$13:$F$45,'Arborist Accessories'!$O$13:$O$45)","v":0},20240301,2409,{"$f":"_xlfn.XLOOKUP(B6,'Arborist Accessories'!$F$13:$F$45,'Arborist Accessories'!$P$13:$P$45)","v":0},20240402,2414,{"$f":"_xlfn.XLOOKUP(B6,'Arborist Accessories'!$F$13:$F$45,'Arborist Accessories'!$Q$13:$Q$45)","v":0},20240501,2418,{"$f":"_xlfn.XLOOKUP(B6,'Arborist Accessories'!$F$13:$F$45,'Arborist Accessories'!$R$13:$R$45)","v":0},20240603,2423,{"$f":"_xlfn.XLOOKUP(B6,'Arborist Accessories'!$F$13:$F$45,'Arborist Accessories'!$S$13:$S$45)","v":0},{"$f":"_xlfn.XLOOKUP(B6,'Arborist Accessories'!$F$13:$F$45,'Arborist Accessories'!$L$13:$L$45)","v":9.9949999999999992}]
["Arborist Accessories",596936211,20240103,2401,{"$f":"_xlfn.XLOOKUP(B7,'Arborist Accessories'!$F$13:$F$45,'Arborist Accessories'!$N$13:$N$45)","v":0},20240201,2405,{"$f":"_xlfn.XLOOKUP(B7,'Arborist Accessories'!$F$13:$F$45,'Arborist Accessories'!$O$13:$O$45)","v":0},20240301,2409,{"$f":"_xlfn.XLOOKUP(B7,'Arborist Accessories'!$F$13:$F$45,'Arborist Accessories'!$P$13:$P$45)","v":0},20240402,2414,{"$f":"_xlfn.XLOOKUP(B7,'Arborist Accessories'!$F$13:$F$45,'Arborist Accessories'!$Q$13:$Q$45)","v":0},20240501,2418,{"$f":"_xlfn.XLOOKUP(B7,'Arborist Accessories'!$F$13:$F$45,'Arborist Accessories'!$R$13:$R$45)","v":0},20240603,2423,{"$f":"_xlfn.XLOOKUP(B7,'Arborist Accessories'!$F$13:$F$45,'Arborist Accessories'!$S$13:$S$45)","v":0},{"$f":"_xlfn.XLOOKUP(B7,'Arborist Accessories'!$F$13:$F$45,'Arborist Accessories'!$L$13:$L$45)","v":10.414999999999999}]
["Arborist Accessories",596936011,20240103,2401,{"$f":"_xlfn.XLOOKUP(B8,'Arborist Accessories'!$F$13:$F$45,'Arborist Accessories'!$N$13:$N$45)","v":0},20240201,2405,{"$f":"_xlfn.XLOOKUP(B8,'Arborist Accessories'!$F$13:$F$45,'Arborist Accessories'!$O$13:$O$45)","v":0},20240301,2409,{"$f":"_xlfn.XLOOKUP(B8,'Arborist Accessories'!$F$13:$F$45,'Arborist Accessories'!$P$13:$P$45)","v":0},20240402,2414,{"$f":"_xlfn.XLOOKUP(B8,'Arborist Accessories'!$F$13:$F$45,'Arborist Accessories'!$Q$13:$Q$45)","v":0},20240501,2418,{"$f":"_xlfn.XLOOKUP(B8,'Arborist Accessories'!$F$13:$F$45,'Arborist Accessories'!$R$13:$R$45)","v":0},20240603,2423,{"$f":"_xlfn.XLOOKUP(B8,'Arborist Accessories'!$F$13:$F$45,'Arborist Accessories'!$S$13:$S$45)","v":0},{"$f":"_xlfn.XLOOKUP(B8,'Arborist Accessories'!$F$13:$F$45,'Arborist Accessories'!$L$13:$L$45)","v":28.745000000000001}]
["Arborist Accessories",596935911,20240103,2401,{"$f":"_xlfn.XLOOKUP(B9,'Arborist Accessories'!$F$13:$F$45,'Arborist Accessories'!$N$13:$N$45)","v":0},20240201,2405,{"$f":"_xlfn.XLOOKUP(B9,'Arborist Accessories'!$F$13:$F$45,'Arborist Accessories'!$O$13:$O$45)","v":0},20240301,2409,{"$f":"_xlfn.XLOOKUP(B9,'Arborist Accessories'!$F$13:$F$45,'Arborist Accessories'!$P$13:$P$45)","v":0},20240402,2414,{"$f":"_xlfn.XLOOKUP(B9,'Arborist Accessories'!$F$13:$F$45,'Arborist Accessories'!$Q$13:$Q$45)","v":0},20240501,2418,{"$f":"_xlfn.XLOOKUP(B9,'Arborist Accessories'!$F$13:$F$45,'Arborist Accessories'!$R$13:$R$45)","v":0},20240603,2423,{"$f":"_xlfn.XLOOKUP(B9,'Arborist Accessories'!$F$13:$F$45,'Arborist Accessories'!$S$13:$S$45)","v":0},{"$f":"_xlfn.XLOOKUP(B9,'Arborist Accessories'!$F$13:$F$45,'Arborist Accessories'!$L$13:$L$45)","v":19.995000000000001}]
["Arborist Accessories",596935814,20240103,2401,{"$f":"_xlfn.XLOOKUP(B10,'Arborist Accessories'!$F$13:$F$45,'Arborist Accessories'!$N$13:$N$45)","v":0},20240201,2405,{"$f":"_xlfn.XLOOKUP(B10,'Arborist Accessories'!$F$13:$F$45,'Arborist Accessories'!$O$13:$O$45)","v":0},20240301,2409,{"$f":"_xlfn.XLOOKUP(B10,'Arborist Accessories'!$F$13:$F$45,'Arborist Accessories'!$P$13:$P$45)","v":0},20240402,2414,{"$f":"_xlfn.XLOOKUP(B10,'Arborist Accessories'!$F$13:$F$45,'Arborist Accessories'!$Q$13:$Q$45)","v":0},20240501,2418,{"$f":"_xlfn.XLOOKUP(B10,'Arborist Accessories'!$F$13:$F$45,'Arborist Accessories'!$R$13:$R$45)","v":0},20240603,2423,{"$f":"_xlfn.XLOOKUP(B10,'Arborist Accessories'!$F$13:$F$45,'Arborist Accessories'!$S$13:$S$45)","v":0},{"$f":"_xlfn.XLOOKUP(B10,'Arborist Accessories'!$F$13:$F$45,'Arborist Accessories'!$L$13:$L$45)","v":10.414999999999999}]
["Arborist Accessories",596935813,20240103,2401,{"$f":"_xlfn.XLOOKUP(B11,'Arborist Accessories'!$F$13:$F$45,'Arborist Accessories'!$N$13:$N$45)","v":0},20240201,2405,{"$f":"_xlfn.XLOOKUP(B11,'Arborist Accessories'!$F$13:$F$45,'Arborist Accessories'!$O$13:$O$45)","v":0},20240301,2409,{"$f":"_xlfn.XLOOKUP(B11,'Arborist Accessories'!$F$13:$F$45,'Arborist Accessories'!$P$13:$P$45)","v":0},20240402,2414,{"$f":"_xlfn.XLOOKUP(B11,'Arborist Accessories'!$F$13:$F$45,'Arborist Accessories'!$Q$13:$Q$45)","v":0},20240501,2418,{"$f":"_xlfn.XLOOKUP(B11,'Arborist Accessories'!$F$13:$F$45,'Arborist Accessories'!$R$13:$R$45)","v":0},20240603,2423,{"$f":"_xlfn.XLOOKUP(B11,'Arborist Accessories'!$F$13:$F$45,'Arborist Accessories'!$S$13:$S$45)","v":0},{"$f":"_xlfn.XLOOKUP(B11,'Arborist Accessories'!$F$13:$F$45,'Arborist Accessories'!$L$13:$L$45)","v":10.414999999999999}]
["Arborist Accessories",596935812,20240103,2401,{"$f":"_xlfn.XLOOKUP(B12,'Arborist Accessories'!$F$13:$F$45,'Arborist Accessories'!$N$13:$N$45)","v":0},20240201,2405,{"$f":"_xlfn.XLOOKUP(B12,'Arborist Accessories'!$F$13:$F$45,'Arborist Accessories'!$O$13:$O$45)","v":0},20240301,2409,{"$f":"_xlfn.XLOOKUP(B12,'Arborist Accessories'!$F$13:$F$45,'Arborist Accessories'!$P$13:$P$45)","v":0},20240402,2414,{"$f":"_xlfn.XLOOKUP(B12,'Arborist Accessories'!$F$13:$F$45,'Arborist Accessories'!$Q$13:$Q$45)","v":0},20240501,2418,{"$f":"_xlfn.XLOOKUP(B12,'Arborist Accessories'!$F$13:$F$45,'Arborist Accessories'!$R$13:$R$45)","v":0},20240603,2423,{"$f":"_xlfn.XLOOKUP(B12,'Arborist Accessories'!$F$13:$F$45,'Arborist Accessories'!$S$13:$S$45)","v":0},{"$f":"_xlfn.XLOOKUP(B12,'Arborist Accessories'!$F$13:$F$45,'Arborist Accessories'!$L$13:$L$45)","v":10.414999999999999}]
["Arborist Accessories",596935811,20240103,2401,{"$f":"_xlfn.XLOOKUP(B13,'Arborist Accessories'!$F$13:$F$45,'Arborist Accessories'!$N$13:$N$45)","v":0},20240201,2405,{"$f":"_xlfn.XLOOKUP(B13,'Arborist Accessories'!$F$13:$F$45,'Arborist Accessories'!$O$13:$O$45)","v":0},20240301,2409,{"$f":"_xlfn.XLOOKUP(B13,'Arborist Accessories'!$F$13:$F$45,'Arborist Accessories'!$P$13:$P$45)","v":0},20240402,2414,{"$f":"_xlfn.XLOOKUP(B13,'Arborist Accessories'!$F$13:$F$45,'Arborist Accessories'!$Q$13:$Q$45)","v":0},20240501,2418,{"$f":"_xlfn.XLOOKUP(B13,'Arborist Accessories'!$F$13:$F$45,'Arborist Accessories'!$R$13:$R$45)","v":0},20240603,2423,{"$f":"_xlfn.XLOOKUP(B13,'Arborist Accessories'!$F$13:$F$45,'Arborist Accessories'!$S$13:$S$45)","v":0},{"$f":"_xlfn.XLOOKUP(B13,'Arborist Accessories'!$F$13:$F$45,'Arborist Accessories'!$L$13:$L$45)","v":10.414999999999999}]
["Arborist Accessories",546027301,20240103,2401,{"$f":"_xlfn.XLOOKUP(B14,'Arborist Accessories'!$F$13:$F$45,'Arborist Accessories'!$N$13:$N$45)","v":0},20240201,2405,{"$f":"_xlfn.XLOOKUP(B14,'Arborist Accessories'!$F$13:$F$45,'Arborist Accessories'!$O$13:$O$45)","v":0},20240301,2409,{"$f":"_xlfn.XLOOKUP(B14,'Arborist Accessories'!$F$13:$F$45,'Arborist Accessories'!$P$13:$P$45)","v":0},20240402,2414,{"$f":"_xlfn.XLOOKUP(B14,'Arborist Accessories'!$F$13:$F$45,'Arborist Accessories'!$Q$13:$Q$45)","v":0},20240501,2418,{"$f":"_xlfn.XLOOKUP(B14,'Arborist Accessories'!$F$13:$F$45,'Arborist Accessories'!$R$13:$R$45)","v":0},20240603,2423,{"$f":"_xlfn.XLOOKUP(B14,'Arborist Accessories'!$F$13:$F$45,'Arborist Accessories'!$S$13:$S$45)","v":0},{"$f":"_xlfn.XLOOKUP(B14,'Arborist Accessories'!$F$13:$F$45,'Arborist Accessories'!$L$13:$L$45)","v":22.914999999999999}]
["Arborist Accessories",536176301,20240103,2401,{"$f":"_xlfn.XLOOKUP(B15,'Arborist Accessories'!$F$13:$F$45,'Arborist Accessories'!$N$13:$N$45)","v":0},20240201,2405,{"$f":"_xlfn.XLOOKUP(B15,'Arborist Accessories'!$F$13:$F$45,'Arborist Accessories'!$O$13:$O$45)","v":0},20240301,2409,{"$f":"_xlfn.XLOOKUP(B15,'Arborist Accessories'!$F$13:$F$45,'Arborist Accessories'!$P$13:$P$45)","v":0},20240402,2414,{"$f":"_xlfn.XLOOKUP(B15,'Arborist Accessories'!$F$13:$F$45,'Arborist Accessories'!$Q$13:$Q$45)","v":0},20240501,2418,{"$f":"_xlfn.XLOOKUP(B15,'Arborist Accessories'!$F$13:$F$45,'Arborist Accessories'!$R$13:$R$45)","v":0},20240603,2423,{"$f":"_xlfn.XLOOKUP(B15,'Arborist Accessories'!$F$13:$F$45,'Arborist Accessories'!$S$13:$S$45)","v":0},{"$f":"_xlfn.XLOOKUP(B15,'Arborist Accessories'!$F$13:$F$45,'Arborist Accessories'!$L$13:$L$45)","v":14.58}]
["Arborist Accessories",534101801,20240103,2401,{"$f":"_xlfn.XLOOKUP(B16,'Arborist Accessories'!$F$13:$F$45,'Arborist Accessories'!$N$13:$N$45)","v":0},20240201,2405,{"$f":"_xlfn.XLOOKUP(B16,'Arborist Accessories'!$F$13:$F$45,'Arborist Accessories'!$O$13:$O$45)","v":0},20240301,2409,{"$f":"_xlfn.XLOOKUP(B16,'Arborist Accessories'!$F$13:$F$45,'Arborist Accessories'!$P$13:$P$45)","v":0},20240402,2414,{"$f":"_xlfn.XLOOKUP(B16,'Arborist Accessories'!$F$13:$F$45,'Arborist Accessories'!$Q$13:$Q$45)","v":0},20240501,2418,{"$f":"_xlfn.XLOOKUP(B16,'Arborist Accessories'!$F$13:$F$45,'Arborist Accessories'!$R$13:$R$45)","v":0},20240603,2423,{"$f":"_xlfn.XLOOKUP(B16,'Arborist Accessories'!$F$13:$F$45,'Arborist Accessories'!$S$13:$S$45)","v":0},{"$f":"_xlfn.XLOOKUP(B16,'Arborist Accessories'!$F$13:$F$45,'Arborist Accessories'!$L$13:$L$45)","v":103.75}]
["Arborist Accessories",534100801,20240103,2401,{"$f":"_xlfn.XLOOKUP(B17,'Arborist Accessories'!$F$13:$F$45,'Arborist Accessories'!$N$13:$N$45)","v":0},20240201,2405,{"$f":"_xlfn.XLOOKUP(B17,'Arborist Accessories'!$F$13:$F$45,'Arborist Accessories'!$O$13:$O$45)","v":0},20240301,2409,{"$f":"_xlfn.XLOOKUP(B17,'Arborist Accessories'!$F$13:$F$45,'Arborist Accessories'!$P$13:$P$45)","v":0},20240402,2414,{"$f":"_xlfn.XLOOKUP(B17,'Arborist Accessories'!$F$13:$F$45,'Arborist Accessories'!$Q$13:$Q$45)","v":0},20240501,2418,{"$f":"_xlfn.XLOOKUP(B17,'Arborist Accessories'!$F$13:$F$45,'Arborist Accessories'!$R$13:$R$45)","v":0},20240603,2423,{"$f":"_xlfn.XLOOKUP(B17,'Arborist Accessories'!$F$13:$F$45,'Arborist Accessories'!$S$13:$S$45)","v":0},{"$f":"_xlfn.XLOOKUP(B17,'Arborist Accessories'!$F$13:$F$45,'Arborist Accessories'!$L$13:$L$45)","v":27.914999999999999}]
["Arborist Accessories",534099902,20240103,2401,{"$f":"_xlfn.XLOOKUP(B18,'Arborist Accessories'!$F$13:$F$45,'Arborist Accessories'!$N$13:$N$45)","v":0},20240201,2405,{"$f":"_xlfn.XLOOKUP(B18,'Arborist Accessories'!$F$13:$F$45,'Arborist Accessories'!$O$13:$O$45)","v":0},20240301,2409,{"$f":"_xlfn.XLOOKUP(B18,'Arborist Accessories'!$F$13:$F$45,'Arborist Accessories'!$P$13:$P$45)","v":0},20240402,2414,{"$f":"_xlfn.XLOOKUP(B18,'Arborist Accessories'!$F$13:$F$45,'Arborist Accessories'!$Q$13:$Q$45)","v":0},20240501,2418,{"$f":"_xlfn.XLOOKUP(B18,'Arborist Accessories'!$F$13:$F$45,'Arborist Accessories'!$R$13:$R$45)","v":0},20240603,2423,{"$f":"_xlfn.XLOOKUP(B18,'Arborist Accessories'!$F$13:$F$45,'Arborist Accessories'!$S$13:$S$45)","v":0},{"$f":"_xlfn.XLOOKUP(B18,'Arborist Accessories'!$F$13:$F$45,'Arborist Accessories'!$L$13:$L$45)","v":12.494999999999999}]
["Arborist Accessories",534099901,20240103,2401,{"$f":"_xlfn.XLOOKUP(B19,'Arborist Accessories'!$F$13:$F$45,'Arborist Accessories'!$N$13:$N$45)","v":0},20240201,2405,{"$f":"_xlfn.XLOOKUP(B19,'Arborist Accessories'!$F$13:$F$45,'Arborist Accessories'!$O$13:$O$45)","v":0},20240301,2409,{"$f":"_xlfn.XLOOKUP(B19,'Arborist Accessories'!$F$13:$F$45,'Arborist Accessories'!$P$13:$P$45)","v":0},20240402,2414,{"$f":"_xlfn.XLOOKUP(B19,'Arborist Accessories'!$F$13:$F$45,'Arborist Accessories'!$Q$13:$Q$45)","v":0},20240501,2418,{"$f":"_xlfn.XLOOKUP(B19,'Arborist Accessories'!$F$13:$F$45,'Arborist Accessories'!$R$13:$R$45)","v":0},20240603,2423,{"$f":"_xlfn.XLOOKUP(B19,'Arborist Accessories'!$F$13:$F$45,'Arborist Accessories'!$S$13:$S$45)","v":0},{"$f":"_xlfn.XLOOKUP(B19,'Arborist Accessories'!$F$13:$F$45,'Arborist Accessories'!$L$13:$L$45)","v":12.494999999999999}]
["Arborist Accessories",534099802,20240103,2401,{"$f":"_xlfn.XLOOKUP(B20,'Arborist Accessories'!$F$13:$F$45,'Arborist Accessories'!$N$13:$N$45)","v":0},20240201,2405,{"$f":"_xlfn.XLOOKUP(B20,'Arborist Accessories'!$F$13:$F$45,'Arborist Accessories'!$O$13:$O$45)","v":0},20240301,2409,{"$f":"_xlfn.XLOOKUP(B20,'Arborist Accessories'!$F$13:$F$45,'Arborist Accessories'!$P$13:$P$45)","v":0},20240402,2414,{"$f":"_xlfn.XLOOKUP(B20,'Arborist Accessories'!$F$13:$F$45,'Arborist Accessories'!$Q$13:$Q$45)","v":0},20240501,2418,{"$f":"_xlfn.XLOOKUP(B20,'Arborist Accessories'!$F$13:$F$45,'Arborist Accessories'!$R$13:$R$45)","v":0},20240603,2423,{"$f":"_xlfn.XLOOKUP(B20,'Arborist Accessories'!$F$13:$F$45,'Arborist Accessories'!$S$13:$S$45)","v":0},{"$f":"_xlfn.XLOOKUP(B20,'Arborist Accessories'!$F$13:$F$45,'Arborist Accessories'!$L$13:$L$45)","v":116.25}]
["Arborist Accessories",534099801,20240103,2401,{"$f":"_xlfn.XLOOKUP(B21,'Arborist Accessories'!$F$13:$F$45,'Arborist Accessories'!$N$13:$N$45)","v":0},20240201,2405,{"$f":"_xlfn.XLOOKUP(B21,'Arborist Accessories'!$F$13:$F$45,'Arborist Accessories'!$O$13:$O$45)","v":0},20240301,2409,{"$f":"_xlfn.XLOOKUP(B21,'Arborist Accessories'!$F$13:$F$45,'Arborist Accessories'!$P$13:$P$45)","v":0},20240402,2414,{"$f":"_xlfn.XLOOKUP(B21,'Arborist Accessories'!$F$13:$F$45,'Arborist Accessories'!$Q$13:$Q$45)","v":0},20240501,2418,{"$f":"_xlfn.XLOOKUP(B21,'Arborist Accessories'!$F$13:$F$45,'Arborist Accessories'!$R$13:$R$45)","v":0},20240603,2423,{"$f":"_xlfn.XLOOKUP(B21,'Arborist Accessories'!$F$13:$F$45,'Arborist Accessories'!$S$13:$S$45)","v":0},{"$f":"_xlfn.XLOOKUP(B21,'Arborist Accessories'!$F$13:$F$45,'Arborist Accessories'!$L$13:$L$45)","v":112.08499999999999}]
["Arborist Accessories",534099701,20240103,2401,{"$f":"_xlfn.XLOOKUP(B22,'Arborist Accessories'!$F$13:$F$45,'Arborist Accessories'!$N$13:$N$45)","v":0},20240201,2405,{"$f":"_xlfn.XLOOKUP(B22,'Arborist Accessories'!$F$13:$F$45,'Arborist Accessories'!$O$13:$O$45)","v":0},20240301,2409,{"$f":"_xlfn.XLOOKUP(B22,'Arborist Accessories'!$F$13:$F$45,'Arborist Accessories'!$P$13:$P$45)","v":0},20240402,2414,{"$f":"_xlfn.XLOOKUP(B22,'Arborist Accessories'!$F$13:$F$45,'Arborist Accessories'!$Q$13:$Q$45)","v":0},20240501,2418,{"$f":"_xlfn.XLOOKUP(B22,'Arborist Accessories'!$F$13:$F$45,'Arborist Accessories'!$R$13:$R$45)","v":0},20240603,2423,{"$f":"_xlfn.XLOOKUP(B22,'Arborist Accessories'!$F$13:$F$45,'Arborist Accessories'!$S$13:$S$45)","v":0},{"$f":"_xlfn.XLOOKUP(B22,'Arborist Accessories'!$F$13:$F$45,'Arborist Accessories'!$L$13:$L$45)","v":28.33}]
["Arborist Accessories",534099201,20240103,2401,{"$f":"_xlfn.XLOOKUP(B23,'Arborist Accessories'!$F$13:$F$45,'Arborist Accessories'!$N$13:$N$45)","v":0},20240201,2405,{"$f":"_xlfn.XLOOKUP(B23,'Arborist Accessories'!$F$13:$F$45,'Arborist Accessories'!$O$13:$O$45)","v":0},20240301,2409,{"$f":"_xlfn.XLOOKUP(B23,'Arborist Accessories'!$F$13:$F$45,'Arborist Accessories'!$P$13:$P$45)","v":0},20240402,2414,{"$f":"_xlfn.XLOOKUP(B23,'Arborist Accessories'!$F$13:$F$45,'Arborist Accessories'!$Q$13:$Q$45)","v":0},20240501,2418,{"$f":"_xlfn.XLOOKUP(B23,'Arborist Accessories'!$F$13:$F$45,'Arborist Accessories'!$R$13:$R$45)","v":0},20240603,2423,{"$f":"_xlfn.XLOOKUP(B23,'Arborist Accessories'!$F$13:$F$45,'Arborist Accessories'!$S$13:$S$45)","v":0},{"$f":"_xlfn.XLOOKUP(B23,'Arborist Accessories'!$F$13:$F$45,'Arborist Accessories'!$L$13:$L$45)","v":45.83}]
["Arborist Accessories",534098901,20240103,2401,{"$f":"_xlfn.XLOOKUP(B24,'Arborist Accessories'!$F$13:$F$45,'Arborist Accessories'!$N$13:$N$45)","v":0},20240201,2405,{"$f":"_xlfn.XLOOKUP(B24,'Arborist Accessories'!$F$13:$F$45,'Arborist Accessories'!$O$13:$O$45)","v":0},20240301,2409,{"$f":"_xlfn.XLOOKUP(B24,'Arborist Accessories'!$F$13:$F$45,'Arborist Accessories'!$P$13:$P$45)","v":0},20240402,2414,{"$f":"_xlfn.XLOOKUP(B24,'Arborist Accessories'!$F$13:$F$45,'Arborist Accessories'!$Q$13:$Q$45)","v":0},20240501,2418,{"$f":"_xlfn.XLOOKUP(B24,'Arborist Accessories'!$F$13:$F$45,'Arborist Accessories'!$R$13:$R$45)","v":0},20240603,2423,{"$f":"_xlfn.XLOOKUP(B24,'Arborist Accessories'!$F$13:$F$45,'Arborist Accessories'!$S$13:$S$45)","v":0},{"$f":"_xlfn.XLOOKUP(B24,'Arborist Accessories'!$F$13:$F$45,'Arborist Accessories'!$L$13:$L$45)","v":78.75}]
["Arborist Accessories",534098812,20240103,2401,{"$f":"_xlfn.XLOOKUP(B25,'Arborist Accessories'!$F$13:$F$45,'Arborist Accessories'!$N$13:$N$45)","v":0},20240201,2405,{"$f":"_xlfn.XLOOKUP(B25,'Arborist Accessories'!$F$13:$F$45,'Arborist Accessories'!$O$13:$O$45)","v":0},20240301,2409,{"$f":"_xlfn.XLOOKUP(B25,'Arborist Accessories'!$F$13:$F$45,'Arborist Accessories'!$P$13:$P$45)","v":0},20240402,2414,{"$f":"_xlfn.XLOOKUP(B25,'Arborist Accessories'!$F$13:$F$45,'Arborist Accessories'!$Q$13:$Q$45)","v":0},20240501,2418,{"$f":"_xlfn.XLOOKUP(B25,'Arborist Accessories'!$F$13:$F$45,'Arborist Accessories'!$R$13:$R$45)","v":0},20240603,2423,{"$f":"_xlfn.XLOOKUP(B25,'Arborist Accessories'!$F$13:$F$45,'Arborist Accessories'!$S$13:$S$45)","v":0},{"$f":"_xlfn.XLOOKUP(B25,'Arborist Accessories'!$F$13:$F$45,'Arborist Accessories'!$L$13:$L$45)","v":112.08499999999999}]
["Arborist Accessories",534098811,20240103,2401,{"$f":"_xlfn.XLOOKUP(B26,'Arborist Accessories'!$F$13:$F$45,'Arborist Accessories'!$N$13:$N$45)","v":0},20240201,2405,{"$f":"_xlfn.XLOOKUP(B26,'Arborist Accessories'!$F$13:$F$45,'Arborist Accessories'!$O$13:$O$45)","v":0},20240301,2409,{"$f":"_xlfn.XLOOKUP(B26,'Arborist Accessories'!$F$13:$F$45,'Arborist Accessories'!$P$13:$P$45)","v":0},20240402,2414,{"$f":"_xlfn.XLOOKUP(B26,'Arborist Accessories'!$F$13:$F$45,'Arborist Accessories'!$Q$13:$Q$45)","v":0},20240501,2418,{"$f":"_xlfn.XLOOKUP(B26,'Arborist Accessories'!$F$13:$F$45,'Arborist Accessories'!$R$13:$R$45)","v":0},20240603,2423,{"$f":"_xlfn.XLOOKUP(B26,'Arborist Accessories'!$F$13:$F$45,'Arborist Accessories'!$S$13:$S$45)","v":0},{"$f":"_xlfn.XLOOKUP(B26,'Arborist Accessories'!$F$13:$F$45,'Arborist Accessories'!$L$13:$L$45)","v":82.915000000000006}]
["Arborist Accessories",534098802,20240103,2401,{"$f":"_xlfn.XLOOKUP(B27,'Arborist Accessories'!$F$13:$F$45,'Arborist Accessories'!$N$13:$N$45)","v":0},20240201,2405,{"$f":"_xlfn.XLOOKUP(B27,'Arborist Accessories'!$F$13:$F$45,'Arborist Accessories'!$O$13:$O$45)","v":0},20240301,2409,{"$f":"_xlfn.XLOOKUP(B27,'Arborist Accessories'!$F$13:$F$45,'Arborist Accessories'!$P$13:$P$45)","v":0},20240402,2414,{"$f":"_xlfn.XLOOKUP(B27,'Arborist Accessories'!$F$13:$F$45,'Arborist Accessories'!$Q$13:$Q$45)","v":0},20240501,2418,{"$f":"_xlfn.XLOOKUP(B27,'Arborist Accessories'!$F$13:$F$45,'Arborist Accessories'!$R$13:$R$45)","v":0},20240603,2423,{"$f":"_xlfn.XLOOKUP(B27,'Arborist Accessories'!$F$13:$F$45,'Arborist Accessories'!$S$13:$S$45)","v":0},{"$f":"_xlfn.XLOOKUP(B27,'Arborist Accessories'!$F$13:$F$45,'Arborist Accessories'!$L$13:$L$45)","v":112.08499999999999}]
["Arborist Accessories",534098801,20240103,2401,{"$f":"_xlfn.XLOOKUP(B28,'Arborist Accessories'!$F$13:$F$45,'Arborist Accessories'!$N$13:$N$45)","v":0},20240201,2405,{"$f":"_xlfn.XLOOKUP(B28,'Arborist Accessories'!$F$13:$F$45,'Arborist Accessories'!$O$13:$O$45)","v":0},20240301,2409,{"$f":"_xlfn.XLOOKUP(B28,'Arborist Accessories'!$F$13:$F$45,'Arborist Accessories'!$P$13:$P$45)","v":0},20240402,2414,{"$f":"_xlfn.XLOOKUP(B28,'Arborist Accessories'!$F$13:$F$45,'Arborist Accessories'!$Q$13:$Q$45)","v":0},20240501,2418,{"$f":"_xlfn.XLOOKUP(B28,'Arborist Accessories'!$F$13:$F$45,'Arborist Accessories'!$R$13:$R$45)","v":0},20240603,2423,{"$f":"_xlfn.XLOOKUP(B28,'Arborist Accessories'!$F$13:$F$45,'Arborist Accessories'!$S$13:$S$45)","v":0},{"$f":"_xlfn.XLOOKUP(B28,'Arborist Accessories'!$F$13:$F$45,'Arborist Accessories'!$L$13:$L$45)","v":82.915000000000006}]
["Arborist Accessories",534098712,20240103,2401,{"$f":"_xlfn.XLOOKUP(B29,'Arborist Accessories'!$F$13:$F$45,'Arborist Accessories'!$N$13:$N$45)","v":0},20240201,2405,{"$f":"_xlfn.XLOOKUP(B29,'Arborist Accessories'!$F$13:$F$45,'Arborist Accessories'!$O$13:$O$45)","v":0},20240301,2409,{"$f":"_xlfn.XLOOKUP(B29,'Arborist Accessories'!$F$13:$F$45,'Arborist Accessories'!$P$13:$P$45)","v":0},20240402,2414,{"$f":"_xlfn.XLOOKUP(B29,'Arborist Accessories'!$F$13:$F$45,'Arborist Accessories'!$Q$13:$Q$45)","v":0},20240501,2418,{"$f":"_xlfn.XLOOKUP(B29,'Arborist Accessories'!$F$13:$F$45,'Arborist Accessories'!$R$13:$R$45)","v":0},20240603,2423,{"$f":"_xlfn.XLOOKUP(B29,'Arborist Accessories'!$F$13:$F$45,'Arborist Accessories'!$S$13:$S$45)","v":0},{"$f":"_xlfn.XLOOKUP(B29,'Arborist Accessories'!$F$13:$F$45,'Arborist Accessories'!$L$13:$L$45)","v":157.91499999999999}]
["Arborist Accessories",534098711,20240103,2401,{"$f":"_xlfn.XLOOKUP(B30,'Arborist Accessories'!$F$13:$F$45,'Arborist Accessories'!$N$13:$N$45)","v":0},20240201,2405,{"$f":"_xlfn.XLOOKUP(B30,'Arborist Accessories'!$F$13:$F$45,'Arborist Accessories'!$O$13:$O$45)","v":0},20240301,2409,{"$f":"_xlfn.XLOOKUP(B30,'Arborist Accessories'!$F$13:$F$45,'Arborist Accessories'!$P$13:$P$45)","v":0},20240402,2414,{"$f":"_xlfn.XLOOKUP(B30,'Arborist Accessories'!$F$13:$F$45,'Arborist Accessories'!$Q$13:$Q$45)","v":0},20240501,2418,{"$f":"_xlfn.XLOOKUP(B30,'Arborist Accessories'!$F$13:$F$45,'Arborist Accessories'!$R$13:$R$45)","v":0},20240603,2423,{"$f":"_xlfn.XLOOKUP(B30,'Arborist Accessories'!$F$13:$F$45,'Arborist Accessories'!$S$13:$S$45)","v":0},{"$f":"_xlfn.XLOOKUP(B30,'Arborist Accessories'!$F$13:$F$45,'Arborist Accessories'!$L$13:$L$45)","v":116.25}]
["Arborist Accessories",534098702,20240103,2401,{"$f":"_xlfn.XLOOKUP(B31,'Arborist Accessories'!$F$13:$F$45,'Arborist Accessories'!$N$13:$N$45)","v":0},20240201,2405,{"$f":"_xlfn.XLOOKUP(B31,'Arborist Accessories'!$F$13:$F$45,'Arborist Accessories'!$O$13:$O$45)","v":0},20240301,2409,{"$f":"_xlfn.XLOOKUP(B31,'Arborist Accessories'!$F$13:$F$45,'Arborist Accessories'!$P$13:$P$45)","v":0},20240402,2414,{"$f":"_xlfn.XLOOKUP(B31,'Arborist Accessories'!$F$13:$F$45,'Arborist Accessories'!$Q$13:$Q$45)","v":0},20240501,2418,{"$f":"_xlfn.XLOOKUP(B31,'Arborist Accessories'!$F$13:$F$45,'Arborist Accessories'!$R$13:$R$45)","v":0},20240603,2423,{"$f":"_xlfn.XLOOKUP(B31,'Arborist Accessories'!$F$13:$F$45,'Arborist Accessories'!$S$13:$S$45)","v":0},{"$f":"_xlfn.XLOOKUP(B31,'Arborist Accessories'!$F$13:$F$45,'Arborist Accessories'!$L$13:$L$45)","v":157.91499999999999}]
["Arborist Accessories",534098701,20240103,2401,{"$f":"_xlfn.XLOOKUP(B32,'Arborist Accessories'!$F$13:$F$45,'Arborist Accessories'!$N$13:$N$45)","v":0},20240201,2405,{"$f":"_xlfn.XLOOKUP(B32,'Arborist Accessories'!$F$13:$F$45,'Arborist Accessories'!$O$13:$O$45)","v":0},20240301,2409,{"$f":"_xlfn.XLOOKUP(B32,'Arborist Accessories'!$F$13:$F$45,'Arborist Accessories'!$P$13:$P$45)","v":0},20240402,2414,{"$f":"_xlfn.XLOOKUP(B32,'Arborist Accessories'!$F$13:$F$45,'Arborist Accessories'!$Q$13:$Q$45)","v":0},20240501,2418,{"$f":"_xlfn.XLOOKUP(B32,'Arborist Accessories'!$F$13:$F$45,'Arborist Accessories'!$R$13:$R$45)","v":0},20240603,2423,{"$f":"_xlfn.XLOOKUP(B32,'Arborist Accessories'!$F$13:$F$45,'Arborist Accessories'!$S$13:$S$45)","v":0},{"$f":"_xlfn.XLOOKUP(B32,'Arborist Accessories'!$F$13:$F$45,'Arborist Accessories'!$L$13:$L$45)","v":116.25}]
["Arborist Accessories",534098601,20240103,2401,{"$f":"_xlfn.XLOOKUP(B33,'Arborist Accessories'!$F$13:$F$45,'Arborist Accessories'!$N$13:$N$45)","v":0},20240201,2405,{"$f":"_xlfn.XLOOKUP(B33,'Arborist Accessories'!$F$13:$F$45,'Arborist Accessories'!$O$13:$O$45)","v":0},20240301,2409,{"$f":"_xlfn.XLOOKUP(B33,'Arborist Accessories'!$F$13:$F$45,'Arborist Accessories'!$P$13:$P$45)","v":0},20240402,2414,{"$f":"_xlfn.XLOOKUP(B33,'Arborist Accessories'!$F$13:$F$45,'Arborist Accessories'!$Q$13:$Q$45)","v":0},20240501,2418,{"$f":"_xlfn.XLOOKUP(B33,'Arborist Accessories'!$F$13:$F$45,'Arborist Accessories'!$R$13:$R$45)","v":0},20240603,2423,{"$f":"_xlfn.XLOOKUP(B33,'Arborist Accessories'!$F$13:$F$45,'Arborist Accessories'!$S$13:$S$45)","v":0},{"$f":"_xlfn.XLOOKUP(B33,'Arborist Accessories'!$F$13:$F$45,'Arborist Accessories'!$L$13:$L$45)","v":249.58500000000001}]
["Aspire Accessory",536655701,20240103,2401,{"$f":"_xlfn.XLOOKUP(B34,Aspire!$F$28:$F$30,Aspire!U28:U30)","v":0},20240201,2405,{"$f":"_xlfn.XLOOKUP(B34,Aspire!$F$28:$F$30,Aspire!V28:V30)","v":0},20240301,2409,{"$f":"_xlfn.XLOOKUP(B34,Aspire!$F$28:$F$30,Aspire!W28:W30)","v":0},20240402,2414,{"$f":"_xlfn.XLOOKUP(B34,Aspire!$F$28:$F$30,Aspire!X28:X30)","v":0},20240501,2418,{"$f":"_xlfn.XLOOKUP(B34,Aspire!$F$28:$F$30,Aspire!Y28:Y30)","v":0},20240603,2423,{"$f":"_xlfn.XLOOKUP(B34,Aspire!$F$28:$F$30,Aspire!Z28:Z30)","v":0},{"$f":"_xlfn.XLOOKUP(B34,Aspire!$F$28:$F$30,Aspire!$L$28:$L$30)","v":15.331799999999998}]
["Automower Accessory",599801701,20240103,2401,{"$f":"_xlfn.XLOOKUP(B35,'Automower Accessories'!$F$13:$F$50,'Automower Accessories'!$N$13:$N$50)","v":0},20240201,2405,{"$f":"_xlfn.XLOOKUP(B35,'Automower Accessories'!$F$13:$F$50,'Automower Accessories'!$O$13:$O$50)","v":0},20240301,2409,{"$f":"_xlfn.XLOOKUP(B35,'Automower Accessories'!$F$13:$F$50,'Automower Accessories'!$P$13:$P$50)","v":0},20240402,2414,{"$f":"_xlfn.XLOOKUP(B35,'Automower Accessories'!$F$13:$F$50,'Automower Accessories'!$Q$13:$Q$50)","v":0},20240501,2418,{"$f":"_xlfn.XLOOKUP(B35,'Automower Accessories'!$F$13:$F$50,'Automower Accessories'!$R$13:$R$50)","v":0},20240603,2423,{"$f":"_xlfn.XLOOKUP(B35,'Automower Accessories'!$F$13:$F$50,'Automower Accessories'!$S$13:$S$50)","v":0},{"$f":"_xlfn.XLOOKUP(B35,'Automower Accessories'!$F$13:$F$50,'Automower Accessories'!$L$13:$L$50)","v":5.3706999999999994}]
["Automower Accessory",598896001,20240103,2401,{"$f":"_xlfn.XLOOKUP(B36,'Automower Accessories'!$F$13:$F$50,'Automower Accessories'!$N$13:$N$50)","v":0},20240201,2405,{"$f":"_xlfn.XLOOKUP(B36,'Automower Accessories'!$F$13:$F$50,'Automower Accessories'!$O$13:$O$50)","v":0},20240301,2409,{"$f":"_xlfn.XLOOKUP(B36,'Automower Accessories'!$F$13:$F$50,'Automower Accessories'!$P$13:$P$50)","v":0},20240402,2414,{"$f":"_xlfn.XLOOKUP(B36,'Automower Accessories'!$F$13:$F$50,'Automower Accessories'!$Q$13:$Q$50)","v":0},20240501,2418,{"$f":"_xlfn.XLOOKUP(B36,'Automower Accessories'!$F$13:$F$50,'Automower Accessories'!$R$13:$R$50)","v":0},20240603,2423,{"$f":"_xlfn.XLOOKUP(B36,'Automower Accessories'!$F$13:$F$50,'Automower Accessories'!$S$13:$S$50)","v":0},{"$f":"_xlfn.XLOOKUP(B36,'Automower Accessories'!$F$13:$F$50,'Automower Accessories'!$L$13:$L$50)","v":14.331899999999997}]
["Automower Accessory",597987001,20240103,2401,{"$f":"_xlfn.XLOOKUP(B37,'Automower Accessories'!$F$13:$F$50,'Automower Accessories'!$N$13:$N$50)","v":0},20240201,2405,{"$f":"_xlfn.XLOOKUP(B37,'Automower Accessories'!$F$13:$F$50,'Automower Accessories'!$O$13:$O$50)","v":0},20240301,2409,{"$f":"_xlfn.XLOOKUP(B37,'Automower Accessories'!$F$13:$F$50,'Automower Accessories'!$P$13:$P$50)","v":0},20240402,2414,{"$f":"_xlfn.XLOOKUP(B37,'Automower Accessories'!$F$13:$F$50,'Automower Accessories'!$Q$13:$Q$50)","v":0},20240501,2418,{"$f":"_xlfn.XLOOKUP(B37,'Automower Accessories'!$F$13:$F$50,'Automower Accessories'!$R$13:$R$50)","v":0},20240603,2423,{"$f":"_xlfn.XLOOKUP(B37,'Automower Accessories'!$F$13:$F$50,'Automower Accessories'!$S$13:$S$50)","v":0},{"$f":"_xlfn.XLOOKUP(B37,'Automower Accessories'!$F$13:$F$50,'Automower Accessories'!$L$13:$L$50)","v":16.120699999999999}]
["Automower Accessory",597703601,20240103,2401,{"$f":"_xlfn.XLOOKUP(B38,'Automower Accessories'!$F$13:$F$50,'Automower Accessories'!$N$13:$N$50)","v":0},20240201,2405,{"$f":"_xlfn.XLOOKUP(B38,'Automower Accessories'!$F$13:$F$50,'Automower Accessories'!$O$13:$O$50)","v":0},20240301,2409,{"$f":"_xlfn.XLOOKUP(B38,'Automower Accessories'!$F$13:$F$50,'Automower Accessories'!$P$13:$P$50)","v":0},20240402,2414,{"$f":"_xlfn.XLOOKUP(B38,'Automower Accessories'!$F$13:$F$50,'Automower Accessories'!$Q$13:$Q$50)","v":0},20240501,2418,{"$f":"_xlfn.XLOOKUP(B38,'Automower Accessories'!$F$13:$F$50,'Automower Accessories'!$R$13:$R$50)","v":0},20240603,2423,{"$f":"_xlfn.XLOOKUP(B38,'Automower Accessories'!$F$13:$F$50,'Automower Accessories'!$S$13:$S$50)","v":0},{"$f":"_xlfn.XLOOKUP(B38,'Automower Accessories'!$F$13:$F$50,'Automower Accessories'!$L$13:$L$50)","v":23.288799999999995}]
["Automower Accessory",597539501,20240103,2401,{"$f":"_xlfn.XLOOKUP(B39,'Automower Accessories'!$F$13:$F$50,'Automower Accessories'!$N$13:$N$50)","v":0},20240201,2405,{"$f":"_xlfn.XLOOKUP(B39,'Automower Accessories'!$F$13:$F$50,'Automower Accessories'!$O$13:$O$50)","v":0},20240301,2409,{"$f":"_xlfn.XLOOKUP(B39,'Automower Accessories'!$F$13:$F$50,'Automower Accessories'!$P$13:$P$50)","v":0},20240402,2414,{"$f":"_xlfn.XLOOKUP(B39,'Automower Accessories'!$F$13:$F$50,'Automower Accessories'!$Q$13:$Q$50)","v":0},20240501,2418,{"$f":"_xlfn.XLOOKUP(B39,'Automower Accessories'!$F$13:$F$50,'Automower Accessories'!$R$13:$R$50)","v":0},20240603,2423,{"$f":"_xlfn.XLOOKUP(B39,'Automower Accessories'!$F$13:$F$50,'Automower Accessories'!$S$13:$S$50)","v":0},{"$f":"_xlfn.XLOOKUP(B39,'Automower Accessories'!$F$13:$F$50,'Automower Accessories'!$L$13:$L$50)","v":7.1637999999999984}]
["Automower Accessory",597237802,20240103,2401,{"$f":"_xlfn.XLOOKUP(B40,'Automower Accessories'!$F$13:$F$50,'Automower Accessories'!$N$13:$N$50)","v":0},20240201,2405,{"$f":"_xlfn.XLOOKUP(B40,'Automower Accessories'!$F$13:$F$50,'Automower Accessories'!$O$13:$O$50)","v":0},20240301,2409,{"$f":"_xlfn.XLOOKUP(B40,'Automower Accessories'!$F$13:$F$50,'Automower Accessories'!$P$13:$P$50)","v":0},20240402,2414,{"$f":"_xlfn.XLOOKUP(B40,'Automower Accessories'!$F$13:$F$50,'Automower Accessories'!$Q$13:$Q$50)","v":0},20240501,2418,{"$f":"_xlfn.XLOOKUP(B40,'Automower Accessories'!$F$13:$F$50,'Automower Accessories'!$R$13:$R$50)","v":0},20240603,2423,{"$f":"_xlfn.XLOOKUP(B40,'Automower Accessories'!$F$13:$F$50,'Automower Accessories'!$S$13:$S$50)","v":0},{"$f":"_xlfn.XLOOKUP(B40,'Automower Accessories'!$F$13:$F$50,'Automower Accessories'!$L$13:$L$50)","v":14.331899999999997}]
["Automower Accessory",597237801,20240103,2401,{"$f":"_xlfn.XLOOKUP(B41,'Automower Accessories'!$F$13:$F$50,'Automower Accessories'!$N$13:$N$50)","v":0},20240201,2405,{"$f":"_xlfn.XLOOKUP(B41,'Automower Accessories'!$F$13:$F$50,'Automower Accessories'!$O$13:$O$50)","v":0},20240301,2409,{"$f":"_xlfn.XLOOKUP(B41,'Automower Accessories'!$F$13:$F$50,'Automower Accessories'!$P$13:$P$50)","v":0},20240402,2414,{"$f":"_xlfn.XLOOKUP(B41,'Automower Accessories'!$F$13:$F$50,'Automower Accessories'!$Q$13:$Q$50)","v":0},20240501,2418,{"$f":"_xlfn.XLOOKUP(B41,'Automower Accessories'!$F$13:$F$50,'Automower Accessories'!$R$13:$R$50)","v":0},20240603,2423,{"$f":"_xlfn.XLOOKUP(B41,'Automower Accessories'!$F$13:$F$50,'Automower Accessories'!$S$13:$S$50)","v":0},{"$f":"_xlfn.XLOOKUP(B41,'Automower Accessories'!$F$13:$F$50,'Automower Accessories'!$L$13:$L$50)","v":32.245699999999992}]
["Automower Accessory",596512502,20240103,2401,{"$f":"_xlfn.XLOOKUP(B42,'Automower Accessories'!$F$13:$F$50,'Automower Accessories'!$N$13:$N$50)","v":0},20240201,2405,{"$f":"_xlfn.XLOOKUP(B42,'Automower Accessories'!$F$13:$F$50,'Automower Accessories'!$O$13:$O$50)","v":0},20240301,2409,{"$f":"_xlfn.XLOOKUP(B42,'Automower Accessories'!$F$13:$F$50,'Automower Accessories'!$P$13:$P$50)","v":0},20240402,2414,{"$f":"_xlfn.XLOOKUP(B42,'Automower Accessories'!$F$13:$F$50,'Automower Accessories'!$Q$13:$Q$50)","v":0},20240501,2418,{"$f":"_xlfn.XLOOKUP(B42,'Automower Accessories'!$F$13:$F$50,'Automower Accessories'!$R$13:$R$50)","v":0},20240603,2423,{"$f":"_xlfn.XLOOKUP(B42,'Automower Accessories'!$F$13:$F$50,'Automower Accessories'!$S$13:$S$50)","v":0},{"$f":"_xlfn.XLOOKUP(B42,'Automower Accessories'!$F$13:$F$50,'Automower Accessories'!$L$13:$L$50)","v":20.420699999999997}]
["Automower Accessory",593967901,20240103,2401,{"$f":"_xlfn.XLOOKUP(B43,'Automower Accessories'!$F$13:$F$50,'Automower Accessories'!$N$13:$N$50)","v":0},20240201,2405,{"$f":"_xlfn.XLOOKUP(B43,'Automower Accessories'!$F$13:$F$50,'Automower Accessories'!$O$13:$O$50)","v":0},20240301,2409,{"$f":"_xlfn.XLOOKUP(B43,'Automower Accessories'!$F$13:$F$50,'Automower Accessories'!$P$13:$P$50)","v":0},20240402,2414,{"$f":"_xlfn.XLOOKUP(B43,'Automower Accessories'!$F$13:$F$50,'Automower Accessories'!$Q$13:$Q$50)","v":0},20240501,2418,{"$f":"_xlfn.XLOOKUP(B43,'Automower Accessories'!$F$13:$F$50,'Automower Accessories'!$R$13:$R$50)","v":0},20240603,2423,{"$f":"_xlfn.XLOOKUP(B43,'Automower Accessories'!$F$13:$F$50,'Automower Accessories'!$S$13:$S$50)","v":0},{"$f":"_xlfn.XLOOKUP(B43,'Automower Accessories'!$F$13:$F$50,'Automower Accessories'!$L$13:$L$50)","v":5.3706999999999994}]
["Automower Accessory",593297702,20240103,2401,{"$f":"_xlfn.XLOOKUP(B44,'Automower Accessories'!$F$13:$F$50,'Automower Accessories'!$N$13:$N$50)","v":0},20240201,2405,{"$f":"_xlfn.XLOOKUP(B44,'Automower Accessories'!$F$13:$F$50,'Automower Accessories'!$O$13:$O$50)","v":0},20240301,2409,{"$f":"_xlfn.XLOOKUP(B44,'Automower Accessories'!$F$13:$F$50,'Automower Accessories'!$P$13:$P$50)","v":0},20240402,2414,{"$f":"_xlfn.XLOOKUP(B44,'Automower Accessories'!$F$13:$F$50,'Automower Accessories'!$Q$13:$Q$50)","v":0},20240501,2418,{"$f":"_xlfn.XLOOKUP(B44,'Automower Accessories'!$F$13:$F$50,'Automower Accessories'!$R$13:$R$50)","v":0},20240603,2423,{"$f":"_xlfn.XLOOKUP(B44,'Automower Accessories'!$F$13:$F$50,'Automower Accessories'!$S$13:$S$50)","v":0},{"$f":"_xlfn.XLOOKUP(B44,'Automower Accessories'!$F$13:$F$50,'Automower Accessories'!$L$13:$L$50)","v":107.14309999999998}]
["Automower Accessory",590855101,20240103,2401,{"$f":"_xlfn.XLOOKUP(B45,'Automower Accessories'!$F$13:$F$50,'Automower Accessories'!$N$13:$N$50)","v":0},20240201,2405,{"$f":"_xlfn.XLOOKUP(B45,'Automower Accessories'!$F$13:$F$50,'Automower Accessories'!$O$13:$O$50)","v":0},20240301,2409,{"$f":"_xlfn.XLOOKUP(B45,'Automower Accessories'!$F$13:$F$50,'Automower Accessories'!$P$13:$P$50)","v":0},20240402,2414,{"$f":"_xlfn.XLOOKUP(B45,'Automower Accessories'!$F$13:$F$50,'Automower Accessories'!$Q$13:$Q$50)","v":0},20240501,2418,{"$f":"_xlfn.XLOOKUP(B45,'Automower Accessories'!$F$13:$F$50,'Automower Accessories'!$R$13:$R$50)","v":0},20240603,2423,{"$f":"_xlfn.XLOOKUP(B45,'Automower Accessories'!$F$13:$F$50,'Automower Accessories'!$S$13:$S$50)","v":0},{"$f":"_xlfn.XLOOKUP(B45,'Automower Accessories'!$F$13:$F$50,'Automower Accessories'!$L$13:$L$50)","v":14.331899999999997}]
["Automower Accessory",588408402,20240103,2401,{"$f":"_xlfn.XLOOKUP(B46,'Automower Accessories'!$F$13:$F$50,'Automower Accessories'!$N$13:$N$50)","v":0},20240201,2405,{"$f":"_xlfn.XLOOKUP(B46,'Automower Accessories'!$F$13:$F$50,'Automower Accessories'!$O$13:$O$50)","v":0},20240301,2409,{"$f":"_xlfn.XLOOKUP(B46,'Automower Accessories'!$F$13:$F$50,'Automower Accessories'!$P$13:$P$50)","v":0},20240402,2414,{"$f":"_xlfn.XLOOKUP(B46,'Automower Accessories'!$F$13:$F$50,'Automower Accessories'!$Q$13:$Q$50)","v":0},20240501,2418,{"$f":"_xlfn.XLOOKUP(B46,'Automower Accessories'!$F$13:$F$50,'Automower Accessories'!$R$13:$R$50)","v":0},20240603,2423,{"$f":"_xlfn.XLOOKUP(B46,'Automower Accessories'!$F$13:$F$50,'Automower Accessories'!$S$13:$S$50)","v":0},{"$f":"_xlfn.XLOOKUP(B46,'Automower Accessories'!$F$13:$F$50,'Automower Accessories'!$L$13:$L$50)","v":64.495699999999999}]
["Automower Accessory",587224001,20240103,2401,{"$f":"_xlfn.XLOOKUP(B47,'Automower Accessories'!$F$13:$F$50,'Automower Accessories'!$N$13:$N$50)","v":0},20240201,2405,{"$f":"_xlfn.XLOOKUP(B47,'Automower Accessories'!$F$13:$F$50,'Automower Accessories'!$O$13:$O$50)","v":0},20240301,2409,{"$f":"_xlfn.XLOOKUP(B47,'Automower Accessories'!$F$13:$F$50,'Automower Accessories'!$P$13:$P$50)","v":0},20240402,2414,{"$f":"_xlfn.XLOOKUP(B47,'Automower Accessories'!$F$13:$F$50,'Automower Accessories'!$Q$13:$Q$50)","v":0},20240501,2418,{"$f":"_xlfn.XLOOKUP(B47,'Automower Accessories'!$F$13:$F$50,'Automower Accessories'!$R$13:$R$50)","v":0},20240603,2423,{"$f":"_xlfn.XLOOKUP(B47,'Automower Accessories'!$F$13:$F$50,'Automower Accessories'!$S$13:$S$50)","v":0},{"$f":"_xlfn.XLOOKUP(B47,'Automower Accessories'!$F$13:$F$50,'Automower Accessories'!$L$13:$L$50)","v":23.288799999999995}]
["Automower Accessory",586662313,20240103,2401,{"$f":"_xlfn.XLOOKUP(B48,'Automower Accessories'!$F$13:$F$50,'Automower Accessories'!$N$13:$N$50)","v":0},20240201,2405,{"$f":"_xlfn.XLOOKUP(B48,'Automower Accessories'!$F$13:$F$50,'Automower Accessories'!$O$13:$O$50)","v":0},20240301,2409,{"$f":"_xlfn.XLOOKUP(B48,'Automower Accessories'!$F$13:$F$50,'Automower Accessories'!$P$13:$P$50)","v":0},20240402,2414,{"$f":"_xlfn.XLOOKUP(B48,'Automower Accessories'!$F$13:$F$50,'Automower Accessories'!$Q$13:$Q$50)","v":0},20240501,2418,{"$f":"_xlfn.XLOOKUP(B48,'Automower Accessories'!$F$13:$F$50,'Automower Accessories'!$R$13:$R$50)","v":0},20240603,2423,{"$f":"_xlfn.XLOOKUP(B48,'Automower Accessories'!$F$13:$F$50,'Automower Accessories'!$S$13:$S$50)","v":0},{"$f":"_xlfn.XLOOKUP(B48,'Automower Accessories'!$F$13:$F$50,'Automower Accessories'!$L$13:$L$50)","v":107.14309999999998}]
["Automower Accessory",580662009,20240103,2401,{"$f":"_xlfn.XLOOKUP(B49,'Automower Accessories'!$F$13:$F$50,'Automower Accessories'!$N$13:$N$50)","v":0},20240201,2405,{"$f":"_xlfn.XLOOKUP(B49,'Automower Accessories'!$F$13:$F$50,'Automower Accessories'!$O$13:$O$50)","v":0},20240301,2409,{"$f":"_xlfn.XLOOKUP(B49,'Automower Accessories'!$F$13:$F$50,'Automower Accessories'!$P$13:$P$50)","v":0},20240402,2414,{"$f":"_xlfn.XLOOKUP(B49,'Automower Accessories'!$F$13:$F$50,'Automower Accessories'!$Q$13:$Q$50)","v":0},20240501,2418,{"$f":"_xlfn.XLOOKUP(B49,'Automower Accessories'!$F$13:$F$50,'Automower Accessories'!$R$13:$R$50)","v":0},20240603,2423,{"$f":"_xlfn.XLOOKUP(B49,'Automower Accessories'!$F$13:$F$50,'Automower Accessories'!$S$13:$S$50)","v":0},{"$f":"_xlfn.XLOOKUP(B49,'Automower Accessories'!$F$13:$F$50,'Automower Accessories'!$L$13:$L$50)","v":142.97499999999997}]
["Automower Accessory",580662006,20240103,2401,{"$f":"_xlfn.XLOOKUP(B50,'Automower Accessories'!$F$13:$F$50,'Automower Accessories'!$N$13:$N$50)","v":0},20240201,2405,{"$f":"_xlfn.XLOOKUP(B50,'Automower Accessories'!$F$13:$F$50,'Automower Accessories'!$O$13:$O$50)","v":0},20240301,2409,{"$f":"_xlfn.XLOOKUP(B50,'Automower Accessories'!$F$13:$F$50,'Automower Accessories'!$P$13:$P$50)","v":0},20240402,2414,{"$f":"_xlfn.XLOOKUP(B50,'Automower Accessories'!$F$13:$F$50,'Automower Accessories'!$Q$13:$Q$50)","v":0},20240501,2418,{"$f":"_xlfn.XLOOKUP(B50,'Automower Accessories'!$F$13:$F$50,'Automower Accessories'!$R$13:$R$50)","v":0},20240603,2423,{"$f":"_xlfn.XLOOKUP(B50,'Automower Accessories'!$F$13:$F$50,'Automower Accessories'!$S$13:$S$50)","v":0},{"$f":"_xlfn.XLOOKUP(B50,'Automower Accessories'!$F$13:$F$50,'Automower Accessories'!$L$13:$L$50)","v":53.745699999999985}]
["Automower Accessory",577864801,20240103,2401,{"$f":"_xlfn.XLOOKUP(B51,'Automower Accessories'!$F$13:$F$50,'Automower Accessories'!$N$13:$N$50)","v":0},20240201,2405,{"$f":"_xlfn.XLOOKUP(B51,'Automower Accessories'!$F$13:$F$50,'Automower Accessories'!$O$13:$O$50)","v":0},20240301,2409,{"$f":"_xlfn.XLOOKUP(B51,'Automower Accessories'!$F$13:$F$50,'Automower Accessories'!$P$13:$P$50)","v":0},20240402,2414,{"$f":"_xlfn.XLOOKUP(B51,'Automower Accessories'!$F$13:$F$50,'Automower Accessories'!$Q$13:$Q$50)","v":0},20240501,2418,{"$f":"_xlfn.XLOOKUP(B51,'Automower Accessories'!$F$13:$F$50,'Automower Accessories'!$R$13:$R$50)","v":0},20240603,2423,{"$f":"_xlfn.XLOOKUP(B51,'Automower Accessories'!$F$13:$F$50,'Automower Accessories'!$S$13:$S$50)","v":0},{"$f":"_xlfn.XLOOKUP(B51,'Automower Accessories'!$F$13:$F$50,'Automower Accessories'!$L$13:$L$50)","v":5.3706999999999994}]
["Automower Accessory",577864701,20240103,2401,{"$f":"_xlfn.XLOOKUP(B52,'Automower Accessories'!$F$13:$F$50,'Automower Accessories'!$N$13:$N$50)","v":0},20240201,2405,{"$f":"_xlfn.XLOOKUP(B52,'Automower Accessories'!$F$13:$F$50,'Automower Accessories'!$O$13:$O$50)","v":0},20240301,2409,{"$f":"_xlfn.XLOOKUP(B52,'Automower Accessories'!$F$13:$F$50,'Automower Accessories'!$P$13:$P$50)","v":0},20240402,2414,{"$f":"_xlfn.XLOOKUP(B52,'Automower Accessories'!$F$13:$F$50,'Automower Accessories'!$Q$13:$Q$50)","v":0},20240501,2418,{"$f":"_xlfn.XLOOKUP(B52,'Automower Accessories'!$F$13:$F$50,'Automower Accessories'!$R$13:$R$50)","v":0},20240603,2423,{"$f":"_xlfn.XLOOKUP(B52,'Automower Accessories'!$F$13:$F$50,'Automower Accessories'!$S$13:$S$50)","v":0},{"$f":"_xlfn.XLOOKUP(B52,'Automower Accessories'!$F$13:$F$50,'Automower Accessories'!$L$13:$L$50)","v":3.5818999999999992}]
["Automower Accessory",577864603,20240103,2401,{"$f":"_xlfn.XLOOKUP(B53,'Automower Accessories'!$F$13:$F$50,'Automower Accessories'!$N$13:$N$50)","v":20},20240201,2405,{"$f":"_xlfn.XLOOKUP(B53,'Automower Accessories'!$F$13:$F$50,'Automower Accessories'!$O$13:$O$50)","v":10},20240301,2409,{"$f":"_xlfn.XLOOKUP(B53,'Automower Accessories'!$F$13:$F$50,'Automower Accessories'!$P$13:$P$50)","v":10},20240402,2414,{"$f":"_xlfn.XLOOKUP(B53,'Automower Accessories'!$F$13:$F$50,'Automower Accessories'!$Q$13:$Q$50)","v":5},20240501,2418,{"$f":"_xlfn.XLOOKUP(B53,'Automower Accessories'!$F$13:$F$50,'Automower Accessories'!$R$13:$R$50)","v":5},20240603,2423,{"$f":"_xlfn.XLOOKUP(B53,'Automower Accessories'!$F$13:$F$50,'Automower Accessories'!$S$13:$S$50)","v":5},{"$f":"_xlfn.XLOOKUP(B53,'Automower Accessories'!$F$13:$F$50,'Automower Accessories'!$L$13:$L$50)","v":7.1637999999999984}]
["Automower Accessory",577864201,20240103,2401,{"$f":"_xlfn.XLOOKUP(B54,'Automower Accessories'!$F$13:$F$50,'Automower Accessories'!$N$13:$N$50)","v":0},20240201,2405,{"$f":"_xlfn.XLOOKUP(B54,'Automower Accessories'!$F$13:$F$50,'Automower Accessories'!$O$13:$O$50)","v":0},20240301,2409,{"$f":"_xlfn.XLOOKUP(B54,'Automower Accessories'!$F$13:$F$50,'Automower Accessories'!$P$13:$P$50)","v":0},20240402,2414,{"$f":"_xlfn.XLOOKUP(B54,'Automower Accessories'!$F$13:$F$50,'Automower Accessories'!$Q$13:$Q$50)","v":0},20240501,2418,{"$f":"_xlfn.XLOOKUP(B54,'Automower Accessories'!$F$13:$F$50,'Automower Accessories'!$R$13:$R$50)","v":0},20240603,2423,{"$f":"_xlfn.XLOOKUP(B54,'Automower Accessories'!$F$13:$F$50,'Automower Accessories'!$S$13:$S$50)","v":0},{"$f":"_xlfn.XLOOKUP(B54,'Automower Accessories'!$F$13:$F$50,'Automower Accessories'!$L$13:$L$50)","v":7.1637999999999984}]
["Automower Accessory",536930901,20240103,2401,{"$f":"_xlfn.XLOOKUP(B55,'Automower Accessories'!$F$13:$F$50,'Automower Accessories'!$N$13:$N$50)","v":0},20240201,2405,{"$f":"_xlfn.XLOOKUP(B55,'Automower Accessories'!$F$13:$F$50,'Automower Accessories'!$O$13:$O$50)","v":0},20240301,2409,{"$f":"_xlfn.XLOOKUP(B55,'Automower Accessories'!$F$13:$F$50,'Automower Accessories'!$P$13:$P$50)","v":0},20240402,2414,{"$f":"_xlfn.XLOOKUP(B55,'Automower Accessories'!$F$13:$F$50,'Automower Accessories'!$Q$13:$Q$50)","v":0},20240501,2418,{"$f":"_xlfn.XLOOKUP(B55,'Automower Accessories'!$F$13:$F$50,'Automower Accessories'!$R$13:$R$50)","v":0},20240603,2423,{"$f":"_xlfn.XLOOKUP(B55,'Automower Accessories'!$F$13:$F$50,'Automower Accessories'!$S$13:$S$50)","v":0},{"$f":"_xlfn.XLOOKUP(B55,'Automower Accessories'!$F$13:$F$50,'Automower Accessories'!$L$13:$L$50)","v":56.974999999999994}]
["Automower Accessory",536849201,20240103,2401,{"$f":"_xlfn.XLOOKUP(B56,'Automower Accessories'!$F$13:$F$50,'Automower Accessories'!$N$13:$N$50)","v":0},20240201,2405,{"$f":"_xlfn.XLOOKUP(B56,'Automower Accessories'!$F$13:$F$50,'Automower Accessories'!$O$13:$O$50)","v":0},20240301,2409,{"$f":"_xlfn.XLOOKUP(B56,'Automower Accessories'!$F$13:$F$50,'Automower Accessories'!$P$13:$P$50)","v":0},20240402,2414,{"$f":"_xlfn.XLOOKUP(B56,'Automower Accessories'!$F$13:$F$50,'Automower Accessories'!$Q$13:$Q$50)","v":0},20240501,2418,{"$f":"_xlfn.XLOOKUP(B56,'Automower Accessories'!$F$13:$F$50,'Automower Accessories'!$R$13:$R$50)","v":0},20240603,2423,{"$f":"_xlfn.XLOOKUP(B56,'Automower Accessories'!$F$13:$F$50,'Automower Accessories'!$S$13:$S$50)","v":0},{"$f":"_xlfn.XLOOKUP(B56,'Automower Accessories'!$F$13:$F$50,'Automower Accessories'!$L$13:$L$50)","v":34.038799999999995}]
["Automower Accessory",536326201,20240103,2401,{"$f":"_xlfn.XLOOKUP(B57,'Automower Accessories'!$F$13:$F$50,'Automower Accessories'!$N$13:$N$50)","v":0},20240201,2405,{"$f":"_xlfn.XLOOKUP(B57,'Automower Accessories'!$F$13:$F$50,'Automower Accessories'!$O$13:$O$50)","v":0},20240301,2409,{"$f":"_xlfn.XLOOKUP(B57,'Automower Accessories'!$F$13:$F$50,'Automower Accessories'!$P$13:$P$50)","v":0},20240402,2414,{"$f":"_xlfn.XLOOKUP(B57,'Automower Accessories'!$F$13:$F$50,'Automower Accessories'!$Q$13:$Q$50)","v":0},20240501,2418,{"$f":"_xlfn.XLOOKUP(B57,'Automower Accessories'!$F$13:$F$50,'Automower Accessories'!$R$13:$R$50)","v":0},20240603,2423,{"$f":"_xlfn.XLOOKUP(B57,'Automower Accessories'!$F$13:$F$50,'Automower Accessories'!$S$13:$S$50)","v":0},{"$f":"_xlfn.XLOOKUP(B57,'Automower Accessories'!$F$13:$F$50,'Automower Accessories'!$L$13:$L$50)","v":44.788799999999995}]
["Automower Accessory",535129002,20240103,2401,{"$f":"_xlfn.XLOOKUP(B58,'Automower Accessories'!$F$13:$F$50,'Automower Accessories'!$N$13:$N$50)","v":0},20240201,2405,{"$f":"_xlfn.XLOOKUP(B58,'Automower Accessories'!$F$13:$F$50,'Automower Accessories'!$O$13:$O$50)","v":0},20240301,2409,{"$f":"_xlfn.XLOOKUP(B58,'Automower Accessories'!$F$13:$F$50,'Automower Accessories'!$P$13:$P$50)","v":0},20240402,2414,{"$f":"_xlfn.XLOOKUP(B58,'Automower Accessories'!$F$13:$F$50,'Automower Accessories'!$Q$13:$Q$50)","v":0},20240501,2418,{"$f":"_xlfn.XLOOKUP(B58,'Automower Accessories'!$F$13:$F$50,'Automower Accessories'!$R$13:$R$50)","v":0},20240603,2423,{"$f":"_xlfn.XLOOKUP(B58,'Automower Accessories'!$F$13:$F$50,'Automower Accessories'!$S$13:$S$50)","v":0},{"$f":"_xlfn.XLOOKUP(B58,'Automower Accessories'!$F$13:$F$50,'Automower Accessories'!$L$13:$L$50)","v":28.663799999999995}]
["Automower Accessory",534971901,20240103,2401,{"$f":"_xlfn.XLOOKUP(B59,'Automower Accessories'!$F$13:$F$50,'Automower Accessories'!$N$13:$N$50)","v":2},20240201,2405,{"$f":"_xlfn.XLOOKUP(B59,'Automower Accessories'!$F$13:$F$50,'Automower Accessories'!$O$13:$O$50)","v":0},20240301,2409,{"$f":"_xlfn.XLOOKUP(B59,'Automower Accessories'!$F$13:$F$50,'Automower Accessories'!$P$13:$P$50)","v":0},20240402,2414,{"$f":"_xlfn.XLOOKUP(B59,'Automower Accessories'!$F$13:$F$50,'Automower Accessories'!$Q$13:$Q$50)","v":0},20240501,2418,{"$f":"_xlfn.XLOOKUP(B59,'Automower Accessories'!$F$13:$F$50,'Automower Accessories'!$R$13:$R$50)","v":0},20240603,2423,{"$f":"_xlfn.XLOOKUP(B59,'Automower Accessories'!$F$13:$F$50,'Automower Accessories'!$S$13:$S$50)","v":0},{"$f":"_xlfn.XLOOKUP(B59,'Automower Accessories'!$F$13:$F$50,'Automower Accessories'!$L$13:$L$50)","v":10.745699999999998}]
["Automower Accessory",529880501,20240103,2401,{"$f":"_xlfn.XLOOKUP(B60,'Automower Accessories'!$F$13:$F$50,'Automower Accessories'!$N$13:$N$50)","v":0},20240201,2405,{"$f":"_xlfn.XLOOKUP(B60,'Automower Accessories'!$F$13:$F$50,'Automower Accessories'!$O$13:$O$50)","v":0},20240301,2409,{"$f":"_xlfn.XLOOKUP(B60,'Automower Accessories'!$F$13:$F$50,'Automower Accessories'!$P$13:$P$50)","v":0},20240402,2414,{"$f":"_xlfn.XLOOKUP(B60,'Automower Accessories'!$F$13:$F$50,'Automower Accessories'!$Q$13:$Q$50)","v":0},20240501,2418,{"$f":"_xlfn.XLOOKUP(B60,'Automower Accessories'!$F$13:$F$50,'Automower Accessories'!$R$13:$R$50)","v":0},20240603,2423,{"$f":"_xlfn.XLOOKUP(B60,'Automower Accessories'!$F$13:$F$50,'Automower Accessories'!$S$13:$S$50)","v":0},{"$f":"_xlfn.XLOOKUP(B60,'Automower Accessories'!$F$13:$F$50,'Automower Accessories'!$L$13:$L$50)","v":50.163799999999995}]
["Automower Accessory",529459701,20240103,2401,{"$f":"_xlfn.XLOOKUP(B61,'Automower Accessories'!$F$13:$F$50,'Automower Accessories'!$N$13:$N$50)","v":0},20240201,2405,{"$f":"_xlfn.XLOOKUP(B61,'Automower Accessories'!$F$13:$F$50,'Automower Accessories'!$O$13:$O$50)","v":0},20240301,2409,{"$f":"_xlfn.XLOOKUP(B61,'Automower Accessories'!$F$13:$F$50,'Automower Accessories'!$P$13:$P$50)","v":0},20240402,2414,{"$f":"_xlfn.XLOOKUP(B61,'Automower Accessories'!$F$13:$F$50,'Automower Accessories'!$Q$13:$Q$50)","v":0},20240501,2418,{"$f":"_xlfn.XLOOKUP(B61,'Automower Accessories'!$F$13:$F$50,'Automower Accessories'!$R$13:$R$50)","v":0},20240603,2423,{"$f":"_xlfn.XLOOKUP(B61,'Automower Accessories'!$F$13:$F$50,'Automower Accessories'!$S$13:$S$50)","v":0},{"$f":"_xlfn.XLOOKUP(B61,'Automower Accessories'!$F$13:$F$50,'Automower Accessories'!$L$13:$L$50)","v":12.538799999999998}]
["Automower Accessory",529318801,20240103,2401,{"$f":"_xlfn.XLOOKUP(B62,'Automower Accessories'!$F$13:$F$50,'Automower Accessories'!$N$13:$N$50)","v":0},20240201,2405,{"$f":"_xlfn.XLOOKUP(B62,'Automower Accessories'!$F$13:$F$50,'Automower Accessories'!$O$13:$O$50)","v":0},20240301,2409,{"$f":"_xlfn.XLOOKUP(B62,'Automower Accessories'!$F$13:$F$50,'Automower Accessories'!$P$13:$P$50)","v":0},20240402,2414,{"$f":"_xlfn.XLOOKUP(B62,'Automower Accessories'!$F$13:$F$50,'Automower Accessories'!$Q$13:$Q$50)","v":0},20240501,2418,{"$f":"_xlfn.XLOOKUP(B62,'Automower Accessories'!$F$13:$F$50,'Automower Accessories'!$R$13:$R$50)","v":0},20240603,2423,{"$f":"_xlfn.XLOOKUP(B62,'Automower Accessories'!$F$13:$F$50,'Automower Accessories'!$S$13:$S$50)","v":0},{"$f":"_xlfn.XLOOKUP(B62,'Automower Accessories'!$F$13:$F$50,'Automower Accessories'!$L$13:$L$50)","v":42.643099999999997}]
["Automower Accessory",529280801,20240103,2401,{"$f":"_xlfn.XLOOKUP(B63,'Automower Accessories'!$F$13:$F$50,'Automower Accessories'!$N$13:$N$50)","v":0},20240201,2405,{"$f":"_xlfn.XLOOKUP(B63,'Automower Accessories'!$F$13:$F$50,'Automower Accessories'!$O$13:$O$50)","v":0},20240301,2409,{"$f":"_xlfn.XLOOKUP(B63,'Automower Accessories'!$F$13:$F$50,'Automower Accessories'!$P$13:$P$50)","v":0},20240402,2414,{"$f":"_xlfn.XLOOKUP(B63,'Automower Accessories'!$F$13:$F$50,'Automower Accessories'!$Q$13:$Q$50)","v":0},20240501,2418,{"$f":"_xlfn.XLOOKUP(B63,'Automower Accessories'!$F$13:$F$50,'Automower Accessories'!$R$13:$R$50)","v":0},20240603,2423,{"$f":"_xlfn.XLOOKUP(B63,'Automower Accessories'!$F$13:$F$50,'Automower Accessories'!$S$13:$S$50)","v":0},{"$f":"_xlfn.XLOOKUP(B63,'Automower Accessories'!$F$13:$F$50,'Automower Accessories'!$L$13:$L$50)","v":1.0707}]
["Automower Accessory",522914102,20240103,2401,{"$f":"_xlfn.XLOOKUP(B64,'Automower Accessories'!$F$13:$F$50,'Automower Accessories'!$N$13:$N$50)","v":0},20240201,2405,{"$f":"_xlfn.XLOOKUP(B64,'Automower Accessories'!$F$13:$F$50,'Automower Accessories'!$O$13:$O$50)","v":0},20240301,2409,{"$f":"_xlfn.XLOOKUP(B64,'Automower Accessories'!$F$13:$F$50,'Automower Accessories'!$P$13:$P$50)","v":0},20240402,2414,{"$f":"_xlfn.XLOOKUP(B64,'Automower Accessories'!$F$13:$F$50,'Automower Accessories'!$Q$13:$Q$50)","v":0},20240501,2418,{"$f":"_xlfn.XLOOKUP(B64,'Automower Accessories'!$F$13:$F$50,'Automower Accessories'!$R$13:$R$50)","v":0},20240603,2423,{"$f":"_xlfn.XLOOKUP(B64,'Automower Accessories'!$F$13:$F$50,'Automower Accessories'!$S$13:$S$50)","v":0},{"$f":"_xlfn.XLOOKUP(B64,'Automower Accessories'!$F$13:$F$50,'Automower Accessories'!$L$13:$L$50)","v":142.97499999999997}]
["Automower Accessory",501980203,20240103,2401,{"$f":"_xlfn.XLOOKUP(B65,'Automower Accessories'!$F$13:$F$50,'Automower Accessories'!$N$13:$N$50)","v":0},20240201,2405,{"$f":"_xlfn.XLOOKUP(B65,'Automower Accessories'!$F$13:$F$50,'Automower Accessories'!$O$13:$O$50)","v":0},20240301,2409,{"$f":"_xlfn.XLOOKUP(B65,'Automower Accessories'!$F$13:$F$50,'Automower Accessories'!$P$13:$P$50)","v":0},20240402,2414,{"$f":"_xlfn.XLOOKUP(B65,'Automower Accessories'!$F$13:$F$50,'Automower Accessories'!$Q$13:$Q$50)","v":0},20240501,2418,{"$f":"_xlfn.XLOOKUP(B65,'Automower Accessories'!$F$13:$F$50,'Automower Accessories'!$R$13:$R$50)","v":0},20240603,2423,{"$f":"_xlfn.XLOOKUP(B65,'Automower Accessories'!$F$13:$F$50,'Automower Accessories'!$S$13:$S$50)","v":0},{"$f":"_xlfn.XLOOKUP(B65,'Automower Accessories'!$F$13:$F$50,'Automower Accessories'!$L$13:$L$50)","v":25.081899999999997}]
["Automower Accessory",529318901,20240103,2401,{"$f":"_xlfn.XLOOKUP(B66,'Automower®'!$F$28:$F$39,'Automower®'!$U$28:$U$39)","v":0},20240201,2405,{"$f":"_xlfn.XLOOKUP(B66,'Automower®'!$F$28:$F$39,'Automower®'!$V$28:$V$39)","v":0},20240301,2409,{"$f":"_xlfn.XLOOKUP(B66,'Automower®'!$F$28:$F$39,'Automower®'!$W$28:$W$39)","v":0},20240402,2414,{"$f":"_xlfn.XLOOKUP(B66,'Automower®'!$F$28:$F$39,'Automower®'!$X$28:$X$39)","v":0},20240501,2418,{"$f":"_xlfn.XLOOKUP(B66,'Automower®'!$F$28:$F$39,'Automower®'!$Y$28:$Y$39)","v":0},20240603,2423,{"$f":"_xlfn.XLOOKUP(B66,'Automower®'!$F$28:$F$39,'Automower®'!$Z$28:$Z$39)","v":0},{"$f":"_xlfn.XLOOKUP(B66,'Automower®'!$F$13:$F$50,'Automower®'!$L$13:$L$50)","v":519.22499999999991}]
["Automower Accessory",535423101,20240103,2401,{"$f":"_xlfn.XLOOKUP(B67,'Automower®'!$F$28:$F$39,'Automower®'!$U$28:$U$39)","v":0},20240201,2405,{"$f":"_xlfn.XLOOKUP(B67,'Automower®'!$F$28:$F$39,'Automower®'!$V$28:$V$39)","v":0},20240301,2409,{"$f":"_xlfn.XLOOKUP(B67,'Automower®'!$F$28:$F$39,'Automower®'!$W$28:$W$39)","v":0},20240402,2414,{"$f":"_xlfn.XLOOKUP(B67,'Automower®'!$F$28:$F$39,'Automower®'!$X$28:$X$39)","v":0},20240501,2418,{"$f":"_xlfn.XLOOKUP(B67,'Automower®'!$F$28:$F$39,'Automower®'!$Y$28:$Y$39)","v":0},20240603,2423,{"$f":"_xlfn.XLOOKUP(B67,'Automower®'!$F$28:$F$39,'Automower®'!$Z$28:$Z$39)","v":0},{"$f":"_xlfn.XLOOKUP(B67,'Automower®'!$F$13:$F$50,'Automower®'!$L$13:$L$50)","v":157.30689999999996}]
["Automower Spares",599805302,20240103,2401,{"$f":"_xlfn.XLOOKUP(B68,'Automower Spares'!$F$13:$F$23,'Automower Spares'!$N$13:$N$23)","v":0},20240201,2405,{"$f":"_xlfn.XLOOKUP(B68,'Automower Spares'!$F$13:$F$23,'Automower Spares'!$O$13:$O$23)","v":0},20240301,2409,{"$f":"_xlfn.XLOOKUP(B68,'Automower Spares'!$F$13:$F$23,'Automower Spares'!$P$13:$P$23)","v":0},20240402,2414,{"$f":"_xlfn.XLOOKUP(B68,'Automower Spares'!$F$13:$F$23,'Automower Spares'!$Q$13:$Q$23)","v":0},20240501,2418,{"$f":"_xlfn.XLOOKUP(B68,'Automower Spares'!$F$13:$F$23,'Automower Spares'!$R$13:$R$23)","v":0},20240603,2423,{"$f":"_xlfn.XLOOKUP(B68,'Automower Spares'!$F$13:$F$23,'Automower Spares'!$S$13:$S$23)","v":0},{"$f":"_xlfn.XLOOKUP(B68,'Automower Spares'!$F$13:$F$23,'Automower Spares'!$L$13:$L$23)","v":339.57330000000002}]
["Automower Spares",599805301,20240103,2401,{"$f":"_xlfn.XLOOKUP(B69,'Automower Spares'!$F$13:$F$23,'Automower Spares'!$N$13:$N$23)","v":0},20240201,2405,{"$f":"_xlfn.XLOOKUP(B69,'Automower Spares'!$F$13:$F$23,'Automower Spares'!$O$13:$O$23)","v":0},20240301,2409,{"$f":"_xlfn.XLOOKUP(B69,'Automower Spares'!$F$13:$F$23,'Automower Spares'!$P$13:$P$23)","v":0},20240402,2414,{"$f":"_xlfn.XLOOKUP(B69,'Automower Spares'!$F$13:$F$23,'Automower Spares'!$Q$13:$Q$23)","v":0},20240501,2418,{"$f":"_xlfn.XLOOKUP(B69,'Automower Spares'!$F$13:$F$23,'Automower Spares'!$R$13:$R$23)","v":0},20240603,2423,{"$f":"_xlfn.XLOOKUP(B69,'Automower Spares'!$F$13:$F$23,'Automower Spares'!$S$13:$S$23)","v":0},{"$f":"_xlfn.XLOOKUP(B69,'Automower Spares'!$F$13:$F$23,'Automower Spares'!$L$13:$L$23)","v":63.744899999999994}]
["Automower Spares",599805203,20240103,2401,{"$f":"_xlfn.XLOOKUP(B70,'Automower Spares'!$F$13:$F$23,'Automower Spares'!$N$13:$N$23)","v":0},20240201,2405,{"$f":"_xlfn.XLOOKUP(B70,'Automower Spares'!$F$13:$F$23,'Automower Spares'!$O$13:$O$23)","v":0},20240301,2409,{"$f":"_xlfn.XLOOKUP(B70,'Automower Spares'!$F$13:$F$23,'Automower Spares'!$P$13:$P$23)","v":0},20240402,2414,{"$f":"_xlfn.XLOOKUP(B70,'Automower Spares'!$F$13:$F$23,'Automower Spares'!$Q$13:$Q$23)","v":0},20240501,2418,{"$f":"_xlfn.XLOOKUP(B70,'Automower Spares'!$F$13:$F$23,'Automower Spares'!$R$13:$R$23)","v":0},20240603,2423,{"$f":"_xlfn.XLOOKUP(B70,'Automower Spares'!$F$13:$F$23,'Automower Spares'!$S$13:$S$23)","v":0},{"$f":"_xlfn.XLOOKUP(B70,'Automower Spares'!$F$13:$F$23,'Automower Spares'!$L$13:$L$23)","v":424.57499999999999}]
["Automower Spares",599805202,20240103,2401,{"$f":"_xlfn.XLOOKUP(B71,'Automower Spares'!$F$13:$F$23,'Automower Spares'!$N$13:$N$23)","v":0},20240201,2405,{"$f":"_xlfn.XLOOKUP(B71,'Automower Spares'!$F$13:$F$23,'Automower Spares'!$O$13:$O$23)","v":0},20240301,2409,{"$f":"_xlfn.XLOOKUP(B71,'Automower Spares'!$F$13:$F$23,'Automower Spares'!$P$13:$P$23)","v":0},20240402,2414,{"$f":"_xlfn.XLOOKUP(B71,'Automower Spares'!$F$13:$F$23,'Automower Spares'!$Q$13:$Q$23)","v":0},20240501,2418,{"$f":"_xlfn.XLOOKUP(B71,'Automower Spares'!$F$13:$F$23,'Automower Spares'!$R$13:$R$23)","v":0},20240603,2423,{"$f":"_xlfn.XLOOKUP(B71,'Automower Spares'!$F$13:$F$23,'Automower Spares'!$S$13:$S$23)","v":0},{"$f":"_xlfn.XLOOKUP(B71,'Automower Spares'!$F$13:$F$23,'Automower Spares'!$L$13:$L$23)","v":78.621599999999987}]
["Automower Spares",599805201,20240103,2401,{"$f":"_xlfn.XLOOKUP(B72,'Automower Spares'!$F$13:$F$23,'Automower Spares'!$N$13:$N$23)","v":0},20240201,2405,{"$f":"_xlfn.XLOOKUP(B72,'Automower Spares'!$F$13:$F$23,'Automower Spares'!$O$13:$O$23)","v":0},20240301,2409,{"$f":"_xlfn.XLOOKUP(B72,'Automower Spares'!$F$13:$F$23,'Automower Spares'!$P$13:$P$23)","v":0},20240402,2414,{"$f":"_xlfn.XLOOKUP(B72,'Automower Spares'!$F$13:$F$23,'Automower Spares'!$Q$13:$Q$23)","v":0},20240501,2418,{"$f":"_xlfn.XLOOKUP(B72,'Automower Spares'!$F$13:$F$23,'Automower Spares'!$R$13:$R$23)","v":0},20240603,2423,{"$f":"_xlfn.XLOOKUP(B72,'Automower Spares'!$F$13:$F$23,'Automower Spares'!$S$13:$S$23)","v":0},{"$f":"_xlfn.XLOOKUP(B72,'Automower Spares'!$F$13:$F$23,'Automower Spares'!$L$13:$L$23)","v":12.744899999999998}]
["Automower Spares",595084403,20240103,2401,{"$f":"_xlfn.XLOOKUP(B73,'Automower Spares'!$F$13:$F$23,'Automower Spares'!$N$13:$N$23)","v":0},20240201,2405,{"$f":"_xlfn.XLOOKUP(B73,'Automower Spares'!$F$13:$F$23,'Automower Spares'!$O$13:$O$23)","v":0},20240301,2409,{"$f":"_xlfn.XLOOKUP(B73,'Automower Spares'!$F$13:$F$23,'Automower Spares'!$P$13:$P$23)","v":0},20240402,2414,{"$f":"_xlfn.XLOOKUP(B73,'Automower Spares'!$F$13:$F$23,'Automower Spares'!$Q$13:$Q$23)","v":0},20240501,2418,{"$f":"_xlfn.XLOOKUP(B73,'Automower Spares'!$F$13:$F$23,'Automower Spares'!$R$13:$R$23)","v":0},20240603,2423,{"$f":"_xlfn.XLOOKUP(B73,'Automower Spares'!$F$13:$F$23,'Automower Spares'!$S$13:$S$23)","v":0},{"$f":"_xlfn.XLOOKUP(B73,'Automower Spares'!$F$13:$F$23,'Automower Spares'!$L$13:$L$23)","v":318.32669999999996}]
["Automower Spares",595084402,20240103,2401,{"$f":"_xlfn.XLOOKUP(B74,'Automower Spares'!$F$13:$F$23,'Automower Spares'!$N$13:$N$23)","v":0},20240201,2405,{"$f":"_xlfn.XLOOKUP(B74,'Automower Spares'!$F$13:$F$23,'Automower Spares'!$O$13:$O$23)","v":0},20240301,2409,{"$f":"_xlfn.XLOOKUP(B74,'Automower Spares'!$F$13:$F$23,'Automower Spares'!$P$13:$P$23)","v":0},20240402,2414,{"$f":"_xlfn.XLOOKUP(B74,'Automower Spares'!$F$13:$F$23,'Automower Spares'!$Q$13:$Q$23)","v":0},20240501,2418,{"$f":"_xlfn.XLOOKUP(B74,'Automower Spares'!$F$13:$F$23,'Automower Spares'!$R$13:$R$23)","v":0},20240603,2423,{"$f":"_xlfn.XLOOKUP(B74,'Automower Spares'!$F$13:$F$23,'Automower Spares'!$S$13:$S$23)","v":0},{"$f":"_xlfn.XLOOKUP(B74,'Automower Spares'!$F$13:$F$23,'Automower Spares'!$L$13:$L$23)","v":57.369899999999994}]
["Automower Spares",595084401,20240103,2401,{"$f":"_xlfn.XLOOKUP(B75,'Automower Spares'!$F$13:$F$23,'Automower Spares'!$N$13:$N$23)","v":0},20240201,2405,{"$f":"_xlfn.XLOOKUP(B75,'Automower Spares'!$F$13:$F$23,'Automower Spares'!$O$13:$O$23)","v":0},20240301,2409,{"$f":"_xlfn.XLOOKUP(B75,'Automower Spares'!$F$13:$F$23,'Automower Spares'!$P$13:$P$23)","v":0},20240402,2414,{"$f":"_xlfn.XLOOKUP(B75,'Automower Spares'!$F$13:$F$23,'Automower Spares'!$Q$13:$Q$23)","v":0},20240501,2418,{"$f":"_xlfn.XLOOKUP(B75,'Automower Spares'!$F$13:$F$23,'Automower Spares'!$R$13:$R$23)","v":0},20240603,2423,{"$f":"_xlfn.XLOOKUP(B75,'Automower Spares'!$F$13:$F$23,'Automower Spares'!$S$13:$S$23)","v":0},{"$f":"_xlfn.XLOOKUP(B75,'Automower Spares'!$F$13:$F$23,'Automower Spares'!$L$13:$L$23)","v":10.623299999999999}]
["Automower Spares",581982002,20240103,2401,{"$f":"_xlfn.XLOOKUP(B76,'Automower Spares'!$F$13:$F$23,'Automower Spares'!$N$13:$N$23)","v":0},20240201,2405,{"$f":"_xlfn.XLOOKUP(B76,'Automower Spares'!$F$13:$F$23,'Automower Spares'!$O$13:$O$23)","v":0},20240301,2409,{"$f":"_xlfn.XLOOKUP(B76,'Automower Spares'!$F$13:$F$23,'Automower Spares'!$P$13:$P$23)","v":0},20240402,2414,{"$f":"_xlfn.XLOOKUP(B76,'Automower Spares'!$F$13:$F$23,'Automower Spares'!$Q$13:$Q$23)","v":0},20240501,2418,{"$f":"_xlfn.XLOOKUP(B76,'Automower Spares'!$F$13:$F$23,'Automower Spares'!$R$13:$R$23)","v":0},20240603,2423,{"$f":"_xlfn.XLOOKUP(B76,'Automower Spares'!$F$13:$F$23,'Automower Spares'!$S$13:$S$23)","v":0},{"$f":"_xlfn.XLOOKUP(B76,'Automower Spares'!$F$13:$F$23,'Automower Spares'!$L$13:$L$23)","v":14.019899999999998}]
["Automower Spares",577606505,20240103,2401,{"$f":"_xlfn.XLOOKUP(B77,'Automower Spares'!$F$13:$F$23,'Automower Spares'!$N$13:$N$23)","v":0},20240201,2405,{"$f":"_xlfn.XLOOKUP(B77,'Automower Spares'!$F$13:$F$23,'Automower Spares'!$O$13:$O$23)","v":0},20240301,2409,{"$f":"_xlfn.XLOOKUP(B77,'Automower Spares'!$F$13:$F$23,'Automower Spares'!$P$13:$P$23)","v":0},20240402,2414,{"$f":"_xlfn.XLOOKUP(B77,'Automower Spares'!$F$13:$F$23,'Automower Spares'!$Q$13:$Q$23)","v":0},20240501,2418,{"$f":"_xlfn.XLOOKUP(B77,'Automower Spares'!$F$13:$F$23,'Automower Spares'!$R$13:$R$23)","v":0},20240603,2423,{"$f":"_xlfn.XLOOKUP(B77,'Automower Spares'!$F$13:$F$23,'Automower Spares'!$S$13:$S$23)","v":0},{"$f":"_xlfn.XLOOKUP(B77,'Automower Spares'!$F$13:$F$23,'Automower Spares'!$L$13:$L$23)","v":38.244899999999994}]
["Automower Spares",505132803,20240103,2401,{"$f":"_xlfn.XLOOKUP(B78,'Automower Spares'!$F$13:$F$23,'Automower Spares'!$N$13:$N$23)","v":0},20240201,2405,{"$f":"_xlfn.XLOOKUP(B78,'Automower Spares'!$F$13:$F$23,'Automower Spares'!$O$13:$O$23)","v":0},20240301,2409,{"$f":"_xlfn.XLOOKUP(B78,'Automower Spares'!$F$13:$F$23,'Automower Spares'!$P$13:$P$23)","v":0},20240402,2414,{"$f":"_xlfn.XLOOKUP(B78,'Automower Spares'!$F$13:$F$23,'Automower Spares'!$Q$13:$Q$23)","v":0},20240501,2418,{"$f":"_xlfn.XLOOKUP(B78,'Automower Spares'!$F$13:$F$23,'Automower Spares'!$R$13:$R$23)","v":0},20240603,2423,{"$f":"_xlfn.XLOOKUP(B78,'Automower Spares'!$F$13:$F$23,'Automower Spares'!$S$13:$S$23)","v":0},{"$f":"_xlfn.XLOOKUP(B78,'Automower Spares'!$F$13:$F$23,'Automower Spares'!$L$13:$L$23)","v":12.744899999999998}]
["Bar",599656692,20240103,2401,{"$f":"_xlfn.XLOOKUP(B79,Bars!$F$13:$F$90,Bars!$N$13:$N$90)","v":2},20240201,2405,{"$f":"_xlfn.XLOOKUP(B79,Bars!$F$13:$F$90,Bars!$O$13:$O$90)","v":0},20240301,2409,{"$f":"_xlfn.XLOOKUP(B79,Bars!$F$13:$F$90,Bars!$P$13:$P$90)","v":2},20240402,2414,{"$f":"_xlfn.XLOOKUP(B79,Bars!$F$13:$F$90,Bars!$Q$13:$Q$90)","v":0},20240501,2418,{"$f":"_xlfn.XLOOKUP(B79,Bars!$F$13:$F$90,Bars!$R$13:$R$90)","v":2},20240603,2423,{"$f":"_xlfn.XLOOKUP(B79,Bars!$F$13:$F$90,Bars!$S$13:$S$90)","v":0},{"$f":"_xlfn.XLOOKUP(B79,Bars!$F$13:$F$90,Bars!$L$13:$L$90)","v":65.163599999999988}]
["Bar",599656684,20240103,2401,{"$f":"_xlfn.XLOOKUP(B80,Bars!$F$13:$F$90,Bars!$N$13:$N$90)","v":0},20240201,2405,{"$f":"_xlfn.XLOOKUP(B80,Bars!$F$13:$F$90,Bars!$O$13:$O$90)","v":0},20240301,2409,{"$f":"_xlfn.XLOOKUP(B80,Bars!$F$13:$F$90,Bars!$P$13:$P$90)","v":0},20240402,2414,{"$f":"_xlfn.XLOOKUP(B80,Bars!$F$13:$F$90,Bars!$Q$13:$Q$90)","v":0},20240501,2418,{"$f":"_xlfn.XLOOKUP(B80,Bars!$F$13:$F$90,Bars!$R$13:$R$90)","v":0},20240603,2423,{"$f":"_xlfn.XLOOKUP(B80,Bars!$F$13:$F$90,Bars!$S$13:$S$90)","v":0},{"$f":"_xlfn.XLOOKUP(B80,Bars!$F$13:$F$90,Bars!$L$13:$L$90)","v":55.9636}]
["Bar",599656672,20240103,2401,{"$f":"_xlfn.XLOOKUP(B81,Bars!$F$13:$F$90,Bars!$N$13:$N$90)","v":0},20240201,2405,{"$f":"_xlfn.XLOOKUP(B81,Bars!$F$13:$F$90,Bars!$O$13:$O$90)","v":0},20240301,2409,{"$f":"_xlfn.XLOOKUP(B81,Bars!$F$13:$F$90,Bars!$P$13:$P$90)","v":0},20240402,2414,{"$f":"_xlfn.XLOOKUP(B81,Bars!$F$13:$F$90,Bars!$Q$13:$Q$90)","v":0},20240501,2418,{"$f":"_xlfn.XLOOKUP(B81,Bars!$F$13:$F$90,Bars!$R$13:$R$90)","v":0},20240603,2423,{"$f":"_xlfn.XLOOKUP(B81,Bars!$F$13:$F$90,Bars!$S$13:$S$90)","v":0},{"$f":"_xlfn.XLOOKUP(B81,Bars!$F$13:$F$90,Bars!$L$13:$L$90)","v":47.913599999999995}]
["Bar",599656615,20240103,2401,{"$f":"_xlfn.XLOOKUP(B82,Bars!$F$13:$F$90,Bars!$N$13:$N$90)","v":0},20240201,2405,{"$f":"_xlfn.XLOOKUP(B82,Bars!$F$13:$F$90,Bars!$O$13:$O$90)","v":0},20240301,2409,{"$f":"_xlfn.XLOOKUP(B82,Bars!$F$13:$F$90,Bars!$P$13:$P$90)","v":0},20240402,2414,{"$f":"_xlfn.XLOOKUP(B82,Bars!$F$13:$F$90,Bars!$Q$13:$Q$90)","v":0},20240501,2418,{"$f":"_xlfn.XLOOKUP(B82,Bars!$F$13:$F$90,Bars!$R$13:$R$90)","v":0},20240603,2423,{"$f":"_xlfn.XLOOKUP(B82,Bars!$F$13:$F$90,Bars!$S$13:$S$90)","v":0},{"$f":"_xlfn.XLOOKUP(B82,Bars!$F$13:$F$90,Bars!$L$13:$L$90)","v":87.781800000000004}]
["Bar",599656605,20240103,2401,{"$f":"_xlfn.XLOOKUP(B83,Bars!$F$13:$F$90,Bars!$N$13:$N$90)","v":0},20240201,2405,{"$f":"_xlfn.XLOOKUP(B83,Bars!$F$13:$F$90,Bars!$O$13:$O$90)","v":0},20240301,2409,{"$f":"_xlfn.XLOOKUP(B83,Bars!$F$13:$F$90,Bars!$P$13:$P$90)","v":0},20240402,2414,{"$f":"_xlfn.XLOOKUP(B83,Bars!$F$13:$F$90,Bars!$Q$13:$Q$90)","v":0},20240501,2418,{"$f":"_xlfn.XLOOKUP(B83,Bars!$F$13:$F$90,Bars!$R$13:$R$90)","v":0},20240603,2423,{"$f":"_xlfn.XLOOKUP(B83,Bars!$F$13:$F$90,Bars!$S$13:$S$90)","v":0},{"$f":"_xlfn.XLOOKUP(B83,Bars!$F$13:$F$90,Bars!$L$13:$L$90)","v":80.118199999999987}]
["Bar",596691784,20240103,2401,{"$f":"_xlfn.XLOOKUP(B84,Bars!$F$13:$F$90,Bars!$N$13:$N$90)","v":0},20240201,2405,{"$f":"_xlfn.XLOOKUP(B84,Bars!$F$13:$F$90,Bars!$O$13:$O$90)","v":0},20240301,2409,{"$f":"_xlfn.XLOOKUP(B84,Bars!$F$13:$F$90,Bars!$P$13:$P$90)","v":0},20240402,2414,{"$f":"_xlfn.XLOOKUP(B84,Bars!$F$13:$F$90,Bars!$Q$13:$Q$90)","v":0},20240501,2418,{"$f":"_xlfn.XLOOKUP(B84,Bars!$F$13:$F$90,Bars!$R$13:$R$90)","v":0},20240603,2423,{"$f":"_xlfn.XLOOKUP(B84,Bars!$F$13:$F$90,Bars!$S$13:$S$90)","v":0},{"$f":"_xlfn.XLOOKUP(B84,Bars!$F$13:$F$90,Bars!$L$13:$L$90)","v":61.331800000000001}]
["Bar",596691722,20240103,2401,{"$f":"_xlfn.XLOOKUP(B85,Bars!$F$13:$F$90,Bars!$N$13:$N$90)","v":0},20240201,2405,{"$f":"_xlfn.XLOOKUP(B85,Bars!$F$13:$F$90,Bars!$O$13:$O$90)","v":0},20240301,2409,{"$f":"_xlfn.XLOOKUP(B85,Bars!$F$13:$F$90,Bars!$P$13:$P$90)","v":0},20240402,2414,{"$f":"_xlfn.XLOOKUP(B85,Bars!$F$13:$F$90,Bars!$Q$13:$Q$90)","v":0},20240501,2418,{"$f":"_xlfn.XLOOKUP(B85,Bars!$F$13:$F$90,Bars!$R$13:$R$90)","v":0},20240603,2423,{"$f":"_xlfn.XLOOKUP(B85,Bars!$F$13:$F$90,Bars!$S$13:$S$90)","v":0},{"$f":"_xlfn.XLOOKUP(B85,Bars!$F$13:$F$90,Bars!$L$13:$L$90)","v":91.618199999999987}]
["Bar",596691572,20240103,2401,{"$f":"_xlfn.XLOOKUP(B86,Bars!$F$13:$F$90,Bars!$N$13:$N$90)","v":0},20240201,2405,{"$f":"_xlfn.XLOOKUP(B86,Bars!$F$13:$F$90,Bars!$O$13:$O$90)","v":0},20240301,2409,{"$f":"_xlfn.XLOOKUP(B86,Bars!$F$13:$F$90,Bars!$P$13:$P$90)","v":0},20240402,2414,{"$f":"_xlfn.XLOOKUP(B86,Bars!$F$13:$F$90,Bars!$Q$13:$Q$90)","v":0},20240501,2418,{"$f":"_xlfn.XLOOKUP(B86,Bars!$F$13:$F$90,Bars!$R$13:$R$90)","v":0},20240603,2423,{"$f":"_xlfn.XLOOKUP(B86,Bars!$F$13:$F$90,Bars!$S$13:$S$90)","v":0},{"$f":"_xlfn.XLOOKUP(B86,Bars!$F$13:$F$90,Bars!$L$13:$L$90)","v":43.695399999999992}]
["Bar",596691568,20240103,2401,{"$f":"_xlfn.XLOOKUP(B87,Bars!$F$13:$F$90,Bars!$N$13:$N$90)","v":0},20240201,2405,{"$f":"_xlfn.XLOOKUP(B87,Bars!$F$13:$F$90,Bars!$O$13:$O$90)","v":0},20240301,2409,{"$f":"_xlfn.XLOOKUP(B87,Bars!$F$13:$F$90,Bars!$P$13:$P$90)","v":0},20240402,2414,{"$f":"_xlfn.XLOOKUP(B87,Bars!$F$13:$F$90,Bars!$Q$13:$Q$90)","v":0},20240501,2418,{"$f":"_xlfn.XLOOKUP(B87,Bars!$F$13:$F$90,Bars!$R$13:$R$90)","v":0},20240603,2423,{"$f":"_xlfn.XLOOKUP(B87,Bars!$F$13:$F$90,Bars!$S$13:$S$90)","v":0},{"$f":"_xlfn.XLOOKUP(B87,Bars!$F$13:$F$90,Bars!$L$13:$L$90)","v":39.481799999999993}]
["Bar",596691272,20240103,2401,{"$f":"_xlfn.XLOOKUP(B88,Bars!$F$13:$F$90,Bars!$N$13:$N$90)","v":0},20240201,2405,{"$f":"_xlfn.XLOOKUP(B88,Bars!$F$13:$F$90,Bars!$O$13:$O$90)","v":0},20240301,2409,{"$f":"_xlfn.XLOOKUP(B88,Bars!$F$13:$F$90,Bars!$P$13:$P$90)","v":0},20240402,2414,{"$f":"_xlfn.XLOOKUP(B88,Bars!$F$13:$F$90,Bars!$Q$13:$Q$90)","v":0},20240501,2418,{"$f":"_xlfn.XLOOKUP(B88,Bars!$F$13:$F$90,Bars!$R$13:$R$90)","v":0},20240603,2423,{"$f":"_xlfn.XLOOKUP(B88,Bars!$F$13:$F$90,Bars!$S$13:$S$90)","v":0},{"$f":"_xlfn.XLOOKUP(B88,Bars!$F$13:$F$90,Bars!$L$13:$L$90)","v":43.695399999999992}]
["Bar",596691215,20240103,2401,{"$f":"_xlfn.XLOOKUP(B89,Bars!$F$13:$F$90,Bars!$N$13:$N$90)","v":0},20240201,2405,{"$f":"_xlfn.XLOOKUP(B89,Bars!$F$13:$F$90,Bars!$O$13:$O$90)","v":0},20240301,2409,{"$f":"_xlfn.XLOOKUP(B89,Bars!$F$13:$F$90,Bars!$P$13:$P$90)","v":0},20240402,2414,{"$f":"_xlfn.XLOOKUP(B89,Bars!$F$13:$F$90,Bars!$Q$13:$Q$90)","v":0},20240501,2418,{"$f":"_xlfn.XLOOKUP(B89,Bars!$F$13:$F$90,Bars!$R$13:$R$90)","v":0},20240603,2423,{"$f":"_xlfn.XLOOKUP(B89,Bars!$F$13:$F$90,Bars!$S$13:$S$90)","v":0},{"$f":"_xlfn.XLOOKUP(B89,Bars!$F$13:$F$90,Bars!$L$13:$L$90)","v":80.118199999999987}]
["Bar",596691192,20240103,2401,{"$f":"_xlfn.XLOOKUP(B90,Bars!$F$13:$F$90,Bars!$N$13:$N$90)","v":0},20240201,2405,{"$f":"_xlfn.XLOOKUP(B90,Bars!$F$13:$F$90,Bars!$O$13:$O$90)","v":0},20240301,2409,{"$f":"_xlfn.XLOOKUP(B90,Bars!$F$13:$F$90,Bars!$P$13:$P$90)","v":0},20240402,2414,{"$f":"_xlfn.XLOOKUP(B90,Bars!$F$13:$F$90,Bars!$Q$13:$Q$90)","v":0},20240501,2418,{"$f":"_xlfn.XLOOKUP(B90,Bars!$F$13:$F$90,Bars!$R$13:$R$90)","v":0},20240603,2423,{"$f":"_xlfn.XLOOKUP(B90,Bars!$F$13:$F$90,Bars!$S$13:$S$90)","v":0},{"$f":"_xlfn.XLOOKUP(B90,Bars!$F$13:$F$90,Bars!$L$13:$L$90)","v":61.331800000000001}]
["Bar",596691184,20240103,2401,{"$f":"_xlfn.XLOOKUP(B91,Bars!$F$13:$F$90,Bars!$N$13:$N$90)","v":0},20240201,2405,{"$f":"_xlfn.XLOOKUP(B91,Bars!$F$13:$F$90,Bars!$O$13:$O$90)","v":0},20240301,2409,{"$f":"_xlfn.XLOOKUP(B91,Bars!$F$13:$F$90,Bars!$P$13:$P$90)","v":0},20240402,2414,{"$f":"_xlfn.XLOOKUP(B91,Bars!$F$13:$F$90,Bars!$Q$13:$Q$90)","v":0},20240501,2418,{"$f":"_xlfn.XLOOKUP(B91,Bars!$F$13:$F$90,Bars!$R$13:$R$90)","v":0},20240603,2423,{"$f":"_xlfn.XLOOKUP(B91,Bars!$F$13:$F$90,Bars!$S$13:$S$90)","v":0},{"$f":"_xlfn.XLOOKUP(B91,Bars!$F$13:$F$90,Bars!$L$13:$L$90)","v":50.595399999999991}]
["Bar",596691176,20240103,2401,{"$f":"_xlfn.XLOOKUP(B92,Bars!$F$13:$F$90,Bars!$N$13:$N$90)","v":0},20240201,2405,{"$f":"_xlfn.XLOOKUP(B92,Bars!$F$13:$F$90,Bars!$O$13:$O$90)","v":0},20240301,2409,{"$f":"_xlfn.XLOOKUP(B92,Bars!$F$13:$F$90,Bars!$P$13:$P$90)","v":0},20240402,2414,{"$f":"_xlfn.XLOOKUP(B92,Bars!$F$13:$F$90,Bars!$Q$13:$Q$90)","v":0},20240501,2418,{"$f":"_xlfn.XLOOKUP(B92,Bars!$F$13:$F$90,Bars!$R$13:$R$90)","v":0},20240603,2423,{"$f":"_xlfn.XLOOKUP(B92,Bars!$F$13:$F$90,Bars!$S$13:$S$90)","v":0},{"$f":"_xlfn.XLOOKUP(B92,Bars!$F$13:$F$90,Bars!$L$13:$L$90)","v":51.745399999999997}]
["Bar",596691172,20240103,2401,{"$f":"_xlfn.XLOOKUP(B93,Bars!$F$13:$F$90,Bars!$N$13:$N$90)","v":0},20240201,2405,{"$f":"_xlfn.XLOOKUP(B93,Bars!$F$13:$F$90,Bars!$O$13:$O$90)","v":0},20240301,2409,{"$f":"_xlfn.XLOOKUP(B93,Bars!$F$13:$F$90,Bars!$P$13:$P$90)","v":0},20240402,2414,{"$f":"_xlfn.XLOOKUP(B93,Bars!$F$13:$F$90,Bars!$Q$13:$Q$90)","v":0},20240501,2418,{"$f":"_xlfn.XLOOKUP(B93,Bars!$F$13:$F$90,Bars!$R$13:$R$90)","v":0},20240603,2423,{"$f":"_xlfn.XLOOKUP(B93,Bars!$F$13:$F$90,Bars!$S$13:$S$90)","v":0},{"$f":"_xlfn.XLOOKUP(B93,Bars!$F$13:$F$90,Bars!$L$13:$L$90)","v":43.695399999999992}]
["Bar",596691168,20240103,2401,{"$f":"_xlfn.XLOOKUP(B94,Bars!$F$13:$F$90,Bars!$N$13:$N$90)","v":0},20240201,2405,{"$f":"_xlfn.XLOOKUP(B94,Bars!$F$13:$F$90,Bars!$O$13:$O$90)","v":0},20240301,2409,{"$f":"_xlfn.XLOOKUP(B94,Bars!$F$13:$F$90,Bars!$P$13:$P$90)","v":0},20240402,2414,{"$f":"_xlfn.XLOOKUP(B94,Bars!$F$13:$F$90,Bars!$Q$13:$Q$90)","v":0},20240501,2418,{"$f":"_xlfn.XLOOKUP(B94,Bars!$F$13:$F$90,Bars!$R$13:$R$90)","v":0},20240603,2423,{"$f":"_xlfn.XLOOKUP(B94,Bars!$F$13:$F$90,Bars!$S$13:$S$90)","v":0},{"$f":"_xlfn.XLOOKUP(B94,Bars!$F$13:$F$90,Bars!$L$13:$L$90)","v":40.245399999999997}]
["Bar",596691160,20240103,2401,{"$f":"_xlfn.XLOOKUP(B95,Bars!$F$13:$F$90,Bars!$N$13:$N$90)","v":0},20240201,2405,{"$f":"_xlfn.XLOOKUP(B95,Bars!$F$13:$F$90,Bars!$O$13:$O$90)","v":0},20240301,2409,{"$f":"_xlfn.XLOOKUP(B95,Bars!$F$13:$F$90,Bars!$P$13:$P$90)","v":0},20240402,2414,{"$f":"_xlfn.XLOOKUP(B95,Bars!$F$13:$F$90,Bars!$Q$13:$Q$90)","v":0},20240501,2418,{"$f":"_xlfn.XLOOKUP(B95,Bars!$F$13:$F$90,Bars!$R$13:$R$90)","v":0},20240603,2423,{"$f":"_xlfn.XLOOKUP(B95,Bars!$F$13:$F$90,Bars!$S$13:$S$90)","v":0},{"$f":"_xlfn.XLOOKUP(B95,Bars!$F$13:$F$90,Bars!$L$13:$L$90)","v":35.263599999999997}]
["Bar",596691092,20240103,2401,{"$f":"_xlfn.XLOOKUP(B96,Bars!$F$13:$F$90,Bars!$N$13:$N$90)","v":0},20240201,2405,{"$f":"_xlfn.XLOOKUP(B96,Bars!$F$13:$F$90,Bars!$O$13:$O$90)","v":0},20240301,2409,{"$f":"_xlfn.XLOOKUP(B96,Bars!$F$13:$F$90,Bars!$P$13:$P$90)","v":0},20240402,2414,{"$f":"_xlfn.XLOOKUP(B96,Bars!$F$13:$F$90,Bars!$Q$13:$Q$90)","v":0},20240501,2418,{"$f":"_xlfn.XLOOKUP(B96,Bars!$F$13:$F$90,Bars!$R$13:$R$90)","v":0},20240603,2423,{"$f":"_xlfn.XLOOKUP(B96,Bars!$F$13:$F$90,Bars!$S$13:$S$90)","v":0},{"$f":"_xlfn.XLOOKUP(B96,Bars!$F$13:$F$90,Bars!$L$13:$L$90)","v":65.163599999999988}]
["Bar",596691084,20240103,2401,{"$f":"_xlfn.XLOOKUP(B97,Bars!$F$13:$F$90,Bars!$N$13:$N$90)","v":0},20240201,2405,{"$f":"_xlfn.XLOOKUP(B97,Bars!$F$13:$F$90,Bars!$O$13:$O$90)","v":0},20240301,2409,{"$f":"_xlfn.XLOOKUP(B97,Bars!$F$13:$F$90,Bars!$P$13:$P$90)","v":0},20240402,2414,{"$f":"_xlfn.XLOOKUP(B97,Bars!$F$13:$F$90,Bars!$Q$13:$Q$90)","v":0},20240501,2418,{"$f":"_xlfn.XLOOKUP(B97,Bars!$F$13:$F$90,Bars!$R$13:$R$90)","v":0},20240603,2423,{"$f":"_xlfn.XLOOKUP(B97,Bars!$F$13:$F$90,Bars!$S$13:$S$90)","v":0},{"$f":"_xlfn.XLOOKUP(B97,Bars!$F$13:$F$90,Bars!$L$13:$L$90)","v":61.331800000000001}]
["Bar",596691076,20240103,2401,{"$f":"_xlfn.XLOOKUP(B98,Bars!$F$13:$F$90,Bars!$N$13:$N$90)","v":0},20240201,2405,{"$f":"_xlfn.XLOOKUP(B98,Bars!$F$13:$F$90,Bars!$O$13:$O$90)","v":0},20240301,2409,{"$f":"_xlfn.XLOOKUP(B98,Bars!$F$13:$F$90,Bars!$P$13:$P$90)","v":0},20240402,2414,{"$f":"_xlfn.XLOOKUP(B98,Bars!$F$13:$F$90,Bars!$Q$13:$Q$90)","v":0},20240501,2418,{"$f":"_xlfn.XLOOKUP(B98,Bars!$F$13:$F$90,Bars!$R$13:$R$90)","v":0},20240603,2423,{"$f":"_xlfn.XLOOKUP(B98,Bars!$F$13:$F$90,Bars!$S$13:$S$90)","v":0},{"$f":"_xlfn.XLOOKUP(B98,Bars!$F$13:$F$90,Bars!$L$13:$L$90)","v":51.745399999999997}]
["Bar",596691024,20240103,2401,{"$f":"_xlfn.XLOOKUP(B99,Bars!$F$13:$F$90,Bars!$N$13:$N$90)","v":0},20240201,2405,{"$f":"_xlfn.XLOOKUP(B99,Bars!$F$13:$F$90,Bars!$O$13:$O$90)","v":0},20240301,2409,{"$f":"_xlfn.XLOOKUP(B99,Bars!$F$13:$F$90,Bars!$P$13:$P$90)","v":0},20240402,2414,{"$f":"_xlfn.XLOOKUP(B99,Bars!$F$13:$F$90,Bars!$Q$13:$Q$90)","v":0},20240501,2418,{"$f":"_xlfn.XLOOKUP(B99,Bars!$F$13:$F$90,Bars!$R$13:$R$90)","v":0},20240603,2423,{"$f":"_xlfn.XLOOKUP(B99,Bars!$F$13:$F$90,Bars!$S$13:$S$90)","v":0},{"$f":"_xlfn.XLOOKUP(B99,Bars!$F$13:$F$90,Bars!$L$13:$L$90)","v":91.618199999999987}]
["Bar",596691004,20240103,2401,{"$f":"_xlfn.XLOOKUP(B100,Bars!$F$13:$F$90,Bars!$N$13:$N$90)","v":0},20240201,2405,{"$f":"_xlfn.XLOOKUP(B100,Bars!$F$13:$F$90,Bars!$O$13:$O$90)","v":0},20240301,2409,{"$f":"_xlfn.XLOOKUP(B100,Bars!$F$13:$F$90,Bars!$P$13:$P$90)","v":0},20240402,2414,{"$f":"_xlfn.XLOOKUP(B100,Bars!$F$13:$F$90,Bars!$Q$13:$Q$90)","v":0},20240501,2418,{"$f":"_xlfn.XLOOKUP(B100,Bars!$F$13:$F$90,Bars!$R$13:$R$90)","v":0},20240603,2423,{"$f":"_xlfn.XLOOKUP(B100,Bars!$F$13:$F$90,Bars!$S$13:$S$90)","v":0},{"$f":"_xlfn.XLOOKUP(B100,Bars!$F$13:$F$90,Bars!$L$13:$L$90)","v":80.118199999999987}]
["Bar",596690892,20240103,2401,{"$f":"_xlfn.XLOOKUP(B101,Bars!$F$13:$F$90,Bars!$N$13:$N$90)","v":0},20240201,2405,{"$f":"_xlfn.XLOOKUP(B101,Bars!$F$13:$F$90,Bars!$O$13:$O$90)","v":0},20240301,2409,{"$f":"_xlfn.XLOOKUP(B101,Bars!$F$13:$F$90,Bars!$P$13:$P$90)","v":0},20240402,2414,{"$f":"_xlfn.XLOOKUP(B101,Bars!$F$13:$F$90,Bars!$Q$13:$Q$90)","v":0},20240501,2418,{"$f":"_xlfn.XLOOKUP(B101,Bars!$F$13:$F$90,Bars!$R$13:$R$90)","v":0},20240603,2423,{"$f":"_xlfn.XLOOKUP(B101,Bars!$F$13:$F$90,Bars!$S$13:$S$90)","v":0},{"$f":"_xlfn.XLOOKUP(B101,Bars!$F$13:$F$90,Bars!$L$13:$L$90)","v":61.331800000000001}]
["Bar",596690884,20240103,2401,{"$f":"_xlfn.XLOOKUP(B102,Bars!$F$13:$F$90,Bars!$N$13:$N$90)","v":0},20240201,2405,{"$f":"_xlfn.XLOOKUP(B102,Bars!$F$13:$F$90,Bars!$O$13:$O$90)","v":0},20240301,2409,{"$f":"_xlfn.XLOOKUP(B102,Bars!$F$13:$F$90,Bars!$P$13:$P$90)","v":0},20240402,2414,{"$f":"_xlfn.XLOOKUP(B102,Bars!$F$13:$F$90,Bars!$Q$13:$Q$90)","v":0},20240501,2418,{"$f":"_xlfn.XLOOKUP(B102,Bars!$F$13:$F$90,Bars!$R$13:$R$90)","v":0},20240603,2423,{"$f":"_xlfn.XLOOKUP(B102,Bars!$F$13:$F$90,Bars!$S$13:$S$90)","v":0},{"$f":"_xlfn.XLOOKUP(B102,Bars!$F$13:$F$90,Bars!$L$13:$L$90)","v":51.745399999999997}]
["Bar",596690881,20240103,2401,{"$f":"_xlfn.XLOOKUP(B103,Bars!$F$13:$F$90,Bars!$N$13:$N$90)","v":0},20240201,2405,{"$f":"_xlfn.XLOOKUP(B103,Bars!$F$13:$F$90,Bars!$O$13:$O$90)","v":0},20240301,2409,{"$f":"_xlfn.XLOOKUP(B103,Bars!$F$13:$F$90,Bars!$P$13:$P$90)","v":0},20240402,2414,{"$f":"_xlfn.XLOOKUP(B103,Bars!$F$13:$F$90,Bars!$Q$13:$Q$90)","v":0},20240501,2418,{"$f":"_xlfn.XLOOKUP(B103,Bars!$F$13:$F$90,Bars!$R$13:$R$90)","v":0},20240603,2423,{"$f":"_xlfn.XLOOKUP(B103,Bars!$F$13:$F$90,Bars!$S$13:$S$90)","v":0},{"$f":"_xlfn.XLOOKUP(B103,Bars!$F$13:$F$90,Bars!$L$13:$L$90)","v":43.695399999999992}]
["Bar",596690876,20240103,2401,{"$f":"_xlfn.XLOOKUP(B104,Bars!$F$13:$F$90,Bars!$N$13:$N$90)","v":0},20240201,2405,{"$f":"_xlfn.XLOOKUP(B104,Bars!$F$13:$F$90,Bars!$O$13:$O$90)","v":0},20240301,2409,{"$f":"_xlfn.XLOOKUP(B104,Bars!$F$13:$F$90,Bars!$P$13:$P$90)","v":0},20240402,2414,{"$f":"_xlfn.XLOOKUP(B104,Bars!$F$13:$F$90,Bars!$Q$13:$Q$90)","v":0},20240501,2418,{"$f":"_xlfn.XLOOKUP(B104,Bars!$F$13:$F$90,Bars!$R$13:$R$90)","v":0},20240603,2423,{"$f":"_xlfn.XLOOKUP(B104,Bars!$F$13:$F$90,Bars!$S$13:$S$90)","v":0},{"$f":"_xlfn.XLOOKUP(B104,Bars!$F$13:$F$90,Bars!$L$13:$L$90)","v":39.481799999999993}]
["Bar",596690872,20240103,2401,{"$f":"_xlfn.XLOOKUP(B105,Bars!$F$13:$F$90,Bars!$N$13:$N$90)","v":0},20240201,2405,{"$f":"_xlfn.XLOOKUP(B105,Bars!$F$13:$F$90,Bars!$O$13:$O$90)","v":0},20240301,2409,{"$f":"_xlfn.XLOOKUP(B105,Bars!$F$13:$F$90,Bars!$P$13:$P$90)","v":0},20240402,2414,{"$f":"_xlfn.XLOOKUP(B105,Bars!$F$13:$F$90,Bars!$Q$13:$Q$90)","v":0},20240501,2418,{"$f":"_xlfn.XLOOKUP(B105,Bars!$F$13:$F$90,Bars!$R$13:$R$90)","v":0},20240603,2423,{"$f":"_xlfn.XLOOKUP(B105,Bars!$F$13:$F$90,Bars!$S$13:$S$90)","v":0},{"$f":"_xlfn.XLOOKUP(B105,Bars!$F$13:$F$90,Bars!$L$13:$L$90)","v":42.163599999999995}]
["Bar",596690868,20240103,2401,{"$f":"_xlfn.XLOOKUP(B106,Bars!$F$13:$F$90,Bars!$N$13:$N$90)","v":0},20240201,2405,{"$f":"_xlfn.XLOOKUP(B106,Bars!$F$13:$F$90,Bars!$O$13:$O$90)","v":0},20240301,2409,{"$f":"_xlfn.XLOOKUP(B106,Bars!$F$13:$F$90,Bars!$P$13:$P$90)","v":0},20240402,2414,{"$f":"_xlfn.XLOOKUP(B106,Bars!$F$13:$F$90,Bars!$Q$13:$Q$90)","v":0},20240501,2418,{"$f":"_xlfn.XLOOKUP(B106,Bars!$F$13:$F$90,Bars!$R$13:$R$90)","v":0},20240603,2423,{"$f":"_xlfn.XLOOKUP(B106,Bars!$F$13:$F$90,Bars!$S$13:$S$90)","v":0},{"$f":"_xlfn.XLOOKUP(B106,Bars!$F$13:$F$90,Bars!$L$13:$L$90)","v":43.695399999999992}]
["Bar",596690866,20240103,2401,{"$f":"_xlfn.XLOOKUP(B107,Bars!$F$13:$F$90,Bars!$N$13:$N$90)","v":0},20240201,2405,{"$f":"_xlfn.XLOOKUP(B107,Bars!$F$13:$F$90,Bars!$O$13:$O$90)","v":0},20240301,2409,{"$f":"_xlfn.XLOOKUP(B107,Bars!$F$13:$F$90,Bars!$P$13:$P$90)","v":0},20240402,2414,{"$f":"_xlfn.XLOOKUP(B107,Bars!$F$13:$F$90,Bars!$Q$13:$Q$90)","v":0},20240501,2418,{"$f":"_xlfn.XLOOKUP(B107,Bars!$F$13:$F$90,Bars!$R$13:$R$90)","v":0},20240603,2423,{"$f":"_xlfn.XLOOKUP(B107,Bars!$F$13:$F$90,Bars!$S$13:$S$90)","v":0},{"$f":"_xlfn.XLOOKUP(B107,Bars!$F$13:$F$90,Bars!$L$13:$L$90)","v":35.263599999999997}]
["Bar",596685772,20240103,2401,{"$f":"_xlfn.XLOOKUP(B108,Bars!$F$13:$F$90,Bars!$N$13:$N$90)","v":0},20240201,2405,{"$f":"_xlfn.XLOOKUP(B108,Bars!$F$13:$F$90,Bars!$O$13:$O$90)","v":0},20240301,2409,{"$f":"_xlfn.XLOOKUP(B108,Bars!$F$13:$F$90,Bars!$P$13:$P$90)","v":0},20240402,2414,{"$f":"_xlfn.XLOOKUP(B108,Bars!$F$13:$F$90,Bars!$Q$13:$Q$90)","v":0},20240501,2418,{"$f":"_xlfn.XLOOKUP(B108,Bars!$F$13:$F$90,Bars!$R$13:$R$90)","v":0},20240603,2423,{"$f":"_xlfn.XLOOKUP(B108,Bars!$F$13:$F$90,Bars!$S$13:$S$90)","v":0},{"$f":"_xlfn.XLOOKUP(B108,Bars!$F$13:$F$90,Bars!$L$13:$L$90)","v":39.481799999999993}]
["Bar",596685360,20240103,2401,{"$f":"_xlfn.XLOOKUP(B109,Bars!$F$13:$F$90,Bars!$N$13:$N$90)","v":0},20240201,2405,{"$f":"_xlfn.XLOOKUP(B109,Bars!$F$13:$F$90,Bars!$O$13:$O$90)","v":0},20240301,2409,{"$f":"_xlfn.XLOOKUP(B109,Bars!$F$13:$F$90,Bars!$P$13:$P$90)","v":0},20240402,2414,{"$f":"_xlfn.XLOOKUP(B109,Bars!$F$13:$F$90,Bars!$Q$13:$Q$90)","v":0},20240501,2418,{"$f":"_xlfn.XLOOKUP(B109,Bars!$F$13:$F$90,Bars!$R$13:$R$90)","v":0},20240603,2423,{"$f":"_xlfn.XLOOKUP(B109,Bars!$F$13:$F$90,Bars!$S$13:$S$90)","v":0},{"$f":"_xlfn.XLOOKUP(B109,Bars!$F$13:$F$90,Bars!$L$13:$L$90)","v":35.263599999999997}]
["Bar",596685356,20240103,2401,{"$f":"_xlfn.XLOOKUP(B110,Bars!$F$13:$F$90,Bars!$N$13:$N$90)","v":0},20240201,2405,{"$f":"_xlfn.XLOOKUP(B110,Bars!$F$13:$F$90,Bars!$O$13:$O$90)","v":0},20240301,2409,{"$f":"_xlfn.XLOOKUP(B110,Bars!$F$13:$F$90,Bars!$P$13:$P$90)","v":0},20240402,2414,{"$f":"_xlfn.XLOOKUP(B110,Bars!$F$13:$F$90,Bars!$Q$13:$Q$90)","v":0},20240501,2418,{"$f":"_xlfn.XLOOKUP(B110,Bars!$F$13:$F$90,Bars!$R$13:$R$90)","v":0},20240603,2423,{"$f":"_xlfn.XLOOKUP(B110,Bars!$F$13:$F$90,Bars!$S$13:$S$90)","v":0},{"$f":"_xlfn.XLOOKUP(B110,Bars!$F$13:$F$90,Bars!$L$13:$L$90)","v":33.345399999999998}]
["Bar",596685352,20240103,2401,{"$f":"_xlfn.XLOOKUP(B111,Bars!$F$13:$F$90,Bars!$N$13:$N$90)","v":0},20240201,2405,{"$f":"_xlfn.XLOOKUP(B111,Bars!$F$13:$F$90,Bars!$O$13:$O$90)","v":0},20240301,2409,{"$f":"_xlfn.XLOOKUP(B111,Bars!$F$13:$F$90,Bars!$P$13:$P$90)","v":0},20240402,2414,{"$f":"_xlfn.XLOOKUP(B111,Bars!$F$13:$F$90,Bars!$Q$13:$Q$90)","v":0},20240501,2418,{"$f":"_xlfn.XLOOKUP(B111,Bars!$F$13:$F$90,Bars!$R$13:$R$90)","v":0},20240603,2423,{"$f":"_xlfn.XLOOKUP(B111,Bars!$F$13:$F$90,Bars!$S$13:$S$90)","v":0},{"$f":"_xlfn.XLOOKUP(B111,Bars!$F$13:$F$90,Bars!$L$13:$L$90)","v":27.9818}]
["Bar",596685302,20240103,2401,{"$f":"_xlfn.XLOOKUP(B112,Bars!$F$13:$F$90,Bars!$N$13:$N$90)","v":0},20240201,2405,{"$f":"_xlfn.XLOOKUP(B112,Bars!$F$13:$F$90,Bars!$O$13:$O$90)","v":0},20240301,2409,{"$f":"_xlfn.XLOOKUP(B112,Bars!$F$13:$F$90,Bars!$P$13:$P$90)","v":0},20240402,2414,{"$f":"_xlfn.XLOOKUP(B112,Bars!$F$13:$F$90,Bars!$Q$13:$Q$90)","v":0},20240501,2418,{"$f":"_xlfn.XLOOKUP(B112,Bars!$F$13:$F$90,Bars!$R$13:$R$90)","v":0},20240603,2423,{"$f":"_xlfn.XLOOKUP(B112,Bars!$F$13:$F$90,Bars!$S$13:$S$90)","v":0},{"$f":"_xlfn.XLOOKUP(B112,Bars!$F$13:$F$90,Bars!$L$13:$L$90)","v":65.163599999999988}]
["Bar",593914364,20240103,2401,{"$f":"_xlfn.XLOOKUP(B113,Bars!$F$13:$F$90,Bars!$N$13:$N$90)","v":0},20240201,2405,{"$f":"_xlfn.XLOOKUP(B113,Bars!$F$13:$F$90,Bars!$O$13:$O$90)","v":0},20240301,2409,{"$f":"_xlfn.XLOOKUP(B113,Bars!$F$13:$F$90,Bars!$P$13:$P$90)","v":0},20240402,2414,{"$f":"_xlfn.XLOOKUP(B113,Bars!$F$13:$F$90,Bars!$Q$13:$Q$90)","v":0},20240501,2418,{"$f":"_xlfn.XLOOKUP(B113,Bars!$F$13:$F$90,Bars!$R$13:$R$90)","v":0},20240603,2423,{"$f":"_xlfn.XLOOKUP(B113,Bars!$F$13:$F$90,Bars!$S$13:$S$90)","v":0},{"$f":"_xlfn.XLOOKUP(B113,Bars!$F$13:$F$90,Bars!$L$13:$L$90)","v":19.931799999999999}]
["Bar",593914359,20240103,2401,{"$f":"_xlfn.XLOOKUP(B114,Bars!$F$13:$F$90,Bars!$N$13:$N$90)","v":0},20240201,2405,{"$f":"_xlfn.XLOOKUP(B114,Bars!$F$13:$F$90,Bars!$O$13:$O$90)","v":0},20240301,2409,{"$f":"_xlfn.XLOOKUP(B114,Bars!$F$13:$F$90,Bars!$P$13:$P$90)","v":0},20240402,2414,{"$f":"_xlfn.XLOOKUP(B114,Bars!$F$13:$F$90,Bars!$Q$13:$Q$90)","v":0},20240501,2418,{"$f":"_xlfn.XLOOKUP(B114,Bars!$F$13:$F$90,Bars!$R$13:$R$90)","v":0},20240603,2423,{"$f":"_xlfn.XLOOKUP(B114,Bars!$F$13:$F$90,Bars!$S$13:$S$90)","v":0},{"$f":"_xlfn.XLOOKUP(B114,Bars!$F$13:$F$90,Bars!$L$13:$L$90)","v":16.481799999999996}]
["Bar",593914351,20240103,2401,{"$f":"_xlfn.XLOOKUP(B115,Bars!$F$13:$F$90,Bars!$N$13:$N$90)","v":0},20240201,2405,{"$f":"_xlfn.XLOOKUP(B115,Bars!$F$13:$F$90,Bars!$O$13:$O$90)","v":0},20240301,2409,{"$f":"_xlfn.XLOOKUP(B115,Bars!$F$13:$F$90,Bars!$P$13:$P$90)","v":0},20240402,2414,{"$f":"_xlfn.XLOOKUP(B115,Bars!$F$13:$F$90,Bars!$Q$13:$Q$90)","v":0},20240501,2418,{"$f":"_xlfn.XLOOKUP(B115,Bars!$F$13:$F$90,Bars!$R$13:$R$90)","v":0},20240603,2423,{"$f":"_xlfn.XLOOKUP(B115,Bars!$F$13:$F$90,Bars!$S$13:$S$90)","v":0},{"$f":"_xlfn.XLOOKUP(B115,Bars!$F$13:$F$90,Bars!$L$13:$L$90)","v":14.181799999999999}]
["Bar",593914346,20240103,2401,{"$f":"_xlfn.XLOOKUP(B116,Bars!$F$13:$F$90,Bars!$N$13:$N$90)","v":0},20240201,2405,{"$f":"_xlfn.XLOOKUP(B116,Bars!$F$13:$F$90,Bars!$O$13:$O$90)","v":0},20240301,2409,{"$f":"_xlfn.XLOOKUP(B116,Bars!$F$13:$F$90,Bars!$P$13:$P$90)","v":0},20240402,2414,{"$f":"_xlfn.XLOOKUP(B116,Bars!$F$13:$F$90,Bars!$Q$13:$Q$90)","v":0},20240501,2418,{"$f":"_xlfn.XLOOKUP(B116,Bars!$F$13:$F$90,Bars!$R$13:$R$90)","v":0},20240603,2423,{"$f":"_xlfn.XLOOKUP(B116,Bars!$F$13:$F$90,Bars!$S$13:$S$90)","v":0},{"$f":"_xlfn.XLOOKUP(B116,Bars!$F$13:$F$90,Bars!$L$13:$L$90)","v":12.263599999999999}]
["Bar",587394468,20240103,2401,{"$f":"_xlfn.XLOOKUP(B117,Bars!$F$13:$F$90,Bars!$N$13:$N$90)","v":0},20240201,2405,{"$f":"_xlfn.XLOOKUP(B117,Bars!$F$13:$F$90,Bars!$O$13:$O$90)","v":0},20240301,2409,{"$f":"_xlfn.XLOOKUP(B117,Bars!$F$13:$F$90,Bars!$P$13:$P$90)","v":0},20240402,2414,{"$f":"_xlfn.XLOOKUP(B117,Bars!$F$13:$F$90,Bars!$Q$13:$Q$90)","v":0},20240501,2418,{"$f":"_xlfn.XLOOKUP(B117,Bars!$F$13:$F$90,Bars!$R$13:$R$90)","v":0},20240603,2423,{"$f":"_xlfn.XLOOKUP(B117,Bars!$F$13:$F$90,Bars!$S$13:$S$90)","v":0},{"$f":"_xlfn.XLOOKUP(B117,Bars!$F$13:$F$90,Bars!$L$13:$L$90)","v":39.481799999999993}]
["Bar",587394460,20240103,2401,{"$f":"_xlfn.XLOOKUP(B118,Bars!$F$13:$F$90,Bars!$N$13:$N$90)","v":0},20240201,2405,{"$f":"_xlfn.XLOOKUP(B118,Bars!$F$13:$F$90,Bars!$O$13:$O$90)","v":0},20240301,2409,{"$f":"_xlfn.XLOOKUP(B118,Bars!$F$13:$F$90,Bars!$P$13:$P$90)","v":0},20240402,2414,{"$f":"_xlfn.XLOOKUP(B118,Bars!$F$13:$F$90,Bars!$Q$13:$Q$90)","v":0},20240501,2418,{"$f":"_xlfn.XLOOKUP(B118,Bars!$F$13:$F$90,Bars!$R$13:$R$90)","v":0},20240603,2423,{"$f":"_xlfn.XLOOKUP(B118,Bars!$F$13:$F$90,Bars!$S$13:$S$90)","v":0},{"$f":"_xlfn.XLOOKUP(B118,Bars!$F$13:$F$90,Bars!$L$13:$L$90)","v":33.345399999999998}]
["Bar",585950872,20240103,2401,{"$f":"_xlfn.XLOOKUP(B119,Bars!$F$13:$F$90,Bars!$N$13:$N$90)","v":0},20240201,2405,{"$f":"_xlfn.XLOOKUP(B119,Bars!$F$13:$F$90,Bars!$O$13:$O$90)","v":0},20240301,2409,{"$f":"_xlfn.XLOOKUP(B119,Bars!$F$13:$F$90,Bars!$P$13:$P$90)","v":0},20240402,2414,{"$f":"_xlfn.XLOOKUP(B119,Bars!$F$13:$F$90,Bars!$Q$13:$Q$90)","v":0},20240501,2418,{"$f":"_xlfn.XLOOKUP(B119,Bars!$F$13:$F$90,Bars!$R$13:$R$90)","v":0},20240603,2423,{"$f":"_xlfn.XLOOKUP(B119,Bars!$F$13:$F$90,Bars!$S$13:$S$90)","v":0},{"$f":"_xlfn.XLOOKUP(B119,Bars!$F$13:$F$90,Bars!$L$13:$L$90)","v":30.281799999999997}]
["Bar",585950868,20240103,2401,{"$f":"_xlfn.XLOOKUP(B120,Bars!$F$13:$F$90,Bars!$N$13:$N$90)","v":0},20240201,2405,{"$f":"_xlfn.XLOOKUP(B120,Bars!$F$13:$F$90,Bars!$O$13:$O$90)","v":0},20240301,2409,{"$f":"_xlfn.XLOOKUP(B120,Bars!$F$13:$F$90,Bars!$P$13:$P$90)","v":0},20240402,2414,{"$f":"_xlfn.XLOOKUP(B120,Bars!$F$13:$F$90,Bars!$Q$13:$Q$90)","v":0},20240501,2418,{"$f":"_xlfn.XLOOKUP(B120,Bars!$F$13:$F$90,Bars!$R$13:$R$90)","v":0},20240603,2423,{"$f":"_xlfn.XLOOKUP(B120,Bars!$F$13:$F$90,Bars!$S$13:$S$90)","v":0},{"$f":"_xlfn.XLOOKUP(B120,Bars!$F$13:$F$90,Bars!$L$13:$L$90)","v":26.831799999999998}]
["Bar",585950856,20240103,2401,{"$f":"_xlfn.XLOOKUP(B121,Bars!$F$13:$F$90,Bars!$N$13:$N$90)","v":0},20240201,2405,{"$f":"_xlfn.XLOOKUP(B121,Bars!$F$13:$F$90,Bars!$O$13:$O$90)","v":0},20240301,2409,{"$f":"_xlfn.XLOOKUP(B121,Bars!$F$13:$F$90,Bars!$P$13:$P$90)","v":0},20240402,2414,{"$f":"_xlfn.XLOOKUP(B121,Bars!$F$13:$F$90,Bars!$Q$13:$Q$90)","v":0},20240501,2418,{"$f":"_xlfn.XLOOKUP(B121,Bars!$F$13:$F$90,Bars!$R$13:$R$90)","v":0},20240603,2423,{"$f":"_xlfn.XLOOKUP(B121,Bars!$F$13:$F$90,Bars!$S$13:$S$90)","v":0},{"$f":"_xlfn.XLOOKUP(B121,Bars!$F$13:$F$90,Bars!$L$13:$L$90)","v":23.763599999999997}]
["Bar",585943472,20240103,2401,{"$f":"_xlfn.XLOOKUP(B122,Bars!$F$13:$F$90,Bars!$N$13:$N$90)","v":0},20240201,2405,{"$f":"_xlfn.XLOOKUP(B122,Bars!$F$13:$F$90,Bars!$O$13:$O$90)","v":0},20240301,2409,{"$f":"_xlfn.XLOOKUP(B122,Bars!$F$13:$F$90,Bars!$P$13:$P$90)","v":0},20240402,2414,{"$f":"_xlfn.XLOOKUP(B122,Bars!$F$13:$F$90,Bars!$Q$13:$Q$90)","v":0},20240501,2418,{"$f":"_xlfn.XLOOKUP(B122,Bars!$F$13:$F$90,Bars!$R$13:$R$90)","v":0},20240603,2423,{"$f":"_xlfn.XLOOKUP(B122,Bars!$F$13:$F$90,Bars!$S$13:$S$90)","v":0},{"$f":"_xlfn.XLOOKUP(B122,Bars!$F$13:$F$90,Bars!$L$13:$L$90)","v":30.281799999999997}]
["Bar",585943468,20240103,2401,{"$f":"_xlfn.XLOOKUP(B123,Bars!$F$13:$F$90,Bars!$N$13:$N$90)","v":0},20240201,2405,{"$f":"_xlfn.XLOOKUP(B123,Bars!$F$13:$F$90,Bars!$O$13:$O$90)","v":0},20240301,2409,{"$f":"_xlfn.XLOOKUP(B123,Bars!$F$13:$F$90,Bars!$P$13:$P$90)","v":0},20240402,2414,{"$f":"_xlfn.XLOOKUP(B123,Bars!$F$13:$F$90,Bars!$Q$13:$Q$90)","v":0},20240501,2418,{"$f":"_xlfn.XLOOKUP(B123,Bars!$F$13:$F$90,Bars!$R$13:$R$90)","v":0},20240603,2423,{"$f":"_xlfn.XLOOKUP(B123,Bars!$F$13:$F$90,Bars!$S$13:$S$90)","v":0},{"$f":"_xlfn.XLOOKUP(B123,Bars!$F$13:$F$90,Bars!$L$13:$L$90)","v":27.595399999999998}]
["Bar",585943456,20240103,2401,{"$f":"_xlfn.XLOOKUP(B124,Bars!$F$13:$F$90,Bars!$N$13:$N$90)","v":0},20240201,2405,{"$f":"_xlfn.XLOOKUP(B124,Bars!$F$13:$F$90,Bars!$O$13:$O$90)","v":0},20240301,2409,{"$f":"_xlfn.XLOOKUP(B124,Bars!$F$13:$F$90,Bars!$P$13:$P$90)","v":0},20240402,2414,{"$f":"_xlfn.XLOOKUP(B124,Bars!$F$13:$F$90,Bars!$Q$13:$Q$90)","v":0},20240501,2418,{"$f":"_xlfn.XLOOKUP(B124,Bars!$F$13:$F$90,Bars!$R$13:$R$90)","v":0},20240603,2423,{"$f":"_xlfn.XLOOKUP(B124,Bars!$F$13:$F$90,Bars!$S$13:$S$90)","v":0},{"$f":"_xlfn.XLOOKUP(B124,Bars!$F$13:$F$90,Bars!$L$13:$L$90)","v":23.763599999999997}]
["Bar",585829144,20240103,2401,{"$f":"_xlfn.XLOOKUP(B125,Bars!$F$13:$F$90,Bars!$N$13:$N$90)","v":0},20240201,2405,{"$f":"_xlfn.XLOOKUP(B125,Bars!$F$13:$F$90,Bars!$O$13:$O$90)","v":0},20240301,2409,{"$f":"_xlfn.XLOOKUP(B125,Bars!$F$13:$F$90,Bars!$P$13:$P$90)","v":0},20240402,2414,{"$f":"_xlfn.XLOOKUP(B125,Bars!$F$13:$F$90,Bars!$Q$13:$Q$90)","v":0},20240501,2418,{"$f":"_xlfn.XLOOKUP(B125,Bars!$F$13:$F$90,Bars!$R$13:$R$90)","v":0},20240603,2423,{"$f":"_xlfn.XLOOKUP(B125,Bars!$F$13:$F$90,Bars!$S$13:$S$90)","v":0},{"$f":"_xlfn.XLOOKUP(B125,Bars!$F$13:$F$90,Bars!$L$13:$L$90)","v":12.645399999999999}]
["Bar",582207652,20240103,2401,{"$f":"_xlfn.XLOOKUP(B126,Bars!$F$13:$F$90,Bars!$N$13:$N$90)","v":0},20240201,2405,{"$f":"_xlfn.XLOOKUP(B126,Bars!$F$13:$F$90,Bars!$O$13:$O$90)","v":0},20240301,2409,{"$f":"_xlfn.XLOOKUP(B126,Bars!$F$13:$F$90,Bars!$P$13:$P$90)","v":0},20240402,2414,{"$f":"_xlfn.XLOOKUP(B126,Bars!$F$13:$F$90,Bars!$Q$13:$Q$90)","v":0},20240501,2418,{"$f":"_xlfn.XLOOKUP(B126,Bars!$F$13:$F$90,Bars!$R$13:$R$90)","v":0},20240603,2423,{"$f":"_xlfn.XLOOKUP(B126,Bars!$F$13:$F$90,Bars!$S$13:$S$90)","v":0},{"$f":"_xlfn.XLOOKUP(B126,Bars!$F$13:$F$90,Bars!$L$13:$L$90)","v":19.931799999999999}]
["Bar",582207645,20240103,2401,{"$f":"_xlfn.XLOOKUP(B127,Bars!$F$13:$F$90,Bars!$N$13:$N$90)","v":0},20240201,2405,{"$f":"_xlfn.XLOOKUP(B127,Bars!$F$13:$F$90,Bars!$O$13:$O$90)","v":0},20240301,2409,{"$f":"_xlfn.XLOOKUP(B127,Bars!$F$13:$F$90,Bars!$P$13:$P$90)","v":0},20240402,2414,{"$f":"_xlfn.XLOOKUP(B127,Bars!$F$13:$F$90,Bars!$Q$13:$Q$90)","v":0},20240501,2418,{"$f":"_xlfn.XLOOKUP(B127,Bars!$F$13:$F$90,Bars!$R$13:$R$90)","v":0},20240603,2423,{"$f":"_xlfn.XLOOKUP(B127,Bars!$F$13:$F$90,Bars!$S$13:$S$90)","v":0},{"$f":"_xlfn.XLOOKUP(B127,Bars!$F$13:$F$90,Bars!$L$13:$L$90)","v":17.631799999999998}]
["Bar",582207452,20240103,2401,{"$f":"_xlfn.XLOOKUP(B128,Bars!$F$13:$F$90,Bars!$N$13:$N$90)","v":0},20240201,2405,{"$f":"_xlfn.XLOOKUP(B128,Bars!$F$13:$F$90,Bars!$O$13:$O$90)","v":0},20240301,2409,{"$f":"_xlfn.XLOOKUP(B128,Bars!$F$13:$F$90,Bars!$P$13:$P$90)","v":0},20240402,2414,{"$f":"_xlfn.XLOOKUP(B128,Bars!$F$13:$F$90,Bars!$Q$13:$Q$90)","v":0},20240501,2418,{"$f":"_xlfn.XLOOKUP(B128,Bars!$F$13:$F$90,Bars!$R$13:$R$90)","v":0},20240603,2423,{"$f":"_xlfn.XLOOKUP(B128,Bars!$F$13:$F$90,Bars!$S$13:$S$90)","v":0},{"$f":"_xlfn.XLOOKUP(B128,Bars!$F$13:$F$90,Bars!$L$13:$L$90)","v":18.395399999999999}]
["Bar",582207445,20240103,2401,{"$f":"_xlfn.XLOOKUP(B129,Bars!$F$13:$F$90,Bars!$N$13:$N$90)","v":0},20240201,2405,{"$f":"_xlfn.XLOOKUP(B129,Bars!$F$13:$F$90,Bars!$O$13:$O$90)","v":0},20240301,2409,{"$f":"_xlfn.XLOOKUP(B129,Bars!$F$13:$F$90,Bars!$P$13:$P$90)","v":0},20240402,2414,{"$f":"_xlfn.XLOOKUP(B129,Bars!$F$13:$F$90,Bars!$Q$13:$Q$90)","v":0},20240501,2418,{"$f":"_xlfn.XLOOKUP(B129,Bars!$F$13:$F$90,Bars!$R$13:$R$90)","v":0},20240603,2423,{"$f":"_xlfn.XLOOKUP(B129,Bars!$F$13:$F$90,Bars!$S$13:$S$90)","v":0},{"$f":"_xlfn.XLOOKUP(B129,Bars!$F$13:$F$90,Bars!$L$13:$L$90)","v":16.481799999999996}]
["Bar",582086980,20240103,2401,{"$f":"_xlfn.XLOOKUP(B130,Bars!$F$13:$F$90,Bars!$N$13:$N$90)","v":0},20240201,2405,{"$f":"_xlfn.XLOOKUP(B130,Bars!$F$13:$F$90,Bars!$O$13:$O$90)","v":0},20240301,2409,{"$f":"_xlfn.XLOOKUP(B130,Bars!$F$13:$F$90,Bars!$P$13:$P$90)","v":0},20240402,2414,{"$f":"_xlfn.XLOOKUP(B130,Bars!$F$13:$F$90,Bars!$Q$13:$Q$90)","v":0},20240501,2418,{"$f":"_xlfn.XLOOKUP(B130,Bars!$F$13:$F$90,Bars!$R$13:$R$90)","v":0},20240603,2423,{"$f":"_xlfn.XLOOKUP(B130,Bars!$F$13:$F$90,Bars!$S$13:$S$90)","v":0},{"$f":"_xlfn.XLOOKUP(B130,Bars!$F$13:$F$90,Bars!$L$13:$L$90)","v":30.281799999999997}]
["Bar",582086972,20240103,2401,{"$f":"_xlfn.XLOOKUP(B131,Bars!$F$13:$F$90,Bars!$N$13:$N$90)","v":0},20240201,2405,{"$f":"_xlfn.XLOOKUP(B131,Bars!$F$13:$F$90,Bars!$O$13:$O$90)","v":2},20240301,2409,{"$f":"_xlfn.XLOOKUP(B131,Bars!$F$13:$F$90,Bars!$P$13:$P$90)","v":2},20240402,2414,{"$f":"_xlfn.XLOOKUP(B131,Bars!$F$13:$F$90,Bars!$Q$13:$Q$90)","v":2},20240501,2418,{"$f":"_xlfn.XLOOKUP(B131,Bars!$F$13:$F$90,Bars!$R$13:$R$90)","v":2},20240603,2423,{"$f":"_xlfn.XLOOKUP(B131,Bars!$F$13:$F$90,Bars!$S$13:$S$90)","v":0},{"$f":"_xlfn.XLOOKUP(B131,Bars!$F$13:$F$90,Bars!$L$13:$L$90)","v":26.831799999999998}]
["Bar",582086966,20240103,2401,{"$f":"_xlfn.XLOOKUP(B132,Bars!$F$13:$F$90,Bars!$N$13:$N$90)","v":0},20240201,2405,{"$f":"_xlfn.XLOOKUP(B132,Bars!$F$13:$F$90,Bars!$O$13:$O$90)","v":0},20240301,2409,{"$f":"_xlfn.XLOOKUP(B132,Bars!$F$13:$F$90,Bars!$P$13:$P$90)","v":0},20240402,2414,{"$f":"_xlfn.XLOOKUP(B132,Bars!$F$13:$F$90,Bars!$Q$13:$Q$90)","v":0},20240501,2418,{"$f":"_xlfn.XLOOKUP(B132,Bars!$F$13:$F$90,Bars!$R$13:$R$90)","v":0},20240603,2423,{"$f":"_xlfn.XLOOKUP(B132,Bars!$F$13:$F$90,Bars!$S$13:$S$90)","v":0},{"$f":"_xlfn.XLOOKUP(B132,Bars!$F$13:$F$90,Bars!$L$13:$L$90)","v":24.145399999999999}]
["Bar",582086964,20240103,2401,{"$f":"_xlfn.XLOOKUP(B133,Bars!$F$13:$F$90,Bars!$N$13:$N$90)","v":0},20240201,2405,{"$f":"_xlfn.XLOOKUP(B133,Bars!$F$13:$F$90,Bars!$O$13:$O$90)","v":10},20240301,2409,{"$f":"_xlfn.XLOOKUP(B133,Bars!$F$13:$F$90,Bars!$P$13:$P$90)","v":5},20240402,2414,{"$f":"_xlfn.XLOOKUP(B133,Bars!$F$13:$F$90,Bars!$Q$13:$Q$90)","v":5},20240501,2418,{"$f":"_xlfn.XLOOKUP(B133,Bars!$F$13:$F$90,Bars!$R$13:$R$90)","v":5},20240603,2423,{"$f":"_xlfn.XLOOKUP(B133,Bars!$F$13:$F$90,Bars!$S$13:$S$90)","v":5},{"$f":"_xlfn.XLOOKUP(B133,Bars!$F$13:$F$90,Bars!$L$13:$L$90)","v":23.763599999999997}]
["Bar",582086956,20240103,2401,{"$f":"_xlfn.XLOOKUP(B134,Bars!$F$13:$F$90,Bars!$N$13:$N$90)","v":0},20240201,2405,{"$f":"_xlfn.XLOOKUP(B134,Bars!$F$13:$F$90,Bars!$O$13:$O$90)","v":0},20240301,2409,{"$f":"_xlfn.XLOOKUP(B134,Bars!$F$13:$F$90,Bars!$P$13:$P$90)","v":0},20240402,2414,{"$f":"_xlfn.XLOOKUP(B134,Bars!$F$13:$F$90,Bars!$Q$13:$Q$90)","v":0},20240501,2418,{"$f":"_xlfn.XLOOKUP(B134,Bars!$F$13:$F$90,Bars!$R$13:$R$90)","v":0},20240603,2423,{"$f":"_xlfn.XLOOKUP(B134,Bars!$F$13:$F$90,Bars!$S$13:$S$90)","v":0},{"$f":"_xlfn.XLOOKUP(B134,Bars!$F$13:$F$90,Bars!$L$13:$L$90)","v":19.163599999999995}]
["Bar",582075380,20240103,2401,{"$f":"_xlfn.XLOOKUP(B135,Bars!$F$13:$F$90,Bars!$N$13:$N$90)","v":0},20240201,2405,{"$f":"_xlfn.XLOOKUP(B135,Bars!$F$13:$F$90,Bars!$O$13:$O$90)","v":0},20240301,2409,{"$f":"_xlfn.XLOOKUP(B135,Bars!$F$13:$F$90,Bars!$P$13:$P$90)","v":0},20240402,2414,{"$f":"_xlfn.XLOOKUP(B135,Bars!$F$13:$F$90,Bars!$Q$13:$Q$90)","v":0},20240501,2418,{"$f":"_xlfn.XLOOKUP(B135,Bars!$F$13:$F$90,Bars!$R$13:$R$90)","v":0},20240603,2423,{"$f":"_xlfn.XLOOKUP(B135,Bars!$F$13:$F$90,Bars!$S$13:$S$90)","v":0},{"$f":"_xlfn.XLOOKUP(B135,Bars!$F$13:$F$90,Bars!$L$13:$L$90)","v":30.281799999999997}]
["Bar",582075372,20240103,2401,{"$f":"_xlfn.XLOOKUP(B136,Bars!$F$13:$F$90,Bars!$N$13:$N$90)","v":0},20240201,2405,{"$f":"_xlfn.XLOOKUP(B136,Bars!$F$13:$F$90,Bars!$O$13:$O$90)","v":0},20240301,2409,{"$f":"_xlfn.XLOOKUP(B136,Bars!$F$13:$F$90,Bars!$P$13:$P$90)","v":0},20240402,2414,{"$f":"_xlfn.XLOOKUP(B136,Bars!$F$13:$F$90,Bars!$Q$13:$Q$90)","v":0},20240501,2418,{"$f":"_xlfn.XLOOKUP(B136,Bars!$F$13:$F$90,Bars!$R$13:$R$90)","v":0},20240603,2423,{"$f":"_xlfn.XLOOKUP(B136,Bars!$F$13:$F$90,Bars!$S$13:$S$90)","v":0},{"$f":"_xlfn.XLOOKUP(B136,Bars!$F$13:$F$90,Bars!$L$13:$L$90)","v":27.595399999999998}]
["Bar",582075364,20240103,2401,{"$f":"_xlfn.XLOOKUP(B137,Bars!$F$13:$F$90,Bars!$N$13:$N$90)","v":0},20240201,2405,{"$f":"_xlfn.XLOOKUP(B137,Bars!$F$13:$F$90,Bars!$O$13:$O$90)","v":0},20240301,2409,{"$f":"_xlfn.XLOOKUP(B137,Bars!$F$13:$F$90,Bars!$P$13:$P$90)","v":0},20240402,2414,{"$f":"_xlfn.XLOOKUP(B137,Bars!$F$13:$F$90,Bars!$Q$13:$Q$90)","v":0},20240501,2418,{"$f":"_xlfn.XLOOKUP(B137,Bars!$F$13:$F$90,Bars!$R$13:$R$90)","v":0},20240603,2423,{"$f":"_xlfn.XLOOKUP(B137,Bars!$F$13:$F$90,Bars!$S$13:$S$90)","v":0},{"$f":"_xlfn.XLOOKUP(B137,Bars!$F$13:$F$90,Bars!$L$13:$L$90)","v":23.763599999999997}]
["Bar",582075356,20240103,2401,{"$f":"_xlfn.XLOOKUP(B138,Bars!$F$13:$F$90,Bars!$N$13:$N$90)","v":0},20240201,2405,{"$f":"_xlfn.XLOOKUP(B138,Bars!$F$13:$F$90,Bars!$O$13:$O$90)","v":0},20240301,2409,{"$f":"_xlfn.XLOOKUP(B138,Bars!$F$13:$F$90,Bars!$P$13:$P$90)","v":0},20240402,2414,{"$f":"_xlfn.XLOOKUP(B138,Bars!$F$13:$F$90,Bars!$Q$13:$Q$90)","v":0},20240501,2418,{"$f":"_xlfn.XLOOKUP(B138,Bars!$F$13:$F$90,Bars!$R$13:$R$90)","v":0},20240603,2423,{"$f":"_xlfn.XLOOKUP(B138,Bars!$F$13:$F$90,Bars!$S$13:$S$90)","v":0},{"$f":"_xlfn.XLOOKUP(B138,Bars!$F$13:$F$90,Bars!$L$13:$L$90)","v":19.931799999999999}]
["Bar",578400172,20240103,2401,{"$f":"_xlfn.XLOOKUP(B139,Bars!$F$13:$F$90,Bars!$N$13:$N$90)","v":0},20240201,2405,{"$f":"_xlfn.XLOOKUP(B139,Bars!$F$13:$F$90,Bars!$O$13:$O$90)","v":0},20240301,2409,{"$f":"_xlfn.XLOOKUP(B139,Bars!$F$13:$F$90,Bars!$P$13:$P$90)","v":0},20240402,2414,{"$f":"_xlfn.XLOOKUP(B139,Bars!$F$13:$F$90,Bars!$Q$13:$Q$90)","v":0},20240501,2418,{"$f":"_xlfn.XLOOKUP(B139,Bars!$F$13:$F$90,Bars!$R$13:$R$90)","v":0},20240603,2423,{"$f":"_xlfn.XLOOKUP(B139,Bars!$F$13:$F$90,Bars!$S$13:$S$90)","v":0},{"$f":"_xlfn.XLOOKUP(B139,Bars!$F$13:$F$90,Bars!$L$13:$L$90)","v":27.213599999999996}]
["Bar",578400164,20240103,2401,{"$f":"_xlfn.XLOOKUP(B140,Bars!$F$13:$F$90,Bars!$N$13:$N$90)","v":2},20240201,2405,{"$f":"_xlfn.XLOOKUP(B140,Bars!$F$13:$F$90,Bars!$O$13:$O$90)","v":2},20240301,2409,{"$f":"_xlfn.XLOOKUP(B140,Bars!$F$13:$F$90,Bars!$P$13:$P$90)","v":2},20240402,2414,{"$f":"_xlfn.XLOOKUP(B140,Bars!$F$13:$F$90,Bars!$Q$13:$Q$90)","v":0},20240501,2418,{"$f":"_xlfn.XLOOKUP(B140,Bars!$F$13:$F$90,Bars!$R$13:$R$90)","v":0},20240603,2423,{"$f":"_xlfn.XLOOKUP(B140,Bars!$F$13:$F$90,Bars!$S$13:$S$90)","v":0},{"$f":"_xlfn.XLOOKUP(B140,Bars!$F$13:$F$90,Bars!$L$13:$L$90)","v":26.831799999999998}]
["Bar",578400156,20240103,2401,{"$f":"_xlfn.XLOOKUP(B141,Bars!$F$13:$F$90,Bars!$N$13:$N$90)","v":0},20240201,2405,{"$f":"_xlfn.XLOOKUP(B141,Bars!$F$13:$F$90,Bars!$O$13:$O$90)","v":0},20240301,2409,{"$f":"_xlfn.XLOOKUP(B141,Bars!$F$13:$F$90,Bars!$P$13:$P$90)","v":0},20240402,2414,{"$f":"_xlfn.XLOOKUP(B141,Bars!$F$13:$F$90,Bars!$Q$13:$Q$90)","v":0},20240501,2418,{"$f":"_xlfn.XLOOKUP(B141,Bars!$F$13:$F$90,Bars!$R$13:$R$90)","v":0},20240603,2423,{"$f":"_xlfn.XLOOKUP(B141,Bars!$F$13:$F$90,Bars!$S$13:$S$90)","v":0},{"$f":"_xlfn.XLOOKUP(B141,Bars!$F$13:$F$90,Bars!$L$13:$L$90)","v":26.445399999999999}]
["Bar",575842264,20240103,2401,{"$f":"_xlfn.XLOOKUP(B142,Bars!$F$13:$F$90,Bars!$N$13:$N$90)","v":0},20240201,2405,{"$f":"_xlfn.XLOOKUP(B142,Bars!$F$13:$F$90,Bars!$O$13:$O$90)","v":0},20240301,2409,{"$f":"_xlfn.XLOOKUP(B142,Bars!$F$13:$F$90,Bars!$P$13:$P$90)","v":0},20240402,2414,{"$f":"_xlfn.XLOOKUP(B142,Bars!$F$13:$F$90,Bars!$Q$13:$Q$90)","v":0},20240501,2418,{"$f":"_xlfn.XLOOKUP(B142,Bars!$F$13:$F$90,Bars!$R$13:$R$90)","v":0},20240603,2423,{"$f":"_xlfn.XLOOKUP(B142,Bars!$F$13:$F$90,Bars!$S$13:$S$90)","v":0},{"$f":"_xlfn.XLOOKUP(B142,Bars!$F$13:$F$90,Bars!$L$13:$L$90)","v":14.181799999999999}]
["Bar",575842258,20240103,2401,{"$f":"_xlfn.XLOOKUP(B143,Bars!$F$13:$F$90,Bars!$N$13:$N$90)","v":0},20240201,2405,{"$f":"_xlfn.XLOOKUP(B143,Bars!$F$13:$F$90,Bars!$O$13:$O$90)","v":0},20240301,2409,{"$f":"_xlfn.XLOOKUP(B143,Bars!$F$13:$F$90,Bars!$P$13:$P$90)","v":0},20240402,2414,{"$f":"_xlfn.XLOOKUP(B143,Bars!$F$13:$F$90,Bars!$Q$13:$Q$90)","v":0},20240501,2418,{"$f":"_xlfn.XLOOKUP(B143,Bars!$F$13:$F$90,Bars!$R$13:$R$90)","v":0},20240603,2423,{"$f":"_xlfn.XLOOKUP(B143,Bars!$F$13:$F$90,Bars!$S$13:$S$90)","v":0},{"$f":"_xlfn.XLOOKUP(B143,Bars!$F$13:$F$90,Bars!$L$13:$L$90)","v":12.263599999999999}]
["Bar",538920872,20240103,2401,{"$f":"_xlfn.XLOOKUP(B144,Bars!$F$13:$F$90,Bars!$N$13:$N$90)","v":0},20240201,2405,{"$f":"_xlfn.XLOOKUP(B144,Bars!$F$13:$F$90,Bars!$O$13:$O$90)","v":0},20240301,2409,{"$f":"_xlfn.XLOOKUP(B144,Bars!$F$13:$F$90,Bars!$P$13:$P$90)","v":0},20240402,2414,{"$f":"_xlfn.XLOOKUP(B144,Bars!$F$13:$F$90,Bars!$Q$13:$Q$90)","v":0},20240501,2418,{"$f":"_xlfn.XLOOKUP(B144,Bars!$F$13:$F$90,Bars!$R$13:$R$90)","v":0},20240603,2423,{"$f":"_xlfn.XLOOKUP(B144,Bars!$F$13:$F$90,Bars!$S$13:$S$90)","v":0},{"$f":"_xlfn.XLOOKUP(B144,Bars!$F$13:$F$90,Bars!$L$13:$L$90)","v":28.745399999999997}]
["Bar",538920868,20240103,2401,{"$f":"_xlfn.XLOOKUP(B145,Bars!$F$13:$F$90,Bars!$N$13:$N$90)","v":0},20240201,2405,{"$f":"_xlfn.XLOOKUP(B145,Bars!$F$13:$F$90,Bars!$O$13:$O$90)","v":0},20240301,2409,{"$f":"_xlfn.XLOOKUP(B145,Bars!$F$13:$F$90,Bars!$P$13:$P$90)","v":0},20240402,2414,{"$f":"_xlfn.XLOOKUP(B145,Bars!$F$13:$F$90,Bars!$Q$13:$Q$90)","v":0},20240501,2418,{"$f":"_xlfn.XLOOKUP(B145,Bars!$F$13:$F$90,Bars!$R$13:$R$90)","v":0},20240603,2423,{"$f":"_xlfn.XLOOKUP(B145,Bars!$F$13:$F$90,Bars!$S$13:$S$90)","v":0},{"$f":"_xlfn.XLOOKUP(B145,Bars!$F$13:$F$90,Bars!$L$13:$L$90)","v":28.363599999999998}]
["Bar",538920772,20240103,2401,{"$f":"_xlfn.XLOOKUP(B146,Bars!$F$13:$F$90,Bars!$N$13:$N$90)","v":0},20240201,2405,{"$f":"_xlfn.XLOOKUP(B146,Bars!$F$13:$F$90,Bars!$O$13:$O$90)","v":0},20240301,2409,{"$f":"_xlfn.XLOOKUP(B146,Bars!$F$13:$F$90,Bars!$P$13:$P$90)","v":0},20240402,2414,{"$f":"_xlfn.XLOOKUP(B146,Bars!$F$13:$F$90,Bars!$Q$13:$Q$90)","v":0},20240501,2418,{"$f":"_xlfn.XLOOKUP(B146,Bars!$F$13:$F$90,Bars!$R$13:$R$90)","v":0},20240603,2423,{"$f":"_xlfn.XLOOKUP(B146,Bars!$F$13:$F$90,Bars!$S$13:$S$90)","v":0},{"$f":"_xlfn.XLOOKUP(B146,Bars!$F$13:$F$90,Bars!$L$13:$L$90)","v":27.9818}]
["Bar",538920764,20240103,2401,{"$f":"_xlfn.XLOOKUP(B147,Bars!$F$13:$F$90,Bars!$N$13:$N$90)","v":0},20240201,2405,{"$f":"_xlfn.XLOOKUP(B147,Bars!$F$13:$F$90,Bars!$O$13:$O$90)","v":0},20240301,2409,{"$f":"_xlfn.XLOOKUP(B147,Bars!$F$13:$F$90,Bars!$P$13:$P$90)","v":0},20240402,2414,{"$f":"_xlfn.XLOOKUP(B147,Bars!$F$13:$F$90,Bars!$Q$13:$Q$90)","v":0},20240501,2418,{"$f":"_xlfn.XLOOKUP(B147,Bars!$F$13:$F$90,Bars!$R$13:$R$90)","v":0},20240603,2423,{"$f":"_xlfn.XLOOKUP(B147,Bars!$F$13:$F$90,Bars!$S$13:$S$90)","v":0},{"$f":"_xlfn.XLOOKUP(B147,Bars!$F$13:$F$90,Bars!$L$13:$L$90)","v":26.831799999999998}]
["Bar",536911832,20240103,2401,{"$f":"_xlfn.XLOOKUP(B148,Bars!$F$13:$F$90,Bars!$N$13:$N$90)","v":0},20240201,2405,{"$f":"_xlfn.XLOOKUP(B148,Bars!$F$13:$F$90,Bars!$O$13:$O$90)","v":0},20240301,2409,{"$f":"_xlfn.XLOOKUP(B148,Bars!$F$13:$F$90,Bars!$P$13:$P$90)","v":0},20240402,2414,{"$f":"_xlfn.XLOOKUP(B148,Bars!$F$13:$F$90,Bars!$Q$13:$Q$90)","v":0},20240501,2418,{"$f":"_xlfn.XLOOKUP(B148,Bars!$F$13:$F$90,Bars!$R$13:$R$90)","v":0},20240603,2423,{"$f":"_xlfn.XLOOKUP(B148,Bars!$F$13:$F$90,Bars!$S$13:$S$90)","v":0},{"$f":"_xlfn.XLOOKUP(B148,Bars!$F$13:$F$90,Bars!$L$13:$L$90)","v":5.7454000000000001}]
["Bar",531116476,20240103,2401,{"$f":"_xlfn.XLOOKUP(B149,Bars!$F$13:$F$90,Bars!$N$13:$N$90)","v":0},20240201,2405,{"$f":"_xlfn.XLOOKUP(B149,Bars!$F$13:$F$90,Bars!$O$13:$O$90)","v":0},20240301,2409,{"$f":"_xlfn.XLOOKUP(B149,Bars!$F$13:$F$90,Bars!$P$13:$P$90)","v":0},20240402,2414,{"$f":"_xlfn.XLOOKUP(B149,Bars!$F$13:$F$90,Bars!$Q$13:$Q$90)","v":0},20240501,2418,{"$f":"_xlfn.XLOOKUP(B149,Bars!$F$13:$F$90,Bars!$R$13:$R$90)","v":0},20240603,2423,{"$f":"_xlfn.XLOOKUP(B149,Bars!$F$13:$F$90,Bars!$S$13:$S$90)","v":0},{"$f":"_xlfn.XLOOKUP(B149,Bars!$F$13:$F$90,Bars!$L$13:$L$90)","v":39.481799999999993}]
["Bar",531116466,20240103,2401,{"$f":"_xlfn.XLOOKUP(B150,Bars!$F$13:$F$90,Bars!$N$13:$N$90)","v":0},20240201,2405,{"$f":"_xlfn.XLOOKUP(B150,Bars!$F$13:$F$90,Bars!$O$13:$O$90)","v":0},20240301,2409,{"$f":"_xlfn.XLOOKUP(B150,Bars!$F$13:$F$90,Bars!$P$13:$P$90)","v":0},20240402,2414,{"$f":"_xlfn.XLOOKUP(B150,Bars!$F$13:$F$90,Bars!$Q$13:$Q$90)","v":0},20240501,2418,{"$f":"_xlfn.XLOOKUP(B150,Bars!$F$13:$F$90,Bars!$R$13:$R$90)","v":0},20240603,2423,{"$f":"_xlfn.XLOOKUP(B150,Bars!$F$13:$F$90,Bars!$S$13:$S$90)","v":0},{"$f":"_xlfn.XLOOKUP(B150,Bars!$F$13:$F$90,Bars!$L$13:$L$90)","v":28.745399999999997}]
["Bar",529340768,20240103,2401,{"$f":"_xlfn.XLOOKUP(B151,Bars!$F$13:$F$90,Bars!$N$13:$N$90)","v":0},20240201,2405,{"$f":"_xlfn.XLOOKUP(B151,Bars!$F$13:$F$90,Bars!$O$13:$O$90)","v":0},20240301,2409,{"$f":"_xlfn.XLOOKUP(B151,Bars!$F$13:$F$90,Bars!$P$13:$P$90)","v":0},20240402,2414,{"$f":"_xlfn.XLOOKUP(B151,Bars!$F$13:$F$90,Bars!$Q$13:$Q$90)","v":0},20240501,2418,{"$f":"_xlfn.XLOOKUP(B151,Bars!$F$13:$F$90,Bars!$R$13:$R$90)","v":0},20240603,2423,{"$f":"_xlfn.XLOOKUP(B151,Bars!$F$13:$F$90,Bars!$S$13:$S$90)","v":0},{"$f":"_xlfn.XLOOKUP(B151,Bars!$F$13:$F$90,Bars!$L$13:$L$90)","v":19.931799999999999}]
["Bar",529340760,20240103,2401,{"$f":"_xlfn.XLOOKUP(B152,Bars!$F$13:$F$90,Bars!$N$13:$N$90)","v":0},20240201,2405,{"$f":"_xlfn.XLOOKUP(B152,Bars!$F$13:$F$90,Bars!$O$13:$O$90)","v":0},20240301,2409,{"$f":"_xlfn.XLOOKUP(B152,Bars!$F$13:$F$90,Bars!$P$13:$P$90)","v":0},20240402,2414,{"$f":"_xlfn.XLOOKUP(B152,Bars!$F$13:$F$90,Bars!$Q$13:$Q$90)","v":0},20240501,2418,{"$f":"_xlfn.XLOOKUP(B152,Bars!$F$13:$F$90,Bars!$R$13:$R$90)","v":0},20240603,2423,{"$f":"_xlfn.XLOOKUP(B152,Bars!$F$13:$F$90,Bars!$S$13:$S$90)","v":0},{"$f":"_xlfn.XLOOKUP(B152,Bars!$F$13:$F$90,Bars!$L$13:$L$90)","v":17.631799999999998}]
["Bar",505891640,20240103,2401,{"$f":"_xlfn.XLOOKUP(B153,Bars!$F$13:$F$90,Bars!$N$13:$N$90)","v":0},20240201,2405,{"$f":"_xlfn.XLOOKUP(B153,Bars!$F$13:$F$90,Bars!$O$13:$O$90)","v":0},20240301,2409,{"$f":"_xlfn.XLOOKUP(B153,Bars!$F$13:$F$90,Bars!$P$13:$P$90)","v":0},20240402,2414,{"$f":"_xlfn.XLOOKUP(B153,Bars!$F$13:$F$90,Bars!$Q$13:$Q$90)","v":0},20240501,2418,{"$f":"_xlfn.XLOOKUP(B153,Bars!$F$13:$F$90,Bars!$R$13:$R$90)","v":0},20240603,2423,{"$f":"_xlfn.XLOOKUP(B153,Bars!$F$13:$F$90,Bars!$S$13:$S$90)","v":0},{"$f":"_xlfn.XLOOKUP(B153,Bars!$F$13:$F$90,Bars!$L$13:$L$90)","v":11.1136}]
["Bar",501959256,20240103,2401,{"$f":"_xlfn.XLOOKUP(B154,Bars!$F$13:$F$90,Bars!$N$13:$N$90)","v":0},20240201,2405,{"$f":"_xlfn.XLOOKUP(B154,Bars!$F$13:$F$90,Bars!$O$13:$O$90)","v":0},20240301,2409,{"$f":"_xlfn.XLOOKUP(B154,Bars!$F$13:$F$90,Bars!$P$13:$P$90)","v":0},20240402,2414,{"$f":"_xlfn.XLOOKUP(B154,Bars!$F$13:$F$90,Bars!$Q$13:$Q$90)","v":0},20240501,2418,{"$f":"_xlfn.XLOOKUP(B154,Bars!$F$13:$F$90,Bars!$R$13:$R$90)","v":0},20240603,2423,{"$f":"_xlfn.XLOOKUP(B154,Bars!$F$13:$F$90,Bars!$S$13:$S$90)","v":0},{"$f":"_xlfn.XLOOKUP(B154,Bars!$F$13:$F$90,Bars!$L$13:$L$90)","v":17.2454}]
["Bar",501959252,20240103,2401,{"$f":"_xlfn.XLOOKUP(B155,Bars!$F$13:$F$90,Bars!$N$13:$N$90)","v":0},20240201,2405,{"$f":"_xlfn.XLOOKUP(B155,Bars!$F$13:$F$90,Bars!$O$13:$O$90)","v":0},20240301,2409,{"$f":"_xlfn.XLOOKUP(B155,Bars!$F$13:$F$90,Bars!$P$13:$P$90)","v":0},20240402,2414,{"$f":"_xlfn.XLOOKUP(B155,Bars!$F$13:$F$90,Bars!$Q$13:$Q$90)","v":0},20240501,2418,{"$f":"_xlfn.XLOOKUP(B155,Bars!$F$13:$F$90,Bars!$R$13:$R$90)","v":0},20240603,2423,{"$f":"_xlfn.XLOOKUP(B155,Bars!$F$13:$F$90,Bars!$S$13:$S$90)","v":0},{"$f":"_xlfn.XLOOKUP(B155,Bars!$F$13:$F$90,Bars!$L$13:$L$90)","v":13.031799999999999}]
["Bar",501959245,20240103,2401,{"$f":"_xlfn.XLOOKUP(B156,Bars!$F$13:$F$90,Bars!$N$13:$N$90)","v":0},20240201,2405,{"$f":"_xlfn.XLOOKUP(B156,Bars!$F$13:$F$90,Bars!$O$13:$O$90)","v":0},20240301,2409,{"$f":"_xlfn.XLOOKUP(B156,Bars!$F$13:$F$90,Bars!$P$13:$P$90)","v":0},20240402,2414,{"$f":"_xlfn.XLOOKUP(B156,Bars!$F$13:$F$90,Bars!$Q$13:$Q$90)","v":0},20240501,2418,{"$f":"_xlfn.XLOOKUP(B156,Bars!$F$13:$F$90,Bars!$R$13:$R$90)","v":0},20240603,2423,{"$f":"_xlfn.XLOOKUP(B156,Bars!$F$13:$F$90,Bars!$S$13:$S$90)","v":0},{"$f":"_xlfn.XLOOKUP(B156,Bars!$F$13:$F$90,Bars!$L$13:$L$90)","v":12.645399999999999}]
["Chain",593914164,20240103,2401,{"$f":"_xlfn.XLOOKUP(B157,Chains!$F$13:$F$87,Chains!$N$13:$N$87)","v":0},20240201,2405,{"$f":"_xlfn.XLOOKUP(B157,Chains!$F$13:$F$87,Chains!$O$13:$O$87)","v":0},20240301,2409,{"$f":"_xlfn.XLOOKUP(B157,Chains!$F$13:$F$87,Chains!$P$13:$P$87)","v":0},20240402,2414,{"$f":"_xlfn.XLOOKUP(B157,Chains!$F$13:$F$87,Chains!$Q$13:$Q$87)","v":0},20240501,2418,{"$f":"_xlfn.XLOOKUP(B157,Chains!$F$13:$F$87,Chains!$R$13:$R$87)","v":0},20240603,2423,{"$f":"_xlfn.XLOOKUP(B157,Chains!$F$13:$F$87,Chains!$S$13:$S$87)","v":0},{"$f":"_xlfn.XLOOKUP(B157,Chains!$F$13:$F$87,Chains!$L$13:$L$87)","v":13.413599999999999}]
["Chain",593914159,20240103,2401,{"$f":"_xlfn.XLOOKUP(B158,Chains!$F$13:$F$87,Chains!$N$13:$N$87)","v":6},20240201,2405,{"$f":"_xlfn.XLOOKUP(B158,Chains!$F$13:$F$87,Chains!$O$13:$O$87)","v":6},20240301,2409,{"$f":"_xlfn.XLOOKUP(B158,Chains!$F$13:$F$87,Chains!$P$13:$P$87)","v":6},20240402,2414,{"$f":"_xlfn.XLOOKUP(B158,Chains!$F$13:$F$87,Chains!$Q$13:$Q$87)","v":0},20240501,2418,{"$f":"_xlfn.XLOOKUP(B158,Chains!$F$13:$F$87,Chains!$R$13:$R$87)","v":0},20240603,2423,{"$f":"_xlfn.XLOOKUP(B158,Chains!$F$13:$F$87,Chains!$S$13:$S$87)","v":0},{"$f":"_xlfn.XLOOKUP(B158,Chains!$F$13:$F$87,Chains!$L$13:$L$87)","v":12.263599999999999}]
["Chain",593914151,20240103,2401,{"$f":"_xlfn.XLOOKUP(B159,Chains!$F$13:$F$87,Chains!$N$13:$N$87)","v":6},20240201,2405,{"$f":"_xlfn.XLOOKUP(B159,Chains!$F$13:$F$87,Chains!$O$13:$O$87)","v":6},20240301,2409,{"$f":"_xlfn.XLOOKUP(B159,Chains!$F$13:$F$87,Chains!$P$13:$P$87)","v":6},20240402,2414,{"$f":"_xlfn.XLOOKUP(B159,Chains!$F$13:$F$87,Chains!$Q$13:$Q$87)","v":6},20240501,2418,{"$f":"_xlfn.XLOOKUP(B159,Chains!$F$13:$F$87,Chains!$R$13:$R$87)","v":6},20240603,2423,{"$f":"_xlfn.XLOOKUP(B159,Chains!$F$13:$F$87,Chains!$S$13:$S$87)","v":0},{"$f":"_xlfn.XLOOKUP(B159,Chains!$F$13:$F$87,Chains!$L$13:$L$87)","v":11.1136}]
["Chain",593914146,20240103,2401,{"$f":"_xlfn.XLOOKUP(B160,Chains!$F$13:$F$87,Chains!$N$13:$N$87)","v":0},20240201,2405,{"$f":"_xlfn.XLOOKUP(B160,Chains!$F$13:$F$87,Chains!$O$13:$O$87)","v":0},20240301,2409,{"$f":"_xlfn.XLOOKUP(B160,Chains!$F$13:$F$87,Chains!$P$13:$P$87)","v":0},20240402,2414,{"$f":"_xlfn.XLOOKUP(B160,Chains!$F$13:$F$87,Chains!$Q$13:$Q$87)","v":0},20240501,2418,{"$f":"_xlfn.XLOOKUP(B160,Chains!$F$13:$F$87,Chains!$R$13:$R$87)","v":0},20240603,2423,{"$f":"_xlfn.XLOOKUP(B160,Chains!$F$13:$F$87,Chains!$S$13:$S$87)","v":0},{"$f":"_xlfn.XLOOKUP(B160,Chains!$F$13:$F$87,Chains!$L$13:$L$87)","v":9.5817999999999977}]
["Chain",581699701,20240103,2401,{"$f":"_xlfn.XLOOKUP(B161,Chains!$F$13:$F$87,Chains!$N$13:$N$87)","v":0},20240201,2405,{"$f":"_xlfn.XLOOKUP(B161,Chains!$F$13:$F$87,Chains!$O$13:$O$87)","v":0},20240301,2409,{"$f":"_xlfn.XLOOKUP(B161,Chains!$F$13:$F$87,Chains!$P$13:$P$87)","v":0},20240402,2414,{"$f":"_xlfn.XLOOKUP(B161,Chains!$F$13:$F$87,Chains!$Q$13:$Q$87)","v":0},20240501,2418,{"$f":"_xlfn.XLOOKUP(B161,Chains!$F$13:$F$87,Chains!$R$13:$R$87)","v":0},20240603,2423,{"$f":"_xlfn.XLOOKUP(B161,Chains!$F$13:$F$87,Chains!$S$13:$S$87)","v":0},{"$f":"_xlfn.XLOOKUP(B161,Chains!$F$13:$F$87,Chains!$L$13:$L$87)","v":267.95}]
["Chain",581699756,20240103,2401,{"$f":"_xlfn.XLOOKUP(B162,Chains!$F$13:$F$87,Chains!$N$13:$N$87)","v":0},20240201,2405,{"$f":"_xlfn.XLOOKUP(B162,Chains!$F$13:$F$87,Chains!$O$13:$O$87)","v":0},20240301,2409,{"$f":"_xlfn.XLOOKUP(B162,Chains!$F$13:$F$87,Chains!$P$13:$P$87)","v":0},20240402,2414,{"$f":"_xlfn.XLOOKUP(B162,Chains!$F$13:$F$87,Chains!$Q$13:$Q$87)","v":0},20240501,2418,{"$f":"_xlfn.XLOOKUP(B162,Chains!$F$13:$F$87,Chains!$R$13:$R$87)","v":0},20240603,2423,{"$f":"_xlfn.XLOOKUP(B162,Chains!$F$13:$F$87,Chains!$S$13:$S$87)","v":0},{"$f":"_xlfn.XLOOKUP(B162,Chains!$F$13:$F$87,Chains!$L$13:$L$87)","v":9.5817999999999977}]
["Chain",581699764,20240103,2401,{"$f":"_xlfn.XLOOKUP(B163,Chains!$F$13:$F$87,Chains!$N$13:$N$87)","v":0},20240201,2405,{"$f":"_xlfn.XLOOKUP(B163,Chains!$F$13:$F$87,Chains!$O$13:$O$87)","v":0},20240301,2409,{"$f":"_xlfn.XLOOKUP(B163,Chains!$F$13:$F$87,Chains!$P$13:$P$87)","v":0},20240402,2414,{"$f":"_xlfn.XLOOKUP(B163,Chains!$F$13:$F$87,Chains!$Q$13:$Q$87)","v":0},20240501,2418,{"$f":"_xlfn.XLOOKUP(B163,Chains!$F$13:$F$87,Chains!$R$13:$R$87)","v":0},20240603,2423,{"$f":"_xlfn.XLOOKUP(B163,Chains!$F$13:$F$87,Chains!$S$13:$S$87)","v":0},{"$f":"_xlfn.XLOOKUP(B163,Chains!$F$13:$F$87,Chains!$L$13:$L$87)","v":10.345399999999998}]
["Chain",581699766,20240103,2401,{"$f":"_xlfn.XLOOKUP(B164,Chains!$F$13:$F$87,Chains!$N$13:$N$87)","v":0},20240201,2405,{"$f":"_xlfn.XLOOKUP(B164,Chains!$F$13:$F$87,Chains!$O$13:$O$87)","v":0},20240301,2409,{"$f":"_xlfn.XLOOKUP(B164,Chains!$F$13:$F$87,Chains!$P$13:$P$87)","v":0},20240402,2414,{"$f":"_xlfn.XLOOKUP(B164,Chains!$F$13:$F$87,Chains!$Q$13:$Q$87)","v":0},20240501,2418,{"$f":"_xlfn.XLOOKUP(B164,Chains!$F$13:$F$87,Chains!$R$13:$R$87)","v":0},20240603,2423,{"$f":"_xlfn.XLOOKUP(B164,Chains!$F$13:$F$87,Chains!$S$13:$S$87)","v":0},{"$f":"_xlfn.XLOOKUP(B164,Chains!$F$13:$F$87,Chains!$L$13:$L$87)","v":10.731799999999998}]
["Chain",581699772,20240103,2401,{"$f":"_xlfn.XLOOKUP(B165,Chains!$F$13:$F$87,Chains!$N$13:$N$87)","v":0},20240201,2405,{"$f":"_xlfn.XLOOKUP(B165,Chains!$F$13:$F$87,Chains!$O$13:$O$87)","v":0},20240301,2409,{"$f":"_xlfn.XLOOKUP(B165,Chains!$F$13:$F$87,Chains!$P$13:$P$87)","v":0},20240402,2414,{"$f":"_xlfn.XLOOKUP(B165,Chains!$F$13:$F$87,Chains!$Q$13:$Q$87)","v":0},20240501,2418,{"$f":"_xlfn.XLOOKUP(B165,Chains!$F$13:$F$87,Chains!$R$13:$R$87)","v":0},20240603,2423,{"$f":"_xlfn.XLOOKUP(B165,Chains!$F$13:$F$87,Chains!$S$13:$S$87)","v":0},{"$f":"_xlfn.XLOOKUP(B165,Chains!$F$13:$F$87,Chains!$L$13:$L$87)","v":11.495399999999998}]
["Chain",581699780,20240103,2401,{"$f":"_xlfn.XLOOKUP(B166,Chains!$F$13:$F$87,Chains!$N$13:$N$87)","v":0},20240201,2405,{"$f":"_xlfn.XLOOKUP(B166,Chains!$F$13:$F$87,Chains!$O$13:$O$87)","v":0},20240301,2409,{"$f":"_xlfn.XLOOKUP(B166,Chains!$F$13:$F$87,Chains!$P$13:$P$87)","v":0},20240402,2414,{"$f":"_xlfn.XLOOKUP(B166,Chains!$F$13:$F$87,Chains!$Q$13:$Q$87)","v":0},20240501,2418,{"$f":"_xlfn.XLOOKUP(B166,Chains!$F$13:$F$87,Chains!$R$13:$R$87)","v":0},20240603,2423,{"$f":"_xlfn.XLOOKUP(B166,Chains!$F$13:$F$87,Chains!$S$13:$S$87)","v":0},{"$f":"_xlfn.XLOOKUP(B166,Chains!$F$13:$F$87,Chains!$L$13:$L$87)","v":12.263599999999999}]
["Chain",585641101,20240103,2401,{"$f":"_xlfn.XLOOKUP(B167,Chains!$F$13:$F$87,Chains!$N$13:$N$87)","v":0},20240201,2405,{"$f":"_xlfn.XLOOKUP(B167,Chains!$F$13:$F$87,Chains!$O$13:$O$87)","v":0},20240301,2409,{"$f":"_xlfn.XLOOKUP(B167,Chains!$F$13:$F$87,Chains!$P$13:$P$87)","v":0},20240402,2414,{"$f":"_xlfn.XLOOKUP(B167,Chains!$F$13:$F$87,Chains!$Q$13:$Q$87)","v":0},20240501,2418,{"$f":"_xlfn.XLOOKUP(B167,Chains!$F$13:$F$87,Chains!$R$13:$R$87)","v":0},20240603,2423,{"$f":"_xlfn.XLOOKUP(B167,Chains!$F$13:$F$87,Chains!$S$13:$S$87)","v":0},{"$f":"_xlfn.XLOOKUP(B167,Chains!$F$13:$F$87,Chains!$L$13:$L$87)","v":267.95}]
["Chain",585641156,20240103,2401,{"$f":"_xlfn.XLOOKUP(B168,Chains!$F$13:$F$87,Chains!$N$13:$N$87)","v":0},20240201,2405,{"$f":"_xlfn.XLOOKUP(B168,Chains!$F$13:$F$87,Chains!$O$13:$O$87)","v":0},20240301,2409,{"$f":"_xlfn.XLOOKUP(B168,Chains!$F$13:$F$87,Chains!$P$13:$P$87)","v":0},20240402,2414,{"$f":"_xlfn.XLOOKUP(B168,Chains!$F$13:$F$87,Chains!$Q$13:$Q$87)","v":0},20240501,2418,{"$f":"_xlfn.XLOOKUP(B168,Chains!$F$13:$F$87,Chains!$R$13:$R$87)","v":0},20240603,2423,{"$f":"_xlfn.XLOOKUP(B168,Chains!$F$13:$F$87,Chains!$S$13:$S$87)","v":0},{"$f":"_xlfn.XLOOKUP(B168,Chains!$F$13:$F$87,Chains!$L$13:$L$87)","v":9.5817999999999977}]
["Chain",585641164,20240103,2401,{"$f":"_xlfn.XLOOKUP(B169,Chains!$F$13:$F$87,Chains!$N$13:$N$87)","v":0},20240201,2405,{"$f":"_xlfn.XLOOKUP(B169,Chains!$F$13:$F$87,Chains!$O$13:$O$87)","v":0},20240301,2409,{"$f":"_xlfn.XLOOKUP(B169,Chains!$F$13:$F$87,Chains!$P$13:$P$87)","v":0},20240402,2414,{"$f":"_xlfn.XLOOKUP(B169,Chains!$F$13:$F$87,Chains!$Q$13:$Q$87)","v":0},20240501,2418,{"$f":"_xlfn.XLOOKUP(B169,Chains!$F$13:$F$87,Chains!$R$13:$R$87)","v":0},20240603,2423,{"$f":"_xlfn.XLOOKUP(B169,Chains!$F$13:$F$87,Chains!$S$13:$S$87)","v":0},{"$f":"_xlfn.XLOOKUP(B169,Chains!$F$13:$F$87,Chains!$L$13:$L$87)","v":10.345399999999998}]
["Chain",585641166,20240103,2401,{"$f":"_xlfn.XLOOKUP(B170,Chains!$F$13:$F$87,Chains!$N$13:$N$87)","v":0},20240201,2405,{"$f":"_xlfn.XLOOKUP(B170,Chains!$F$13:$F$87,Chains!$O$13:$O$87)","v":0},20240301,2409,{"$f":"_xlfn.XLOOKUP(B170,Chains!$F$13:$F$87,Chains!$P$13:$P$87)","v":0},20240402,2414,{"$f":"_xlfn.XLOOKUP(B170,Chains!$F$13:$F$87,Chains!$Q$13:$Q$87)","v":0},20240501,2418,{"$f":"_xlfn.XLOOKUP(B170,Chains!$F$13:$F$87,Chains!$R$13:$R$87)","v":0},20240603,2423,{"$f":"_xlfn.XLOOKUP(B170,Chains!$F$13:$F$87,Chains!$S$13:$S$87)","v":0},{"$f":"_xlfn.XLOOKUP(B170,Chains!$F$13:$F$87,Chains!$L$13:$L$87)","v":10.731799999999998}]
["Chain",585641172,20240103,2401,{"$f":"_xlfn.XLOOKUP(B171,Chains!$F$13:$F$87,Chains!$N$13:$N$87)","v":0},20240201,2405,{"$f":"_xlfn.XLOOKUP(B171,Chains!$F$13:$F$87,Chains!$O$13:$O$87)","v":0},20240301,2409,{"$f":"_xlfn.XLOOKUP(B171,Chains!$F$13:$F$87,Chains!$P$13:$P$87)","v":0},20240402,2414,{"$f":"_xlfn.XLOOKUP(B171,Chains!$F$13:$F$87,Chains!$Q$13:$Q$87)","v":0},20240501,2418,{"$f":"_xlfn.XLOOKUP(B171,Chains!$F$13:$F$87,Chains!$R$13:$R$87)","v":0},20240603,2423,{"$f":"_xlfn.XLOOKUP(B171,Chains!$F$13:$F$87,Chains!$S$13:$S$87)","v":0},{"$f":"_xlfn.XLOOKUP(B171,Chains!$F$13:$F$87,Chains!$L$13:$L$87)","v":11.495399999999998}]
["Chain",585641180,20240103,2401,{"$f":"_xlfn.XLOOKUP(B172,Chains!$F$13:$F$87,Chains!$N$13:$N$87)","v":0},20240201,2405,{"$f":"_xlfn.XLOOKUP(B172,Chains!$F$13:$F$87,Chains!$O$13:$O$87)","v":0},20240301,2409,{"$f":"_xlfn.XLOOKUP(B172,Chains!$F$13:$F$87,Chains!$P$13:$P$87)","v":0},20240402,2414,{"$f":"_xlfn.XLOOKUP(B172,Chains!$F$13:$F$87,Chains!$Q$13:$Q$87)","v":0},20240501,2418,{"$f":"_xlfn.XLOOKUP(B172,Chains!$F$13:$F$87,Chains!$R$13:$R$87)","v":0},20240603,2423,{"$f":"_xlfn.XLOOKUP(B172,Chains!$F$13:$F$87,Chains!$S$13:$S$87)","v":0},{"$f":"_xlfn.XLOOKUP(B172,Chains!$F$13:$F$87,Chains!$L$13:$L$87)","v":13.031799999999999}]
["Chain",585639580,20240103,2401,{"$f":"_xlfn.XLOOKUP(B173,Chains!$F$13:$F$87,Chains!$N$13:$N$87)","v":0},20240201,2405,{"$f":"_xlfn.XLOOKUP(B173,Chains!$F$13:$F$87,Chains!$O$13:$O$87)","v":0},20240301,2409,{"$f":"_xlfn.XLOOKUP(B173,Chains!$F$13:$F$87,Chains!$P$13:$P$87)","v":0},20240402,2414,{"$f":"_xlfn.XLOOKUP(B173,Chains!$F$13:$F$87,Chains!$Q$13:$Q$87)","v":0},20240501,2418,{"$f":"_xlfn.XLOOKUP(B173,Chains!$F$13:$F$87,Chains!$R$13:$R$87)","v":0},20240603,2423,{"$f":"_xlfn.XLOOKUP(B173,Chains!$F$13:$F$87,Chains!$S$13:$S$87)","v":0},{"$f":"_xlfn.XLOOKUP(B173,Chains!$F$13:$F$87,Chains!$L$13:$L$87)","v":13.413599999999999}]
["Chain",585639572,20240103,2401,{"$f":"_xlfn.XLOOKUP(B174,Chains!$F$13:$F$87,Chains!$N$13:$N$87)","v":0},20240201,2405,{"$f":"_xlfn.XLOOKUP(B174,Chains!$F$13:$F$87,Chains!$O$13:$O$87)","v":0},20240301,2409,{"$f":"_xlfn.XLOOKUP(B174,Chains!$F$13:$F$87,Chains!$P$13:$P$87)","v":0},20240402,2414,{"$f":"_xlfn.XLOOKUP(B174,Chains!$F$13:$F$87,Chains!$Q$13:$Q$87)","v":0},20240501,2418,{"$f":"_xlfn.XLOOKUP(B174,Chains!$F$13:$F$87,Chains!$R$13:$R$87)","v":0},20240603,2423,{"$f":"_xlfn.XLOOKUP(B174,Chains!$F$13:$F$87,Chains!$S$13:$S$87)","v":0},{"$f":"_xlfn.XLOOKUP(B174,Chains!$F$13:$F$87,Chains!$L$13:$L$87)","v":12.263599999999999}]
["Chain",585639566,20240103,2401,{"$f":"_xlfn.XLOOKUP(B175,Chains!$F$13:$F$87,Chains!$N$13:$N$87)","v":0},20240201,2405,{"$f":"_xlfn.XLOOKUP(B175,Chains!$F$13:$F$87,Chains!$O$13:$O$87)","v":0},20240301,2409,{"$f":"_xlfn.XLOOKUP(B175,Chains!$F$13:$F$87,Chains!$P$13:$P$87)","v":0},20240402,2414,{"$f":"_xlfn.XLOOKUP(B175,Chains!$F$13:$F$87,Chains!$Q$13:$Q$87)","v":0},20240501,2418,{"$f":"_xlfn.XLOOKUP(B175,Chains!$F$13:$F$87,Chains!$R$13:$R$87)","v":0},20240603,2423,{"$f":"_xlfn.XLOOKUP(B175,Chains!$F$13:$F$87,Chains!$S$13:$S$87)","v":0},{"$f":"_xlfn.XLOOKUP(B175,Chains!$F$13:$F$87,Chains!$L$13:$L$87)","v":11.1136}]
["Chain",585639564,20240103,2401,{"$f":"_xlfn.XLOOKUP(B176,Chains!$F$13:$F$87,Chains!$N$13:$N$87)","v":30},20240201,2405,{"$f":"_xlfn.XLOOKUP(B176,Chains!$F$13:$F$87,Chains!$O$13:$O$87)","v":0},20240301,2409,{"$f":"_xlfn.XLOOKUP(B176,Chains!$F$13:$F$87,Chains!$P$13:$P$87)","v":0},20240402,2414,{"$f":"_xlfn.XLOOKUP(B176,Chains!$F$13:$F$87,Chains!$Q$13:$Q$87)","v":30},20240501,2418,{"$f":"_xlfn.XLOOKUP(B176,Chains!$F$13:$F$87,Chains!$R$13:$R$87)","v":0},20240603,2423,{"$f":"_xlfn.XLOOKUP(B176,Chains!$F$13:$F$87,Chains!$S$13:$S$87)","v":0},{"$f":"_xlfn.XLOOKUP(B176,Chains!$F$13:$F$87,Chains!$L$13:$L$87)","v":10.731799999999998}]
["Chain",585639556,20240103,2401,{"$f":"_xlfn.XLOOKUP(B177,Chains!$F$13:$F$87,Chains!$N$13:$N$87)","v":0},20240201,2405,{"$f":"_xlfn.XLOOKUP(B177,Chains!$F$13:$F$87,Chains!$O$13:$O$87)","v":0},20240301,2409,{"$f":"_xlfn.XLOOKUP(B177,Chains!$F$13:$F$87,Chains!$P$13:$P$87)","v":0},20240402,2414,{"$f":"_xlfn.XLOOKUP(B177,Chains!$F$13:$F$87,Chains!$Q$13:$Q$87)","v":0},20240501,2418,{"$f":"_xlfn.XLOOKUP(B177,Chains!$F$13:$F$87,Chains!$R$13:$R$87)","v":0},20240603,2423,{"$f":"_xlfn.XLOOKUP(B177,Chains!$F$13:$F$87,Chains!$S$13:$S$87)","v":0},{"$f":"_xlfn.XLOOKUP(B177,Chains!$F$13:$F$87,Chains!$L$13:$L$87)","v":9.5817999999999977}]
["Chain",585639501,20240103,2401,{"$f":"_xlfn.XLOOKUP(B178,Chains!$F$13:$F$87,Chains!$N$13:$N$87)","v":0},20240201,2405,{"$f":"_xlfn.XLOOKUP(B178,Chains!$F$13:$F$87,Chains!$O$13:$O$87)","v":0},20240301,2409,{"$f":"_xlfn.XLOOKUP(B178,Chains!$F$13:$F$87,Chains!$P$13:$P$87)","v":0},20240402,2414,{"$f":"_xlfn.XLOOKUP(B178,Chains!$F$13:$F$87,Chains!$Q$13:$Q$87)","v":0},20240501,2418,{"$f":"_xlfn.XLOOKUP(B178,Chains!$F$13:$F$87,Chains!$R$13:$R$87)","v":0},20240603,2423,{"$f":"_xlfn.XLOOKUP(B178,Chains!$F$13:$F$87,Chains!$S$13:$S$87)","v":0},{"$f":"_xlfn.XLOOKUP(B178,Chains!$F$13:$F$87,Chains!$L$13:$L$87)","v":279.45}]
["Chain",585404256,20240103,2401,{"$f":"_xlfn.XLOOKUP(B179,Chains!$F$13:$F$87,Chains!$N$13:$N$87)","v":0},20240201,2405,{"$f":"_xlfn.XLOOKUP(B179,Chains!$F$13:$F$87,Chains!$O$13:$O$87)","v":0},20240301,2409,{"$f":"_xlfn.XLOOKUP(B179,Chains!$F$13:$F$87,Chains!$P$13:$P$87)","v":0},20240402,2414,{"$f":"_xlfn.XLOOKUP(B179,Chains!$F$13:$F$87,Chains!$Q$13:$Q$87)","v":0},20240501,2418,{"$f":"_xlfn.XLOOKUP(B179,Chains!$F$13:$F$87,Chains!$R$13:$R$87)","v":0},20240603,2423,{"$f":"_xlfn.XLOOKUP(B179,Chains!$F$13:$F$87,Chains!$S$13:$S$87)","v":0},{"$f":"_xlfn.XLOOKUP(B179,Chains!$F$13:$F$87,Chains!$L$13:$L$87)","v":9.5817999999999977}]
["Chain",585404252,20240103,2401,{"$f":"_xlfn.XLOOKUP(B180,Chains!$F$13:$F$87,Chains!$N$13:$N$87)","v":0},20240201,2405,{"$f":"_xlfn.XLOOKUP(B180,Chains!$F$13:$F$87,Chains!$O$13:$O$87)","v":0},20240301,2409,{"$f":"_xlfn.XLOOKUP(B180,Chains!$F$13:$F$87,Chains!$P$13:$P$87)","v":0},20240402,2414,{"$f":"_xlfn.XLOOKUP(B180,Chains!$F$13:$F$87,Chains!$Q$13:$Q$87)","v":0},20240501,2418,{"$f":"_xlfn.XLOOKUP(B180,Chains!$F$13:$F$87,Chains!$R$13:$R$87)","v":0},20240603,2423,{"$f":"_xlfn.XLOOKUP(B180,Chains!$F$13:$F$87,Chains!$S$13:$S$87)","v":0},{"$f":"_xlfn.XLOOKUP(B180,Chains!$F$13:$F$87,Chains!$L$13:$L$87)","v":9.1953999999999994}]
["Chain",585404245,20240103,2401,{"$f":"_xlfn.XLOOKUP(B181,Chains!$F$13:$F$87,Chains!$N$13:$N$87)","v":0},20240201,2405,{"$f":"_xlfn.XLOOKUP(B181,Chains!$F$13:$F$87,Chains!$O$13:$O$87)","v":0},20240301,2409,{"$f":"_xlfn.XLOOKUP(B181,Chains!$F$13:$F$87,Chains!$P$13:$P$87)","v":0},20240402,2414,{"$f":"_xlfn.XLOOKUP(B181,Chains!$F$13:$F$87,Chains!$Q$13:$Q$87)","v":0},20240501,2418,{"$f":"_xlfn.XLOOKUP(B181,Chains!$F$13:$F$87,Chains!$R$13:$R$87)","v":0},20240603,2423,{"$f":"_xlfn.XLOOKUP(B181,Chains!$F$13:$F$87,Chains!$S$13:$S$87)","v":0},{"$f":"_xlfn.XLOOKUP(B181,Chains!$F$13:$F$87,Chains!$L$13:$L$87)","v":7.6635999999999989}]
["Chain",585404240,20240103,2401,{"$f":"_xlfn.XLOOKUP(B182,Chains!$F$13:$F$87,Chains!$N$13:$N$87)","v":0},20240201,2405,{"$f":"_xlfn.XLOOKUP(B182,Chains!$F$13:$F$87,Chains!$O$13:$O$87)","v":0},20240301,2409,{"$f":"_xlfn.XLOOKUP(B182,Chains!$F$13:$F$87,Chains!$P$13:$P$87)","v":0},20240402,2414,{"$f":"_xlfn.XLOOKUP(B182,Chains!$F$13:$F$87,Chains!$Q$13:$Q$87)","v":0},20240501,2418,{"$f":"_xlfn.XLOOKUP(B182,Chains!$F$13:$F$87,Chains!$R$13:$R$87)","v":0},20240603,2423,{"$f":"_xlfn.XLOOKUP(B182,Chains!$F$13:$F$87,Chains!$S$13:$S$87)","v":0},{"$f":"_xlfn.XLOOKUP(B182,Chains!$F$13:$F$87,Chains!$L$13:$L$87)","v":7.2817999999999987}]
["Chain",585404201,20240103,2401,{"$f":"_xlfn.XLOOKUP(B183,Chains!$F$13:$F$87,Chains!$N$13:$N$87)","v":0},20240201,2405,{"$f":"_xlfn.XLOOKUP(B183,Chains!$F$13:$F$87,Chains!$O$13:$O$87)","v":0},20240301,2409,{"$f":"_xlfn.XLOOKUP(B183,Chains!$F$13:$F$87,Chains!$P$13:$P$87)","v":0},20240402,2414,{"$f":"_xlfn.XLOOKUP(B183,Chains!$F$13:$F$87,Chains!$Q$13:$Q$87)","v":0},20240501,2418,{"$f":"_xlfn.XLOOKUP(B183,Chains!$F$13:$F$87,Chains!$R$13:$R$87)","v":0},20240603,2423,{"$f":"_xlfn.XLOOKUP(B183,Chains!$F$13:$F$87,Chains!$S$13:$S$87)","v":0},{"$f":"_xlfn.XLOOKUP(B183,Chains!$F$13:$F$87,Chains!$L$13:$L$87)","v":252.61819999999994}]
["Chain",581807952,20240103,2401,{"$f":"_xlfn.XLOOKUP(B184,Chains!$F$13:$F$87,Chains!$N$13:$N$87)","v":0},20240201,2405,{"$f":"_xlfn.XLOOKUP(B184,Chains!$F$13:$F$87,Chains!$O$13:$O$87)","v":0},20240301,2409,{"$f":"_xlfn.XLOOKUP(B184,Chains!$F$13:$F$87,Chains!$P$13:$P$87)","v":0},20240402,2414,{"$f":"_xlfn.XLOOKUP(B184,Chains!$F$13:$F$87,Chains!$Q$13:$Q$87)","v":0},20240501,2418,{"$f":"_xlfn.XLOOKUP(B184,Chains!$F$13:$F$87,Chains!$R$13:$R$87)","v":0},20240603,2423,{"$f":"_xlfn.XLOOKUP(B184,Chains!$F$13:$F$87,Chains!$S$13:$S$87)","v":0},{"$f":"_xlfn.XLOOKUP(B184,Chains!$F$13:$F$87,Chains!$L$13:$L$87)","v":8.4317999999999991}]
["Chain",581807945,20240103,2401,{"$f":"_xlfn.XLOOKUP(B185,Chains!$F$13:$F$87,Chains!$N$13:$N$87)","v":0},20240201,2405,{"$f":"_xlfn.XLOOKUP(B185,Chains!$F$13:$F$87,Chains!$O$13:$O$87)","v":0},20240301,2409,{"$f":"_xlfn.XLOOKUP(B185,Chains!$F$13:$F$87,Chains!$P$13:$P$87)","v":0},20240402,2414,{"$f":"_xlfn.XLOOKUP(B185,Chains!$F$13:$F$87,Chains!$Q$13:$Q$87)","v":0},20240501,2418,{"$f":"_xlfn.XLOOKUP(B185,Chains!$F$13:$F$87,Chains!$R$13:$R$87)","v":0},20240603,2423,{"$f":"_xlfn.XLOOKUP(B185,Chains!$F$13:$F$87,Chains!$S$13:$S$87)","v":0},{"$f":"_xlfn.XLOOKUP(B185,Chains!$F$13:$F$87,Chains!$L$13:$L$87)","v":7.2817999999999987}]
["Chain",581807901,20240103,2401,{"$f":"_xlfn.XLOOKUP(B186,Chains!$F$13:$F$87,Chains!$N$13:$N$87)","v":0},20240201,2405,{"$f":"_xlfn.XLOOKUP(B186,Chains!$F$13:$F$87,Chains!$O$13:$O$87)","v":0},20240301,2409,{"$f":"_xlfn.XLOOKUP(B186,Chains!$F$13:$F$87,Chains!$P$13:$P$87)","v":0},20240402,2414,{"$f":"_xlfn.XLOOKUP(B186,Chains!$F$13:$F$87,Chains!$Q$13:$Q$87)","v":0},20240501,2418,{"$f":"_xlfn.XLOOKUP(B186,Chains!$F$13:$F$87,Chains!$R$13:$R$87)","v":0},20240603,2423,{"$f":"_xlfn.XLOOKUP(B186,Chains!$F$13:$F$87,Chains!$S$13:$S$87)","v":0},{"$f":"_xlfn.XLOOKUP(B186,Chains!$F$13:$F$87,Chains!$L$13:$L$87)","v":244.95}]
["Chain",581643180,20240103,2401,{"$f":"_xlfn.XLOOKUP(B187,Chains!$F$13:$F$87,Chains!$N$13:$N$87)","v":0},20240201,2405,{"$f":"_xlfn.XLOOKUP(B187,Chains!$F$13:$F$87,Chains!$O$13:$O$87)","v":0},20240301,2409,{"$f":"_xlfn.XLOOKUP(B187,Chains!$F$13:$F$87,Chains!$P$13:$P$87)","v":0},20240402,2414,{"$f":"_xlfn.XLOOKUP(B187,Chains!$F$13:$F$87,Chains!$Q$13:$Q$87)","v":0},20240501,2418,{"$f":"_xlfn.XLOOKUP(B187,Chains!$F$13:$F$87,Chains!$R$13:$R$87)","v":0},20240603,2423,{"$f":"_xlfn.XLOOKUP(B187,Chains!$F$13:$F$87,Chains!$S$13:$S$87)","v":0},{"$f":"_xlfn.XLOOKUP(B187,Chains!$F$13:$F$87,Chains!$L$13:$L$87)","v":14.181799999999999}]
["Chain",581643172,20240103,2401,{"$f":"_xlfn.XLOOKUP(B188,Chains!$F$13:$F$87,Chains!$N$13:$N$87)","v":0},20240201,2405,{"$f":"_xlfn.XLOOKUP(B188,Chains!$F$13:$F$87,Chains!$O$13:$O$87)","v":0},20240301,2409,{"$f":"_xlfn.XLOOKUP(B188,Chains!$F$13:$F$87,Chains!$P$13:$P$87)","v":0},20240402,2414,{"$f":"_xlfn.XLOOKUP(B188,Chains!$F$13:$F$87,Chains!$Q$13:$Q$87)","v":0},20240501,2418,{"$f":"_xlfn.XLOOKUP(B188,Chains!$F$13:$F$87,Chains!$R$13:$R$87)","v":0},20240603,2423,{"$f":"_xlfn.XLOOKUP(B188,Chains!$F$13:$F$87,Chains!$S$13:$S$87)","v":0},{"$f":"_xlfn.XLOOKUP(B188,Chains!$F$13:$F$87,Chains!$L$13:$L$87)","v":13.031799999999999}]
["Chain",581643166,20240103,2401,{"$f":"_xlfn.XLOOKUP(B189,Chains!$F$13:$F$87,Chains!$N$13:$N$87)","v":0},20240201,2405,{"$f":"_xlfn.XLOOKUP(B189,Chains!$F$13:$F$87,Chains!$O$13:$O$87)","v":0},20240301,2409,{"$f":"_xlfn.XLOOKUP(B189,Chains!$F$13:$F$87,Chains!$P$13:$P$87)","v":0},20240402,2414,{"$f":"_xlfn.XLOOKUP(B189,Chains!$F$13:$F$87,Chains!$Q$13:$Q$87)","v":0},20240501,2418,{"$f":"_xlfn.XLOOKUP(B189,Chains!$F$13:$F$87,Chains!$R$13:$R$87)","v":0},20240603,2423,{"$f":"_xlfn.XLOOKUP(B189,Chains!$F$13:$F$87,Chains!$S$13:$S$87)","v":0},{"$f":"_xlfn.XLOOKUP(B189,Chains!$F$13:$F$87,Chains!$L$13:$L$87)","v":11.881799999999998}]
["Chain",581643164,20240103,2401,{"$f":"_xlfn.XLOOKUP(B190,Chains!$F$13:$F$87,Chains!$N$13:$N$87)","v":0},20240201,2405,{"$f":"_xlfn.XLOOKUP(B190,Chains!$F$13:$F$87,Chains!$O$13:$O$87)","v":0},20240301,2409,{"$f":"_xlfn.XLOOKUP(B190,Chains!$F$13:$F$87,Chains!$P$13:$P$87)","v":0},20240402,2414,{"$f":"_xlfn.XLOOKUP(B190,Chains!$F$13:$F$87,Chains!$Q$13:$Q$87)","v":0},20240501,2418,{"$f":"_xlfn.XLOOKUP(B190,Chains!$F$13:$F$87,Chains!$R$13:$R$87)","v":0},20240603,2423,{"$f":"_xlfn.XLOOKUP(B190,Chains!$F$13:$F$87,Chains!$S$13:$S$87)","v":0},{"$f":"_xlfn.XLOOKUP(B190,Chains!$F$13:$F$87,Chains!$L$13:$L$87)","v":11.495399999999998}]
["Chain",581643156,20240103,2401,{"$f":"_xlfn.XLOOKUP(B191,Chains!$F$13:$F$87,Chains!$N$13:$N$87)","v":0},20240201,2405,{"$f":"_xlfn.XLOOKUP(B191,Chains!$F$13:$F$87,Chains!$O$13:$O$87)","v":0},20240301,2409,{"$f":"_xlfn.XLOOKUP(B191,Chains!$F$13:$F$87,Chains!$P$13:$P$87)","v":0},20240402,2414,{"$f":"_xlfn.XLOOKUP(B191,Chains!$F$13:$F$87,Chains!$Q$13:$Q$87)","v":0},20240501,2418,{"$f":"_xlfn.XLOOKUP(B191,Chains!$F$13:$F$87,Chains!$R$13:$R$87)","v":0},20240603,2423,{"$f":"_xlfn.XLOOKUP(B191,Chains!$F$13:$F$87,Chains!$S$13:$S$87)","v":0},{"$f":"_xlfn.XLOOKUP(B191,Chains!$F$13:$F$87,Chains!$L$13:$L$87)","v":9.9635999999999996}]
["Chain",581643101,20240103,2401,{"$f":"_xlfn.XLOOKUP(B192,Chains!$F$13:$F$87,Chains!$N$13:$N$87)","v":0},20240201,2405,{"$f":"_xlfn.XLOOKUP(B192,Chains!$F$13:$F$87,Chains!$O$13:$O$87)","v":0},20240301,2409,{"$f":"_xlfn.XLOOKUP(B192,Chains!$F$13:$F$87,Chains!$P$13:$P$87)","v":0},20240402,2414,{"$f":"_xlfn.XLOOKUP(B192,Chains!$F$13:$F$87,Chains!$Q$13:$Q$87)","v":0},20240501,2418,{"$f":"_xlfn.XLOOKUP(B192,Chains!$F$13:$F$87,Chains!$R$13:$R$87)","v":0},20240603,2423,{"$f":"_xlfn.XLOOKUP(B192,Chains!$F$13:$F$87,Chains!$S$13:$S$87)","v":0},{"$f":"_xlfn.XLOOKUP(B192,Chains!$F$13:$F$87,Chains!$L$13:$L$87)","v":279.45}]
["Chain",581626692,20240103,2401,{"$f":"_xlfn.XLOOKUP(B193,Chains!$F$13:$F$87,Chains!$N$13:$N$87)","v":0},20240201,2405,{"$f":"_xlfn.XLOOKUP(B193,Chains!$F$13:$F$87,Chains!$O$13:$O$87)","v":0},20240301,2409,{"$f":"_xlfn.XLOOKUP(B193,Chains!$F$13:$F$87,Chains!$P$13:$P$87)","v":0},20240402,2414,{"$f":"_xlfn.XLOOKUP(B193,Chains!$F$13:$F$87,Chains!$Q$13:$Q$87)","v":0},20240501,2418,{"$f":"_xlfn.XLOOKUP(B193,Chains!$F$13:$F$87,Chains!$R$13:$R$87)","v":0},20240603,2423,{"$f":"_xlfn.XLOOKUP(B193,Chains!$F$13:$F$87,Chains!$S$13:$S$87)","v":0},{"$f":"_xlfn.XLOOKUP(B193,Chains!$F$13:$F$87,Chains!$L$13:$L$87)","v":17.2454}]
["Chain",581626684,20240103,2401,{"$f":"_xlfn.XLOOKUP(B194,Chains!$F$13:$F$87,Chains!$N$13:$N$87)","v":0},20240201,2405,{"$f":"_xlfn.XLOOKUP(B194,Chains!$F$13:$F$87,Chains!$O$13:$O$87)","v":0},20240301,2409,{"$f":"_xlfn.XLOOKUP(B194,Chains!$F$13:$F$87,Chains!$P$13:$P$87)","v":0},20240402,2414,{"$f":"_xlfn.XLOOKUP(B194,Chains!$F$13:$F$87,Chains!$Q$13:$Q$87)","v":0},20240501,2418,{"$f":"_xlfn.XLOOKUP(B194,Chains!$F$13:$F$87,Chains!$R$13:$R$87)","v":0},20240603,2423,{"$f":"_xlfn.XLOOKUP(B194,Chains!$F$13:$F$87,Chains!$S$13:$S$87)","v":0},{"$f":"_xlfn.XLOOKUP(B194,Chains!$F$13:$F$87,Chains!$L$13:$L$87)","v":15.331799999999998}]
["Chain",581626672,20240103,2401,{"$f":"_xlfn.XLOOKUP(B195,Chains!$F$13:$F$87,Chains!$N$13:$N$87)","v":0},20240201,2405,{"$f":"_xlfn.XLOOKUP(B195,Chains!$F$13:$F$87,Chains!$O$13:$O$87)","v":0},20240301,2409,{"$f":"_xlfn.XLOOKUP(B195,Chains!$F$13:$F$87,Chains!$P$13:$P$87)","v":0},20240402,2414,{"$f":"_xlfn.XLOOKUP(B195,Chains!$F$13:$F$87,Chains!$Q$13:$Q$87)","v":0},20240501,2418,{"$f":"_xlfn.XLOOKUP(B195,Chains!$F$13:$F$87,Chains!$R$13:$R$87)","v":0},20240603,2423,{"$f":"_xlfn.XLOOKUP(B195,Chains!$F$13:$F$87,Chains!$S$13:$S$87)","v":0},{"$f":"_xlfn.XLOOKUP(B195,Chains!$F$13:$F$87,Chains!$L$13:$L$87)","v":13.031799999999999}]
["Chain",581626668,20240103,2401,{"$f":"_xlfn.XLOOKUP(B196,Chains!$F$13:$F$87,Chains!$N$13:$N$87)","v":0},20240201,2405,{"$f":"_xlfn.XLOOKUP(B196,Chains!$F$13:$F$87,Chains!$O$13:$O$87)","v":0},20240301,2409,{"$f":"_xlfn.XLOOKUP(B196,Chains!$F$13:$F$87,Chains!$P$13:$P$87)","v":0},20240402,2414,{"$f":"_xlfn.XLOOKUP(B196,Chains!$F$13:$F$87,Chains!$Q$13:$Q$87)","v":0},20240501,2418,{"$f":"_xlfn.XLOOKUP(B196,Chains!$F$13:$F$87,Chains!$R$13:$R$87)","v":0},20240603,2423,{"$f":"_xlfn.XLOOKUP(B196,Chains!$F$13:$F$87,Chains!$S$13:$S$87)","v":0},{"$f":"_xlfn.XLOOKUP(B196,Chains!$F$13:$F$87,Chains!$L$13:$L$87)","v":12.645399999999999}]
["Chain",581626656,20240103,2401,{"$f":"_xlfn.XLOOKUP(B197,Chains!$F$13:$F$87,Chains!$N$13:$N$87)","v":0},20240201,2405,{"$f":"_xlfn.XLOOKUP(B197,Chains!$F$13:$F$87,Chains!$O$13:$O$87)","v":0},20240301,2409,{"$f":"_xlfn.XLOOKUP(B197,Chains!$F$13:$F$87,Chains!$P$13:$P$87)","v":0},20240402,2414,{"$f":"_xlfn.XLOOKUP(B197,Chains!$F$13:$F$87,Chains!$Q$13:$Q$87)","v":0},20240501,2418,{"$f":"_xlfn.XLOOKUP(B197,Chains!$F$13:$F$87,Chains!$R$13:$R$87)","v":0},20240603,2423,{"$f":"_xlfn.XLOOKUP(B197,Chains!$F$13:$F$87,Chains!$S$13:$S$87)","v":0},{"$f":"_xlfn.XLOOKUP(B197,Chains!$F$13:$F$87,Chains!$L$13:$L$87)","v":10.345399999999998}]
["Chain",581626615,20240103,2401,{"$f":"_xlfn.XLOOKUP(B198,Chains!$F$13:$F$87,Chains!$N$13:$N$87)","v":0},20240201,2405,{"$f":"_xlfn.XLOOKUP(B198,Chains!$F$13:$F$87,Chains!$O$13:$O$87)","v":0},20240301,2409,{"$f":"_xlfn.XLOOKUP(B198,Chains!$F$13:$F$87,Chains!$P$13:$P$87)","v":0},20240402,2414,{"$f":"_xlfn.XLOOKUP(B198,Chains!$F$13:$F$87,Chains!$Q$13:$Q$87)","v":0},20240501,2418,{"$f":"_xlfn.XLOOKUP(B198,Chains!$F$13:$F$87,Chains!$R$13:$R$87)","v":0},20240603,2423,{"$f":"_xlfn.XLOOKUP(B198,Chains!$F$13:$F$87,Chains!$S$13:$S$87)","v":0},{"$f":"_xlfn.XLOOKUP(B198,Chains!$F$13:$F$87,Chains!$L$13:$L$87)","v":21.845399999999998}]
["Chain",581626605,20240103,2401,{"$f":"_xlfn.XLOOKUP(B199,Chains!$F$13:$F$87,Chains!$N$13:$N$87)","v":0},20240201,2405,{"$f":"_xlfn.XLOOKUP(B199,Chains!$F$13:$F$87,Chains!$O$13:$O$87)","v":0},20240301,2409,{"$f":"_xlfn.XLOOKUP(B199,Chains!$F$13:$F$87,Chains!$P$13:$P$87)","v":0},20240402,2414,{"$f":"_xlfn.XLOOKUP(B199,Chains!$F$13:$F$87,Chains!$Q$13:$Q$87)","v":0},20240501,2418,{"$f":"_xlfn.XLOOKUP(B199,Chains!$F$13:$F$87,Chains!$R$13:$R$87)","v":0},20240603,2423,{"$f":"_xlfn.XLOOKUP(B199,Chains!$F$13:$F$87,Chains!$S$13:$S$87)","v":0},{"$f":"_xlfn.XLOOKUP(B199,Chains!$F$13:$F$87,Chains!$L$13:$L$87)","v":19.931799999999999}]
["Chain",581626601,20240103,2401,{"$f":"_xlfn.XLOOKUP(B200,Chains!$F$13:$F$87,Chains!$N$13:$N$87)","v":0},20240201,2405,{"$f":"_xlfn.XLOOKUP(B200,Chains!$F$13:$F$87,Chains!$O$13:$O$87)","v":0},20240301,2409,{"$f":"_xlfn.XLOOKUP(B200,Chains!$F$13:$F$87,Chains!$P$13:$P$87)","v":0},20240402,2414,{"$f":"_xlfn.XLOOKUP(B200,Chains!$F$13:$F$87,Chains!$Q$13:$Q$87)","v":0},20240501,2418,{"$f":"_xlfn.XLOOKUP(B200,Chains!$F$13:$F$87,Chains!$R$13:$R$87)","v":0},20240603,2423,{"$f":"_xlfn.XLOOKUP(B200,Chains!$F$13:$F$87,Chains!$S$13:$S$87)","v":0},{"$f":"_xlfn.XLOOKUP(B200,Chains!$F$13:$F$87,Chains!$L$13:$L$87)","v":264.11819999999994}]
["Chain",546606572,20240103,2401,{"$f":"_xlfn.XLOOKUP(B201,Chains!$F$13:$F$87,Chains!$N$13:$N$87)","v":0},20240201,2405,{"$f":"_xlfn.XLOOKUP(B201,Chains!$F$13:$F$87,Chains!$O$13:$O$87)","v":0},20240301,2409,{"$f":"_xlfn.XLOOKUP(B201,Chains!$F$13:$F$87,Chains!$P$13:$P$87)","v":0},20240402,2414,{"$f":"_xlfn.XLOOKUP(B201,Chains!$F$13:$F$87,Chains!$Q$13:$Q$87)","v":0},20240501,2418,{"$f":"_xlfn.XLOOKUP(B201,Chains!$F$13:$F$87,Chains!$R$13:$R$87)","v":0},20240603,2423,{"$f":"_xlfn.XLOOKUP(B201,Chains!$F$13:$F$87,Chains!$S$13:$S$87)","v":0},{"$f":"_xlfn.XLOOKUP(B201,Chains!$F$13:$F$87,Chains!$L$13:$L$87)","v":310.11819999999994}]
["Chain",546606564,20240103,2401,{"$f":"_xlfn.XLOOKUP(B202,Chains!$F$13:$F$87,Chains!$N$13:$N$87)","v":0},20240201,2405,{"$f":"_xlfn.XLOOKUP(B202,Chains!$F$13:$F$87,Chains!$O$13:$O$87)","v":0},20240301,2409,{"$f":"_xlfn.XLOOKUP(B202,Chains!$F$13:$F$87,Chains!$P$13:$P$87)","v":0},20240402,2414,{"$f":"_xlfn.XLOOKUP(B202,Chains!$F$13:$F$87,Chains!$Q$13:$Q$87)","v":0},20240501,2418,{"$f":"_xlfn.XLOOKUP(B202,Chains!$F$13:$F$87,Chains!$R$13:$R$87)","v":0},20240603,2423,{"$f":"_xlfn.XLOOKUP(B202,Chains!$F$13:$F$87,Chains!$S$13:$S$87)","v":0},{"$f":"_xlfn.XLOOKUP(B202,Chains!$F$13:$F$87,Chains!$L$13:$L$87)","v":551.6182}]
["Chain",546606556,20240103,2401,{"$f":"_xlfn.XLOOKUP(B203,Chains!$F$13:$F$87,Chains!$N$13:$N$87)","v":0},20240201,2405,{"$f":"_xlfn.XLOOKUP(B203,Chains!$F$13:$F$87,Chains!$O$13:$O$87)","v":0},20240301,2409,{"$f":"_xlfn.XLOOKUP(B203,Chains!$F$13:$F$87,Chains!$P$13:$P$87)","v":0},20240402,2414,{"$f":"_xlfn.XLOOKUP(B203,Chains!$F$13:$F$87,Chains!$Q$13:$Q$87)","v":0},20240501,2418,{"$f":"_xlfn.XLOOKUP(B203,Chains!$F$13:$F$87,Chains!$R$13:$R$87)","v":0},20240603,2423,{"$f":"_xlfn.XLOOKUP(B203,Chains!$F$13:$F$87,Chains!$S$13:$S$87)","v":0},{"$f":"_xlfn.XLOOKUP(B203,Chains!$F$13:$F$87,Chains!$L$13:$L$87)","v":478.78179999999998}]
["Chain",546606472,20240103,2401,{"$f":"_xlfn.XLOOKUP(B204,Chains!$F$13:$F$87,Chains!$N$13:$N$87)","v":0},20240201,2405,{"$f":"_xlfn.XLOOKUP(B204,Chains!$F$13:$F$87,Chains!$O$13:$O$87)","v":0},20240301,2409,{"$f":"_xlfn.XLOOKUP(B204,Chains!$F$13:$F$87,Chains!$P$13:$P$87)","v":0},20240402,2414,{"$f":"_xlfn.XLOOKUP(B204,Chains!$F$13:$F$87,Chains!$Q$13:$Q$87)","v":0},20240501,2418,{"$f":"_xlfn.XLOOKUP(B204,Chains!$F$13:$F$87,Chains!$R$13:$R$87)","v":0},20240603,2423,{"$f":"_xlfn.XLOOKUP(B204,Chains!$F$13:$F$87,Chains!$S$13:$S$87)","v":0},{"$f":"_xlfn.XLOOKUP(B204,Chains!$F$13:$F$87,Chains!$L$13:$L$87)","v":275.61819999999994}]
["Chain",546606464,20240103,2401,{"$f":"_xlfn.XLOOKUP(B205,Chains!$F$13:$F$87,Chains!$N$13:$N$87)","v":0},20240201,2405,{"$f":"_xlfn.XLOOKUP(B205,Chains!$F$13:$F$87,Chains!$O$13:$O$87)","v":0},20240301,2409,{"$f":"_xlfn.XLOOKUP(B205,Chains!$F$13:$F$87,Chains!$P$13:$P$87)","v":0},20240402,2414,{"$f":"_xlfn.XLOOKUP(B205,Chains!$F$13:$F$87,Chains!$Q$13:$Q$87)","v":0},20240501,2418,{"$f":"_xlfn.XLOOKUP(B205,Chains!$F$13:$F$87,Chains!$R$13:$R$87)","v":0},20240603,2423,{"$f":"_xlfn.XLOOKUP(B205,Chains!$F$13:$F$87,Chains!$S$13:$S$87)","v":0},{"$f":"_xlfn.XLOOKUP(B205,Chains!$F$13:$F$87,Chains!$L$13:$L$87)","v":237.28179999999998}]
["Chain",546606372,20240103,2401,{"$f":"_xlfn.XLOOKUP(B206,Chains!$F$13:$F$87,Chains!$N$13:$N$87)","v":0},20240201,2405,{"$f":"_xlfn.XLOOKUP(B206,Chains!$F$13:$F$87,Chains!$O$13:$O$87)","v":0},20240301,2409,{"$f":"_xlfn.XLOOKUP(B206,Chains!$F$13:$F$87,Chains!$P$13:$P$87)","v":0},20240402,2414,{"$f":"_xlfn.XLOOKUP(B206,Chains!$F$13:$F$87,Chains!$Q$13:$Q$87)","v":0},20240501,2418,{"$f":"_xlfn.XLOOKUP(B206,Chains!$F$13:$F$87,Chains!$R$13:$R$87)","v":0},20240603,2423,{"$f":"_xlfn.XLOOKUP(B206,Chains!$F$13:$F$87,Chains!$S$13:$S$87)","v":0},{"$f":"_xlfn.XLOOKUP(B206,Chains!$F$13:$F$87,Chains!$L$13:$L$87)","v":310.11819999999994}]
["Chain",546606368,20240103,2401,{"$f":"_xlfn.XLOOKUP(B207,Chains!$F$13:$F$87,Chains!$N$13:$N$87)","v":0},20240201,2405,{"$f":"_xlfn.XLOOKUP(B207,Chains!$F$13:$F$87,Chains!$O$13:$O$87)","v":0},20240301,2409,{"$f":"_xlfn.XLOOKUP(B207,Chains!$F$13:$F$87,Chains!$P$13:$P$87)","v":0},20240402,2414,{"$f":"_xlfn.XLOOKUP(B207,Chains!$F$13:$F$87,Chains!$Q$13:$Q$87)","v":0},20240501,2418,{"$f":"_xlfn.XLOOKUP(B207,Chains!$F$13:$F$87,Chains!$R$13:$R$87)","v":0},20240603,2423,{"$f":"_xlfn.XLOOKUP(B207,Chains!$F$13:$F$87,Chains!$S$13:$S$87)","v":0},{"$f":"_xlfn.XLOOKUP(B207,Chains!$F$13:$F$87,Chains!$L$13:$L$87)","v":302.45}]
["Chain",529921068,20240103,2401,{"$f":"_xlfn.XLOOKUP(B208,Chains!$F$13:$F$87,Chains!$N$13:$N$87)","v":0},20240201,2405,{"$f":"_xlfn.XLOOKUP(B208,Chains!$F$13:$F$87,Chains!$O$13:$O$87)","v":0},20240301,2409,{"$f":"_xlfn.XLOOKUP(B208,Chains!$F$13:$F$87,Chains!$P$13:$P$87)","v":0},20240402,2414,{"$f":"_xlfn.XLOOKUP(B208,Chains!$F$13:$F$87,Chains!$Q$13:$Q$87)","v":0},20240501,2418,{"$f":"_xlfn.XLOOKUP(B208,Chains!$F$13:$F$87,Chains!$R$13:$R$87)","v":0},20240603,2423,{"$f":"_xlfn.XLOOKUP(B208,Chains!$F$13:$F$87,Chains!$S$13:$S$87)","v":0},{"$f":"_xlfn.XLOOKUP(B208,Chains!$F$13:$F$87,Chains!$L$13:$L$87)","v":37.945399999999992}]
["Chain",529921060,20240103,2401,{"$f":"_xlfn.XLOOKUP(B209,Chains!$F$13:$F$87,Chains!$N$13:$N$87)","v":0},20240201,2405,{"$f":"_xlfn.XLOOKUP(B209,Chains!$F$13:$F$87,Chains!$O$13:$O$87)","v":0},20240301,2409,{"$f":"_xlfn.XLOOKUP(B209,Chains!$F$13:$F$87,Chains!$P$13:$P$87)","v":0},20240402,2414,{"$f":"_xlfn.XLOOKUP(B209,Chains!$F$13:$F$87,Chains!$Q$13:$Q$87)","v":0},20240501,2418,{"$f":"_xlfn.XLOOKUP(B209,Chains!$F$13:$F$87,Chains!$R$13:$R$87)","v":0},20240603,2423,{"$f":"_xlfn.XLOOKUP(B209,Chains!$F$13:$F$87,Chains!$S$13:$S$87)","v":0},{"$f":"_xlfn.XLOOKUP(B209,Chains!$F$13:$F$87,Chains!$L$13:$L$87)","v":32.963599999999992}]
["Chain",529920968,20240103,2401,{"$f":"_xlfn.XLOOKUP(B210,Chains!$F$13:$F$87,Chains!$N$13:$N$87)","v":0},20240201,2405,{"$f":"_xlfn.XLOOKUP(B210,Chains!$F$13:$F$87,Chains!$O$13:$O$87)","v":0},20240301,2409,{"$f":"_xlfn.XLOOKUP(B210,Chains!$F$13:$F$87,Chains!$P$13:$P$87)","v":0},20240402,2414,{"$f":"_xlfn.XLOOKUP(B210,Chains!$F$13:$F$87,Chains!$Q$13:$Q$87)","v":0},20240501,2418,{"$f":"_xlfn.XLOOKUP(B210,Chains!$F$13:$F$87,Chains!$R$13:$R$87)","v":0},20240603,2423,{"$f":"_xlfn.XLOOKUP(B210,Chains!$F$13:$F$87,Chains!$S$13:$S$87)","v":0},{"$f":"_xlfn.XLOOKUP(B210,Chains!$F$13:$F$87,Chains!$L$13:$L$87)","v":37.945399999999992}]
["Chain",529920960,20240103,2401,{"$f":"_xlfn.XLOOKUP(B211,Chains!$F$13:$F$87,Chains!$N$13:$N$87)","v":0},20240201,2405,{"$f":"_xlfn.XLOOKUP(B211,Chains!$F$13:$F$87,Chains!$O$13:$O$87)","v":0},20240301,2409,{"$f":"_xlfn.XLOOKUP(B211,Chains!$F$13:$F$87,Chains!$P$13:$P$87)","v":0},20240402,2414,{"$f":"_xlfn.XLOOKUP(B211,Chains!$F$13:$F$87,Chains!$Q$13:$Q$87)","v":0},20240501,2418,{"$f":"_xlfn.XLOOKUP(B211,Chains!$F$13:$F$87,Chains!$R$13:$R$87)","v":0},20240603,2423,{"$f":"_xlfn.XLOOKUP(B211,Chains!$F$13:$F$87,Chains!$S$13:$S$87)","v":0},{"$f":"_xlfn.XLOOKUP(B211,Chains!$F$13:$F$87,Chains!$L$13:$L$87)","v":32.963599999999992}]
["Chain",529340668,20240103,2401,{"$f":"_xlfn.XLOOKUP(B212,Chains!$F$13:$F$87,Chains!$N$13:$N$87)","v":0},20240201,2405,{"$f":"_xlfn.XLOOKUP(B212,Chains!$F$13:$F$87,Chains!$O$13:$O$87)","v":0},20240301,2409,{"$f":"_xlfn.XLOOKUP(B212,Chains!$F$13:$F$87,Chains!$P$13:$P$87)","v":0},20240402,2414,{"$f":"_xlfn.XLOOKUP(B212,Chains!$F$13:$F$87,Chains!$Q$13:$Q$87)","v":0},20240501,2418,{"$f":"_xlfn.XLOOKUP(B212,Chains!$F$13:$F$87,Chains!$R$13:$R$87)","v":0},20240603,2423,{"$f":"_xlfn.XLOOKUP(B212,Chains!$F$13:$F$87,Chains!$S$13:$S$87)","v":0},{"$f":"_xlfn.XLOOKUP(B212,Chains!$F$13:$F$87,Chains!$L$13:$L$87)","v":11.1136}]
["Chain",529340660,20240103,2401,{"$f":"_xlfn.XLOOKUP(B213,Chains!$F$13:$F$87,Chains!$N$13:$N$87)","v":0},20240201,2405,{"$f":"_xlfn.XLOOKUP(B213,Chains!$F$13:$F$87,Chains!$O$13:$O$87)","v":0},20240301,2409,{"$f":"_xlfn.XLOOKUP(B213,Chains!$F$13:$F$87,Chains!$P$13:$P$87)","v":0},20240402,2414,{"$f":"_xlfn.XLOOKUP(B213,Chains!$F$13:$F$87,Chains!$Q$13:$Q$87)","v":0},20240501,2418,{"$f":"_xlfn.XLOOKUP(B213,Chains!$F$13:$F$87,Chains!$R$13:$R$87)","v":0},20240603,2423,{"$f":"_xlfn.XLOOKUP(B213,Chains!$F$13:$F$87,Chains!$S$13:$S$87)","v":0},{"$f":"_xlfn.XLOOKUP(B213,Chains!$F$13:$F$87,Chains!$L$13:$L$87)","v":9.5817999999999977}]
["Chain",529340632,20240103,2401,{"$f":"_xlfn.XLOOKUP(B214,Chains!$F$13:$F$87,Chains!$N$13:$N$87)","v":0},20240201,2405,{"$f":"_xlfn.XLOOKUP(B214,Chains!$F$13:$F$87,Chains!$O$13:$O$87)","v":0},20240301,2409,{"$f":"_xlfn.XLOOKUP(B214,Chains!$F$13:$F$87,Chains!$P$13:$P$87)","v":0},20240402,2414,{"$f":"_xlfn.XLOOKUP(B214,Chains!$F$13:$F$87,Chains!$Q$13:$Q$87)","v":0},20240501,2418,{"$f":"_xlfn.XLOOKUP(B214,Chains!$F$13:$F$87,Chains!$R$13:$R$87)","v":0},20240603,2423,{"$f":"_xlfn.XLOOKUP(B214,Chains!$F$13:$F$87,Chains!$S$13:$S$87)","v":0},{"$f":"_xlfn.XLOOKUP(B214,Chains!$F$13:$F$87,Chains!$L$13:$L$87)","v":5.3635999999999999}]
["Chain",503308801,20240103,2401,{"$f":"_xlfn.XLOOKUP(B215,Chains!$F$13:$F$87,Chains!$N$13:$N$87)","v":0},20240201,2405,{"$f":"_xlfn.XLOOKUP(B215,Chains!$F$13:$F$87,Chains!$O$13:$O$87)","v":0},20240301,2409,{"$f":"_xlfn.XLOOKUP(B215,Chains!$F$13:$F$87,Chains!$P$13:$P$87)","v":0},20240402,2414,{"$f":"_xlfn.XLOOKUP(B215,Chains!$F$13:$F$87,Chains!$Q$13:$Q$87)","v":0},20240501,2418,{"$f":"_xlfn.XLOOKUP(B215,Chains!$F$13:$F$87,Chains!$R$13:$R$87)","v":0},20240603,2423,{"$f":"_xlfn.XLOOKUP(B215,Chains!$F$13:$F$87,Chains!$S$13:$S$87)","v":0},{"$f":"_xlfn.XLOOKUP(B215,Chains!$F$13:$F$87,Chains!$L$13:$L$87)","v":244.95}]
["Chain",503306401,20240103,2401,{"$f":"_xlfn.XLOOKUP(B216,Chains!$F$13:$F$87,Chains!$N$13:$N$87)","v":0},20240201,2405,{"$f":"_xlfn.XLOOKUP(B216,Chains!$F$13:$F$87,Chains!$O$13:$O$87)","v":0},20240301,2409,{"$f":"_xlfn.XLOOKUP(B216,Chains!$F$13:$F$87,Chains!$P$13:$P$87)","v":0},20240402,2414,{"$f":"_xlfn.XLOOKUP(B216,Chains!$F$13:$F$87,Chains!$Q$13:$Q$87)","v":0},20240501,2418,{"$f":"_xlfn.XLOOKUP(B216,Chains!$F$13:$F$87,Chains!$R$13:$R$87)","v":0},20240603,2423,{"$f":"_xlfn.XLOOKUP(B216,Chains!$F$13:$F$87,Chains!$S$13:$S$87)","v":0},{"$f":"_xlfn.XLOOKUP(B216,Chains!$F$13:$F$87,Chains!$L$13:$L$87)","v":264.11819999999994}]
["Chain",503306001,20240103,2401,{"$f":"_xlfn.XLOOKUP(B217,Chains!$F$13:$F$87,Chains!$N$13:$N$87)","v":0},20240201,2405,{"$f":"_xlfn.XLOOKUP(B217,Chains!$F$13:$F$87,Chains!$O$13:$O$87)","v":0},20240301,2409,{"$f":"_xlfn.XLOOKUP(B217,Chains!$F$13:$F$87,Chains!$P$13:$P$87)","v":0},20240402,2414,{"$f":"_xlfn.XLOOKUP(B217,Chains!$F$13:$F$87,Chains!$Q$13:$Q$87)","v":0},20240501,2418,{"$f":"_xlfn.XLOOKUP(B217,Chains!$F$13:$F$87,Chains!$R$13:$R$87)","v":0},20240603,2423,{"$f":"_xlfn.XLOOKUP(B217,Chains!$F$13:$F$87,Chains!$S$13:$S$87)","v":0},{"$f":"_xlfn.XLOOKUP(B217,Chains!$F$13:$F$87,Chains!$L$13:$L$87)","v":244.95}]
["Chain",503305701,20240103,2401,{"$f":"_xlfn.XLOOKUP(B218,Chains!$F$13:$F$87,Chains!$N$13:$N$87)","v":0},20240201,2405,{"$f":"_xlfn.XLOOKUP(B218,Chains!$F$13:$F$87,Chains!$O$13:$O$87)","v":0},20240301,2409,{"$f":"_xlfn.XLOOKUP(B218,Chains!$F$13:$F$87,Chains!$P$13:$P$87)","v":0},20240402,2414,{"$f":"_xlfn.XLOOKUP(B218,Chains!$F$13:$F$87,Chains!$Q$13:$Q$87)","v":0},20240501,2418,{"$f":"_xlfn.XLOOKUP(B218,Chains!$F$13:$F$87,Chains!$R$13:$R$87)","v":0},20240603,2423,{"$f":"_xlfn.XLOOKUP(B218,Chains!$F$13:$F$87,Chains!$S$13:$S$87)","v":0},{"$f":"_xlfn.XLOOKUP(B218,Chains!$F$13:$F$87,Chains!$L$13:$L$87)","v":264.11819999999994}]
["Chain",503300322,20240103,2401,{"$f":"_xlfn.XLOOKUP(B219,Chains!$F$13:$F$87,Chains!$N$13:$N$87)","v":0},20240201,2405,{"$f":"_xlfn.XLOOKUP(B219,Chains!$F$13:$F$87,Chains!$O$13:$O$87)","v":0},20240301,2409,{"$f":"_xlfn.XLOOKUP(B219,Chains!$F$13:$F$87,Chains!$P$13:$P$87)","v":0},20240402,2414,{"$f":"_xlfn.XLOOKUP(B219,Chains!$F$13:$F$87,Chains!$Q$13:$Q$87)","v":0},20240501,2418,{"$f":"_xlfn.XLOOKUP(B219,Chains!$F$13:$F$87,Chains!$R$13:$R$87)","v":0},20240603,2423,{"$f":"_xlfn.XLOOKUP(B219,Chains!$F$13:$F$87,Chains!$S$13:$S$87)","v":0},{"$f":"_xlfn.XLOOKUP(B219,Chains!$F$13:$F$87,Chains!$L$13:$L$87)","v":244.95}]
["Chain",501844068,20240103,2401,{"$f":"_xlfn.XLOOKUP(B220,Chains!$F$13:$F$87,Chains!$N$13:$N$87)","v":0},20240201,2405,{"$f":"_xlfn.XLOOKUP(B220,Chains!$F$13:$F$87,Chains!$O$13:$O$87)","v":0},20240301,2409,{"$f":"_xlfn.XLOOKUP(B220,Chains!$F$13:$F$87,Chains!$P$13:$P$87)","v":0},20240402,2414,{"$f":"_xlfn.XLOOKUP(B220,Chains!$F$13:$F$87,Chains!$Q$13:$Q$87)","v":0},20240501,2418,{"$f":"_xlfn.XLOOKUP(B220,Chains!$F$13:$F$87,Chains!$R$13:$R$87)","v":0},20240603,2423,{"$f":"_xlfn.XLOOKUP(B220,Chains!$F$13:$F$87,Chains!$S$13:$S$87)","v":0},{"$f":"_xlfn.XLOOKUP(B220,Chains!$F$13:$F$87,Chains!$L$13:$L$87)","v":10.731799999999998}]
["Chain",501844064,20240103,2401,{"$f":"_xlfn.XLOOKUP(B221,Chains!$F$13:$F$87,Chains!$N$13:$N$87)","v":0},20240201,2405,{"$f":"_xlfn.XLOOKUP(B221,Chains!$F$13:$F$87,Chains!$O$13:$O$87)","v":0},20240301,2409,{"$f":"_xlfn.XLOOKUP(B221,Chains!$F$13:$F$87,Chains!$P$13:$P$87)","v":0},20240402,2414,{"$f":"_xlfn.XLOOKUP(B221,Chains!$F$13:$F$87,Chains!$Q$13:$Q$87)","v":0},20240501,2418,{"$f":"_xlfn.XLOOKUP(B221,Chains!$F$13:$F$87,Chains!$R$13:$R$87)","v":0},20240603,2423,{"$f":"_xlfn.XLOOKUP(B221,Chains!$F$13:$F$87,Chains!$S$13:$S$87)","v":0},{"$f":"_xlfn.XLOOKUP(B221,Chains!$F$13:$F$87,Chains!$L$13:$L$87)","v":10.731799999999998}]
["Chain",501844060,20240103,2401,{"$f":"_xlfn.XLOOKUP(B222,Chains!$F$13:$F$87,Chains!$N$13:$N$87)","v":0},20240201,2405,{"$f":"_xlfn.XLOOKUP(B222,Chains!$F$13:$F$87,Chains!$O$13:$O$87)","v":0},20240301,2409,{"$f":"_xlfn.XLOOKUP(B222,Chains!$F$13:$F$87,Chains!$P$13:$P$87)","v":0},20240402,2414,{"$f":"_xlfn.XLOOKUP(B222,Chains!$F$13:$F$87,Chains!$Q$13:$Q$87)","v":0},20240501,2418,{"$f":"_xlfn.XLOOKUP(B222,Chains!$F$13:$F$87,Chains!$R$13:$R$87)","v":0},20240603,2423,{"$f":"_xlfn.XLOOKUP(B222,Chains!$F$13:$F$87,Chains!$S$13:$S$87)","v":0},{"$f":"_xlfn.XLOOKUP(B222,Chains!$F$13:$F$87,Chains!$L$13:$L$87)","v":9.5817999999999977}]
["Chain",501844058,20240103,2401,{"$f":"_xlfn.XLOOKUP(B223,Chains!$F$13:$F$87,Chains!$N$13:$N$87)","v":0},20240201,2405,{"$f":"_xlfn.XLOOKUP(B223,Chains!$F$13:$F$87,Chains!$O$13:$O$87)","v":0},20240301,2409,{"$f":"_xlfn.XLOOKUP(B223,Chains!$F$13:$F$87,Chains!$P$13:$P$87)","v":0},20240402,2414,{"$f":"_xlfn.XLOOKUP(B223,Chains!$F$13:$F$87,Chains!$Q$13:$Q$87)","v":0},20240501,2418,{"$f":"_xlfn.XLOOKUP(B223,Chains!$F$13:$F$87,Chains!$R$13:$R$87)","v":0},20240603,2423,{"$f":"_xlfn.XLOOKUP(B223,Chains!$F$13:$F$87,Chains!$S$13:$S$87)","v":0},{"$f":"_xlfn.XLOOKUP(B223,Chains!$F$13:$F$87,Chains!$L$13:$L$87)","v":8.8135999999999992}]
["Chain",501843192,20240103,2401,{"$f":"_xlfn.XLOOKUP(B224,Chains!$F$13:$F$87,Chains!$N$13:$N$87)","v":0},20240201,2405,{"$f":"_xlfn.XLOOKUP(B224,Chains!$F$13:$F$87,Chains!$O$13:$O$87)","v":0},20240301,2409,{"$f":"_xlfn.XLOOKUP(B224,Chains!$F$13:$F$87,Chains!$P$13:$P$87)","v":0},20240402,2414,{"$f":"_xlfn.XLOOKUP(B224,Chains!$F$13:$F$87,Chains!$Q$13:$Q$87)","v":0},20240501,2418,{"$f":"_xlfn.XLOOKUP(B224,Chains!$F$13:$F$87,Chains!$R$13:$R$87)","v":0},20240603,2423,{"$f":"_xlfn.XLOOKUP(B224,Chains!$F$13:$F$87,Chains!$S$13:$S$87)","v":0},{"$f":"_xlfn.XLOOKUP(B224,Chains!$F$13:$F$87,Chains!$L$13:$L$87)","v":17.631799999999998}]
["Chain",501843184,20240103,2401,{"$f":"_xlfn.XLOOKUP(B225,Chains!$F$13:$F$87,Chains!$N$13:$N$87)","v":0},20240201,2405,{"$f":"_xlfn.XLOOKUP(B225,Chains!$F$13:$F$87,Chains!$O$13:$O$87)","v":0},20240301,2409,{"$f":"_xlfn.XLOOKUP(B225,Chains!$F$13:$F$87,Chains!$P$13:$P$87)","v":0},20240402,2414,{"$f":"_xlfn.XLOOKUP(B225,Chains!$F$13:$F$87,Chains!$Q$13:$Q$87)","v":0},20240501,2418,{"$f":"_xlfn.XLOOKUP(B225,Chains!$F$13:$F$87,Chains!$R$13:$R$87)","v":0},20240603,2423,{"$f":"_xlfn.XLOOKUP(B225,Chains!$F$13:$F$87,Chains!$S$13:$S$87)","v":0},{"$f":"_xlfn.XLOOKUP(B225,Chains!$F$13:$F$87,Chains!$L$13:$L$87)","v":16.481799999999996}]
["Chain",501843124,20240103,2401,{"$f":"_xlfn.XLOOKUP(B226,Chains!$F$13:$F$87,Chains!$N$13:$N$87)","v":0},20240201,2405,{"$f":"_xlfn.XLOOKUP(B226,Chains!$F$13:$F$87,Chains!$O$13:$O$87)","v":0},20240301,2409,{"$f":"_xlfn.XLOOKUP(B226,Chains!$F$13:$F$87,Chains!$P$13:$P$87)","v":0},20240402,2414,{"$f":"_xlfn.XLOOKUP(B226,Chains!$F$13:$F$87,Chains!$Q$13:$Q$87)","v":0},20240501,2418,{"$f":"_xlfn.XLOOKUP(B226,Chains!$F$13:$F$87,Chains!$R$13:$R$87)","v":0},20240603,2423,{"$f":"_xlfn.XLOOKUP(B226,Chains!$F$13:$F$87,Chains!$S$13:$S$87)","v":0},{"$f":"_xlfn.XLOOKUP(B226,Chains!$F$13:$F$87,Chains!$L$13:$L$87)","v":24.145399999999999}]
["Chain",501843104,20240103,2401,{"$f":"_xlfn.XLOOKUP(B227,Chains!$F$13:$F$87,Chains!$N$13:$N$87)","v":0},20240201,2405,{"$f":"_xlfn.XLOOKUP(B227,Chains!$F$13:$F$87,Chains!$O$13:$O$87)","v":0},20240301,2409,{"$f":"_xlfn.XLOOKUP(B227,Chains!$F$13:$F$87,Chains!$P$13:$P$87)","v":0},20240402,2414,{"$f":"_xlfn.XLOOKUP(B227,Chains!$F$13:$F$87,Chains!$Q$13:$Q$87)","v":0},20240501,2418,{"$f":"_xlfn.XLOOKUP(B227,Chains!$F$13:$F$87,Chains!$R$13:$R$87)","v":0},20240603,2423,{"$f":"_xlfn.XLOOKUP(B227,Chains!$F$13:$F$87,Chains!$S$13:$S$87)","v":0},{"$f":"_xlfn.XLOOKUP(B227,Chains!$F$13:$F$87,Chains!$L$13:$L$87)","v":21.081799999999998}]
["Chain",501841492,20240103,2401,{"$f":"_xlfn.XLOOKUP(B228,Chains!$F$13:$F$87,Chains!$N$13:$N$87)","v":0},20240201,2405,{"$f":"_xlfn.XLOOKUP(B228,Chains!$F$13:$F$87,Chains!$O$13:$O$87)","v":0},20240301,2409,{"$f":"_xlfn.XLOOKUP(B228,Chains!$F$13:$F$87,Chains!$P$13:$P$87)","v":0},20240402,2414,{"$f":"_xlfn.XLOOKUP(B228,Chains!$F$13:$F$87,Chains!$Q$13:$Q$87)","v":0},20240501,2418,{"$f":"_xlfn.XLOOKUP(B228,Chains!$F$13:$F$87,Chains!$R$13:$R$87)","v":0},20240603,2423,{"$f":"_xlfn.XLOOKUP(B228,Chains!$F$13:$F$87,Chains!$S$13:$S$87)","v":0},{"$f":"_xlfn.XLOOKUP(B228,Chains!$F$13:$F$87,Chains!$L$13:$L$87)","v":14.563599999999997}]
["Chain",501841484,20240103,2401,{"$f":"_xlfn.XLOOKUP(B229,Chains!$F$13:$F$87,Chains!$N$13:$N$87)","v":0},20240201,2405,{"$f":"_xlfn.XLOOKUP(B229,Chains!$F$13:$F$87,Chains!$O$13:$O$87)","v":0},20240301,2409,{"$f":"_xlfn.XLOOKUP(B229,Chains!$F$13:$F$87,Chains!$P$13:$P$87)","v":0},20240402,2414,{"$f":"_xlfn.XLOOKUP(B229,Chains!$F$13:$F$87,Chains!$Q$13:$Q$87)","v":0},20240501,2418,{"$f":"_xlfn.XLOOKUP(B229,Chains!$F$13:$F$87,Chains!$R$13:$R$87)","v":0},20240603,2423,{"$f":"_xlfn.XLOOKUP(B229,Chains!$F$13:$F$87,Chains!$S$13:$S$87)","v":0},{"$f":"_xlfn.XLOOKUP(B229,Chains!$F$13:$F$87,Chains!$L$13:$L$87)","v":13.413599999999999}]
["Chain",501841472,20240103,2401,{"$f":"_xlfn.XLOOKUP(B230,Chains!$F$13:$F$87,Chains!$N$13:$N$87)","v":0},20240201,2405,{"$f":"_xlfn.XLOOKUP(B230,Chains!$F$13:$F$87,Chains!$O$13:$O$87)","v":0},20240301,2409,{"$f":"_xlfn.XLOOKUP(B230,Chains!$F$13:$F$87,Chains!$P$13:$P$87)","v":0},20240402,2414,{"$f":"_xlfn.XLOOKUP(B230,Chains!$F$13:$F$87,Chains!$Q$13:$Q$87)","v":0},20240501,2418,{"$f":"_xlfn.XLOOKUP(B230,Chains!$F$13:$F$87,Chains!$R$13:$R$87)","v":0},20240603,2423,{"$f":"_xlfn.XLOOKUP(B230,Chains!$F$13:$F$87,Chains!$S$13:$S$87)","v":0},{"$f":"_xlfn.XLOOKUP(B230,Chains!$F$13:$F$87,Chains!$L$13:$L$87)","v":13.795399999999997}]
["Chain",501841468,20240103,2401,{"$f":"_xlfn.XLOOKUP(B231,Chains!$F$13:$F$87,Chains!$N$13:$N$87)","v":0},20240201,2405,{"$f":"_xlfn.XLOOKUP(B231,Chains!$F$13:$F$87,Chains!$O$13:$O$87)","v":0},20240301,2409,{"$f":"_xlfn.XLOOKUP(B231,Chains!$F$13:$F$87,Chains!$P$13:$P$87)","v":0},20240402,2414,{"$f":"_xlfn.XLOOKUP(B231,Chains!$F$13:$F$87,Chains!$Q$13:$Q$87)","v":0},20240501,2418,{"$f":"_xlfn.XLOOKUP(B231,Chains!$F$13:$F$87,Chains!$R$13:$R$87)","v":0},20240603,2423,{"$f":"_xlfn.XLOOKUP(B231,Chains!$F$13:$F$87,Chains!$S$13:$S$87)","v":0},{"$f":"_xlfn.XLOOKUP(B231,Chains!$F$13:$F$87,Chains!$L$13:$L$87)","v":12.645399999999999}]
["Chainsaw Accessory",536944802,20240103,2401,{"$f":"_xlfn.XLOOKUP(B232,'Arborist Accessories'!$F$44:$F$45,'Arborist Accessories'!$N$44:$N$45)","v":0},20240201,2405,{"$f":"_xlfn.XLOOKUP(B232,'Arborist Accessories'!$F$44:$F$45,'Arborist Accessories'!$O$44:$O$45)","v":0},20240301,2409,{"$f":"_xlfn.XLOOKUP(B232,'Arborist Accessories'!$F$44:$F$45,'Arborist Accessories'!$P$44:$P$45)","v":0},20240402,2414,{"$f":"_xlfn.XLOOKUP(B232,'Arborist Accessories'!$F$44:$F$45,'Arborist Accessories'!$Q$44:$Q$45)","v":0},20240501,2418,{"$f":"_xlfn.XLOOKUP(B232,'Arborist Accessories'!$F$44:$F$45,'Arborist Accessories'!$R$44:$R$45)","v":0},20240603,2423,{"$f":"_xlfn.XLOOKUP(B232,'Arborist Accessories'!$F$44:$F$45,'Arborist Accessories'!$S$44:$S$45)","v":0},{"$f":"_xlfn.XLOOKUP(B232,'Arborist Accessories'!$F$44:$F$45,'Arborist Accessories'!$L$44:$L$45)","v":8.33}]
["Chainsaw Accessory",536944801,20240103,2401,{"$f":"_xlfn.XLOOKUP(B233,'Arborist Accessories'!$F$44:$F$45,'Arborist Accessories'!$N$44:$N$45)","v":0},20240201,2405,{"$f":"_xlfn.XLOOKUP(B233,'Arborist Accessories'!$F$44:$F$45,'Arborist Accessories'!$O$44:$O$45)","v":0},20240301,2409,{"$f":"_xlfn.XLOOKUP(B233,'Arborist Accessories'!$F$44:$F$45,'Arborist Accessories'!$P$44:$P$45)","v":0},20240402,2414,{"$f":"_xlfn.XLOOKUP(B233,'Arborist Accessories'!$F$44:$F$45,'Arborist Accessories'!$Q$44:$Q$45)","v":0},20240501,2418,{"$f":"_xlfn.XLOOKUP(B233,'Arborist Accessories'!$F$44:$F$45,'Arborist Accessories'!$R$44:$R$45)","v":0},20240603,2423,{"$f":"_xlfn.XLOOKUP(B233,'Arborist Accessories'!$F$44:$F$45,'Arborist Accessories'!$S$44:$S$45)","v":0},{"$f":"_xlfn.XLOOKUP(B233,'Arborist Accessories'!$F$44:$F$45,'Arborist Accessories'!$L$44:$L$45)","v":6.2450000000000001}]
["Filing Equipment",597356103,20240103,2401,{"$f":"_xlfn.XLOOKUP(B234,'Filing Equipment'!$F$13:$F$35,'Filing Equipment'!$N$13:$N$35)","v":0},20240201,2405,{"$f":"_xlfn.XLOOKUP(B234,'Filing Equipment'!$F$13:$F$35,'Filing Equipment'!$O$13:$O$35)","v":0},20240301,2409,{"$f":"_xlfn.XLOOKUP(B234,'Filing Equipment'!$F$13:$F$35,'Filing Equipment'!$P$13:$P$35)","v":0},20240402,2414,{"$f":"_xlfn.XLOOKUP(B234,'Filing Equipment'!$F$13:$F$35,'Filing Equipment'!$Q$13:$Q$35)","v":0},20240501,2418,{"$f":"_xlfn.XLOOKUP(B234,'Filing Equipment'!$F$13:$F$35,'Filing Equipment'!$R$13:$R$35)","v":0},20240603,2423,{"$f":"_xlfn.XLOOKUP(B234,'Filing Equipment'!$F$13:$F$35,'Filing Equipment'!$S$13:$S$35)","v":0},{"$f":"_xlfn.XLOOKUP(B234,'Filing Equipment'!$F$13:$F$35,'Filing Equipment'!$L$13:$L$35)","v":191.25}]
["Filing Equipment",597356102,20240103,2401,{"$f":"_xlfn.XLOOKUP(B235,'Filing Equipment'!$F$13:$F$35,'Filing Equipment'!$N$13:$N$35)","v":0},20240201,2405,{"$f":"_xlfn.XLOOKUP(B235,'Filing Equipment'!$F$13:$F$35,'Filing Equipment'!$O$13:$O$35)","v":0},20240301,2409,{"$f":"_xlfn.XLOOKUP(B235,'Filing Equipment'!$F$13:$F$35,'Filing Equipment'!$P$13:$P$35)","v":0},20240402,2414,{"$f":"_xlfn.XLOOKUP(B235,'Filing Equipment'!$F$13:$F$35,'Filing Equipment'!$Q$13:$Q$35)","v":0},20240501,2418,{"$f":"_xlfn.XLOOKUP(B235,'Filing Equipment'!$F$13:$F$35,'Filing Equipment'!$R$13:$R$35)","v":0},20240603,2423,{"$f":"_xlfn.XLOOKUP(B235,'Filing Equipment'!$F$13:$F$35,'Filing Equipment'!$S$13:$S$35)","v":0},{"$f":"_xlfn.XLOOKUP(B235,'Filing Equipment'!$F$13:$F$35,'Filing Equipment'!$L$13:$L$35)","v":9.58}]
["Filing Equipment",597355902,20240103,2401,{"$f":"_xlfn.XLOOKUP(B236,'Filing Equipment'!$F$13:$F$35,'Filing Equipment'!$N$13:$N$35)","v":0},20240201,2405,{"$f":"_xlfn.XLOOKUP(B236,'Filing Equipment'!$F$13:$F$35,'Filing Equipment'!$O$13:$O$35)","v":0},20240301,2409,{"$f":"_xlfn.XLOOKUP(B236,'Filing Equipment'!$F$13:$F$35,'Filing Equipment'!$P$13:$P$35)","v":0},20240402,2414,{"$f":"_xlfn.XLOOKUP(B236,'Filing Equipment'!$F$13:$F$35,'Filing Equipment'!$Q$13:$Q$35)","v":0},20240501,2418,{"$f":"_xlfn.XLOOKUP(B236,'Filing Equipment'!$F$13:$F$35,'Filing Equipment'!$R$13:$R$35)","v":0},20240603,2423,{"$f":"_xlfn.XLOOKUP(B236,'Filing Equipment'!$F$13:$F$35,'Filing Equipment'!$S$13:$S$35)","v":0},{"$f":"_xlfn.XLOOKUP(B236,'Filing Equipment'!$F$13:$F$35,'Filing Equipment'!$L$13:$L$35)","v":9.58}]
["Filing Equipment",597355803,20240103,2401,{"$f":"_xlfn.XLOOKUP(B237,'Filing Equipment'!$F$13:$F$35,'Filing Equipment'!$N$13:$N$35)","v":0},20240201,2405,{"$f":"_xlfn.XLOOKUP(B237,'Filing Equipment'!$F$13:$F$35,'Filing Equipment'!$O$13:$O$35)","v":0},20240301,2409,{"$f":"_xlfn.XLOOKUP(B237,'Filing Equipment'!$F$13:$F$35,'Filing Equipment'!$P$13:$P$35)","v":0},20240402,2414,{"$f":"_xlfn.XLOOKUP(B237,'Filing Equipment'!$F$13:$F$35,'Filing Equipment'!$Q$13:$Q$35)","v":0},20240501,2418,{"$f":"_xlfn.XLOOKUP(B237,'Filing Equipment'!$F$13:$F$35,'Filing Equipment'!$R$13:$R$35)","v":0},20240603,2423,{"$f":"_xlfn.XLOOKUP(B237,'Filing Equipment'!$F$13:$F$35,'Filing Equipment'!$S$13:$S$35)","v":0},{"$f":"_xlfn.XLOOKUP(B237,'Filing Equipment'!$F$13:$F$35,'Filing Equipment'!$L$13:$L$35)","v":191.25}]
["Filing Equipment",597355802,20240103,2401,{"$f":"_xlfn.XLOOKUP(B238,'Filing Equipment'!$F$13:$F$35,'Filing Equipment'!$N$13:$N$35)","v":0},20240201,2405,{"$f":"_xlfn.XLOOKUP(B238,'Filing Equipment'!$F$13:$F$35,'Filing Equipment'!$O$13:$O$35)","v":0},20240301,2409,{"$f":"_xlfn.XLOOKUP(B238,'Filing Equipment'!$F$13:$F$35,'Filing Equipment'!$P$13:$P$35)","v":0},20240402,2414,{"$f":"_xlfn.XLOOKUP(B238,'Filing Equipment'!$F$13:$F$35,'Filing Equipment'!$Q$13:$Q$35)","v":0},20240501,2418,{"$f":"_xlfn.XLOOKUP(B238,'Filing Equipment'!$F$13:$F$35,'Filing Equipment'!$R$13:$R$35)","v":0},20240603,2423,{"$f":"_xlfn.XLOOKUP(B238,'Filing Equipment'!$F$13:$F$35,'Filing Equipment'!$S$13:$S$35)","v":0},{"$f":"_xlfn.XLOOKUP(B238,'Filing Equipment'!$F$13:$F$35,'Filing Equipment'!$L$13:$L$35)","v":9.58}]
["Filing Equipment",597354802,20240103,2401,{"$f":"_xlfn.XLOOKUP(B239,'Filing Equipment'!$F$13:$F$35,'Filing Equipment'!$N$13:$N$35)","v":0},20240201,2405,{"$f":"_xlfn.XLOOKUP(B239,'Filing Equipment'!$F$13:$F$35,'Filing Equipment'!$O$13:$O$35)","v":0},20240301,2409,{"$f":"_xlfn.XLOOKUP(B239,'Filing Equipment'!$F$13:$F$35,'Filing Equipment'!$P$13:$P$35)","v":0},20240402,2414,{"$f":"_xlfn.XLOOKUP(B239,'Filing Equipment'!$F$13:$F$35,'Filing Equipment'!$Q$13:$Q$35)","v":0},20240501,2418,{"$f":"_xlfn.XLOOKUP(B239,'Filing Equipment'!$F$13:$F$35,'Filing Equipment'!$R$13:$R$35)","v":0},20240603,2423,{"$f":"_xlfn.XLOOKUP(B239,'Filing Equipment'!$F$13:$F$35,'Filing Equipment'!$S$13:$S$35)","v":0},{"$f":"_xlfn.XLOOKUP(B239,'Filing Equipment'!$F$13:$F$35,'Filing Equipment'!$L$13:$L$35)","v":9.58}]
["Filing Equipment",595004701,20240103,2401,{"$f":"_xlfn.XLOOKUP(B240,'Filing Equipment'!$F$13:$F$35,'Filing Equipment'!$N$13:$N$35)","v":0},20240201,2405,{"$f":"_xlfn.XLOOKUP(B240,'Filing Equipment'!$F$13:$F$35,'Filing Equipment'!$O$13:$O$35)","v":0},20240301,2409,{"$f":"_xlfn.XLOOKUP(B240,'Filing Equipment'!$F$13:$F$35,'Filing Equipment'!$P$13:$P$35)","v":0},20240402,2414,{"$f":"_xlfn.XLOOKUP(B240,'Filing Equipment'!$F$13:$F$35,'Filing Equipment'!$Q$13:$Q$35)","v":0},20240501,2418,{"$f":"_xlfn.XLOOKUP(B240,'Filing Equipment'!$F$13:$F$35,'Filing Equipment'!$R$13:$R$35)","v":0},20240603,2423,{"$f":"_xlfn.XLOOKUP(B240,'Filing Equipment'!$F$13:$F$35,'Filing Equipment'!$S$13:$S$35)","v":0},{"$f":"_xlfn.XLOOKUP(B240,'Filing Equipment'!$F$13:$F$35,'Filing Equipment'!$L$13:$L$35)","v":5.83}]
["Filing Equipment",595004601,20240103,2401,{"$f":"_xlfn.XLOOKUP(B241,'Filing Equipment'!$F$13:$F$35,'Filing Equipment'!$N$13:$N$35)","v":0},20240201,2405,{"$f":"_xlfn.XLOOKUP(B241,'Filing Equipment'!$F$13:$F$35,'Filing Equipment'!$O$13:$O$35)","v":0},20240301,2409,{"$f":"_xlfn.XLOOKUP(B241,'Filing Equipment'!$F$13:$F$35,'Filing Equipment'!$P$13:$P$35)","v":0},20240402,2414,{"$f":"_xlfn.XLOOKUP(B241,'Filing Equipment'!$F$13:$F$35,'Filing Equipment'!$Q$13:$Q$35)","v":0},20240501,2418,{"$f":"_xlfn.XLOOKUP(B241,'Filing Equipment'!$F$13:$F$35,'Filing Equipment'!$R$13:$R$35)","v":0},20240603,2423,{"$f":"_xlfn.XLOOKUP(B241,'Filing Equipment'!$F$13:$F$35,'Filing Equipment'!$S$13:$S$35)","v":0},{"$f":"_xlfn.XLOOKUP(B241,'Filing Equipment'!$F$13:$F$35,'Filing Equipment'!$L$13:$L$35)","v":10.83}]
["Filing Equipment",587809101,20240103,2401,{"$f":"_xlfn.XLOOKUP(B242,'Filing Equipment'!$F$13:$F$35,'Filing Equipment'!$N$13:$N$35)","v":0},20240201,2405,{"$f":"_xlfn.XLOOKUP(B242,'Filing Equipment'!$F$13:$F$35,'Filing Equipment'!$O$13:$O$35)","v":0},20240301,2409,{"$f":"_xlfn.XLOOKUP(B242,'Filing Equipment'!$F$13:$F$35,'Filing Equipment'!$P$13:$P$35)","v":0},20240402,2414,{"$f":"_xlfn.XLOOKUP(B242,'Filing Equipment'!$F$13:$F$35,'Filing Equipment'!$Q$13:$Q$35)","v":0},20240501,2418,{"$f":"_xlfn.XLOOKUP(B242,'Filing Equipment'!$F$13:$F$35,'Filing Equipment'!$R$13:$R$35)","v":0},20240603,2423,{"$f":"_xlfn.XLOOKUP(B242,'Filing Equipment'!$F$13:$F$35,'Filing Equipment'!$S$13:$S$35)","v":0},{"$f":"_xlfn.XLOOKUP(B242,'Filing Equipment'!$F$13:$F$35,'Filing Equipment'!$L$13:$L$35)","v":5.83}]
["Filing Equipment",587809001,20240103,2401,{"$f":"_xlfn.XLOOKUP(B243,'Filing Equipment'!$F$13:$F$35,'Filing Equipment'!$N$13:$N$35)","v":0},20240201,2405,{"$f":"_xlfn.XLOOKUP(B243,'Filing Equipment'!$F$13:$F$35,'Filing Equipment'!$O$13:$O$35)","v":0},20240301,2409,{"$f":"_xlfn.XLOOKUP(B243,'Filing Equipment'!$F$13:$F$35,'Filing Equipment'!$P$13:$P$35)","v":0},20240402,2414,{"$f":"_xlfn.XLOOKUP(B243,'Filing Equipment'!$F$13:$F$35,'Filing Equipment'!$Q$13:$Q$35)","v":0},20240501,2418,{"$f":"_xlfn.XLOOKUP(B243,'Filing Equipment'!$F$13:$F$35,'Filing Equipment'!$R$13:$R$35)","v":0},20240603,2423,{"$f":"_xlfn.XLOOKUP(B243,'Filing Equipment'!$F$13:$F$35,'Filing Equipment'!$S$13:$S$35)","v":0},{"$f":"_xlfn.XLOOKUP(B243,'Filing Equipment'!$F$13:$F$35,'Filing Equipment'!$L$13:$L$35)","v":5.83}]
["Filing Equipment",587806801,20240103,2401,{"$f":"_xlfn.XLOOKUP(B244,'Filing Equipment'!$F$13:$F$35,'Filing Equipment'!$N$13:$N$35)","v":0},20240201,2405,{"$f":"_xlfn.XLOOKUP(B244,'Filing Equipment'!$F$13:$F$35,'Filing Equipment'!$O$13:$O$35)","v":0},20240301,2409,{"$f":"_xlfn.XLOOKUP(B244,'Filing Equipment'!$F$13:$F$35,'Filing Equipment'!$P$13:$P$35)","v":0},20240402,2414,{"$f":"_xlfn.XLOOKUP(B244,'Filing Equipment'!$F$13:$F$35,'Filing Equipment'!$Q$13:$Q$35)","v":0},20240501,2418,{"$f":"_xlfn.XLOOKUP(B244,'Filing Equipment'!$F$13:$F$35,'Filing Equipment'!$R$13:$R$35)","v":0},20240603,2423,{"$f":"_xlfn.XLOOKUP(B244,'Filing Equipment'!$F$13:$F$35,'Filing Equipment'!$S$13:$S$35)","v":0},{"$f":"_xlfn.XLOOKUP(B244,'Filing Equipment'!$F$13:$F$35,'Filing Equipment'!$L$13:$L$35)","v":11.244999999999999}]
["Filing Equipment",587806701,20240103,2401,{"$f":"_xlfn.XLOOKUP(B245,'Filing Equipment'!$F$13:$F$35,'Filing Equipment'!$N$13:$N$35)","v":0},20240201,2405,{"$f":"_xlfn.XLOOKUP(B245,'Filing Equipment'!$F$13:$F$35,'Filing Equipment'!$O$13:$O$35)","v":0},20240301,2409,{"$f":"_xlfn.XLOOKUP(B245,'Filing Equipment'!$F$13:$F$35,'Filing Equipment'!$P$13:$P$35)","v":0},20240402,2414,{"$f":"_xlfn.XLOOKUP(B245,'Filing Equipment'!$F$13:$F$35,'Filing Equipment'!$Q$13:$Q$35)","v":0},20240501,2418,{"$f":"_xlfn.XLOOKUP(B245,'Filing Equipment'!$F$13:$F$35,'Filing Equipment'!$R$13:$R$35)","v":0},20240603,2423,{"$f":"_xlfn.XLOOKUP(B245,'Filing Equipment'!$F$13:$F$35,'Filing Equipment'!$S$13:$S$35)","v":0},{"$f":"_xlfn.XLOOKUP(B245,'Filing Equipment'!$F$13:$F$35,'Filing Equipment'!$L$13:$L$35)","v":11.244999999999999}]
["Filing Equipment",586938601,20240103,2401,{"$f":"_xlfn.XLOOKUP(B246,'Filing Equipment'!$F$13:$F$35,'Filing Equipment'!$N$13:$N$35)","v":0},20240201,2405,{"$f":"_xlfn.XLOOKUP(B246,'Filing Equipment'!$F$13:$F$35,'Filing Equipment'!$O$13:$O$35)","v":0},20240301,2409,{"$f":"_xlfn.XLOOKUP(B246,'Filing Equipment'!$F$13:$F$35,'Filing Equipment'!$P$13:$P$35)","v":0},20240402,2414,{"$f":"_xlfn.XLOOKUP(B246,'Filing Equipment'!$F$13:$F$35,'Filing Equipment'!$Q$13:$Q$35)","v":0},20240501,2418,{"$f":"_xlfn.XLOOKUP(B246,'Filing Equipment'!$F$13:$F$35,'Filing Equipment'!$R$13:$R$35)","v":0},20240603,2423,{"$f":"_xlfn.XLOOKUP(B246,'Filing Equipment'!$F$13:$F$35,'Filing Equipment'!$S$13:$S$35)","v":0},{"$f":"_xlfn.XLOOKUP(B246,'Filing Equipment'!$F$13:$F$35,'Filing Equipment'!$L$13:$L$35)","v":5.83}]
["Filing Equipment",586938501,20240103,2401,{"$f":"_xlfn.XLOOKUP(B247,'Filing Equipment'!$F$13:$F$35,'Filing Equipment'!$N$13:$N$35)","v":0},20240201,2405,{"$f":"_xlfn.XLOOKUP(B247,'Filing Equipment'!$F$13:$F$35,'Filing Equipment'!$O$13:$O$35)","v":0},20240301,2409,{"$f":"_xlfn.XLOOKUP(B247,'Filing Equipment'!$F$13:$F$35,'Filing Equipment'!$P$13:$P$35)","v":0},20240402,2414,{"$f":"_xlfn.XLOOKUP(B247,'Filing Equipment'!$F$13:$F$35,'Filing Equipment'!$Q$13:$Q$35)","v":0},20240501,2418,{"$f":"_xlfn.XLOOKUP(B247,'Filing Equipment'!$F$13:$F$35,'Filing Equipment'!$R$13:$R$35)","v":0},20240603,2423,{"$f":"_xlfn.XLOOKUP(B247,'Filing Equipment'!$F$13:$F$35,'Filing Equipment'!$S$13:$S$35)","v":0},{"$f":"_xlfn.XLOOKUP(B247,'Filing Equipment'!$F$13:$F$35,'Filing Equipment'!$L$13:$L$35)","v":10.83}]
["Filing Equipment",586938401,20240103,2401,{"$f":"_xlfn.XLOOKUP(B248,'Filing Equipment'!$F$13:$F$35,'Filing Equipment'!$N$13:$N$35)","v":0},20240201,2405,{"$f":"_xlfn.XLOOKUP(B248,'Filing Equipment'!$F$13:$F$35,'Filing Equipment'!$O$13:$O$35)","v":0},20240301,2409,{"$f":"_xlfn.XLOOKUP(B248,'Filing Equipment'!$F$13:$F$35,'Filing Equipment'!$P$13:$P$35)","v":0},20240402,2414,{"$f":"_xlfn.XLOOKUP(B248,'Filing Equipment'!$F$13:$F$35,'Filing Equipment'!$Q$13:$Q$35)","v":0},20240501,2418,{"$f":"_xlfn.XLOOKUP(B248,'Filing Equipment'!$F$13:$F$35,'Filing Equipment'!$R$13:$R$35)","v":0},20240603,2423,{"$f":"_xlfn.XLOOKUP(B248,'Filing Equipment'!$F$13:$F$35,'Filing Equipment'!$S$13:$S$35)","v":0},{"$f":"_xlfn.XLOOKUP(B248,'Filing Equipment'!$F$13:$F$35,'Filing Equipment'!$L$13:$L$35)","v":4.9950000000000001}]
["Filing Equipment",586933401,20240103,2401,{"$f":"_xlfn.XLOOKUP(B249,'Filing Equipment'!$F$13:$F$35,'Filing Equipment'!$N$13:$N$35)","v":0},20240201,2405,{"$f":"_xlfn.XLOOKUP(B249,'Filing Equipment'!$F$13:$F$35,'Filing Equipment'!$O$13:$O$35)","v":0},20240301,2409,{"$f":"_xlfn.XLOOKUP(B249,'Filing Equipment'!$F$13:$F$35,'Filing Equipment'!$P$13:$P$35)","v":0},20240402,2414,{"$f":"_xlfn.XLOOKUP(B249,'Filing Equipment'!$F$13:$F$35,'Filing Equipment'!$Q$13:$Q$35)","v":0},20240501,2418,{"$f":"_xlfn.XLOOKUP(B249,'Filing Equipment'!$F$13:$F$35,'Filing Equipment'!$R$13:$R$35)","v":0},20240603,2423,{"$f":"_xlfn.XLOOKUP(B249,'Filing Equipment'!$F$13:$F$35,'Filing Equipment'!$S$13:$S$35)","v":0},{"$f":"_xlfn.XLOOKUP(B249,'Filing Equipment'!$F$13:$F$35,'Filing Equipment'!$L$13:$L$35)","v":10.83}]
["Filing Equipment",580687501,20240103,2401,{"$f":"_xlfn.XLOOKUP(B250,'Filing Equipment'!$F$13:$F$35,'Filing Equipment'!$N$13:$N$35)","v":0},20240201,2405,{"$f":"_xlfn.XLOOKUP(B250,'Filing Equipment'!$F$13:$F$35,'Filing Equipment'!$O$13:$O$35)","v":0},20240301,2409,{"$f":"_xlfn.XLOOKUP(B250,'Filing Equipment'!$F$13:$F$35,'Filing Equipment'!$P$13:$P$35)","v":0},20240402,2414,{"$f":"_xlfn.XLOOKUP(B250,'Filing Equipment'!$F$13:$F$35,'Filing Equipment'!$Q$13:$Q$35)","v":0},20240501,2418,{"$f":"_xlfn.XLOOKUP(B250,'Filing Equipment'!$F$13:$F$35,'Filing Equipment'!$R$13:$R$35)","v":0},20240603,2423,{"$f":"_xlfn.XLOOKUP(B250,'Filing Equipment'!$F$13:$F$35,'Filing Equipment'!$S$13:$S$35)","v":0},{"$f":"_xlfn.XLOOKUP(B250,'Filing Equipment'!$F$13:$F$35,'Filing Equipment'!$L$13:$L$35)","v":10.83}]
["Filing Equipment",580687401,20240103,2401,{"$f":"_xlfn.XLOOKUP(B251,'Filing Equipment'!$F$13:$F$35,'Filing Equipment'!$N$13:$N$35)","v":0},20240201,2405,{"$f":"_xlfn.XLOOKUP(B251,'Filing Equipment'!$F$13:$F$35,'Filing Equipment'!$O$13:$O$35)","v":0},20240301,2409,{"$f":"_xlfn.XLOOKUP(B251,'Filing Equipment'!$F$13:$F$35,'Filing Equipment'!$P$13:$P$35)","v":0},20240402,2414,{"$f":"_xlfn.XLOOKUP(B251,'Filing Equipment'!$F$13:$F$35,'Filing Equipment'!$Q$13:$Q$35)","v":0},20240501,2418,{"$f":"_xlfn.XLOOKUP(B251,'Filing Equipment'!$F$13:$F$35,'Filing Equipment'!$R$13:$R$35)","v":0},20240603,2423,{"$f":"_xlfn.XLOOKUP(B251,'Filing Equipment'!$F$13:$F$35,'Filing Equipment'!$S$13:$S$35)","v":0},{"$f":"_xlfn.XLOOKUP(B251,'Filing Equipment'!$F$13:$F$35,'Filing Equipment'!$L$13:$L$35)","v":5.83}]
["Filing Equipment",529937101,20240103,2401,{"$f":"_xlfn.XLOOKUP(B252,'Filing Equipment'!$F$13:$F$35,'Filing Equipment'!$N$13:$N$35)","v":0},20240201,2405,{"$f":"_xlfn.XLOOKUP(B252,'Filing Equipment'!$F$13:$F$35,'Filing Equipment'!$O$13:$O$35)","v":0},20240301,2409,{"$f":"_xlfn.XLOOKUP(B252,'Filing Equipment'!$F$13:$F$35,'Filing Equipment'!$P$13:$P$35)","v":0},20240402,2414,{"$f":"_xlfn.XLOOKUP(B252,'Filing Equipment'!$F$13:$F$35,'Filing Equipment'!$Q$13:$Q$35)","v":0},20240501,2418,{"$f":"_xlfn.XLOOKUP(B252,'Filing Equipment'!$F$13:$F$35,'Filing Equipment'!$R$13:$R$35)","v":0},20240603,2423,{"$f":"_xlfn.XLOOKUP(B252,'Filing Equipment'!$F$13:$F$35,'Filing Equipment'!$S$13:$S$35)","v":0},{"$f":"_xlfn.XLOOKUP(B252,'Filing Equipment'!$F$13:$F$35,'Filing Equipment'!$L$13:$L$35)","v":5.83}]
["Filing Equipment",505698161,20240103,2401,{"$f":"_xlfn.XLOOKUP(B253,'Filing Equipment'!$F$13:$F$35,'Filing Equipment'!$N$13:$N$35)","v":0},20240201,2405,{"$f":"_xlfn.XLOOKUP(B253,'Filing Equipment'!$F$13:$F$35,'Filing Equipment'!$O$13:$O$35)","v":0},20240301,2409,{"$f":"_xlfn.XLOOKUP(B253,'Filing Equipment'!$F$13:$F$35,'Filing Equipment'!$P$13:$P$35)","v":0},20240402,2414,{"$f":"_xlfn.XLOOKUP(B253,'Filing Equipment'!$F$13:$F$35,'Filing Equipment'!$Q$13:$Q$35)","v":0},20240501,2418,{"$f":"_xlfn.XLOOKUP(B253,'Filing Equipment'!$F$13:$F$35,'Filing Equipment'!$R$13:$R$35)","v":0},20240603,2423,{"$f":"_xlfn.XLOOKUP(B253,'Filing Equipment'!$F$13:$F$35,'Filing Equipment'!$S$13:$S$35)","v":0},{"$f":"_xlfn.XLOOKUP(B253,'Filing Equipment'!$F$13:$F$35,'Filing Equipment'!$L$13:$L$35)","v":17.914999999999999}]
["Filing Equipment",505698109,20240103,2401,{"$f":"_xlfn.XLOOKUP(B254,'Filing Equipment'!$F$13:$F$35,'Filing Equipment'!$N$13:$N$35)","v":2},20240201,2405,{"$f":"_xlfn.XLOOKUP(B254,'Filing Equipment'!$F$13:$F$35,'Filing Equipment'!$O$13:$O$35)","v":2},20240301,2409,{"$f":"_xlfn.XLOOKUP(B254,'Filing Equipment'!$F$13:$F$35,'Filing Equipment'!$P$13:$P$35)","v":2},20240402,2414,{"$f":"_xlfn.XLOOKUP(B254,'Filing Equipment'!$F$13:$F$35,'Filing Equipment'!$Q$13:$Q$35)","v":0},20240501,2418,{"$f":"_xlfn.XLOOKUP(B254,'Filing Equipment'!$F$13:$F$35,'Filing Equipment'!$R$13:$R$35)","v":0},20240603,2423,{"$f":"_xlfn.XLOOKUP(B254,'Filing Equipment'!$F$13:$F$35,'Filing Equipment'!$S$13:$S$35)","v":0},{"$f":"_xlfn.XLOOKUP(B254,'Filing Equipment'!$F$13:$F$35,'Filing Equipment'!$L$13:$L$35)","v":5.83}]
["Filing Equipment",505697810,20240103,2401,{"$f":"_xlfn.XLOOKUP(B255,'Filing Equipment'!$F$13:$F$35,'Filing Equipment'!$N$13:$N$35)","v":0},20240201,2405,{"$f":"_xlfn.XLOOKUP(B255,'Filing Equipment'!$F$13:$F$35,'Filing Equipment'!$O$13:$O$35)","v":0},20240301,2409,{"$f":"_xlfn.XLOOKUP(B255,'Filing Equipment'!$F$13:$F$35,'Filing Equipment'!$P$13:$P$35)","v":0},20240402,2414,{"$f":"_xlfn.XLOOKUP(B255,'Filing Equipment'!$F$13:$F$35,'Filing Equipment'!$Q$13:$Q$35)","v":0},20240501,2418,{"$f":"_xlfn.XLOOKUP(B255,'Filing Equipment'!$F$13:$F$35,'Filing Equipment'!$R$13:$R$35)","v":0},20240603,2423,{"$f":"_xlfn.XLOOKUP(B255,'Filing Equipment'!$F$13:$F$35,'Filing Equipment'!$S$13:$S$35)","v":0},{"$f":"_xlfn.XLOOKUP(B255,'Filing Equipment'!$F$13:$F$35,'Filing Equipment'!$L$13:$L$35)","v":1.665}]
["Filing Equipment",505665256,20240103,2401,{"$f":"_xlfn.XLOOKUP(B256,'Filing Equipment'!$F$13:$F$35,'Filing Equipment'!$N$13:$N$35)","v":0},20240201,2405,{"$f":"_xlfn.XLOOKUP(B256,'Filing Equipment'!$F$13:$F$35,'Filing Equipment'!$O$13:$O$35)","v":0},20240301,2409,{"$f":"_xlfn.XLOOKUP(B256,'Filing Equipment'!$F$13:$F$35,'Filing Equipment'!$P$13:$P$35)","v":0},20240402,2414,{"$f":"_xlfn.XLOOKUP(B256,'Filing Equipment'!$F$13:$F$35,'Filing Equipment'!$Q$13:$Q$35)","v":0},20240501,2418,{"$f":"_xlfn.XLOOKUP(B256,'Filing Equipment'!$F$13:$F$35,'Filing Equipment'!$R$13:$R$35)","v":0},20240603,2423,{"$f":"_xlfn.XLOOKUP(B256,'Filing Equipment'!$F$13:$F$35,'Filing Equipment'!$S$13:$S$35)","v":0},{"$f":"_xlfn.XLOOKUP(B256,'Filing Equipment'!$F$13:$F$35,'Filing Equipment'!$L$13:$L$35)","v":9.9949999999999992}]
["Footwear",597659547,20240103,2401,{"$f":"_xlfn.XLOOKUP(B257,Footwear!$F$13:$F$81,Footwear!$N$13:$N$81)","v":0},20240201,2405,{"$f":"_xlfn.XLOOKUP(B257,Footwear!$F$13:$F$81,Footwear!$O$13:$O$81)","v":0},20240301,2409,{"$f":"_xlfn.XLOOKUP(B257,Footwear!$F$13:$F$81,Footwear!$P$13:$P$81)","v":0},20240402,2414,{"$f":"_xlfn.XLOOKUP(B257,Footwear!$F$13:$F$81,Footwear!$Q$13:$Q$81)","v":0},20240501,2418,{"$f":"_xlfn.XLOOKUP(B257,Footwear!$F$13:$F$81,Footwear!$R$13:$R$81)","v":0},20240603,2423,{"$f":"_xlfn.XLOOKUP(B257,Footwear!$F$13:$F$81,Footwear!$S$13:$S$81)","v":0},{"$f":"_xlfn.XLOOKUP(B257,Footwear!$F$13:$F$81,Footwear!$L$13:$L$81)","v":109.5}]
["Footwear",597659546,20240103,2401,{"$f":"_xlfn.XLOOKUP(B258,Footwear!$F$13:$F$81,Footwear!$N$13:$N$81)","v":0},20240201,2405,{"$f":"_xlfn.XLOOKUP(B258,Footwear!$F$13:$F$81,Footwear!$O$13:$O$81)","v":0},20240301,2409,{"$f":"_xlfn.XLOOKUP(B258,Footwear!$F$13:$F$81,Footwear!$P$13:$P$81)","v":0},20240402,2414,{"$f":"_xlfn.XLOOKUP(B258,Footwear!$F$13:$F$81,Footwear!$Q$13:$Q$81)","v":0},20240501,2418,{"$f":"_xlfn.XLOOKUP(B258,Footwear!$F$13:$F$81,Footwear!$R$13:$R$81)","v":0},20240603,2423,{"$f":"_xlfn.XLOOKUP(B258,Footwear!$F$13:$F$81,Footwear!$S$13:$S$81)","v":0},{"$f":"_xlfn.XLOOKUP(B258,Footwear!$F$13:$F$81,Footwear!$L$13:$L$81)","v":109.5}]
["Footwear",597659545,20240103,2401,{"$f":"_xlfn.XLOOKUP(B259,Footwear!$F$13:$F$81,Footwear!$N$13:$N$81)","v":0},20240201,2405,{"$f":"_xlfn.XLOOKUP(B259,Footwear!$F$13:$F$81,Footwear!$O$13:$O$81)","v":0},20240301,2409,{"$f":"_xlfn.XLOOKUP(B259,Footwear!$F$13:$F$81,Footwear!$P$13:$P$81)","v":0},20240402,2414,{"$f":"_xlfn.XLOOKUP(B259,Footwear!$F$13:$F$81,Footwear!$Q$13:$Q$81)","v":0},20240501,2418,{"$f":"_xlfn.XLOOKUP(B259,Footwear!$F$13:$F$81,Footwear!$R$13:$R$81)","v":0},20240603,2423,{"$f":"_xlfn.XLOOKUP(B259,Footwear!$F$13:$F$81,Footwear!$S$13:$S$81)","v":0},{"$f":"_xlfn.XLOOKUP(B259,Footwear!$F$13:$F$81,Footwear!$L$13:$L$81)","v":109.5}]
["Footwear",597659544,20240103,2401,{"$f":"_xlfn.XLOOKUP(B260,Footwear!$F$13:$F$81,Footwear!$N$13:$N$81)","v":0},20240201,2405,{"$f":"_xlfn.XLOOKUP(B260,Footwear!$F$13:$F$81,Footwear!$O$13:$O$81)","v":0},20240301,2409,{"$f":"_xlfn.XLOOKUP(B260,Footwear!$F$13:$F$81,Footwear!$P$13:$P$81)","v":0},20240402,2414,{"$f":"_xlfn.XLOOKUP(B260,Footwear!$F$13:$F$81,Footwear!$Q$13:$Q$81)","v":0},20240501,2418,{"$f":"_xlfn.XLOOKUP(B260,Footwear!$F$13:$F$81,Footwear!$R$13:$R$81)","v":0},20240603,2423,{"$f":"_xlfn.XLOOKUP(B260,Footwear!$F$13:$F$81,Footwear!$S$13:$S$81)","v":0},{"$f":"_xlfn.XLOOKUP(B260,Footwear!$F$13:$F$81,Footwear!$L$13:$L$81)","v":109.5}]
["Footwear",597659543,20240103,2401,{"$f":"_xlfn.XLOOKUP(B261,Footwear!$F$13:$F$81,Footwear!$N$13:$N$81)","v":0},20240201,2405,{"$f":"_xlfn.XLOOKUP(B261,Footwear!$F$13:$F$81,Footwear!$O$13:$O$81)","v":0},20240301,2409,{"$f":"_xlfn.XLOOKUP(B261,Footwear!$F$13:$F$81,Footwear!$P$13:$P$81)","v":0},20240402,2414,{"$f":"_xlfn.XLOOKUP(B261,Footwear!$F$13:$F$81,Footwear!$Q$13:$Q$81)","v":0},20240501,2418,{"$f":"_xlfn.XLOOKUP(B261,Footwear!$F$13:$F$81,Footwear!$R$13:$R$81)","v":0},20240603,2423,{"$f":"_xlfn.XLOOKUP(B261,Footwear!$F$13:$F$81,Footwear!$S$13:$S$81)","v":0},{"$f":"_xlfn.XLOOKUP(B261,Footwear!$F$13:$F$81,Footwear!$L$13:$L$81)","v":109.5}]
["Footwear",597659542,20240103,2401,{"$f":"_xlfn.XLOOKUP(B262,Footwear!$F$13:$F$81,Footwear!$N$13:$N$81)","v":0},20240201,2405,{"$f":"_xlfn.XLOOKUP(B262,Footwear!$F$13:$F$81,Footwear!$O$13:$O$81)","v":0},20240301,2409,{"$f":"_xlfn.XLOOKUP(B262,Footwear!$F$13:$F$81,Footwear!$P$13:$P$81)","v":0},20240402,2414,{"$f":"_xlfn.XLOOKUP(B262,Footwear!$F$13:$F$81,Footwear!$Q$13:$Q$81)","v":0},20240501,2418,{"$f":"_xlfn.XLOOKUP(B262,Footwear!$F$13:$F$81,Footwear!$R$13:$R$81)","v":0},20240603,2423,{"$f":"_xlfn.XLOOKUP(B262,Footwear!$F$13:$F$81,Footwear!$S$13:$S$81)","v":0},{"$f":"_xlfn.XLOOKUP(B262,Footwear!$F$13:$F$81,Footwear!$L$13:$L$81)","v":109.5}]
["Footwear",597659541,20240103,2401,{"$f":"_xlfn.XLOOKUP(B263,Footwear!$F$13:$F$81,Footwear!$N$13:$N$81)","v":0},20240201,2405,{"$f":"_xlfn.XLOOKUP(B263,Footwear!$F$13:$F$81,Footwear!$O$13:$O$81)","v":0},20240301,2409,{"$f":"_xlfn.XLOOKUP(B263,Footwear!$F$13:$F$81,Footwear!$P$13:$P$81)","v":0},20240402,2414,{"$f":"_xlfn.XLOOKUP(B263,Footwear!$F$13:$F$81,Footwear!$Q$13:$Q$81)","v":0},20240501,2418,{"$f":"_xlfn.XLOOKUP(B263,Footwear!$F$13:$F$81,Footwear!$R$13:$R$81)","v":0},20240603,2423,{"$f":"_xlfn.XLOOKUP(B263,Footwear!$F$13:$F$81,Footwear!$S$13:$S$81)","v":0},{"$f":"_xlfn.XLOOKUP(B263,Footwear!$F$13:$F$81,Footwear!$L$13:$L$81)","v":109.5}]
["Footwear",597659540,20240103,2401,{"$f":"_xlfn.XLOOKUP(B264,Footwear!$F$13:$F$81,Footwear!$N$13:$N$81)","v":0},20240201,2405,{"$f":"_xlfn.XLOOKUP(B264,Footwear!$F$13:$F$81,Footwear!$O$13:$O$81)","v":0},20240301,2409,{"$f":"_xlfn.XLOOKUP(B264,Footwear!$F$13:$F$81,Footwear!$P$13:$P$81)","v":0},20240402,2414,{"$f":"_xlfn.XLOOKUP(B264,Footwear!$F$13:$F$81,Footwear!$Q$13:$Q$81)","v":0},20240501,2418,{"$f":"_xlfn.XLOOKUP(B264,Footwear!$F$13:$F$81,Footwear!$R$13:$R$81)","v":0},20240603,2423,{"$f":"_xlfn.XLOOKUP(B264,Footwear!$F$13:$F$81,Footwear!$S$13:$S$81)","v":0},{"$f":"_xlfn.XLOOKUP(B264,Footwear!$F$13:$F$81,Footwear!$L$13:$L$81)","v":109.5}]
["Footwear",597659539,20240103,2401,{"$f":"_xlfn.XLOOKUP(B265,Footwear!$F$13:$F$81,Footwear!$N$13:$N$81)","v":0},20240201,2405,{"$f":"_xlfn.XLOOKUP(B265,Footwear!$F$13:$F$81,Footwear!$O$13:$O$81)","v":0},20240301,2409,{"$f":"_xlfn.XLOOKUP(B265,Footwear!$F$13:$F$81,Footwear!$P$13:$P$81)","v":0},20240402,2414,{"$f":"_xlfn.XLOOKUP(B265,Footwear!$F$13:$F$81,Footwear!$Q$13:$Q$81)","v":0},20240501,2418,{"$f":"_xlfn.XLOOKUP(B265,Footwear!$F$13:$F$81,Footwear!$R$13:$R$81)","v":0},20240603,2423,{"$f":"_xlfn.XLOOKUP(B265,Footwear!$F$13:$F$81,Footwear!$S$13:$S$81)","v":0},{"$f":"_xlfn.XLOOKUP(B265,Footwear!$F$13:$F$81,Footwear!$L$13:$L$81)","v":109.5}]
["Footwear",597659538,20240103,2401,{"$f":"_xlfn.XLOOKUP(B266,Footwear!$F$13:$F$81,Footwear!$N$13:$N$81)","v":0},20240201,2405,{"$f":"_xlfn.XLOOKUP(B266,Footwear!$F$13:$F$81,Footwear!$O$13:$O$81)","v":0},20240301,2409,{"$f":"_xlfn.XLOOKUP(B266,Footwear!$F$13:$F$81,Footwear!$P$13:$P$81)","v":0},20240402,2414,{"$f":"_xlfn.XLOOKUP(B266,Footwear!$F$13:$F$81,Footwear!$Q$13:$Q$81)","v":0},20240501,2418,{"$f":"_xlfn.XLOOKUP(B266,Footwear!$F$13:$F$81,Footwear!$R$13:$R$81)","v":0},20240603,2423,{"$f":"_xlfn.XLOOKUP(B266,Footwear!$F$13:$F$81,Footwear!$S$13:$S$81)","v":0},{"$f":"_xlfn.XLOOKUP(B266,Footwear!$F$13:$F$81,Footwear!$L$13:$L$81)","v":109.5}]
["Footwear",597659537,20240103,2401,{"$f":"_xlfn.XLOOKUP(B267,Footwear!$F$13:$F$81,Footwear!$N$13:$N$81)","v":0},20240201,2405,{"$f":"_xlfn.XLOOKUP(B267,Footwear!$F$13:$F$81,Footwear!$O$13:$O$81)","v":0},20240301,2409,{"$f":"_xlfn.XLOOKUP(B267,Footwear!$F$13:$F$81,Footwear!$P$13:$P$81)","v":0},20240402,2414,{"$f":"_xlfn.XLOOKUP(B267,Footwear!$F$13:$F$81,Footwear!$Q$13:$Q$81)","v":0},20240501,2418,{"$f":"_xlfn.XLOOKUP(B267,Footwear!$F$13:$F$81,Footwear!$R$13:$R$81)","v":0},20240603,2423,{"$f":"_xlfn.XLOOKUP(B267,Footwear!$F$13:$F$81,Footwear!$S$13:$S$81)","v":0},{"$f":"_xlfn.XLOOKUP(B267,Footwear!$F$13:$F$81,Footwear!$L$13:$L$81)","v":109.5}]
["Footwear",597659536,20240103,2401,{"$f":"_xlfn.XLOOKUP(B268,Footwear!$F$13:$F$81,Footwear!$N$13:$N$81)","v":0},20240201,2405,{"$f":"_xlfn.XLOOKUP(B268,Footwear!$F$13:$F$81,Footwear!$O$13:$O$81)","v":0},20240301,2409,{"$f":"_xlfn.XLOOKUP(B268,Footwear!$F$13:$F$81,Footwear!$P$13:$P$81)","v":0},20240402,2414,{"$f":"_xlfn.XLOOKUP(B268,Footwear!$F$13:$F$81,Footwear!$Q$13:$Q$81)","v":0},20240501,2418,{"$f":"_xlfn.XLOOKUP(B268,Footwear!$F$13:$F$81,Footwear!$R$13:$R$81)","v":0},20240603,2423,{"$f":"_xlfn.XLOOKUP(B268,Footwear!$F$13:$F$81,Footwear!$S$13:$S$81)","v":0},{"$f":"_xlfn.XLOOKUP(B268,Footwear!$F$13:$F$81,Footwear!$L$13:$L$81)","v":109.5}]
["Footwear",597659447,20240103,2401,{"$f":"_xlfn.XLOOKUP(B269,Footwear!$F$13:$F$81,Footwear!$N$13:$N$81)","v":0},20240201,2405,{"$f":"_xlfn.XLOOKUP(B269,Footwear!$F$13:$F$81,Footwear!$O$13:$O$81)","v":0},20240301,2409,{"$f":"_xlfn.XLOOKUP(B269,Footwear!$F$13:$F$81,Footwear!$P$13:$P$81)","v":0},20240402,2414,{"$f":"_xlfn.XLOOKUP(B269,Footwear!$F$13:$F$81,Footwear!$Q$13:$Q$81)","v":0},20240501,2418,{"$f":"_xlfn.XLOOKUP(B269,Footwear!$F$13:$F$81,Footwear!$R$13:$R$81)","v":0},20240603,2423,{"$f":"_xlfn.XLOOKUP(B269,Footwear!$F$13:$F$81,Footwear!$S$13:$S$81)","v":0},{"$f":"_xlfn.XLOOKUP(B269,Footwear!$F$13:$F$81,Footwear!$L$13:$L$81)","v":109.5}]
["Footwear",597659446,20240103,2401,{"$f":"_xlfn.XLOOKUP(B270,Footwear!$F$13:$F$81,Footwear!$N$13:$N$81)","v":0},20240201,2405,{"$f":"_xlfn.XLOOKUP(B270,Footwear!$F$13:$F$81,Footwear!$O$13:$O$81)","v":0},20240301,2409,{"$f":"_xlfn.XLOOKUP(B270,Footwear!$F$13:$F$81,Footwear!$P$13:$P$81)","v":0},20240402,2414,{"$f":"_xlfn.XLOOKUP(B270,Footwear!$F$13:$F$81,Footwear!$Q$13:$Q$81)","v":0},20240501,2418,{"$f":"_xlfn.XLOOKUP(B270,Footwear!$F$13:$F$81,Footwear!$R$13:$R$81)","v":0},20240603,2423,{"$f":"_xlfn.XLOOKUP(B270,Footwear!$F$13:$F$81,Footwear!$S$13:$S$81)","v":0},{"$f":"_xlfn.XLOOKUP(B270,Footwear!$F$13:$F$81,Footwear!$L$13:$L$81)","v":109.5}]
["Footwear",597659445,20240103,2401,{"$f":"_xlfn.XLOOKUP(B271,Footwear!$F$13:$F$81,Footwear!$N$13:$N$81)","v":0},20240201,2405,{"$f":"_xlfn.XLOOKUP(B271,Footwear!$F$13:$F$81,Footwear!$O$13:$O$81)","v":0},20240301,2409,{"$f":"_xlfn.XLOOKUP(B271,Footwear!$F$13:$F$81,Footwear!$P$13:$P$81)","v":0},20240402,2414,{"$f":"_xlfn.XLOOKUP(B271,Footwear!$F$13:$F$81,Footwear!$Q$13:$Q$81)","v":0},20240501,2418,{"$f":"_xlfn.XLOOKUP(B271,Footwear!$F$13:$F$81,Footwear!$R$13:$R$81)","v":0},20240603,2423,{"$f":"_xlfn.XLOOKUP(B271,Footwear!$F$13:$F$81,Footwear!$S$13:$S$81)","v":0},{"$f":"_xlfn.XLOOKUP(B271,Footwear!$F$13:$F$81,Footwear!$L$13:$L$81)","v":109.5}]
["Footwear",597659444,20240103,2401,{"$f":"_xlfn.XLOOKUP(B272,Footwear!$F$13:$F$81,Footwear!$N$13:$N$81)","v":0},20240201,2405,{"$f":"_xlfn.XLOOKUP(B272,Footwear!$F$13:$F$81,Footwear!$O$13:$O$81)","v":0},20240301,2409,{"$f":"_xlfn.XLOOKUP(B272,Footwear!$F$13:$F$81,Footwear!$P$13:$P$81)","v":0},20240402,2414,{"$f":"_xlfn.XLOOKUP(B272,Footwear!$F$13:$F$81,Footwear!$Q$13:$Q$81)","v":0},20240501,2418,{"$f":"_xlfn.XLOOKUP(B272,Footwear!$F$13:$F$81,Footwear!$R$13:$R$81)","v":0},20240603,2423,{"$f":"_xlfn.XLOOKUP(B272,Footwear!$F$13:$F$81,Footwear!$S$13:$S$81)","v":0},{"$f":"_xlfn.XLOOKUP(B272,Footwear!$F$13:$F$81,Footwear!$L$13:$L$81)","v":109.5}]
["Footwear",597659443,20240103,2401,{"$f":"_xlfn.XLOOKUP(B273,Footwear!$F$13:$F$81,Footwear!$N$13:$N$81)","v":0},20240201,2405,{"$f":"_xlfn.XLOOKUP(B273,Footwear!$F$13:$F$81,Footwear!$O$13:$O$81)","v":0},20240301,2409,{"$f":"_xlfn.XLOOKUP(B273,Footwear!$F$13:$F$81,Footwear!$P$13:$P$81)","v":0},20240402,2414,{"$f":"_xlfn.XLOOKUP(B273,Footwear!$F$13:$F$81,Footwear!$Q$13:$Q$81)","v":0},20240501,2418,{"$f":"_xlfn.XLOOKUP(B273,Footwear!$F$13:$F$81,Footwear!$R$13:$R$81)","v":0},20240603,2423,{"$f":"_xlfn.XLOOKUP(B273,Footwear!$F$13:$F$81,Footwear!$S$13:$S$81)","v":0},{"$f":"_xlfn.XLOOKUP(B273,Footwear!$F$13:$F$81,Footwear!$L$13:$L$81)","v":109.5}]
["Footwear",597659442,20240103,2401,{"$f":"_xlfn.XLOOKUP(B274,Footwear!$F$13:$F$81,Footwear!$N$13:$N$81)","v":0},20240201,2405,{"$f":"_xlfn.XLOOKUP(B274,Footwear!$F$13:$F$81,Footwear!$O$13:$O$81)","v":0},20240301,2409,{"$f":"_xlfn.XLOOKUP(B274,Footwear!$F$13:$F$81,Footwear!$P$13:$P$81)","v":0},20240402,2414,{"$f":"_xlfn.XLOOKUP(B274,Footwear!$F$13:$F$81,Footwear!$Q$13:$Q$81)","v":0},20240501,2418,{"$f":"_xlfn.XLOOKUP(B274,Footwear!$F$13:$F$81,Footwear!$R$13:$R$81)","v":0},20240603,2423,{"$f":"_xlfn.XLOOKUP(B274,Footwear!$F$13:$F$81,Footwear!$S$13:$S$81)","v":0},{"$f":"_xlfn.XLOOKUP(B274,Footwear!$F$13:$F$81,Footwear!$L$13:$L$81)","v":109.5}]
["Footwear",597659441,20240103,2401,{"$f":"_xlfn.XLOOKUP(B275,Footwear!$F$13:$F$81,Footwear!$N$13:$N$81)","v":0},20240201,2405,{"$f":"_xlfn.XLOOKUP(B275,Footwear!$F$13:$F$81,Footwear!$O$13:$O$81)","v":0},20240301,2409,{"$f":"_xlfn.XLOOKUP(B275,Footwear!$F$13:$F$81,Footwear!$P$13:$P$81)","v":0},20240402,2414,{"$f":"_xlfn.XLOOKUP(B275,Footwear!$F$13:$F$81,Footwear!$Q$13:$Q$81)","v":0},20240501,2418,{"$f":"_xlfn.XLOOKUP(B275,Footwear!$F$13:$F$81,Footwear!$R$13:$R$81)","v":0},20240603,2423,{"$f":"_xlfn.XLOOKUP(B275,Footwear!$F$13:$F$81,Footwear!$S$13:$S$81)","v":0},{"$f":"_xlfn.XLOOKUP(B275,Footwear!$F$13:$F$81,Footwear!$L$13:$L$81)","v":109.5}]
["Footwear",597659440,20240103,2401,{"$f":"_xlfn.XLOOKUP(B276,Footwear!$F$13:$F$81,Footwear!$N$13:$N$81)","v":0},20240201,2405,{"$f":"_xlfn.XLOOKUP(B276,Footwear!$F$13:$F$81,Footwear!$O$13:$O$81)","v":0},20240301,2409,{"$f":"_xlfn.XLOOKUP(B276,Footwear!$F$13:$F$81,Footwear!$P$13:$P$81)","v":0},20240402,2414,{"$f":"_xlfn.XLOOKUP(B276,Footwear!$F$13:$F$81,Footwear!$Q$13:$Q$81)","v":0},20240501,2418,{"$f":"_xlfn.XLOOKUP(B276,Footwear!$F$13:$F$81,Footwear!$R$13:$R$81)","v":0},20240603,2423,{"$f":"_xlfn.XLOOKUP(B276,Footwear!$F$13:$F$81,Footwear!$S$13:$S$81)","v":0},{"$f":"_xlfn.XLOOKUP(B276,Footwear!$F$13:$F$81,Footwear!$L$13:$L$81)","v":109.5}]
["Footwear",597659439,20240103,2401,{"$f":"_xlfn.XLOOKUP(B277,Footwear!$F$13:$F$81,Footwear!$N$13:$N$81)","v":0},20240201,2405,{"$f":"_xlfn.XLOOKUP(B277,Footwear!$F$13:$F$81,Footwear!$O$13:$O$81)","v":0},20240301,2409,{"$f":"_xlfn.XLOOKUP(B277,Footwear!$F$13:$F$81,Footwear!$P$13:$P$81)","v":0},20240402,2414,{"$f":"_xlfn.XLOOKUP(B277,Footwear!$F$13:$F$81,Footwear!$Q$13:$Q$81)","v":0},20240501,2418,{"$f":"_xlfn.XLOOKUP(B277,Footwear!$F$13:$F$81,Footwear!$R$13:$R$81)","v":0},20240603,2423,{"$f":"_xlfn.XLOOKUP(B277,Footwear!$F$13:$F$81,Footwear!$S$13:$S$81)","v":0},{"$f":"_xlfn.XLOOKUP(B277,Footwear!$F$13:$F$81,Footwear!$L$13:$L$81)","v":109.5}]
["Footwear",597659347,20240103,2401,{"$f":"_xlfn.XLOOKUP(B278,Footwear!$F$13:$F$81,Footwear!$N$13:$N$81)","v":0},20240201,2405,{"$f":"_xlfn.XLOOKUP(B278,Footwear!$F$13:$F$81,Footwear!$O$13:$O$81)","v":0},20240301,2409,{"$f":"_xlfn.XLOOKUP(B278,Footwear!$F$13:$F$81,Footwear!$P$13:$P$81)","v":0},20240402,2414,{"$f":"_xlfn.XLOOKUP(B278,Footwear!$F$13:$F$81,Footwear!$Q$13:$Q$81)","v":0},20240501,2418,{"$f":"_xlfn.XLOOKUP(B278,Footwear!$F$13:$F$81,Footwear!$R$13:$R$81)","v":0},20240603,2423,{"$f":"_xlfn.XLOOKUP(B278,Footwear!$F$13:$F$81,Footwear!$S$13:$S$81)","v":0},{"$f":"_xlfn.XLOOKUP(B278,Footwear!$F$13:$F$81,Footwear!$L$13:$L$81)","v":144.5}]
["Footwear",597659346,20240103,2401,{"$f":"_xlfn.XLOOKUP(B279,Footwear!$F$13:$F$81,Footwear!$N$13:$N$81)","v":0},20240201,2405,{"$f":"_xlfn.XLOOKUP(B279,Footwear!$F$13:$F$81,Footwear!$O$13:$O$81)","v":0},20240301,2409,{"$f":"_xlfn.XLOOKUP(B279,Footwear!$F$13:$F$81,Footwear!$P$13:$P$81)","v":0},20240402,2414,{"$f":"_xlfn.XLOOKUP(B279,Footwear!$F$13:$F$81,Footwear!$Q$13:$Q$81)","v":0},20240501,2418,{"$f":"_xlfn.XLOOKUP(B279,Footwear!$F$13:$F$81,Footwear!$R$13:$R$81)","v":0},20240603,2423,{"$f":"_xlfn.XLOOKUP(B279,Footwear!$F$13:$F$81,Footwear!$S$13:$S$81)","v":0},{"$f":"_xlfn.XLOOKUP(B279,Footwear!$F$13:$F$81,Footwear!$L$13:$L$81)","v":144.5}]
["Footwear",597659345,20240103,2401,{"$f":"_xlfn.XLOOKUP(B280,Footwear!$F$13:$F$81,Footwear!$N$13:$N$81)","v":0},20240201,2405,{"$f":"_xlfn.XLOOKUP(B280,Footwear!$F$13:$F$81,Footwear!$O$13:$O$81)","v":0},20240301,2409,{"$f":"_xlfn.XLOOKUP(B280,Footwear!$F$13:$F$81,Footwear!$P$13:$P$81)","v":0},20240402,2414,{"$f":"_xlfn.XLOOKUP(B280,Footwear!$F$13:$F$81,Footwear!$Q$13:$Q$81)","v":0},20240501,2418,{"$f":"_xlfn.XLOOKUP(B280,Footwear!$F$13:$F$81,Footwear!$R$13:$R$81)","v":0},20240603,2423,{"$f":"_xlfn.XLOOKUP(B280,Footwear!$F$13:$F$81,Footwear!$S$13:$S$81)","v":0},{"$f":"_xlfn.XLOOKUP(B280,Footwear!$F$13:$F$81,Footwear!$L$13:$L$81)","v":144.5}]
["Footwear",597659344,20240103,2401,{"$f":"_xlfn.XLOOKUP(B281,Footwear!$F$13:$F$81,Footwear!$N$13:$N$81)","v":0},20240201,2405,{"$f":"_xlfn.XLOOKUP(B281,Footwear!$F$13:$F$81,Footwear!$O$13:$O$81)","v":0},20240301,2409,{"$f":"_xlfn.XLOOKUP(B281,Footwear!$F$13:$F$81,Footwear!$P$13:$P$81)","v":0},20240402,2414,{"$f":"_xlfn.XLOOKUP(B281,Footwear!$F$13:$F$81,Footwear!$Q$13:$Q$81)","v":0},20240501,2418,{"$f":"_xlfn.XLOOKUP(B281,Footwear!$F$13:$F$81,Footwear!$R$13:$R$81)","v":0},20240603,2423,{"$f":"_xlfn.XLOOKUP(B281,Footwear!$F$13:$F$81,Footwear!$S$13:$S$81)","v":0},{"$f":"_xlfn.XLOOKUP(B281,Footwear!$F$13:$F$81,Footwear!$L$13:$L$81)","v":144.5}]
["Footwear",597659343,20240103,2401,{"$f":"_xlfn.XLOOKUP(B282,Footwear!$F$13:$F$81,Footwear!$N$13:$N$81)","v":0},20240201,2405,{"$f":"_xlfn.XLOOKUP(B282,Footwear!$F$13:$F$81,Footwear!$O$13:$O$81)","v":0},20240301,2409,{"$f":"_xlfn.XLOOKUP(B282,Footwear!$F$13:$F$81,Footwear!$P$13:$P$81)","v":0},20240402,2414,{"$f":"_xlfn.XLOOKUP(B282,Footwear!$F$13:$F$81,Footwear!$Q$13:$Q$81)","v":0},20240501,2418,{"$f":"_xlfn.XLOOKUP(B282,Footwear!$F$13:$F$81,Footwear!$R$13:$R$81)","v":0},20240603,2423,{"$f":"_xlfn.XLOOKUP(B282,Footwear!$F$13:$F$81,Footwear!$S$13:$S$81)","v":0},{"$f":"_xlfn.XLOOKUP(B282,Footwear!$F$13:$F$81,Footwear!$L$13:$L$81)","v":144.5}]
["Footwear",597659342,20240103,2401,{"$f":"_xlfn.XLOOKUP(B283,Footwear!$F$13:$F$81,Footwear!$N$13:$N$81)","v":0},20240201,2405,{"$f":"_xlfn.XLOOKUP(B283,Footwear!$F$13:$F$81,Footwear!$O$13:$O$81)","v":0},20240301,2409,{"$f":"_xlfn.XLOOKUP(B283,Footwear!$F$13:$F$81,Footwear!$P$13:$P$81)","v":0},20240402,2414,{"$f":"_xlfn.XLOOKUP(B283,Footwear!$F$13:$F$81,Footwear!$Q$13:$Q$81)","v":0},20240501,2418,{"$f":"_xlfn.XLOOKUP(B283,Footwear!$F$13:$F$81,Footwear!$R$13:$R$81)","v":0},20240603,2423,{"$f":"_xlfn.XLOOKUP(B283,Footwear!$F$13:$F$81,Footwear!$S$13:$S$81)","v":0},{"$f":"_xlfn.XLOOKUP(B283,Footwear!$F$13:$F$81,Footwear!$L$13:$L$81)","v":144.5}]
["Footwear",597659341,20240103,2401,{"$f":"_xlfn.XLOOKUP(B284,Footwear!$F$13:$F$81,Footwear!$N$13:$N$81)","v":0},20240201,2405,{"$f":"_xlfn.XLOOKUP(B284,Footwear!$F$13:$F$81,Footwear!$O$13:$O$81)","v":0},20240301,2409,{"$f":"_xlfn.XLOOKUP(B284,Footwear!$F$13:$F$81,Footwear!$P$13:$P$81)","v":0},20240402,2414,{"$f":"_xlfn.XLOOKUP(B284,Footwear!$F$13:$F$81,Footwear!$Q$13:$Q$81)","v":0},20240501,2418,{"$f":"_xlfn.XLOOKUP(B284,Footwear!$F$13:$F$81,Footwear!$R$13:$R$81)","v":0},20240603,2423,{"$f":"_xlfn.XLOOKUP(B284,Footwear!$F$13:$F$81,Footwear!$S$13:$S$81)","v":0},{"$f":"_xlfn.XLOOKUP(B284,Footwear!$F$13:$F$81,Footwear!$L$13:$L$81)","v":144.5}]
["Footwear",597659340,20240103,2401,{"$f":"_xlfn.XLOOKUP(B285,Footwear!$F$13:$F$81,Footwear!$N$13:$N$81)","v":0},20240201,2405,{"$f":"_xlfn.XLOOKUP(B285,Footwear!$F$13:$F$81,Footwear!$O$13:$O$81)","v":0},20240301,2409,{"$f":"_xlfn.XLOOKUP(B285,Footwear!$F$13:$F$81,Footwear!$P$13:$P$81)","v":0},20240402,2414,{"$f":"_xlfn.XLOOKUP(B285,Footwear!$F$13:$F$81,Footwear!$Q$13:$Q$81)","v":0},20240501,2418,{"$f":"_xlfn.XLOOKUP(B285,Footwear!$F$13:$F$81,Footwear!$R$13:$R$81)","v":0},20240603,2423,{"$f":"_xlfn.XLOOKUP(B285,Footwear!$F$13:$F$81,Footwear!$S$13:$S$81)","v":0},{"$f":"_xlfn.XLOOKUP(B285,Footwear!$F$13:$F$81,Footwear!$L$13:$L$81)","v":144.5}]
["Footwear",597659339,20240103,2401,{"$f":"_xlfn.XLOOKUP(B286,Footwear!$F$13:$F$81,Footwear!$N$13:$N$81)","v":0},20240201,2405,{"$f":"_xlfn.XLOOKUP(B286,Footwear!$F$13:$F$81,Footwear!$O$13:$O$81)","v":0},20240301,2409,{"$f":"_xlfn.XLOOKUP(B286,Footwear!$F$13:$F$81,Footwear!$P$13:$P$81)","v":0},20240402,2414,{"$f":"_xlfn.XLOOKUP(B286,Footwear!$F$13:$F$81,Footwear!$Q$13:$Q$81)","v":0},20240501,2418,{"$f":"_xlfn.XLOOKUP(B286,Footwear!$F$13:$F$81,Footwear!$R$13:$R$81)","v":0},20240603,2423,{"$f":"_xlfn.XLOOKUP(B286,Footwear!$F$13:$F$81,Footwear!$S$13:$S$81)","v":0},{"$f":"_xlfn.XLOOKUP(B286,Footwear!$F$13:$F$81,Footwear!$L$13:$L$81)","v":144.5}]
["Footwear",597659338,20240103,2401,{"$f":"_xlfn.XLOOKUP(B287,Footwear!$F$13:$F$81,Footwear!$N$13:$N$81)","v":0},20240201,2405,{"$f":"_xlfn.XLOOKUP(B287,Footwear!$F$13:$F$81,Footwear!$O$13:$O$81)","v":0},20240301,2409,{"$f":"_xlfn.XLOOKUP(B287,Footwear!$F$13:$F$81,Footwear!$P$13:$P$81)","v":0},20240402,2414,{"$f":"_xlfn.XLOOKUP(B287,Footwear!$F$13:$F$81,Footwear!$Q$13:$Q$81)","v":0},20240501,2418,{"$f":"_xlfn.XLOOKUP(B287,Footwear!$F$13:$F$81,Footwear!$R$13:$R$81)","v":0},20240603,2423,{"$f":"_xlfn.XLOOKUP(B287,Footwear!$F$13:$F$81,Footwear!$S$13:$S$81)","v":0},{"$f":"_xlfn.XLOOKUP(B287,Footwear!$F$13:$F$81,Footwear!$L$13:$L$81)","v":144.5}]
["Footwear",597659248,20240103,2401,{"$f":"_xlfn.XLOOKUP(B288,Footwear!$F$13:$F$81,Footwear!$N$13:$N$81)","v":0},20240201,2405,{"$f":"_xlfn.XLOOKUP(B288,Footwear!$F$13:$F$81,Footwear!$O$13:$O$81)","v":0},20240301,2409,{"$f":"_xlfn.XLOOKUP(B288,Footwear!$F$13:$F$81,Footwear!$P$13:$P$81)","v":0},20240402,2414,{"$f":"_xlfn.XLOOKUP(B288,Footwear!$F$13:$F$81,Footwear!$Q$13:$Q$81)","v":0},20240501,2418,{"$f":"_xlfn.XLOOKUP(B288,Footwear!$F$13:$F$81,Footwear!$R$13:$R$81)","v":0},20240603,2423,{"$f":"_xlfn.XLOOKUP(B288,Footwear!$F$13:$F$81,Footwear!$S$13:$S$81)","v":0},{"$f":"_xlfn.XLOOKUP(B288,Footwear!$F$13:$F$81,Footwear!$L$13:$L$81)","v":159.5}]
["Footwear",597659247,20240103,2401,{"$f":"_xlfn.XLOOKUP(B289,Footwear!$F$13:$F$81,Footwear!$N$13:$N$81)","v":0},20240201,2405,{"$f":"_xlfn.XLOOKUP(B289,Footwear!$F$13:$F$81,Footwear!$O$13:$O$81)","v":0},20240301,2409,{"$f":"_xlfn.XLOOKUP(B289,Footwear!$F$13:$F$81,Footwear!$P$13:$P$81)","v":0},20240402,2414,{"$f":"_xlfn.XLOOKUP(B289,Footwear!$F$13:$F$81,Footwear!$Q$13:$Q$81)","v":1},20240501,2418,{"$f":"_xlfn.XLOOKUP(B289,Footwear!$F$13:$F$81,Footwear!$R$13:$R$81)","v":0},20240603,2423,{"$f":"_xlfn.XLOOKUP(B289,Footwear!$F$13:$F$81,Footwear!$S$13:$S$81)","v":0},{"$f":"_xlfn.XLOOKUP(B289,Footwear!$F$13:$F$81,Footwear!$L$13:$L$81)","v":159.5}]
["Footwear",597659246,20240103,2401,{"$f":"_xlfn.XLOOKUP(B290,Footwear!$F$13:$F$81,Footwear!$N$13:$N$81)","v":2},20240201,2405,{"$f":"_xlfn.XLOOKUP(B290,Footwear!$F$13:$F$81,Footwear!$O$13:$O$81)","v":0},20240301,2409,{"$f":"_xlfn.XLOOKUP(B290,Footwear!$F$13:$F$81,Footwear!$P$13:$P$81)","v":2},20240402,2414,{"$f":"_xlfn.XLOOKUP(B290,Footwear!$F$13:$F$81,Footwear!$Q$13:$Q$81)","v":1},20240501,2418,{"$f":"_xlfn.XLOOKUP(B290,Footwear!$F$13:$F$81,Footwear!$R$13:$R$81)","v":0},20240603,2423,{"$f":"_xlfn.XLOOKUP(B290,Footwear!$F$13:$F$81,Footwear!$S$13:$S$81)","v":0},{"$f":"_xlfn.XLOOKUP(B290,Footwear!$F$13:$F$81,Footwear!$L$13:$L$81)","v":159.5}]
["Footwear",597659245,20240103,2401,{"$f":"_xlfn.XLOOKUP(B291,Footwear!$F$13:$F$81,Footwear!$N$13:$N$81)","v":3},20240201,2405,{"$f":"_xlfn.XLOOKUP(B291,Footwear!$F$13:$F$81,Footwear!$O$13:$O$81)","v":0},20240301,2409,{"$f":"_xlfn.XLOOKUP(B291,Footwear!$F$13:$F$81,Footwear!$P$13:$P$81)","v":2},20240402,2414,{"$f":"_xlfn.XLOOKUP(B291,Footwear!$F$13:$F$81,Footwear!$Q$13:$Q$81)","v":2},20240501,2418,{"$f":"_xlfn.XLOOKUP(B291,Footwear!$F$13:$F$81,Footwear!$R$13:$R$81)","v":0},20240603,2423,{"$f":"_xlfn.XLOOKUP(B291,Footwear!$F$13:$F$81,Footwear!$S$13:$S$81)","v":0},{"$f":"_xlfn.XLOOKUP(B291,Footwear!$F$13:$F$81,Footwear!$L$13:$L$81)","v":159.5}]
["Footwear",597659244,20240103,2401,{"$f":"_xlfn.XLOOKUP(B292,Footwear!$F$13:$F$81,Footwear!$N$13:$N$81)","v":3},20240201,2405,{"$f":"_xlfn.XLOOKUP(B292,Footwear!$F$13:$F$81,Footwear!$O$13:$O$81)","v":0},20240301,2409,{"$f":"_xlfn.XLOOKUP(B292,Footwear!$F$13:$F$81,Footwear!$P$13:$P$81)","v":2},20240402,2414,{"$f":"_xlfn.XLOOKUP(B292,Footwear!$F$13:$F$81,Footwear!$Q$13:$Q$81)","v":2},20240501,2418,{"$f":"_xlfn.XLOOKUP(B292,Footwear!$F$13:$F$81,Footwear!$R$13:$R$81)","v":0},20240603,2423,{"$f":"_xlfn.XLOOKUP(B292,Footwear!$F$13:$F$81,Footwear!$S$13:$S$81)","v":0},{"$f":"_xlfn.XLOOKUP(B292,Footwear!$F$13:$F$81,Footwear!$L$13:$L$81)","v":159.5}]
["Footwear",597659243,20240103,2401,{"$f":"_xlfn.XLOOKUP(B293,Footwear!$F$13:$F$81,Footwear!$N$13:$N$81)","v":3},20240201,2405,{"$f":"_xlfn.XLOOKUP(B293,Footwear!$F$13:$F$81,Footwear!$O$13:$O$81)","v":0},20240301,2409,{"$f":"_xlfn.XLOOKUP(B293,Footwear!$F$13:$F$81,Footwear!$P$13:$P$81)","v":2},20240402,2414,{"$f":"_xlfn.XLOOKUP(B293,Footwear!$F$13:$F$81,Footwear!$Q$13:$Q$81)","v":2},20240501,2418,{"$f":"_xlfn.XLOOKUP(B293,Footwear!$F$13:$F$81,Footwear!$R$13:$R$81)","v":0},20240603,2423,{"$f":"_xlfn.XLOOKUP(B293,Footwear!$F$13:$F$81,Footwear!$S$13:$S$81)","v":0},{"$f":"_xlfn.XLOOKUP(B293,Footwear!$F$13:$F$81,Footwear!$L$13:$L$81)","v":159.5}]
["Footwear",597659242,20240103,2401,{"$f":"_xlfn.XLOOKUP(B294,Footwear!$F$13:$F$81,Footwear!$N$13:$N$81)","v":2},20240201,2405,{"$f":"_xlfn.XLOOKUP(B294,Footwear!$F$13:$F$81,Footwear!$O$13:$O$81)","v":0},20240301,2409,{"$f":"_xlfn.XLOOKUP(B294,Footwear!$F$13:$F$81,Footwear!$P$13:$P$81)","v":2},20240402,2414,{"$f":"_xlfn.XLOOKUP(B294,Footwear!$F$13:$F$81,Footwear!$Q$13:$Q$81)","v":2},20240501,2418,{"$f":"_xlfn.XLOOKUP(B294,Footwear!$F$13:$F$81,Footwear!$R$13:$R$81)","v":0},20240603,2423,{"$f":"_xlfn.XLOOKUP(B294,Footwear!$F$13:$F$81,Footwear!$S$13:$S$81)","v":0},{"$f":"_xlfn.XLOOKUP(B294,Footwear!$F$13:$F$81,Footwear!$L$13:$L$81)","v":159.5}]
["Footwear",597659241,20240103,2401,{"$f":"_xlfn.XLOOKUP(B295,Footwear!$F$13:$F$81,Footwear!$N$13:$N$81)","v":2},20240201,2405,{"$f":"_xlfn.XLOOKUP(B295,Footwear!$F$13:$F$81,Footwear!$O$13:$O$81)","v":0},20240301,2409,{"$f":"_xlfn.XLOOKUP(B295,Footwear!$F$13:$F$81,Footwear!$P$13:$P$81)","v":2},20240402,2414,{"$f":"_xlfn.XLOOKUP(B295,Footwear!$F$13:$F$81,Footwear!$Q$13:$Q$81)","v":0},20240501,2418,{"$f":"_xlfn.XLOOKUP(B295,Footwear!$F$13:$F$81,Footwear!$R$13:$R$81)","v":0},20240603,2423,{"$f":"_xlfn.XLOOKUP(B295,Footwear!$F$13:$F$81,Footwear!$S$13:$S$81)","v":0},{"$f":"_xlfn.XLOOKUP(B295,Footwear!$F$13:$F$81,Footwear!$L$13:$L$81)","v":159.5}]
["Footwear",597659240,20240103,2401,{"$f":"_xlfn.XLOOKUP(B296,Footwear!$F$13:$F$81,Footwear!$N$13:$N$81)","v":0},20240201,2405,{"$f":"_xlfn.XLOOKUP(B296,Footwear!$F$13:$F$81,Footwear!$O$13:$O$81)","v":0},20240301,2409,{"$f":"_xlfn.XLOOKUP(B296,Footwear!$F$13:$F$81,Footwear!$P$13:$P$81)","v":0},20240402,2414,{"$f":"_xlfn.XLOOKUP(B296,Footwear!$F$13:$F$81,Footwear!$Q$13:$Q$81)","v":0},20240501,2418,{"$f":"_xlfn.XLOOKUP(B296,Footwear!$F$13:$F$81,Footwear!$R$13:$R$81)","v":0},20240603,2423,{"$f":"_xlfn.XLOOKUP(B296,Footwear!$F$13:$F$81,Footwear!$S$13:$S$81)","v":0},{"$f":"_xlfn.XLOOKUP(B296,Footwear!$F$13:$F$81,Footwear!$L$13:$L$81)","v":159.5}]
["Footwear",597659239,20240103,2401,{"$f":"_xlfn.XLOOKUP(B297,Footwear!$F$13:$F$81,Footwear!$N$13:$N$81)","v":0},20240201,2405,{"$f":"_xlfn.XLOOKUP(B297,Footwear!$F$13:$F$81,Footwear!$O$13:$O$81)","v":0},20240301,2409,{"$f":"_xlfn.XLOOKUP(B297,Footwear!$F$13:$F$81,Footwear!$P$13:$P$81)","v":0},20240402,2414,{"$f":"_xlfn.XLOOKUP(B297,Footwear!$F$13:$F$81,Footwear!$Q$13:$Q$81)","v":0},20240501,2418,{"$f":"_xlfn.XLOOKUP(B297,Footwear!$F$13:$F$81,Footwear!$R$13:$R$81)","v":0},20240603,2423,{"$f":"_xlfn.XLOOKUP(B297,Footwear!$F$13:$F$81,Footwear!$S$13:$S$81)","v":0},{"$f":"_xlfn.XLOOKUP(B297,Footwear!$F$13:$F$81,Footwear!$L$13:$L$81)","v":159.5}]
["Footwear",597659238,20240103,2401,{"$f":"_xlfn.XLOOKUP(B298,Footwear!$F$13:$F$81,Footwear!$N$13:$N$81)","v":0},20240201,2405,{"$f":"_xlfn.XLOOKUP(B298,Footwear!$F$13:$F$81,Footwear!$O$13:$O$81)","v":0},20240301,2409,{"$f":"_xlfn.XLOOKUP(B298,Footwear!$F$13:$F$81,Footwear!$P$13:$P$81)","v":0},20240402,2414,{"$f":"_xlfn.XLOOKUP(B298,Footwear!$F$13:$F$81,Footwear!$Q$13:$Q$81)","v":0},20240501,2418,{"$f":"_xlfn.XLOOKUP(B298,Footwear!$F$13:$F$81,Footwear!$R$13:$R$81)","v":0},20240603,2423,{"$f":"_xlfn.XLOOKUP(B298,Footwear!$F$13:$F$81,Footwear!$S$13:$S$81)","v":0},{"$f":"_xlfn.XLOOKUP(B298,Footwear!$F$13:$F$81,Footwear!$L$13:$L$81)","v":159.5}]
["Footwear",597659237,20240103,2401,{"$f":"_xlfn.XLOOKUP(B299,Footwear!$F$13:$F$81,Footwear!$N$13:$N$81)","v":0},20240201,2405,{"$f":"_xlfn.XLOOKUP(B299,Footwear!$F$13:$F$81,Footwear!$O$13:$O$81)","v":0},20240301,2409,{"$f":"_xlfn.XLOOKUP(B299,Footwear!$F$13:$F$81,Footwear!$P$13:$P$81)","v":0},20240402,2414,{"$f":"_xlfn.XLOOKUP(B299,Footwear!$F$13:$F$81,Footwear!$Q$13:$Q$81)","v":0},20240501,2418,{"$f":"_xlfn.XLOOKUP(B299,Footwear!$F$13:$F$81,Footwear!$R$13:$R$81)","v":0},20240603,2423,{"$f":"_xlfn.XLOOKUP(B299,Footwear!$F$13:$F$81,Footwear!$S$13:$S$81)","v":0},{"$f":"_xlfn.XLOOKUP(B299,Footwear!$F$13:$F$81,Footwear!$L$13:$L$81)","v":159.5}]
["Footwear",597659236,20240103,2401,{"$f":"_xlfn.XLOOKUP(B300,Footwear!$F$13:$F$81,Footwear!$N$13:$N$81)","v":0},20240201,2405,{"$f":"_xlfn.XLOOKUP(B300,Footwear!$F$13:$F$81,Footwear!$O$13:$O$81)","v":0},20240301,2409,{"$f":"_xlfn.XLOOKUP(B300,Footwear!$F$13:$F$81,Footwear!$P$13:$P$81)","v":0},20240402,2414,{"$f":"_xlfn.XLOOKUP(B300,Footwear!$F$13:$F$81,Footwear!$Q$13:$Q$81)","v":0},20240501,2418,{"$f":"_xlfn.XLOOKUP(B300,Footwear!$F$13:$F$81,Footwear!$R$13:$R$81)","v":0},20240603,2423,{"$f":"_xlfn.XLOOKUP(B300,Footwear!$F$13:$F$81,Footwear!$S$13:$S$81)","v":0},{"$f":"_xlfn.XLOOKUP(B300,Footwear!$F$13:$F$81,Footwear!$L$13:$L$81)","v":159.5}]
["Footwear",595002847,20240103,2401,{"$f":"_xlfn.XLOOKUP(B301,Footwear!$F$13:$F$81,Footwear!$N$13:$N$81)","v":0},20240201,2405,{"$f":"_xlfn.XLOOKUP(B301,Footwear!$F$13:$F$81,Footwear!$O$13:$O$81)","v":0},20240301,2409,{"$f":"_xlfn.XLOOKUP(B301,Footwear!$F$13:$F$81,Footwear!$P$13:$P$81)","v":0},20240402,2414,{"$f":"_xlfn.XLOOKUP(B301,Footwear!$F$13:$F$81,Footwear!$Q$13:$Q$81)","v":0},20240501,2418,{"$f":"_xlfn.XLOOKUP(B301,Footwear!$F$13:$F$81,Footwear!$R$13:$R$81)","v":0},20240603,2423,{"$f":"_xlfn.XLOOKUP(B301,Footwear!$F$13:$F$81,Footwear!$S$13:$S$81)","v":0},{"$f":"_xlfn.XLOOKUP(B301,Footwear!$F$13:$F$81,Footwear!$L$13:$L$81)","v":54.994999999999997}]
["Footwear",595002846,20240103,2401,{"$f":"_xlfn.XLOOKUP(B302,Footwear!$F$13:$F$81,Footwear!$N$13:$N$81)","v":0},20240201,2405,{"$f":"_xlfn.XLOOKUP(B302,Footwear!$F$13:$F$81,Footwear!$O$13:$O$81)","v":0},20240301,2409,{"$f":"_xlfn.XLOOKUP(B302,Footwear!$F$13:$F$81,Footwear!$P$13:$P$81)","v":0},20240402,2414,{"$f":"_xlfn.XLOOKUP(B302,Footwear!$F$13:$F$81,Footwear!$Q$13:$Q$81)","v":0},20240501,2418,{"$f":"_xlfn.XLOOKUP(B302,Footwear!$F$13:$F$81,Footwear!$R$13:$R$81)","v":0},20240603,2423,{"$f":"_xlfn.XLOOKUP(B302,Footwear!$F$13:$F$81,Footwear!$S$13:$S$81)","v":0},{"$f":"_xlfn.XLOOKUP(B302,Footwear!$F$13:$F$81,Footwear!$L$13:$L$81)","v":54.994999999999997}]
["Footwear",595002845,20240103,2401,{"$f":"_xlfn.XLOOKUP(B303,Footwear!$F$13:$F$81,Footwear!$N$13:$N$81)","v":0},20240201,2405,{"$f":"_xlfn.XLOOKUP(B303,Footwear!$F$13:$F$81,Footwear!$O$13:$O$81)","v":0},20240301,2409,{"$f":"_xlfn.XLOOKUP(B303,Footwear!$F$13:$F$81,Footwear!$P$13:$P$81)","v":0},20240402,2414,{"$f":"_xlfn.XLOOKUP(B303,Footwear!$F$13:$F$81,Footwear!$Q$13:$Q$81)","v":0},20240501,2418,{"$f":"_xlfn.XLOOKUP(B303,Footwear!$F$13:$F$81,Footwear!$R$13:$R$81)","v":0},20240603,2423,{"$f":"_xlfn.XLOOKUP(B303,Footwear!$F$13:$F$81,Footwear!$S$13:$S$81)","v":0},{"$f":"_xlfn.XLOOKUP(B303,Footwear!$F$13:$F$81,Footwear!$L$13:$L$81)","v":54.994999999999997}]
["Footwear",595002844,20240103,2401,{"$f":"_xlfn.XLOOKUP(B304,Footwear!$F$13:$F$81,Footwear!$N$13:$N$81)","v":0},20240201,2405,{"$f":"_xlfn.XLOOKUP(B304,Footwear!$F$13:$F$81,Footwear!$O$13:$O$81)","v":0},20240301,2409,{"$f":"_xlfn.XLOOKUP(B304,Footwear!$F$13:$F$81,Footwear!$P$13:$P$81)","v":0},20240402,2414,{"$f":"_xlfn.XLOOKUP(B304,Footwear!$F$13:$F$81,Footwear!$Q$13:$Q$81)","v":0},20240501,2418,{"$f":"_xlfn.XLOOKUP(B304,Footwear!$F$13:$F$81,Footwear!$R$13:$R$81)","v":0},20240603,2423,{"$f":"_xlfn.XLOOKUP(B304,Footwear!$F$13:$F$81,Footwear!$S$13:$S$81)","v":0},{"$f":"_xlfn.XLOOKUP(B304,Footwear!$F$13:$F$81,Footwear!$L$13:$L$81)","v":54.994999999999997}]
["Footwear",595002843,20240103,2401,{"$f":"_xlfn.XLOOKUP(B305,Footwear!$F$13:$F$81,Footwear!$N$13:$N$81)","v":0},20240201,2405,{"$f":"_xlfn.XLOOKUP(B305,Footwear!$F$13:$F$81,Footwear!$O$13:$O$81)","v":0},20240301,2409,{"$f":"_xlfn.XLOOKUP(B305,Footwear!$F$13:$F$81,Footwear!$P$13:$P$81)","v":0},20240402,2414,{"$f":"_xlfn.XLOOKUP(B305,Footwear!$F$13:$F$81,Footwear!$Q$13:$Q$81)","v":0},20240501,2418,{"$f":"_xlfn.XLOOKUP(B305,Footwear!$F$13:$F$81,Footwear!$R$13:$R$81)","v":0},20240603,2423,{"$f":"_xlfn.XLOOKUP(B305,Footwear!$F$13:$F$81,Footwear!$S$13:$S$81)","v":0},{"$f":"_xlfn.XLOOKUP(B305,Footwear!$F$13:$F$81,Footwear!$L$13:$L$81)","v":54.994999999999997}]
["Footwear",595002842,20240103,2401,{"$f":"_xlfn.XLOOKUP(B306,Footwear!$F$13:$F$81,Footwear!$N$13:$N$81)","v":0},20240201,2405,{"$f":"_xlfn.XLOOKUP(B306,Footwear!$F$13:$F$81,Footwear!$O$13:$O$81)","v":0},20240301,2409,{"$f":"_xlfn.XLOOKUP(B306,Footwear!$F$13:$F$81,Footwear!$P$13:$P$81)","v":0},20240402,2414,{"$f":"_xlfn.XLOOKUP(B306,Footwear!$F$13:$F$81,Footwear!$Q$13:$Q$81)","v":0},20240501,2418,{"$f":"_xlfn.XLOOKUP(B306,Footwear!$F$13:$F$81,Footwear!$R$13:$R$81)","v":0},20240603,2423,{"$f":"_xlfn.XLOOKUP(B306,Footwear!$F$13:$F$81,Footwear!$S$13:$S$81)","v":0},{"$f":"_xlfn.XLOOKUP(B306,Footwear!$F$13:$F$81,Footwear!$L$13:$L$81)","v":54.994999999999997}]
["Footwear",595002841,20240103,2401,{"$f":"_xlfn.XLOOKUP(B307,Footwear!$F$13:$F$81,Footwear!$N$13:$N$81)","v":0},20240201,2405,{"$f":"_xlfn.XLOOKUP(B307,Footwear!$F$13:$F$81,Footwear!$O$13:$O$81)","v":0},20240301,2409,{"$f":"_xlfn.XLOOKUP(B307,Footwear!$F$13:$F$81,Footwear!$P$13:$P$81)","v":0},20240402,2414,{"$f":"_xlfn.XLOOKUP(B307,Footwear!$F$13:$F$81,Footwear!$Q$13:$Q$81)","v":0},20240501,2418,{"$f":"_xlfn.XLOOKUP(B307,Footwear!$F$13:$F$81,Footwear!$R$13:$R$81)","v":0},20240603,2423,{"$f":"_xlfn.XLOOKUP(B307,Footwear!$F$13:$F$81,Footwear!$S$13:$S$81)","v":0},{"$f":"_xlfn.XLOOKUP(B307,Footwear!$F$13:$F$81,Footwear!$L$13:$L$81)","v":54.994999999999997}]
["Footwear",595002840,20240103,2401,{"$f":"_xlfn.XLOOKUP(B308,Footwear!$F$13:$F$81,Footwear!$N$13:$N$81)","v":0},20240201,2405,{"$f":"_xlfn.XLOOKUP(B308,Footwear!$F$13:$F$81,Footwear!$O$13:$O$81)","v":0},20240301,2409,{"$f":"_xlfn.XLOOKUP(B308,Footwear!$F$13:$F$81,Footwear!$P$13:$P$81)","v":0},20240402,2414,{"$f":"_xlfn.XLOOKUP(B308,Footwear!$F$13:$F$81,Footwear!$Q$13:$Q$81)","v":0},20240501,2418,{"$f":"_xlfn.XLOOKUP(B308,Footwear!$F$13:$F$81,Footwear!$R$13:$R$81)","v":0},20240603,2423,{"$f":"_xlfn.XLOOKUP(B308,Footwear!$F$13:$F$81,Footwear!$S$13:$S$81)","v":0},{"$f":"_xlfn.XLOOKUP(B308,Footwear!$F$13:$F$81,Footwear!$L$13:$L$81)","v":54.994999999999997}]
["Footwear",595002839,20240103,2401,{"$f":"_xlfn.XLOOKUP(B309,Footwear!$F$13:$F$81,Footwear!$N$13:$N$81)","v":0},20240201,2405,{"$f":"_xlfn.XLOOKUP(B309,Footwear!$F$13:$F$81,Footwear!$O$13:$O$81)","v":0},20240301,2409,{"$f":"_xlfn.XLOOKUP(B309,Footwear!$F$13:$F$81,Footwear!$P$13:$P$81)","v":0},20240402,2414,{"$f":"_xlfn.XLOOKUP(B309,Footwear!$F$13:$F$81,Footwear!$Q$13:$Q$81)","v":0},20240501,2418,{"$f":"_xlfn.XLOOKUP(B309,Footwear!$F$13:$F$81,Footwear!$R$13:$R$81)","v":0},20240603,2423,{"$f":"_xlfn.XLOOKUP(B309,Footwear!$F$13:$F$81,Footwear!$S$13:$S$81)","v":0},{"$f":"_xlfn.XLOOKUP(B309,Footwear!$F$13:$F$81,Footwear!$L$13:$L$81)","v":54.994999999999997}]
["Footwear",595002838,20240103,2401,{"$f":"_xlfn.XLOOKUP(B310,Footwear!$F$13:$F$81,Footwear!$N$13:$N$81)","v":0},20240201,2405,{"$f":"_xlfn.XLOOKUP(B310,Footwear!$F$13:$F$81,Footwear!$O$13:$O$81)","v":0},20240301,2409,{"$f":"_xlfn.XLOOKUP(B310,Footwear!$F$13:$F$81,Footwear!$P$13:$P$81)","v":0},20240402,2414,{"$f":"_xlfn.XLOOKUP(B310,Footwear!$F$13:$F$81,Footwear!$Q$13:$Q$81)","v":0},20240501,2418,{"$f":"_xlfn.XLOOKUP(B310,Footwear!$F$13:$F$81,Footwear!$R$13:$R$81)","v":0},20240603,2423,{"$f":"_xlfn.XLOOKUP(B310,Footwear!$F$13:$F$81,Footwear!$S$13:$S$81)","v":0},{"$f":"_xlfn.XLOOKUP(B310,Footwear!$F$13:$F$81,Footwear!$L$13:$L$81)","v":54.994999999999997}]
["Footwear",595002837,20240103,2401,{"$f":"_xlfn.XLOOKUP(B311,Footwear!$F$13:$F$81,Footwear!$N$13:$N$81)","v":0},20240201,2405,{"$f":"_xlfn.XLOOKUP(B311,Footwear!$F$13:$F$81,Footwear!$O$13:$O$81)","v":0},20240301,2409,{"$f":"_xlfn.XLOOKUP(B311,Footwear!$F$13:$F$81,Footwear!$P$13:$P$81)","v":0},20240402,2414,{"$f":"_xlfn.XLOOKUP(B311,Footwear!$F$13:$F$81,Footwear!$Q$13:$Q$81)","v":0},20240501,2418,{"$f":"_xlfn.XLOOKUP(B311,Footwear!$F$13:$F$81,Footwear!$R$13:$R$81)","v":0},20240603,2423,{"$f":"_xlfn.XLOOKUP(B311,Footwear!$F$13:$F$81,Footwear!$S$13:$S$81)","v":0},{"$f":"_xlfn.XLOOKUP(B311,Footwear!$F$13:$F$81,Footwear!$L$13:$L$81)","v":54.994999999999997}]
["Footwear",595002449,20240103,2401,{"$f":"_xlfn.XLOOKUP(B312,Footwear!$F$13:$F$81,Footwear!$N$13:$N$81)","v":0},20240201,2405,{"$f":"_xlfn.XLOOKUP(B312,Footwear!$F$13:$F$81,Footwear!$O$13:$O$81)","v":0},20240301,2409,{"$f":"_xlfn.XLOOKUP(B312,Footwear!$F$13:$F$81,Footwear!$P$13:$P$81)","v":0},20240402,2414,{"$f":"_xlfn.XLOOKUP(B312,Footwear!$F$13:$F$81,Footwear!$Q$13:$Q$81)","v":0},20240501,2418,{"$f":"_xlfn.XLOOKUP(B312,Footwear!$F$13:$F$81,Footwear!$R$13:$R$81)","v":0},20240603,2423,{"$f":"_xlfn.XLOOKUP(B312,Footwear!$F$13:$F$81,Footwear!$S$13:$S$81)","v":0},{"$f":"_xlfn.XLOOKUP(B312,Footwear!$F$13:$F$81,Footwear!$L$13:$L$81)","v":61.994999999999997}]
["Footwear",595002448,20240103,2401,{"$f":"_xlfn.XLOOKUP(B313,Footwear!$F$13:$F$81,Footwear!$N$13:$N$81)","v":0},20240201,2405,{"$f":"_xlfn.XLOOKUP(B313,Footwear!$F$13:$F$81,Footwear!$O$13:$O$81)","v":0},20240301,2409,{"$f":"_xlfn.XLOOKUP(B313,Footwear!$F$13:$F$81,Footwear!$P$13:$P$81)","v":0},20240402,2414,{"$f":"_xlfn.XLOOKUP(B313,Footwear!$F$13:$F$81,Footwear!$Q$13:$Q$81)","v":0},20240501,2418,{"$f":"_xlfn.XLOOKUP(B313,Footwear!$F$13:$F$81,Footwear!$R$13:$R$81)","v":0},20240603,2423,{"$f":"_xlfn.XLOOKUP(B313,Footwear!$F$13:$F$81,Footwear!$S$13:$S$81)","v":0},{"$f":"_xlfn.XLOOKUP(B313,Footwear!$F$13:$F$81,Footwear!$L$13:$L$81)","v":61.994999999999997}]
["Footwear",595002447,20240103,2401,{"$f":"_xlfn.XLOOKUP(B314,Footwear!$F$13:$F$81,Footwear!$N$13:$N$81)","v":0},20240201,2405,{"$f":"_xlfn.XLOOKUP(B314,Footwear!$F$13:$F$81,Footwear!$O$13:$O$81)","v":0},20240301,2409,{"$f":"_xlfn.XLOOKUP(B314,Footwear!$F$13:$F$81,Footwear!$P$13:$P$81)","v":0},20240402,2414,{"$f":"_xlfn.XLOOKUP(B314,Footwear!$F$13:$F$81,Footwear!$Q$13:$Q$81)","v":0},20240501,2418,{"$f":"_xlfn.XLOOKUP(B314,Footwear!$F$13:$F$81,Footwear!$R$13:$R$81)","v":0},20240603,2423,{"$f":"_xlfn.XLOOKUP(B314,Footwear!$F$13:$F$81,Footwear!$S$13:$S$81)","v":0},{"$f":"_xlfn.XLOOKUP(B314,Footwear!$F$13:$F$81,Footwear!$L$13:$L$81)","v":61.994999999999997}]
["Footwear",595002446,20240103,2401,{"$f":"_xlfn.XLOOKUP(B315,Footwear!$F$13:$F$81,Footwear!$N$13:$N$81)","v":0},20240201,2405,{"$f":"_xlfn.XLOOKUP(B315,Footwear!$F$13:$F$81,Footwear!$O$13:$O$81)","v":0},20240301,2409,{"$f":"_xlfn.XLOOKUP(B315,Footwear!$F$13:$F$81,Footwear!$P$13:$P$81)","v":0},20240402,2414,{"$f":"_xlfn.XLOOKUP(B315,Footwear!$F$13:$F$81,Footwear!$Q$13:$Q$81)","v":0},20240501,2418,{"$f":"_xlfn.XLOOKUP(B315,Footwear!$F$13:$F$81,Footwear!$R$13:$R$81)","v":0},20240603,2423,{"$f":"_xlfn.XLOOKUP(B315,Footwear!$F$13:$F$81,Footwear!$S$13:$S$81)","v":0},{"$f":"_xlfn.XLOOKUP(B315,Footwear!$F$13:$F$81,Footwear!$L$13:$L$81)","v":61.994999999999997}]
["Footwear",595002445,20240103,2401,{"$f":"_xlfn.XLOOKUP(B316,Footwear!$F$13:$F$81,Footwear!$N$13:$N$81)","v":0},20240201,2405,{"$f":"_xlfn.XLOOKUP(B316,Footwear!$F$13:$F$81,Footwear!$O$13:$O$81)","v":0},20240301,2409,{"$f":"_xlfn.XLOOKUP(B316,Footwear!$F$13:$F$81,Footwear!$P$13:$P$81)","v":0},20240402,2414,{"$f":"_xlfn.XLOOKUP(B316,Footwear!$F$13:$F$81,Footwear!$Q$13:$Q$81)","v":0},20240501,2418,{"$f":"_xlfn.XLOOKUP(B316,Footwear!$F$13:$F$81,Footwear!$R$13:$R$81)","v":0},20240603,2423,{"$f":"_xlfn.XLOOKUP(B316,Footwear!$F$13:$F$81,Footwear!$S$13:$S$81)","v":0},{"$f":"_xlfn.XLOOKUP(B316,Footwear!$F$13:$F$81,Footwear!$L$13:$L$81)","v":61.994999999999997}]
["Footwear",595002444,20240103,2401,{"$f":"_xlfn.XLOOKUP(B317,Footwear!$F$13:$F$81,Footwear!$N$13:$N$81)","v":0},20240201,2405,{"$f":"_xlfn.XLOOKUP(B317,Footwear!$F$13:$F$81,Footwear!$O$13:$O$81)","v":0},20240301,2409,{"$f":"_xlfn.XLOOKUP(B317,Footwear!$F$13:$F$81,Footwear!$P$13:$P$81)","v":0},20240402,2414,{"$f":"_xlfn.XLOOKUP(B317,Footwear!$F$13:$F$81,Footwear!$Q$13:$Q$81)","v":0},20240501,2418,{"$f":"_xlfn.XLOOKUP(B317,Footwear!$F$13:$F$81,Footwear!$R$13:$R$81)","v":0},20240603,2423,{"$f":"_xlfn.XLOOKUP(B317,Footwear!$F$13:$F$81,Footwear!$S$13:$S$81)","v":0},{"$f":"_xlfn.XLOOKUP(B317,Footwear!$F$13:$F$81,Footwear!$L$13:$L$81)","v":61.994999999999997}]
["Footwear",595002443,20240103,2401,{"$f":"_xlfn.XLOOKUP(B318,Footwear!$F$13:$F$81,Footwear!$N$13:$N$81)","v":0},20240201,2405,{"$f":"_xlfn.XLOOKUP(B318,Footwear!$F$13:$F$81,Footwear!$O$13:$O$81)","v":0},20240301,2409,{"$f":"_xlfn.XLOOKUP(B318,Footwear!$F$13:$F$81,Footwear!$P$13:$P$81)","v":0},20240402,2414,{"$f":"_xlfn.XLOOKUP(B318,Footwear!$F$13:$F$81,Footwear!$Q$13:$Q$81)","v":0},20240501,2418,{"$f":"_xlfn.XLOOKUP(B318,Footwear!$F$13:$F$81,Footwear!$R$13:$R$81)","v":0},20240603,2423,{"$f":"_xlfn.XLOOKUP(B318,Footwear!$F$13:$F$81,Footwear!$S$13:$S$81)","v":0},{"$f":"_xlfn.XLOOKUP(B318,Footwear!$F$13:$F$81,Footwear!$L$13:$L$81)","v":61.994999999999997}]
["Footwear",595002442,20240103,2401,{"$f":"_xlfn.XLOOKUP(B319,Footwear!$F$13:$F$81,Footwear!$N$13:$N$81)","v":0},20240201,2405,{"$f":"_xlfn.XLOOKUP(B319,Footwear!$F$13:$F$81,Footwear!$O$13:$O$81)","v":0},20240301,2409,{"$f":"_xlfn.XLOOKUP(B319,Footwear!$F$13:$F$81,Footwear!$P$13:$P$81)","v":0},20240402,2414,{"$f":"_xlfn.XLOOKUP(B319,Footwear!$F$13:$F$81,Footwear!$Q$13:$Q$81)","v":0},20240501,2418,{"$f":"_xlfn.XLOOKUP(B319,Footwear!$F$13:$F$81,Footwear!$R$13:$R$81)","v":0},20240603,2423,{"$f":"_xlfn.XLOOKUP(B319,Footwear!$F$13:$F$81,Footwear!$S$13:$S$81)","v":0},{"$f":"_xlfn.XLOOKUP(B319,Footwear!$F$13:$F$81,Footwear!$L$13:$L$81)","v":61.994999999999997}]
["Footwear",595002441,20240103,2401,{"$f":"_xlfn.XLOOKUP(B320,Footwear!$F$13:$F$81,Footwear!$N$13:$N$81)","v":0},20240201,2405,{"$f":"_xlfn.XLOOKUP(B320,Footwear!$F$13:$F$81,Footwear!$O$13:$O$81)","v":0},20240301,2409,{"$f":"_xlfn.XLOOKUP(B320,Footwear!$F$13:$F$81,Footwear!$P$13:$P$81)","v":0},20240402,2414,{"$f":"_xlfn.XLOOKUP(B320,Footwear!$F$13:$F$81,Footwear!$Q$13:$Q$81)","v":0},20240501,2418,{"$f":"_xlfn.XLOOKUP(B320,Footwear!$F$13:$F$81,Footwear!$R$13:$R$81)","v":0},20240603,2423,{"$f":"_xlfn.XLOOKUP(B320,Footwear!$F$13:$F$81,Footwear!$S$13:$S$81)","v":0},{"$f":"_xlfn.XLOOKUP(B320,Footwear!$F$13:$F$81,Footwear!$L$13:$L$81)","v":61.994999999999997}]
["Footwear",595002440,20240103,2401,{"$f":"_xlfn.XLOOKUP(B321,Footwear!$F$13:$F$81,Footwear!$N$13:$N$81)","v":0},20240201,2405,{"$f":"_xlfn.XLOOKUP(B321,Footwear!$F$13:$F$81,Footwear!$O$13:$O$81)","v":0},20240301,2409,{"$f":"_xlfn.XLOOKUP(B321,Footwear!$F$13:$F$81,Footwear!$P$13:$P$81)","v":0},20240402,2414,{"$f":"_xlfn.XLOOKUP(B321,Footwear!$F$13:$F$81,Footwear!$Q$13:$Q$81)","v":0},20240501,2418,{"$f":"_xlfn.XLOOKUP(B321,Footwear!$F$13:$F$81,Footwear!$R$13:$R$81)","v":0},20240603,2423,{"$f":"_xlfn.XLOOKUP(B321,Footwear!$F$13:$F$81,Footwear!$S$13:$S$81)","v":0},{"$f":"_xlfn.XLOOKUP(B321,Footwear!$F$13:$F$81,Footwear!$L$13:$L$81)","v":61.994999999999997}]
["Footwear",595002439,20240103,2401,{"$f":"_xlfn.XLOOKUP(B322,Footwear!$F$13:$F$81,Footwear!$N$13:$N$81)","v":0},20240201,2405,{"$f":"_xlfn.XLOOKUP(B322,Footwear!$F$13:$F$81,Footwear!$O$13:$O$81)","v":0},20240301,2409,{"$f":"_xlfn.XLOOKUP(B322,Footwear!$F$13:$F$81,Footwear!$P$13:$P$81)","v":0},20240402,2414,{"$f":"_xlfn.XLOOKUP(B322,Footwear!$F$13:$F$81,Footwear!$Q$13:$Q$81)","v":0},20240501,2418,{"$f":"_xlfn.XLOOKUP(B322,Footwear!$F$13:$F$81,Footwear!$R$13:$R$81)","v":0},20240603,2423,{"$f":"_xlfn.XLOOKUP(B322,Footwear!$F$13:$F$81,Footwear!$S$13:$S$81)","v":0},{"$f":"_xlfn.XLOOKUP(B322,Footwear!$F$13:$F$81,Footwear!$L$13:$L$81)","v":61.994999999999997}]
["Footwear",595002438,20240103,2401,{"$f":"_xlfn.XLOOKUP(B323,Footwear!$F$13:$F$81,Footwear!$N$13:$N$81)","v":0},20240201,2405,{"$f":"_xlfn.XLOOKUP(B323,Footwear!$F$13:$F$81,Footwear!$O$13:$O$81)","v":0},20240301,2409,{"$f":"_xlfn.XLOOKUP(B323,Footwear!$F$13:$F$81,Footwear!$P$13:$P$81)","v":0},20240402,2414,{"$f":"_xlfn.XLOOKUP(B323,Footwear!$F$13:$F$81,Footwear!$Q$13:$Q$81)","v":0},20240501,2418,{"$f":"_xlfn.XLOOKUP(B323,Footwear!$F$13:$F$81,Footwear!$R$13:$R$81)","v":0},20240603,2423,{"$f":"_xlfn.XLOOKUP(B323,Footwear!$F$13:$F$81,Footwear!$S$13:$S$81)","v":0},{"$f":"_xlfn.XLOOKUP(B323,Footwear!$F$13:$F$81,Footwear!$L$13:$L$81)","v":61.994999999999997}]
["Footwear",595002437,20240103,2401,{"$f":"_xlfn.XLOOKUP(B324,Footwear!$F$13:$F$81,Footwear!$N$13:$N$81)","v":0},20240201,2405,{"$f":"_xlfn.XLOOKUP(B324,Footwear!$F$13:$F$81,Footwear!$O$13:$O$81)","v":0},20240301,2409,{"$f":"_xlfn.XLOOKUP(B324,Footwear!$F$13:$F$81,Footwear!$P$13:$P$81)","v":0},20240402,2414,{"$f":"_xlfn.XLOOKUP(B324,Footwear!$F$13:$F$81,Footwear!$Q$13:$Q$81)","v":0},20240501,2418,{"$f":"_xlfn.XLOOKUP(B324,Footwear!$F$13:$F$81,Footwear!$R$13:$R$81)","v":0},20240603,2423,{"$f":"_xlfn.XLOOKUP(B324,Footwear!$F$13:$F$81,Footwear!$S$13:$S$81)","v":0},{"$f":"_xlfn.XLOOKUP(B324,Footwear!$F$13:$F$81,Footwear!$L$13:$L$81)","v":61.994999999999997}]
["Footwear",590652201,20240103,2401,{"$f":"_xlfn.XLOOKUP(B325,Footwear!$F$13:$F$81,Footwear!$N$13:$N$81)","v":0},20240201,2405,{"$f":"_xlfn.XLOOKUP(B325,Footwear!$F$13:$F$81,Footwear!$O$13:$O$81)","v":0},20240301,2409,{"$f":"_xlfn.XLOOKUP(B325,Footwear!$F$13:$F$81,Footwear!$P$13:$P$81)","v":0},20240402,2414,{"$f":"_xlfn.XLOOKUP(B325,Footwear!$F$13:$F$81,Footwear!$Q$13:$Q$81)","v":0},20240501,2418,{"$f":"_xlfn.XLOOKUP(B325,Footwear!$F$13:$F$81,Footwear!$R$13:$R$81)","v":0},20240603,2423,{"$f":"_xlfn.XLOOKUP(B325,Footwear!$F$13:$F$81,Footwear!$S$13:$S$81)","v":0},{"$f":"_xlfn.XLOOKUP(B325,Footwear!$F$13:$F$81,Footwear!$L$13:$L$81)","v":5.9950000000000001}]
["Forestry Tools",967236601,20240103,2401,{"$f":"_xlfn.XLOOKUP(B326,'Forestry Tools'!$F$13:$F$54,'Forestry Tools'!$N$13:$N$54)","v":0},20240201,2405,{"$f":"_xlfn.XLOOKUP(B326,'Forestry Tools'!$F$13:$F$54,'Forestry Tools'!$O$13:$O$54)","v":0},20240301,2409,{"$f":"_xlfn.XLOOKUP(B326,'Forestry Tools'!$F$13:$F$54,'Forestry Tools'!$P$13:$P$54)","v":0},20240402,2414,{"$f":"_xlfn.XLOOKUP(B326,'Forestry Tools'!$F$13:$F$54,'Forestry Tools'!$Q$13:$Q$54)","v":0},20240501,2418,{"$f":"_xlfn.XLOOKUP(B326,'Forestry Tools'!$F$13:$F$54,'Forestry Tools'!$R$13:$R$54)","v":0},20240603,2423,{"$f":"_xlfn.XLOOKUP(B326,'Forestry Tools'!$F$13:$F$54,'Forestry Tools'!$S$13:$S$54)","v":0},{"$f":"_xlfn.XLOOKUP(B326,'Forestry Tools'!$F$13:$F$54,'Forestry Tools'!$L$13:$L$54)","v":22.495000000000001}]
["Forestry Tools",967236501,20240103,2401,{"$f":"_xlfn.XLOOKUP(B327,'Forestry Tools'!$F$13:$F$54,'Forestry Tools'!$N$13:$N$54)","v":0},20240201,2405,{"$f":"_xlfn.XLOOKUP(B327,'Forestry Tools'!$F$13:$F$54,'Forestry Tools'!$O$13:$O$54)","v":0},20240301,2409,{"$f":"_xlfn.XLOOKUP(B327,'Forestry Tools'!$F$13:$F$54,'Forestry Tools'!$P$13:$P$54)","v":0},20240402,2414,{"$f":"_xlfn.XLOOKUP(B327,'Forestry Tools'!$F$13:$F$54,'Forestry Tools'!$Q$13:$Q$54)","v":0},20240501,2418,{"$f":"_xlfn.XLOOKUP(B327,'Forestry Tools'!$F$13:$F$54,'Forestry Tools'!$R$13:$R$54)","v":0},20240603,2423,{"$f":"_xlfn.XLOOKUP(B327,'Forestry Tools'!$F$13:$F$54,'Forestry Tools'!$S$13:$S$54)","v":0},{"$f":"_xlfn.XLOOKUP(B327,'Forestry Tools'!$F$13:$F$54,'Forestry Tools'!$L$13:$L$54)","v":20.83}]
["Forestry Tools",967236401,20240103,2401,{"$f":"_xlfn.XLOOKUP(B328,'Forestry Tools'!$F$13:$F$54,'Forestry Tools'!$N$13:$N$54)","v":0},20240201,2405,{"$f":"_xlfn.XLOOKUP(B328,'Forestry Tools'!$F$13:$F$54,'Forestry Tools'!$O$13:$O$54)","v":0},20240301,2409,{"$f":"_xlfn.XLOOKUP(B328,'Forestry Tools'!$F$13:$F$54,'Forestry Tools'!$P$13:$P$54)","v":0},20240402,2414,{"$f":"_xlfn.XLOOKUP(B328,'Forestry Tools'!$F$13:$F$54,'Forestry Tools'!$Q$13:$Q$54)","v":0},20240501,2418,{"$f":"_xlfn.XLOOKUP(B328,'Forestry Tools'!$F$13:$F$54,'Forestry Tools'!$R$13:$R$54)","v":0},20240603,2423,{"$f":"_xlfn.XLOOKUP(B328,'Forestry Tools'!$F$13:$F$54,'Forestry Tools'!$S$13:$S$54)","v":0},{"$f":"_xlfn.XLOOKUP(B328,'Forestry Tools'!$F$13:$F$54,'Forestry Tools'!$L$13:$L$54)","v":19.164999999999999}]
["Forestry Tools",599674601,20240103,2401,{"$f":"_xlfn.XLOOKUP(B329,'Forestry Tools'!$F$13:$F$54,'Forestry Tools'!$N$13:$N$54)","v":0},20240201,2405,{"$f":"_xlfn.XLOOKUP(B329,'Forestry Tools'!$F$13:$F$54,'Forestry Tools'!$O$13:$O$54)","v":0},20240301,2409,{"$f":"_xlfn.XLOOKUP(B329,'Forestry Tools'!$F$13:$F$54,'Forestry Tools'!$P$13:$P$54)","v":0},20240402,2414,{"$f":"_xlfn.XLOOKUP(B329,'Forestry Tools'!$F$13:$F$54,'Forestry Tools'!$Q$13:$Q$54)","v":0},20240501,2418,{"$f":"_xlfn.XLOOKUP(B329,'Forestry Tools'!$F$13:$F$54,'Forestry Tools'!$R$13:$R$54)","v":0},20240603,2423,{"$f":"_xlfn.XLOOKUP(B329,'Forestry Tools'!$F$13:$F$54,'Forestry Tools'!$S$13:$S$54)","v":0},{"$f":"_xlfn.XLOOKUP(B329,'Forestry Tools'!$F$13:$F$54,'Forestry Tools'!$L$13:$L$54)","v":15.414999999999999}]
["Forestry Tools",546341601,20240103,2401,{"$f":"_xlfn.XLOOKUP(B330,'Forestry Tools'!$F$13:$F$54,'Forestry Tools'!$N$13:$N$54)","v":{"$error":"#N/A"}},20240201,2405,{"$f":"_xlfn.XLOOKUP(B330,'Forestry Tools'!$F$13:$F$54,'Forestry Tools'!$O$13:$O$54)","v":{"$error":"#N/A"}},20240301,2409,{"$f":"_xlfn.XLOOKUP(B330,'Forestry Tools'!$F$13:$F$54,'Forestry Tools'!$P$13:$P$54)","v":{"$error":"#N/A"}},20240402,2414,{"$f":"_xlfn.XLOOKUP(B330,'Forestry Tools'!$F$13:$F$54,'Forestry Tools'!$Q$13:$Q$54)","v":{"$error":"#N/A"}},20240501,2418,{"$f":"_xlfn.XLOOKUP(B330,'Forestry Tools'!$F$13:$F$54,'Forestry Tools'!$R$13:$R$54)","v":{"$error":"#N/A"}},20240603,2423,{"$f":"_xlfn.XLOOKUP(B330,'Forestry Tools'!$F$13:$F$54,'Forestry Tools'!$S$13:$S$54)","v":{"$error":"#N/A"}},{"$f":"_xlfn.XLOOKUP(B330,'Forestry Tools'!$F$13:$F$54,'Forestry Tools'!$L$13:$L$54)","v":{"$error":"#N/A"}}]
["Forestry Tools",546342201,20240103,2401,{"$f":"_xlfn.XLOOKUP(B331,'Forestry Tools'!$F$13:$F$54,'Forestry Tools'!$N$13:$N$54)","v":{"$error":"#N/A"}},20240201,2405,{"$f":"_xlfn.XLOOKUP(B331,'Forestry Tools'!$F$13:$F$54,'Forestry Tools'!$O$13:$O$54)","v":{"$error":"#N/A"}},20240301,2409,{"$f":"_xlfn.XLOOKUP(B331,'Forestry Tools'!$F$13:$F$54,'Forestry Tools'!$P$13:$P$54)","v":{"$error":"#N/A"}},20240402,2414,{"$f":"_xlfn.XLOOKUP(B331,'Forestry Tools'!$F$13:$F$54,'Forestry Tools'!$Q$13:$Q$54)","v":{"$error":"#N/A"}},20240501,2418,{"$f":"_xlfn.XLOOKUP(B331,'Forestry Tools'!$F$13:$F$54,'Forestry Tools'!$R$13:$R$54)","v":{"$error":"#N/A"}},20240603,2423,{"$f":"_xlfn.XLOOKUP(B331,'Forestry Tools'!$F$13:$F$54,'Forestry Tools'!$S$13:$S$54)","v":{"$error":"#N/A"}},{"$f":"_xlfn.XLOOKUP(B331,'Forestry Tools'!$F$13:$F$54,'Forestry Tools'!$L$13:$L$54)","v":{"$error":"#N/A"}}]
["Forestry Tools",599673501,20240103,2401,{"$f":"_xlfn.XLOOKUP(B332,'Forestry Tools'!$F$13:$F$54,'Forestry Tools'!$N$13:$N$54)","v":0},20240201,2405,{"$f":"_xlfn.XLOOKUP(B332,'Forestry Tools'!$F$13:$F$54,'Forestry Tools'!$O$13:$O$54)","v":0},20240301,2409,{"$f":"_xlfn.XLOOKUP(B332,'Forestry Tools'!$F$13:$F$54,'Forestry Tools'!$P$13:$P$54)","v":0},20240402,2414,{"$f":"_xlfn.XLOOKUP(B332,'Forestry Tools'!$F$13:$F$54,'Forestry Tools'!$Q$13:$Q$54)","v":0},20240501,2418,{"$f":"_xlfn.XLOOKUP(B332,'Forestry Tools'!$F$13:$F$54,'Forestry Tools'!$R$13:$R$54)","v":0},20240603,2423,{"$f":"_xlfn.XLOOKUP(B332,'Forestry Tools'!$F$13:$F$54,'Forestry Tools'!$S$13:$S$54)","v":0},{"$f":"_xlfn.XLOOKUP(B332,'Forestry Tools'!$F$13:$F$54,'Forestry Tools'!$L$13:$L$54)","v":35.83}]
["Forestry Tools",599673101,20240103,2401,{"$f":"_xlfn.XLOOKUP(B333,'Forestry Tools'!$F$13:$F$54,'Forestry Tools'!$N$13:$N$54)","v":0},20240201,2405,{"$f":"_xlfn.XLOOKUP(B333,'Forestry Tools'!$F$13:$F$54,'Forestry Tools'!$O$13:$O$54)","v":0},20240301,2409,{"$f":"_xlfn.XLOOKUP(B333,'Forestry Tools'!$F$13:$F$54,'Forestry Tools'!$P$13:$P$54)","v":0},20240402,2414,{"$f":"_xlfn.XLOOKUP(B333,'Forestry Tools'!$F$13:$F$54,'Forestry Tools'!$Q$13:$Q$54)","v":0},20240501,2418,{"$f":"_xlfn.XLOOKUP(B333,'Forestry Tools'!$F$13:$F$54,'Forestry Tools'!$R$13:$R$54)","v":0},20240603,2423,{"$f":"_xlfn.XLOOKUP(B333,'Forestry Tools'!$F$13:$F$54,'Forestry Tools'!$S$13:$S$54)","v":0},{"$f":"_xlfn.XLOOKUP(B333,'Forestry Tools'!$F$13:$F$54,'Forestry Tools'!$L$13:$L$54)","v":22.914999999999999}]
["Forestry Tools",598036101,20240103,2401,{"$f":"_xlfn.XLOOKUP(B334,'Forestry Tools'!$F$13:$F$54,'Forestry Tools'!$N$13:$N$54)","v":0},20240201,2405,{"$f":"_xlfn.XLOOKUP(B334,'Forestry Tools'!$F$13:$F$54,'Forestry Tools'!$O$13:$O$54)","v":0},20240301,2409,{"$f":"_xlfn.XLOOKUP(B334,'Forestry Tools'!$F$13:$F$54,'Forestry Tools'!$P$13:$P$54)","v":0},20240402,2414,{"$f":"_xlfn.XLOOKUP(B334,'Forestry Tools'!$F$13:$F$54,'Forestry Tools'!$Q$13:$Q$54)","v":0},20240501,2418,{"$f":"_xlfn.XLOOKUP(B334,'Forestry Tools'!$F$13:$F$54,'Forestry Tools'!$R$13:$R$54)","v":0},20240603,2423,{"$f":"_xlfn.XLOOKUP(B334,'Forestry Tools'!$F$13:$F$54,'Forestry Tools'!$S$13:$S$54)","v":0},{"$f":"_xlfn.XLOOKUP(B334,'Forestry Tools'!$F$13:$F$54,'Forestry Tools'!$L$13:$L$54)","v":12.494999999999999}]
["Forestry Tools",598035802,20240103,2401,{"$f":"_xlfn.XLOOKUP(B335,'Forestry Tools'!$F$13:$F$54,'Forestry Tools'!$N$13:$N$54)","v":0},20240201,2405,{"$f":"_xlfn.XLOOKUP(B335,'Forestry Tools'!$F$13:$F$54,'Forestry Tools'!$O$13:$O$54)","v":0},20240301,2409,{"$f":"_xlfn.XLOOKUP(B335,'Forestry Tools'!$F$13:$F$54,'Forestry Tools'!$P$13:$P$54)","v":0},20240402,2414,{"$f":"_xlfn.XLOOKUP(B335,'Forestry Tools'!$F$13:$F$54,'Forestry Tools'!$Q$13:$Q$54)","v":0},20240501,2418,{"$f":"_xlfn.XLOOKUP(B335,'Forestry Tools'!$F$13:$F$54,'Forestry Tools'!$R$13:$R$54)","v":0},20240603,2423,{"$f":"_xlfn.XLOOKUP(B335,'Forestry Tools'!$F$13:$F$54,'Forestry Tools'!$S$13:$S$54)","v":0},{"$f":"_xlfn.XLOOKUP(B335,'Forestry Tools'!$F$13:$F$54,'Forestry Tools'!$L$13:$L$54)","v":7.08}]
["Forestry Tools",597629401,20240103,2401,{"$f":"_xlfn.XLOOKUP(B336,'Forestry Tools'!$F$13:$F$54,'Forestry Tools'!$N$13:$N$54)","v":2},20240201,2405,{"$f":"_xlfn.XLOOKUP(B336,'Forestry Tools'!$F$13:$F$54,'Forestry Tools'!$O$13:$O$54)","v":0},20240301,2409,{"$f":"_xlfn.XLOOKUP(B336,'Forestry Tools'!$F$13:$F$54,'Forestry Tools'!$P$13:$P$54)","v":2},20240402,2414,{"$f":"_xlfn.XLOOKUP(B336,'Forestry Tools'!$F$13:$F$54,'Forestry Tools'!$Q$13:$Q$54)","v":0},20240501,2418,{"$f":"_xlfn.XLOOKUP(B336,'Forestry Tools'!$F$13:$F$54,'Forestry Tools'!$R$13:$R$54)","v":2},20240603,2423,{"$f":"_xlfn.XLOOKUP(B336,'Forestry Tools'!$F$13:$F$54,'Forestry Tools'!$S$13:$S$54)","v":0},{"$f":"_xlfn.XLOOKUP(B336,'Forestry Tools'!$F$13:$F$54,'Forestry Tools'!$L$13:$L$54)","v":42.494999999999997}]
["Forestry Tools",597629001,20240103,2401,{"$f":"_xlfn.XLOOKUP(B337,'Forestry Tools'!$F$13:$F$54,'Forestry Tools'!$N$13:$N$54)","v":0},20240201,2405,{"$f":"_xlfn.XLOOKUP(B337,'Forestry Tools'!$F$13:$F$54,'Forestry Tools'!$O$13:$O$54)","v":0},20240301,2409,{"$f":"_xlfn.XLOOKUP(B337,'Forestry Tools'!$F$13:$F$54,'Forestry Tools'!$P$13:$P$54)","v":0},20240402,2414,{"$f":"_xlfn.XLOOKUP(B337,'Forestry Tools'!$F$13:$F$54,'Forestry Tools'!$Q$13:$Q$54)","v":0},20240501,2418,{"$f":"_xlfn.XLOOKUP(B337,'Forestry Tools'!$F$13:$F$54,'Forestry Tools'!$R$13:$R$54)","v":0},20240603,2423,{"$f":"_xlfn.XLOOKUP(B337,'Forestry Tools'!$F$13:$F$54,'Forestry Tools'!$S$13:$S$54)","v":0},{"$f":"_xlfn.XLOOKUP(B337,'Forestry Tools'!$F$13:$F$54,'Forestry Tools'!$L$13:$L$54)","v":27.08}]
["Forestry Tools",597627701,20240103,2401,{"$f":"_xlfn.XLOOKUP(B338,'Forestry Tools'!$F$13:$F$54,'Forestry Tools'!$N$13:$N$54)","v":0},20240201,2405,{"$f":"_xlfn.XLOOKUP(B338,'Forestry Tools'!$F$13:$F$54,'Forestry Tools'!$O$13:$O$54)","v":0},20240301,2409,{"$f":"_xlfn.XLOOKUP(B338,'Forestry Tools'!$F$13:$F$54,'Forestry Tools'!$P$13:$P$54)","v":0},20240402,2414,{"$f":"_xlfn.XLOOKUP(B338,'Forestry Tools'!$F$13:$F$54,'Forestry Tools'!$Q$13:$Q$54)","v":0},20240501,2418,{"$f":"_xlfn.XLOOKUP(B338,'Forestry Tools'!$F$13:$F$54,'Forestry Tools'!$R$13:$R$54)","v":0},20240603,2423,{"$f":"_xlfn.XLOOKUP(B338,'Forestry Tools'!$F$13:$F$54,'Forestry Tools'!$S$13:$S$54)","v":0},{"$f":"_xlfn.XLOOKUP(B338,'Forestry Tools'!$F$13:$F$54,'Forestry Tools'!$L$13:$L$54)","v":15.83}]
["Forestry Tools",597418301,20240103,2401,{"$f":"_xlfn.XLOOKUP(B339,'Forestry Tools'!$F$13:$F$54,'Forestry Tools'!$N$13:$N$54)","v":0},20240201,2405,{"$f":"_xlfn.XLOOKUP(B339,'Forestry Tools'!$F$13:$F$54,'Forestry Tools'!$O$13:$O$54)","v":0},20240301,2409,{"$f":"_xlfn.XLOOKUP(B339,'Forestry Tools'!$F$13:$F$54,'Forestry Tools'!$P$13:$P$54)","v":0},20240402,2414,{"$f":"_xlfn.XLOOKUP(B339,'Forestry Tools'!$F$13:$F$54,'Forestry Tools'!$Q$13:$Q$54)","v":0},20240501,2418,{"$f":"_xlfn.XLOOKUP(B339,'Forestry Tools'!$F$13:$F$54,'Forestry Tools'!$R$13:$R$54)","v":0},20240603,2423,{"$f":"_xlfn.XLOOKUP(B339,'Forestry Tools'!$F$13:$F$54,'Forestry Tools'!$S$13:$S$54)","v":0},{"$f":"_xlfn.XLOOKUP(B339,'Forestry Tools'!$F$13:$F$54,'Forestry Tools'!$L$13:$L$54)","v":22.914999999999999}]
["Forestry Tools",586997602,20240103,2401,{"$f":"_xlfn.XLOOKUP(B340,'Forestry Tools'!$F$13:$F$54,'Forestry Tools'!$N$13:$N$54)","v":0},20240201,2405,{"$f":"_xlfn.XLOOKUP(B340,'Forestry Tools'!$F$13:$F$54,'Forestry Tools'!$O$13:$O$54)","v":0},20240301,2409,{"$f":"_xlfn.XLOOKUP(B340,'Forestry Tools'!$F$13:$F$54,'Forestry Tools'!$P$13:$P$54)","v":0},20240402,2414,{"$f":"_xlfn.XLOOKUP(B340,'Forestry Tools'!$F$13:$F$54,'Forestry Tools'!$Q$13:$Q$54)","v":0},20240501,2418,{"$f":"_xlfn.XLOOKUP(B340,'Forestry Tools'!$F$13:$F$54,'Forestry Tools'!$R$13:$R$54)","v":0},20240603,2423,{"$f":"_xlfn.XLOOKUP(B340,'Forestry Tools'!$F$13:$F$54,'Forestry Tools'!$S$13:$S$54)","v":0},{"$f":"_xlfn.XLOOKUP(B340,'Forestry Tools'!$F$13:$F$54,'Forestry Tools'!$L$13:$L$54)","v":34.58}]
["Forestry Tools",586997601,20240103,2401,{"$f":"_xlfn.XLOOKUP(B341,'Forestry Tools'!$F$13:$F$54,'Forestry Tools'!$N$13:$N$54)","v":0},20240201,2405,{"$f":"_xlfn.XLOOKUP(B341,'Forestry Tools'!$F$13:$F$54,'Forestry Tools'!$O$13:$O$54)","v":0},20240301,2409,{"$f":"_xlfn.XLOOKUP(B341,'Forestry Tools'!$F$13:$F$54,'Forestry Tools'!$P$13:$P$54)","v":0},20240402,2414,{"$f":"_xlfn.XLOOKUP(B341,'Forestry Tools'!$F$13:$F$54,'Forestry Tools'!$Q$13:$Q$54)","v":0},20240501,2418,{"$f":"_xlfn.XLOOKUP(B341,'Forestry Tools'!$F$13:$F$54,'Forestry Tools'!$R$13:$R$54)","v":0},20240603,2423,{"$f":"_xlfn.XLOOKUP(B341,'Forestry Tools'!$F$13:$F$54,'Forestry Tools'!$S$13:$S$54)","v":0},{"$f":"_xlfn.XLOOKUP(B341,'Forestry Tools'!$F$13:$F$54,'Forestry Tools'!$L$13:$L$54)","v":32.494999999999997}]
["Forestry Tools",586896901,20240103,2401,{"$f":"_xlfn.XLOOKUP(B342,'Forestry Tools'!$F$13:$F$54,'Forestry Tools'!$N$13:$N$54)","v":6},20240201,2405,{"$f":"_xlfn.XLOOKUP(B342,'Forestry Tools'!$F$13:$F$54,'Forestry Tools'!$O$13:$O$54)","v":4},20240301,2409,{"$f":"_xlfn.XLOOKUP(B342,'Forestry Tools'!$F$13:$F$54,'Forestry Tools'!$P$13:$P$54)","v":4},20240402,2414,{"$f":"_xlfn.XLOOKUP(B342,'Forestry Tools'!$F$13:$F$54,'Forestry Tools'!$Q$13:$Q$54)","v":4},20240501,2418,{"$f":"_xlfn.XLOOKUP(B342,'Forestry Tools'!$F$13:$F$54,'Forestry Tools'!$R$13:$R$54)","v":4},20240603,2423,{"$f":"_xlfn.XLOOKUP(B342,'Forestry Tools'!$F$13:$F$54,'Forestry Tools'!$S$13:$S$54)","v":4},{"$f":"_xlfn.XLOOKUP(B342,'Forestry Tools'!$F$13:$F$54,'Forestry Tools'!$L$13:$L$54)","v":38.33}]
["Forestry Tools",586885902,20240103,2401,{"$f":"_xlfn.XLOOKUP(B343,'Forestry Tools'!$F$13:$F$54,'Forestry Tools'!$N$13:$N$54)","v":0},20240201,2405,{"$f":"_xlfn.XLOOKUP(B343,'Forestry Tools'!$F$13:$F$54,'Forestry Tools'!$O$13:$O$54)","v":0},20240301,2409,{"$f":"_xlfn.XLOOKUP(B343,'Forestry Tools'!$F$13:$F$54,'Forestry Tools'!$P$13:$P$54)","v":0},20240402,2414,{"$f":"_xlfn.XLOOKUP(B343,'Forestry Tools'!$F$13:$F$54,'Forestry Tools'!$Q$13:$Q$54)","v":0},20240501,2418,{"$f":"_xlfn.XLOOKUP(B343,'Forestry Tools'!$F$13:$F$54,'Forestry Tools'!$R$13:$R$54)","v":0},20240603,2423,{"$f":"_xlfn.XLOOKUP(B343,'Forestry Tools'!$F$13:$F$54,'Forestry Tools'!$S$13:$S$54)","v":0},{"$f":"_xlfn.XLOOKUP(B343,'Forestry Tools'!$F$13:$F$54,'Forestry Tools'!$L$13:$L$54)","v":17.495000000000001}]
["Forestry Tools",586885901,20240103,2401,{"$f":"_xlfn.XLOOKUP(B344,'Forestry Tools'!$F$13:$F$54,'Forestry Tools'!$N$13:$N$54)","v":0},20240201,2405,{"$f":"_xlfn.XLOOKUP(B344,'Forestry Tools'!$F$13:$F$54,'Forestry Tools'!$O$13:$O$54)","v":0},20240301,2409,{"$f":"_xlfn.XLOOKUP(B344,'Forestry Tools'!$F$13:$F$54,'Forestry Tools'!$P$13:$P$54)","v":0},20240402,2414,{"$f":"_xlfn.XLOOKUP(B344,'Forestry Tools'!$F$13:$F$54,'Forestry Tools'!$Q$13:$Q$54)","v":0},20240501,2418,{"$f":"_xlfn.XLOOKUP(B344,'Forestry Tools'!$F$13:$F$54,'Forestry Tools'!$R$13:$R$54)","v":0},20240603,2423,{"$f":"_xlfn.XLOOKUP(B344,'Forestry Tools'!$F$13:$F$54,'Forestry Tools'!$S$13:$S$54)","v":0},{"$f":"_xlfn.XLOOKUP(B344,'Forestry Tools'!$F$13:$F$54,'Forestry Tools'!$L$13:$L$54)","v":12.494999999999999}]
["Forestry Tools",580800301,20240103,2401,{"$f":"_xlfn.XLOOKUP(B345,'Forestry Tools'!$F$13:$F$54,'Forestry Tools'!$N$13:$N$54)","v":0},20240201,2405,{"$f":"_xlfn.XLOOKUP(B345,'Forestry Tools'!$F$13:$F$54,'Forestry Tools'!$O$13:$O$54)","v":0},20240301,2409,{"$f":"_xlfn.XLOOKUP(B345,'Forestry Tools'!$F$13:$F$54,'Forestry Tools'!$P$13:$P$54)","v":0},20240402,2414,{"$f":"_xlfn.XLOOKUP(B345,'Forestry Tools'!$F$13:$F$54,'Forestry Tools'!$Q$13:$Q$54)","v":0},20240501,2418,{"$f":"_xlfn.XLOOKUP(B345,'Forestry Tools'!$F$13:$F$54,'Forestry Tools'!$R$13:$R$54)","v":0},20240603,2423,{"$f":"_xlfn.XLOOKUP(B345,'Forestry Tools'!$F$13:$F$54,'Forestry Tools'!$S$13:$S$54)","v":0},{"$f":"_xlfn.XLOOKUP(B345,'Forestry Tools'!$F$13:$F$54,'Forestry Tools'!$L$13:$L$54)","v":8.33}]
["Forestry Tools",580761401,20240103,2401,{"$f":"_xlfn.XLOOKUP(B346,'Forestry Tools'!$F$13:$F$54,'Forestry Tools'!$N$13:$N$54)","v":10},20240201,2405,{"$f":"_xlfn.XLOOKUP(B346,'Forestry Tools'!$F$13:$F$54,'Forestry Tools'!$O$13:$O$54)","v":10},20240301,2409,{"$f":"_xlfn.XLOOKUP(B346,'Forestry Tools'!$F$13:$F$54,'Forestry Tools'!$P$13:$P$54)","v":10},20240402,2414,{"$f":"_xlfn.XLOOKUP(B346,'Forestry Tools'!$F$13:$F$54,'Forestry Tools'!$Q$13:$Q$54)","v":10},20240501,2418,{"$f":"_xlfn.XLOOKUP(B346,'Forestry Tools'!$F$13:$F$54,'Forestry Tools'!$R$13:$R$54)","v":10},20240603,2423,{"$f":"_xlfn.XLOOKUP(B346,'Forestry Tools'!$F$13:$F$54,'Forestry Tools'!$S$13:$S$54)","v":0},{"$f":"_xlfn.XLOOKUP(B346,'Forestry Tools'!$F$13:$F$54,'Forestry Tools'!$L$13:$L$54)","v":44.994999999999997}]
["Forestry Tools",580761301,20240103,2401,{"$f":"_xlfn.XLOOKUP(B347,'Forestry Tools'!$F$13:$F$54,'Forestry Tools'!$N$13:$N$54)","v":4},20240201,2405,{"$f":"_xlfn.XLOOKUP(B347,'Forestry Tools'!$F$13:$F$54,'Forestry Tools'!$O$13:$O$54)","v":2},20240301,2409,{"$f":"_xlfn.XLOOKUP(B347,'Forestry Tools'!$F$13:$F$54,'Forestry Tools'!$P$13:$P$54)","v":2},20240402,2414,{"$f":"_xlfn.XLOOKUP(B347,'Forestry Tools'!$F$13:$F$54,'Forestry Tools'!$Q$13:$Q$54)","v":2},20240501,2418,{"$f":"_xlfn.XLOOKUP(B347,'Forestry Tools'!$F$13:$F$54,'Forestry Tools'!$R$13:$R$54)","v":2},20240603,2423,{"$f":"_xlfn.XLOOKUP(B347,'Forestry Tools'!$F$13:$F$54,'Forestry Tools'!$S$13:$S$54)","v":2},{"$f":"_xlfn.XLOOKUP(B347,'Forestry Tools'!$F$13:$F$54,'Forestry Tools'!$L$13:$L$54)","v":38.33}]
["Forestry Tools",580761201,20240103,2401,{"$f":"_xlfn.XLOOKUP(B348,'Forestry Tools'!$F$13:$F$54,'Forestry Tools'!$N$13:$N$54)","v":4},20240201,2405,{"$f":"_xlfn.XLOOKUP(B348,'Forestry Tools'!$F$13:$F$54,'Forestry Tools'!$O$13:$O$54)","v":2},20240301,2409,{"$f":"_xlfn.XLOOKUP(B348,'Forestry Tools'!$F$13:$F$54,'Forestry Tools'!$P$13:$P$54)","v":2},20240402,2414,{"$f":"_xlfn.XLOOKUP(B348,'Forestry Tools'!$F$13:$F$54,'Forestry Tools'!$Q$13:$Q$54)","v":2},20240501,2418,{"$f":"_xlfn.XLOOKUP(B348,'Forestry Tools'!$F$13:$F$54,'Forestry Tools'!$R$13:$R$54)","v":2},20240603,2423,{"$f":"_xlfn.XLOOKUP(B348,'Forestry Tools'!$F$13:$F$54,'Forestry Tools'!$S$13:$S$54)","v":2},{"$f":"_xlfn.XLOOKUP(B348,'Forestry Tools'!$F$13:$F$54,'Forestry Tools'!$L$13:$L$54)","v":41.664999999999999}]
["Forestry Tools",580761101,20240103,2401,{"$f":"_xlfn.XLOOKUP(B349,'Forestry Tools'!$F$13:$F$54,'Forestry Tools'!$N$13:$N$54)","v":4},20240201,2405,{"$f":"_xlfn.XLOOKUP(B349,'Forestry Tools'!$F$13:$F$54,'Forestry Tools'!$O$13:$O$54)","v":2},20240301,2409,{"$f":"_xlfn.XLOOKUP(B349,'Forestry Tools'!$F$13:$F$54,'Forestry Tools'!$P$13:$P$54)","v":2},20240402,2414,{"$f":"_xlfn.XLOOKUP(B349,'Forestry Tools'!$F$13:$F$54,'Forestry Tools'!$Q$13:$Q$54)","v":2},20240501,2418,{"$f":"_xlfn.XLOOKUP(B349,'Forestry Tools'!$F$13:$F$54,'Forestry Tools'!$R$13:$R$54)","v":2},20240603,2423,{"$f":"_xlfn.XLOOKUP(B349,'Forestry Tools'!$F$13:$F$54,'Forestry Tools'!$S$13:$S$54)","v":2},{"$f":"_xlfn.XLOOKUP(B349,'Forestry Tools'!$F$13:$F$54,'Forestry Tools'!$L$13:$L$54)","v":37.08}]
["Forestry Tools",580761001,20240103,2401,{"$f":"_xlfn.XLOOKUP(B350,'Forestry Tools'!$F$13:$F$54,'Forestry Tools'!$N$13:$N$54)","v":4},20240201,2405,{"$f":"_xlfn.XLOOKUP(B350,'Forestry Tools'!$F$13:$F$54,'Forestry Tools'!$O$13:$O$54)","v":1},20240301,2409,{"$f":"_xlfn.XLOOKUP(B350,'Forestry Tools'!$F$13:$F$54,'Forestry Tools'!$P$13:$P$54)","v":1},20240402,2414,{"$f":"_xlfn.XLOOKUP(B350,'Forestry Tools'!$F$13:$F$54,'Forestry Tools'!$Q$13:$Q$54)","v":1},20240501,2418,{"$f":"_xlfn.XLOOKUP(B350,'Forestry Tools'!$F$13:$F$54,'Forestry Tools'!$R$13:$R$54)","v":1},20240603,2423,{"$f":"_xlfn.XLOOKUP(B350,'Forestry Tools'!$F$13:$F$54,'Forestry Tools'!$S$13:$S$54)","v":1},{"$f":"_xlfn.XLOOKUP(B350,'Forestry Tools'!$F$13:$F$54,'Forestry Tools'!$L$13:$L$54)","v":24.995000000000001}]
["Forestry Tools",579692802,20240103,2401,{"$f":"_xlfn.XLOOKUP(B351,'Forestry Tools'!$F$13:$F$54,'Forestry Tools'!$N$13:$N$54)","v":2},20240201,2405,{"$f":"_xlfn.XLOOKUP(B351,'Forestry Tools'!$F$13:$F$54,'Forestry Tools'!$O$13:$O$54)","v":0},20240301,2409,{"$f":"_xlfn.XLOOKUP(B351,'Forestry Tools'!$F$13:$F$54,'Forestry Tools'!$P$13:$P$54)","v":0},20240402,2414,{"$f":"_xlfn.XLOOKUP(B351,'Forestry Tools'!$F$13:$F$54,'Forestry Tools'!$Q$13:$Q$54)","v":0},20240501,2418,{"$f":"_xlfn.XLOOKUP(B351,'Forestry Tools'!$F$13:$F$54,'Forestry Tools'!$R$13:$R$54)","v":0},20240603,2423,{"$f":"_xlfn.XLOOKUP(B351,'Forestry Tools'!$F$13:$F$54,'Forestry Tools'!$S$13:$S$54)","v":0},{"$f":"_xlfn.XLOOKUP(B351,'Forestry Tools'!$F$13:$F$54,'Forestry Tools'!$L$13:$L$54)","v":22.495000000000001}]
["Forestry Tools",579692801,20240103,2401,{"$f":"_xlfn.XLOOKUP(B352,'Forestry Tools'!$F$13:$F$54,'Forestry Tools'!$N$13:$N$54)","v":4},20240201,2405,{"$f":"_xlfn.XLOOKUP(B352,'Forestry Tools'!$F$13:$F$54,'Forestry Tools'!$O$13:$O$54)","v":0},20240301,2409,{"$f":"_xlfn.XLOOKUP(B352,'Forestry Tools'!$F$13:$F$54,'Forestry Tools'!$P$13:$P$54)","v":4},20240402,2414,{"$f":"_xlfn.XLOOKUP(B352,'Forestry Tools'!$F$13:$F$54,'Forestry Tools'!$Q$13:$Q$54)","v":0},20240501,2418,{"$f":"_xlfn.XLOOKUP(B352,'Forestry Tools'!$F$13:$F$54,'Forestry Tools'!$R$13:$R$54)","v":4},20240603,2423,{"$f":"_xlfn.XLOOKUP(B352,'Forestry Tools'!$F$13:$F$54,'Forestry Tools'!$S$13:$S$54)","v":0},{"$f":"_xlfn.XLOOKUP(B352,'Forestry Tools'!$F$13:$F$54,'Forestry Tools'!$L$13:$L$54)","v":19.164999999999999}]
["Forestry Tools",579000601,20240103,2401,{"$f":"_xlfn.XLOOKUP(B353,'Forestry Tools'!$F$13:$F$54,'Forestry Tools'!$N$13:$N$54)","v":0},20240201,2405,{"$f":"_xlfn.XLOOKUP(B353,'Forestry Tools'!$F$13:$F$54,'Forestry Tools'!$O$13:$O$54)","v":0},20240301,2409,{"$f":"_xlfn.XLOOKUP(B353,'Forestry Tools'!$F$13:$F$54,'Forestry Tools'!$P$13:$P$54)","v":0},20240402,2414,{"$f":"_xlfn.XLOOKUP(B353,'Forestry Tools'!$F$13:$F$54,'Forestry Tools'!$Q$13:$Q$54)","v":0},20240501,2418,{"$f":"_xlfn.XLOOKUP(B353,'Forestry Tools'!$F$13:$F$54,'Forestry Tools'!$R$13:$R$54)","v":0},20240603,2423,{"$f":"_xlfn.XLOOKUP(B353,'Forestry Tools'!$F$13:$F$54,'Forestry Tools'!$S$13:$S$54)","v":0},{"$f":"_xlfn.XLOOKUP(B353,'Forestry Tools'!$F$13:$F$54,'Forestry Tools'!$L$13:$L$54)","v":24.995000000000001}]
["Forestry Tools",578077101,20240103,2401,{"$f":"_xlfn.XLOOKUP(B354,'Forestry Tools'!$F$13:$F$54,'Forestry Tools'!$N$13:$N$54)","v":0},20240201,2405,{"$f":"_xlfn.XLOOKUP(B354,'Forestry Tools'!$F$13:$F$54,'Forestry Tools'!$O$13:$O$54)","v":0},20240301,2409,{"$f":"_xlfn.XLOOKUP(B354,'Forestry Tools'!$F$13:$F$54,'Forestry Tools'!$P$13:$P$54)","v":0},20240402,2414,{"$f":"_xlfn.XLOOKUP(B354,'Forestry Tools'!$F$13:$F$54,'Forestry Tools'!$Q$13:$Q$54)","v":0},20240501,2418,{"$f":"_xlfn.XLOOKUP(B354,'Forestry Tools'!$F$13:$F$54,'Forestry Tools'!$R$13:$R$54)","v":0},20240603,2423,{"$f":"_xlfn.XLOOKUP(B354,'Forestry Tools'!$F$13:$F$54,'Forestry Tools'!$S$13:$S$54)","v":0},{"$f":"_xlfn.XLOOKUP(B354,'Forestry Tools'!$F$13:$F$54,'Forestry Tools'!$L$13:$L$54)","v":8.7449999999999992}]
["Forestry Tools",577259201,20240103,2401,{"$f":"_xlfn.XLOOKUP(B355,'Forestry Tools'!$F$13:$F$54,'Forestry Tools'!$N$13:$N$54)","v":0},20240201,2405,{"$f":"_xlfn.XLOOKUP(B355,'Forestry Tools'!$F$13:$F$54,'Forestry Tools'!$O$13:$O$54)","v":0},20240301,2409,{"$f":"_xlfn.XLOOKUP(B355,'Forestry Tools'!$F$13:$F$54,'Forestry Tools'!$P$13:$P$54)","v":0},20240402,2414,{"$f":"_xlfn.XLOOKUP(B355,'Forestry Tools'!$F$13:$F$54,'Forestry Tools'!$Q$13:$Q$54)","v":0},20240501,2418,{"$f":"_xlfn.XLOOKUP(B355,'Forestry Tools'!$F$13:$F$54,'Forestry Tools'!$R$13:$R$54)","v":0},20240603,2423,{"$f":"_xlfn.XLOOKUP(B355,'Forestry Tools'!$F$13:$F$54,'Forestry Tools'!$S$13:$S$54)","v":0},{"$f":"_xlfn.XLOOKUP(B355,'Forestry Tools'!$F$13:$F$54,'Forestry Tools'!$L$13:$L$54)","v":18.745000000000001}]
["Forestry Tools",576926801,20240103,2401,{"$f":"_xlfn.XLOOKUP(B356,'Forestry Tools'!$F$13:$F$54,'Forestry Tools'!$N$13:$N$54)","v":0},20240201,2405,{"$f":"_xlfn.XLOOKUP(B356,'Forestry Tools'!$F$13:$F$54,'Forestry Tools'!$O$13:$O$54)","v":0},20240301,2409,{"$f":"_xlfn.XLOOKUP(B356,'Forestry Tools'!$F$13:$F$54,'Forestry Tools'!$P$13:$P$54)","v":0},20240402,2414,{"$f":"_xlfn.XLOOKUP(B356,'Forestry Tools'!$F$13:$F$54,'Forestry Tools'!$Q$13:$Q$54)","v":0},20240501,2418,{"$f":"_xlfn.XLOOKUP(B356,'Forestry Tools'!$F$13:$F$54,'Forestry Tools'!$R$13:$R$54)","v":0},20240603,2423,{"$f":"_xlfn.XLOOKUP(B356,'Forestry Tools'!$F$13:$F$54,'Forestry Tools'!$S$13:$S$54)","v":0},{"$f":"_xlfn.XLOOKUP(B356,'Forestry Tools'!$F$13:$F$54,'Forestry Tools'!$L$13:$L$54)","v":30.83}]
["Forestry Tools",576926701,20240103,2401,{"$f":"_xlfn.XLOOKUP(B357,'Forestry Tools'!$F$13:$F$54,'Forestry Tools'!$N$13:$N$54)","v":0},20240201,2405,{"$f":"_xlfn.XLOOKUP(B357,'Forestry Tools'!$F$13:$F$54,'Forestry Tools'!$O$13:$O$54)","v":0},20240301,2409,{"$f":"_xlfn.XLOOKUP(B357,'Forestry Tools'!$F$13:$F$54,'Forestry Tools'!$P$13:$P$54)","v":0},20240402,2414,{"$f":"_xlfn.XLOOKUP(B357,'Forestry Tools'!$F$13:$F$54,'Forestry Tools'!$Q$13:$Q$54)","v":0},20240501,2418,{"$f":"_xlfn.XLOOKUP(B357,'Forestry Tools'!$F$13:$F$54,'Forestry Tools'!$R$13:$R$54)","v":0},20240603,2423,{"$f":"_xlfn.XLOOKUP(B357,'Forestry Tools'!$F$13:$F$54,'Forestry Tools'!$S$13:$S$54)","v":0},{"$f":"_xlfn.XLOOKUP(B357,'Forestry Tools'!$F$13:$F$54,'Forestry Tools'!$L$13:$L$54)","v":45.414999999999999}]
["Forestry Tools",576926501,20240103,2401,{"$f":"_xlfn.XLOOKUP(B358,'Forestry Tools'!$F$13:$F$54,'Forestry Tools'!$N$13:$N$54)","v":0},20240201,2405,{"$f":"_xlfn.XLOOKUP(B358,'Forestry Tools'!$F$13:$F$54,'Forestry Tools'!$O$13:$O$54)","v":0},20240301,2409,{"$f":"_xlfn.XLOOKUP(B358,'Forestry Tools'!$F$13:$F$54,'Forestry Tools'!$P$13:$P$54)","v":0},20240402,2414,{"$f":"_xlfn.XLOOKUP(B358,'Forestry Tools'!$F$13:$F$54,'Forestry Tools'!$Q$13:$Q$54)","v":0},20240501,2418,{"$f":"_xlfn.XLOOKUP(B358,'Forestry Tools'!$F$13:$F$54,'Forestry Tools'!$R$13:$R$54)","v":0},20240603,2423,{"$f":"_xlfn.XLOOKUP(B358,'Forestry Tools'!$F$13:$F$54,'Forestry Tools'!$S$13:$S$54)","v":0},{"$f":"_xlfn.XLOOKUP(B358,'Forestry Tools'!$F$13:$F$54,'Forestry Tools'!$L$13:$L$54)","v":41.664999999999999}]
["Forestry Tools",576926401,20240103,2401,{"$f":"_xlfn.XLOOKUP(B359,'Forestry Tools'!$F$13:$F$54,'Forestry Tools'!$N$13:$N$54)","v":0},20240201,2405,{"$f":"_xlfn.XLOOKUP(B359,'Forestry Tools'!$F$13:$F$54,'Forestry Tools'!$O$13:$O$54)","v":0},20240301,2409,{"$f":"_xlfn.XLOOKUP(B359,'Forestry Tools'!$F$13:$F$54,'Forestry Tools'!$P$13:$P$54)","v":0},20240402,2414,{"$f":"_xlfn.XLOOKUP(B359,'Forestry Tools'!$F$13:$F$54,'Forestry Tools'!$Q$13:$Q$54)","v":0},20240501,2418,{"$f":"_xlfn.XLOOKUP(B359,'Forestry Tools'!$F$13:$F$54,'Forestry Tools'!$R$13:$R$54)","v":0},20240603,2423,{"$f":"_xlfn.XLOOKUP(B359,'Forestry Tools'!$F$13:$F$54,'Forestry Tools'!$S$13:$S$54)","v":0},{"$f":"_xlfn.XLOOKUP(B359,'Forestry Tools'!$F$13:$F$54,'Forestry Tools'!$L$13:$L$54)","v":29.164999999999999}]
["Forestry Tools",576926201,20240103,2401,{"$f":"_xlfn.XLOOKUP(B360,'Forestry Tools'!$F$13:$F$54,'Forestry Tools'!$N$13:$N$54)","v":0},20240201,2405,{"$f":"_xlfn.XLOOKUP(B360,'Forestry Tools'!$F$13:$F$54,'Forestry Tools'!$O$13:$O$54)","v":0},20240301,2409,{"$f":"_xlfn.XLOOKUP(B360,'Forestry Tools'!$F$13:$F$54,'Forestry Tools'!$P$13:$P$54)","v":0},20240402,2414,{"$f":"_xlfn.XLOOKUP(B360,'Forestry Tools'!$F$13:$F$54,'Forestry Tools'!$Q$13:$Q$54)","v":0},20240501,2418,{"$f":"_xlfn.XLOOKUP(B360,'Forestry Tools'!$F$13:$F$54,'Forestry Tools'!$R$13:$R$54)","v":0},20240603,2423,{"$f":"_xlfn.XLOOKUP(B360,'Forestry Tools'!$F$13:$F$54,'Forestry Tools'!$S$13:$S$54)","v":0},{"$f":"_xlfn.XLOOKUP(B360,'Forestry Tools'!$F$13:$F$54,'Forestry Tools'!$L$13:$L$54)","v":37.08}]
["Forestry Tools",574387601,20240103,2401,{"$f":"_xlfn.XLOOKUP(B361,'Forestry Tools'!$F$13:$F$54,'Forestry Tools'!$N$13:$N$54)","v":10},20240201,2405,{"$f":"_xlfn.XLOOKUP(B361,'Forestry Tools'!$F$13:$F$54,'Forestry Tools'!$O$13:$O$54)","v":10},20240301,2409,{"$f":"_xlfn.XLOOKUP(B361,'Forestry Tools'!$F$13:$F$54,'Forestry Tools'!$P$13:$P$54)","v":0},20240402,2414,{"$f":"_xlfn.XLOOKUP(B361,'Forestry Tools'!$F$13:$F$54,'Forestry Tools'!$Q$13:$Q$54)","v":10},20240501,2418,{"$f":"_xlfn.XLOOKUP(B361,'Forestry Tools'!$F$13:$F$54,'Forestry Tools'!$R$13:$R$54)","v":0},20240603,2423,{"$f":"_xlfn.XLOOKUP(B361,'Forestry Tools'!$F$13:$F$54,'Forestry Tools'!$S$13:$S$54)","v":10},{"$f":"_xlfn.XLOOKUP(B361,'Forestry Tools'!$F$13:$F$54,'Forestry Tools'!$L$13:$L$54)","v":27.08}]
["Forestry Tools",574387501,20240103,2401,{"$f":"_xlfn.XLOOKUP(B362,'Forestry Tools'!$F$13:$F$54,'Forestry Tools'!$N$13:$N$54)","v":10},20240201,2405,{"$f":"_xlfn.XLOOKUP(B362,'Forestry Tools'!$F$13:$F$54,'Forestry Tools'!$O$13:$O$54)","v":10},20240301,2409,{"$f":"_xlfn.XLOOKUP(B362,'Forestry Tools'!$F$13:$F$54,'Forestry Tools'!$P$13:$P$54)","v":0},20240402,2414,{"$f":"_xlfn.XLOOKUP(B362,'Forestry Tools'!$F$13:$F$54,'Forestry Tools'!$Q$13:$Q$54)","v":10},20240501,2418,{"$f":"_xlfn.XLOOKUP(B362,'Forestry Tools'!$F$13:$F$54,'Forestry Tools'!$R$13:$R$54)","v":0},20240603,2423,{"$f":"_xlfn.XLOOKUP(B362,'Forestry Tools'!$F$13:$F$54,'Forestry Tools'!$S$13:$S$54)","v":10},{"$f":"_xlfn.XLOOKUP(B362,'Forestry Tools'!$F$13:$F$54,'Forestry Tools'!$L$13:$L$54)","v":17.495000000000001}]
["Forestry Tools",574387401,20240103,2401,{"$f":"_xlfn.XLOOKUP(B363,'Forestry Tools'!$F$13:$F$54,'Forestry Tools'!$N$13:$N$54)","v":0},20240201,2405,{"$f":"_xlfn.XLOOKUP(B363,'Forestry Tools'!$F$13:$F$54,'Forestry Tools'!$O$13:$O$54)","v":0},20240301,2409,{"$f":"_xlfn.XLOOKUP(B363,'Forestry Tools'!$F$13:$F$54,'Forestry Tools'!$P$13:$P$54)","v":0},20240402,2414,{"$f":"_xlfn.XLOOKUP(B363,'Forestry Tools'!$F$13:$F$54,'Forestry Tools'!$Q$13:$Q$54)","v":0},20240501,2418,{"$f":"_xlfn.XLOOKUP(B363,'Forestry Tools'!$F$13:$F$54,'Forestry Tools'!$R$13:$R$54)","v":0},20240603,2423,{"$f":"_xlfn.XLOOKUP(B363,'Forestry Tools'!$F$13:$F$54,'Forestry Tools'!$S$13:$S$54)","v":0},{"$f":"_xlfn.XLOOKUP(B363,'Forestry Tools'!$F$13:$F$54,'Forestry Tools'!$L$13:$L$54)","v":15.83}]
["Forestry Tools",574387201,20240103,2401,{"$f":"_xlfn.XLOOKUP(B364,'Forestry Tools'!$F$13:$F$54,'Forestry Tools'!$N$13:$N$54)","v":4},20240201,2405,{"$f":"_xlfn.XLOOKUP(B364,'Forestry Tools'!$F$13:$F$54,'Forestry Tools'!$O$13:$O$54)","v":2},20240301,2409,{"$f":"_xlfn.XLOOKUP(B364,'Forestry Tools'!$F$13:$F$54,'Forestry Tools'!$P$13:$P$54)","v":0},20240402,2414,{"$f":"_xlfn.XLOOKUP(B364,'Forestry Tools'!$F$13:$F$54,'Forestry Tools'!$Q$13:$Q$54)","v":2},20240501,2418,{"$f":"_xlfn.XLOOKUP(B364,'Forestry Tools'!$F$13:$F$54,'Forestry Tools'!$R$13:$R$54)","v":0},20240603,2423,{"$f":"_xlfn.XLOOKUP(B364,'Forestry Tools'!$F$13:$F$54,'Forestry Tools'!$S$13:$S$54)","v":2},{"$f":"_xlfn.XLOOKUP(B364,'Forestry Tools'!$F$13:$F$54,'Forestry Tools'!$L$13:$L$54)","v":60.414999999999999}]
["Forestry Tools",574387101,20240103,2401,{"$f":"_xlfn.XLOOKUP(B365,'Forestry Tools'!$F$13:$F$54,'Forestry Tools'!$N$13:$N$54)","v":0},20240201,2405,{"$f":"_xlfn.XLOOKUP(B365,'Forestry Tools'!$F$13:$F$54,'Forestry Tools'!$O$13:$O$54)","v":0},20240301,2409,{"$f":"_xlfn.XLOOKUP(B365,'Forestry Tools'!$F$13:$F$54,'Forestry Tools'!$P$13:$P$54)","v":0},20240402,2414,{"$f":"_xlfn.XLOOKUP(B365,'Forestry Tools'!$F$13:$F$54,'Forestry Tools'!$Q$13:$Q$54)","v":0},20240501,2418,{"$f":"_xlfn.XLOOKUP(B365,'Forestry Tools'!$F$13:$F$54,'Forestry Tools'!$R$13:$R$54)","v":0},20240603,2423,{"$f":"_xlfn.XLOOKUP(B365,'Forestry Tools'!$F$13:$F$54,'Forestry Tools'!$S$13:$S$54)","v":0},{"$f":"_xlfn.XLOOKUP(B365,'Forestry Tools'!$F$13:$F$54,'Forestry Tools'!$L$13:$L$54)","v":29.164999999999999}]
["Forestry Tools",531311701,20240103,2401,{"$f":"_xlfn.XLOOKUP(B366,'Forestry Tools'!$F$13:$F$54,'Forestry Tools'!$N$13:$N$54)","v":0},20240201,2405,{"$f":"_xlfn.XLOOKUP(B366,'Forestry Tools'!$F$13:$F$54,'Forestry Tools'!$O$13:$O$54)","v":0},20240301,2409,{"$f":"_xlfn.XLOOKUP(B366,'Forestry Tools'!$F$13:$F$54,'Forestry Tools'!$P$13:$P$54)","v":0},20240402,2414,{"$f":"_xlfn.XLOOKUP(B366,'Forestry Tools'!$F$13:$F$54,'Forestry Tools'!$Q$13:$Q$54)","v":0},20240501,2418,{"$f":"_xlfn.XLOOKUP(B366,'Forestry Tools'!$F$13:$F$54,'Forestry Tools'!$R$13:$R$54)","v":0},20240603,2423,{"$f":"_xlfn.XLOOKUP(B366,'Forestry Tools'!$F$13:$F$54,'Forestry Tools'!$S$13:$S$54)","v":0},{"$f":"_xlfn.XLOOKUP(B366,'Forestry Tools'!$F$13:$F$54,'Forestry Tools'!$L$13:$L$54)","v":45.83}]
["Forestry Tools",531300872,20240103,2401,{"$f":"_xlfn.XLOOKUP(B367,'Forestry Tools'!$F$13:$F$54,'Forestry Tools'!$N$13:$N$54)","v":0},20240201,2405,{"$f":"_xlfn.XLOOKUP(B367,'Forestry Tools'!$F$13:$F$54,'Forestry Tools'!$O$13:$O$54)","v":6},20240301,2409,{"$f":"_xlfn.XLOOKUP(B367,'Forestry Tools'!$F$13:$F$54,'Forestry Tools'!$P$13:$P$54)","v":0},20240402,2414,{"$f":"_xlfn.XLOOKUP(B367,'Forestry Tools'!$F$13:$F$54,'Forestry Tools'!$Q$13:$Q$54)","v":0},20240501,2418,{"$f":"_xlfn.XLOOKUP(B367,'Forestry Tools'!$F$13:$F$54,'Forestry Tools'!$R$13:$R$54)","v":0},20240603,2423,{"$f":"_xlfn.XLOOKUP(B367,'Forestry Tools'!$F$13:$F$54,'Forestry Tools'!$S$13:$S$54)","v":0},{"$f":"_xlfn.XLOOKUP(B367,'Forestry Tools'!$F$13:$F$54,'Forestry Tools'!$L$13:$L$54)","v":23.745000000000001}]
["Forestry Tools",505694746,20240103,2401,{"$f":"_xlfn.XLOOKUP(B368,'Forestry Tools'!$F$13:$F$54,'Forestry Tools'!$N$13:$N$54)","v":0},20240201,2405,{"$f":"_xlfn.XLOOKUP(B368,'Forestry Tools'!$F$13:$F$54,'Forestry Tools'!$O$13:$O$54)","v":0},20240301,2409,{"$f":"_xlfn.XLOOKUP(B368,'Forestry Tools'!$F$13:$F$54,'Forestry Tools'!$P$13:$P$54)","v":0},20240402,2414,{"$f":"_xlfn.XLOOKUP(B368,'Forestry Tools'!$F$13:$F$54,'Forestry Tools'!$Q$13:$Q$54)","v":0},20240501,2418,{"$f":"_xlfn.XLOOKUP(B368,'Forestry Tools'!$F$13:$F$54,'Forestry Tools'!$R$13:$R$54)","v":0},20240603,2423,{"$f":"_xlfn.XLOOKUP(B368,'Forestry Tools'!$F$13:$F$54,'Forestry Tools'!$S$13:$S$54)","v":0},{"$f":"_xlfn.XLOOKUP(B368,'Forestry Tools'!$F$13:$F$54,'Forestry Tools'!$L$13:$L$54)","v":17.079999999999998}]
["Forestry Tools",505694730,20240103,2401,{"$f":"_xlfn.XLOOKUP(B369,'Forestry Tools'!$F$13:$F$54,'Forestry Tools'!$N$13:$N$54)","v":0},20240201,2405,{"$f":"_xlfn.XLOOKUP(B369,'Forestry Tools'!$F$13:$F$54,'Forestry Tools'!$O$13:$O$54)","v":0},20240301,2409,{"$f":"_xlfn.XLOOKUP(B369,'Forestry Tools'!$F$13:$F$54,'Forestry Tools'!$P$13:$P$54)","v":0},20240402,2414,{"$f":"_xlfn.XLOOKUP(B369,'Forestry Tools'!$F$13:$F$54,'Forestry Tools'!$Q$13:$Q$54)","v":0},20240501,2418,{"$f":"_xlfn.XLOOKUP(B369,'Forestry Tools'!$F$13:$F$54,'Forestry Tools'!$R$13:$R$54)","v":0},20240603,2423,{"$f":"_xlfn.XLOOKUP(B369,'Forestry Tools'!$F$13:$F$54,'Forestry Tools'!$S$13:$S$54)","v":0},{"$f":"_xlfn.XLOOKUP(B369,'Forestry Tools'!$F$13:$F$54,'Forestry Tools'!$L$13:$L$54)","v":14.164999999999999}]
["Gloves",599651112,20240103,2401,{"$f":"_xlfn.XLOOKUP(B370,Gloves!$F$13:$F$58,Gloves!$N$13:$N$58)","v":0},20240201,2405,{"$f":"_xlfn.XLOOKUP(B370,Gloves!$F$13:$F$58,Gloves!$O$13:$O$58)","v":0},20240301,2409,{"$f":"_xlfn.XLOOKUP(B370,Gloves!$F$13:$F$58,Gloves!$P$13:$P$58)","v":0},20240402,2414,{"$f":"_xlfn.XLOOKUP(B370,Gloves!$F$13:$F$58,Gloves!$Q$13:$Q$58)","v":0},20240501,2418,{"$f":"_xlfn.XLOOKUP(B370,Gloves!$F$13:$F$58,Gloves!$R$13:$R$58)","v":0},20240603,2423,{"$f":"_xlfn.XLOOKUP(B370,Gloves!$F$13:$F$58,Gloves!$S$13:$S$58)","v":0},{"$f":"_xlfn.XLOOKUP(B370,Gloves!$F$13:$F$58,Gloves!$L$13:$L$58)","v":12.494999999999999}]
["Gloves",599651110,20240103,2401,{"$f":"_xlfn.XLOOKUP(B371,Gloves!$F$13:$F$58,Gloves!$N$13:$N$58)","v":0},20240201,2405,{"$f":"_xlfn.XLOOKUP(B371,Gloves!$F$13:$F$58,Gloves!$O$13:$O$58)","v":0},20240301,2409,{"$f":"_xlfn.XLOOKUP(B371,Gloves!$F$13:$F$58,Gloves!$P$13:$P$58)","v":0},20240402,2414,{"$f":"_xlfn.XLOOKUP(B371,Gloves!$F$13:$F$58,Gloves!$Q$13:$Q$58)","v":0},20240501,2418,{"$f":"_xlfn.XLOOKUP(B371,Gloves!$F$13:$F$58,Gloves!$R$13:$R$58)","v":0},20240603,2423,{"$f":"_xlfn.XLOOKUP(B371,Gloves!$F$13:$F$58,Gloves!$S$13:$S$58)","v":0},{"$f":"_xlfn.XLOOKUP(B371,Gloves!$F$13:$F$58,Gloves!$L$13:$L$58)","v":12.494999999999999}]
["Gloves",599651109,20240103,2401,{"$f":"_xlfn.XLOOKUP(B372,Gloves!$F$13:$F$58,Gloves!$N$13:$N$58)","v":0},20240201,2405,{"$f":"_xlfn.XLOOKUP(B372,Gloves!$F$13:$F$58,Gloves!$O$13:$O$58)","v":0},20240301,2409,{"$f":"_xlfn.XLOOKUP(B372,Gloves!$F$13:$F$58,Gloves!$P$13:$P$58)","v":0},20240402,2414,{"$f":"_xlfn.XLOOKUP(B372,Gloves!$F$13:$F$58,Gloves!$Q$13:$Q$58)","v":0},20240501,2418,{"$f":"_xlfn.XLOOKUP(B372,Gloves!$F$13:$F$58,Gloves!$R$13:$R$58)","v":0},20240603,2423,{"$f":"_xlfn.XLOOKUP(B372,Gloves!$F$13:$F$58,Gloves!$S$13:$S$58)","v":0},{"$f":"_xlfn.XLOOKUP(B372,Gloves!$F$13:$F$58,Gloves!$L$13:$L$58)","v":12.494999999999999}]
["Gloves",599651108,20240103,2401,{"$f":"_xlfn.XLOOKUP(B373,Gloves!$F$13:$F$58,Gloves!$N$13:$N$58)","v":0},20240201,2405,{"$f":"_xlfn.XLOOKUP(B373,Gloves!$F$13:$F$58,Gloves!$O$13:$O$58)","v":0},20240301,2409,{"$f":"_xlfn.XLOOKUP(B373,Gloves!$F$13:$F$58,Gloves!$P$13:$P$58)","v":0},20240402,2414,{"$f":"_xlfn.XLOOKUP(B373,Gloves!$F$13:$F$58,Gloves!$Q$13:$Q$58)","v":0},20240501,2418,{"$f":"_xlfn.XLOOKUP(B373,Gloves!$F$13:$F$58,Gloves!$R$13:$R$58)","v":0},20240603,2423,{"$f":"_xlfn.XLOOKUP(B373,Gloves!$F$13:$F$58,Gloves!$S$13:$S$58)","v":0},{"$f":"_xlfn.XLOOKUP(B373,Gloves!$F$13:$F$58,Gloves!$L$13:$L$58)","v":12.494999999999999}]
["Gloves",599650312,20240103,2401,{"$f":"_xlfn.XLOOKUP(B374,Gloves!$F$13:$F$58,Gloves!$N$13:$N$58)","v":0},20240201,2405,{"$f":"_xlfn.XLOOKUP(B374,Gloves!$F$13:$F$58,Gloves!$O$13:$O$58)","v":0},20240301,2409,{"$f":"_xlfn.XLOOKUP(B374,Gloves!$F$13:$F$58,Gloves!$P$13:$P$58)","v":0},20240402,2414,{"$f":"_xlfn.XLOOKUP(B374,Gloves!$F$13:$F$58,Gloves!$Q$13:$Q$58)","v":0},20240501,2418,{"$f":"_xlfn.XLOOKUP(B374,Gloves!$F$13:$F$58,Gloves!$R$13:$R$58)","v":0},20240603,2423,{"$f":"_xlfn.XLOOKUP(B374,Gloves!$F$13:$F$58,Gloves!$S$13:$S$58)","v":0},{"$f":"_xlfn.XLOOKUP(B374,Gloves!$F$13:$F$58,Gloves!$L$13:$L$58)","v":14.994999999999999}]
["Gloves",599650310,20240103,2401,{"$f":"_xlfn.XLOOKUP(B375,Gloves!$F$13:$F$58,Gloves!$N$13:$N$58)","v":0},20240201,2405,{"$f":"_xlfn.XLOOKUP(B375,Gloves!$F$13:$F$58,Gloves!$O$13:$O$58)","v":0},20240301,2409,{"$f":"_xlfn.XLOOKUP(B375,Gloves!$F$13:$F$58,Gloves!$P$13:$P$58)","v":0},20240402,2414,{"$f":"_xlfn.XLOOKUP(B375,Gloves!$F$13:$F$58,Gloves!$Q$13:$Q$58)","v":0},20240501,2418,{"$f":"_xlfn.XLOOKUP(B375,Gloves!$F$13:$F$58,Gloves!$R$13:$R$58)","v":0},20240603,2423,{"$f":"_xlfn.XLOOKUP(B375,Gloves!$F$13:$F$58,Gloves!$S$13:$S$58)","v":0},{"$f":"_xlfn.XLOOKUP(B375,Gloves!$F$13:$F$58,Gloves!$L$13:$L$58)","v":14.994999999999999}]
["Gloves",599650309,20240103,2401,{"$f":"_xlfn.XLOOKUP(B376,Gloves!$F$13:$F$58,Gloves!$N$13:$N$58)","v":0},20240201,2405,{"$f":"_xlfn.XLOOKUP(B376,Gloves!$F$13:$F$58,Gloves!$O$13:$O$58)","v":0},20240301,2409,{"$f":"_xlfn.XLOOKUP(B376,Gloves!$F$13:$F$58,Gloves!$P$13:$P$58)","v":0},20240402,2414,{"$f":"_xlfn.XLOOKUP(B376,Gloves!$F$13:$F$58,Gloves!$Q$13:$Q$58)","v":0},20240501,2418,{"$f":"_xlfn.XLOOKUP(B376,Gloves!$F$13:$F$58,Gloves!$R$13:$R$58)","v":0},20240603,2423,{"$f":"_xlfn.XLOOKUP(B376,Gloves!$F$13:$F$58,Gloves!$S$13:$S$58)","v":0},{"$f":"_xlfn.XLOOKUP(B376,Gloves!$F$13:$F$58,Gloves!$L$13:$L$58)","v":14.994999999999999}]
["Gloves",599649812,20240103,2401,{"$f":"_xlfn.XLOOKUP(B377,Gloves!$F$13:$F$58,Gloves!$N$13:$N$58)","v":0},20240201,2405,{"$f":"_xlfn.XLOOKUP(B377,Gloves!$F$13:$F$58,Gloves!$O$13:$O$58)","v":0},20240301,2409,{"$f":"_xlfn.XLOOKUP(B377,Gloves!$F$13:$F$58,Gloves!$P$13:$P$58)","v":0},20240402,2414,{"$f":"_xlfn.XLOOKUP(B377,Gloves!$F$13:$F$58,Gloves!$Q$13:$Q$58)","v":0},20240501,2418,{"$f":"_xlfn.XLOOKUP(B377,Gloves!$F$13:$F$58,Gloves!$R$13:$R$58)","v":0},20240603,2423,{"$f":"_xlfn.XLOOKUP(B377,Gloves!$F$13:$F$58,Gloves!$S$13:$S$58)","v":0},{"$f":"_xlfn.XLOOKUP(B377,Gloves!$F$13:$F$58,Gloves!$L$13:$L$58)","v":12.494999999999999}]
["Gloves",599649810,20240103,2401,{"$f":"_xlfn.XLOOKUP(B378,Gloves!$F$13:$F$58,Gloves!$N$13:$N$58)","v":0},20240201,2405,{"$f":"_xlfn.XLOOKUP(B378,Gloves!$F$13:$F$58,Gloves!$O$13:$O$58)","v":0},20240301,2409,{"$f":"_xlfn.XLOOKUP(B378,Gloves!$F$13:$F$58,Gloves!$P$13:$P$58)","v":0},20240402,2414,{"$f":"_xlfn.XLOOKUP(B378,Gloves!$F$13:$F$58,Gloves!$Q$13:$Q$58)","v":0},20240501,2418,{"$f":"_xlfn.XLOOKUP(B378,Gloves!$F$13:$F$58,Gloves!$R$13:$R$58)","v":0},20240603,2423,{"$f":"_xlfn.XLOOKUP(B378,Gloves!$F$13:$F$58,Gloves!$S$13:$S$58)","v":0},{"$f":"_xlfn.XLOOKUP(B378,Gloves!$F$13:$F$58,Gloves!$L$13:$L$58)","v":12.494999999999999}]
["Gloves",599649809,20240103,2401,{"$f":"_xlfn.XLOOKUP(B379,Gloves!$F$13:$F$58,Gloves!$N$13:$N$58)","v":0},20240201,2405,{"$f":"_xlfn.XLOOKUP(B379,Gloves!$F$13:$F$58,Gloves!$O$13:$O$58)","v":0},20240301,2409,{"$f":"_xlfn.XLOOKUP(B379,Gloves!$F$13:$F$58,Gloves!$P$13:$P$58)","v":0},20240402,2414,{"$f":"_xlfn.XLOOKUP(B379,Gloves!$F$13:$F$58,Gloves!$Q$13:$Q$58)","v":0},20240501,2418,{"$f":"_xlfn.XLOOKUP(B379,Gloves!$F$13:$F$58,Gloves!$R$13:$R$58)","v":0},20240603,2423,{"$f":"_xlfn.XLOOKUP(B379,Gloves!$F$13:$F$58,Gloves!$S$13:$S$58)","v":0},{"$f":"_xlfn.XLOOKUP(B379,Gloves!$F$13:$F$58,Gloves!$L$13:$L$58)","v":12.494999999999999}]
["Gloves",599649808,20240103,2401,{"$f":"_xlfn.XLOOKUP(B380,Gloves!$F$13:$F$58,Gloves!$N$13:$N$58)","v":0},20240201,2405,{"$f":"_xlfn.XLOOKUP(B380,Gloves!$F$13:$F$58,Gloves!$O$13:$O$58)","v":0},20240301,2409,{"$f":"_xlfn.XLOOKUP(B380,Gloves!$F$13:$F$58,Gloves!$P$13:$P$58)","v":0},20240402,2414,{"$f":"_xlfn.XLOOKUP(B380,Gloves!$F$13:$F$58,Gloves!$Q$13:$Q$58)","v":0},20240501,2418,{"$f":"_xlfn.XLOOKUP(B380,Gloves!$F$13:$F$58,Gloves!$R$13:$R$58)","v":0},20240603,2423,{"$f":"_xlfn.XLOOKUP(B380,Gloves!$F$13:$F$58,Gloves!$S$13:$S$58)","v":0},{"$f":"_xlfn.XLOOKUP(B380,Gloves!$F$13:$F$58,Gloves!$L$13:$L$58)","v":12.494999999999999}]
["Gloves",599649807,20240103,2401,{"$f":"_xlfn.XLOOKUP(B381,Gloves!$F$13:$F$58,Gloves!$N$13:$N$58)","v":0},20240201,2405,{"$f":"_xlfn.XLOOKUP(B381,Gloves!$F$13:$F$58,Gloves!$O$13:$O$58)","v":0},20240301,2409,{"$f":"_xlfn.XLOOKUP(B381,Gloves!$F$13:$F$58,Gloves!$P$13:$P$58)","v":0},20240402,2414,{"$f":"_xlfn.XLOOKUP(B381,Gloves!$F$13:$F$58,Gloves!$Q$13:$Q$58)","v":0},20240501,2418,{"$f":"_xlfn.XLOOKUP(B381,Gloves!$F$13:$F$58,Gloves!$R$13:$R$58)","v":0},20240603,2423,{"$f":"_xlfn.XLOOKUP(B381,Gloves!$F$13:$F$58,Gloves!$S$13:$S$58)","v":0},{"$f":"_xlfn.XLOOKUP(B381,Gloves!$F$13:$F$58,Gloves!$L$13:$L$58)","v":12.494999999999999}]
["Gloves",599649712,20240103,2401,{"$f":"_xlfn.XLOOKUP(B382,Gloves!$F$13:$F$58,Gloves!$N$13:$N$58)","v":0},20240201,2405,{"$f":"_xlfn.XLOOKUP(B382,Gloves!$F$13:$F$58,Gloves!$O$13:$O$58)","v":0},20240301,2409,{"$f":"_xlfn.XLOOKUP(B382,Gloves!$F$13:$F$58,Gloves!$P$13:$P$58)","v":0},20240402,2414,{"$f":"_xlfn.XLOOKUP(B382,Gloves!$F$13:$F$58,Gloves!$Q$13:$Q$58)","v":0},20240501,2418,{"$f":"_xlfn.XLOOKUP(B382,Gloves!$F$13:$F$58,Gloves!$R$13:$R$58)","v":0},20240603,2423,{"$f":"_xlfn.XLOOKUP(B382,Gloves!$F$13:$F$58,Gloves!$S$13:$S$58)","v":0},{"$f":"_xlfn.XLOOKUP(B382,Gloves!$F$13:$F$58,Gloves!$L$13:$L$58)","v":19.164999999999999}]
["Gloves",599649710,20240103,2401,{"$f":"_xlfn.XLOOKUP(B383,Gloves!$F$13:$F$58,Gloves!$N$13:$N$58)","v":0},20240201,2405,{"$f":"_xlfn.XLOOKUP(B383,Gloves!$F$13:$F$58,Gloves!$O$13:$O$58)","v":0},20240301,2409,{"$f":"_xlfn.XLOOKUP(B383,Gloves!$F$13:$F$58,Gloves!$P$13:$P$58)","v":0},20240402,2414,{"$f":"_xlfn.XLOOKUP(B383,Gloves!$F$13:$F$58,Gloves!$Q$13:$Q$58)","v":0},20240501,2418,{"$f":"_xlfn.XLOOKUP(B383,Gloves!$F$13:$F$58,Gloves!$R$13:$R$58)","v":0},20240603,2423,{"$f":"_xlfn.XLOOKUP(B383,Gloves!$F$13:$F$58,Gloves!$S$13:$S$58)","v":0},{"$f":"_xlfn.XLOOKUP(B383,Gloves!$F$13:$F$58,Gloves!$L$13:$L$58)","v":19.164999999999999}]
["Gloves",599649708,20240103,2401,{"$f":"_xlfn.XLOOKUP(B384,Gloves!$F$13:$F$58,Gloves!$N$13:$N$58)","v":0},20240201,2405,{"$f":"_xlfn.XLOOKUP(B384,Gloves!$F$13:$F$58,Gloves!$O$13:$O$58)","v":0},20240301,2409,{"$f":"_xlfn.XLOOKUP(B384,Gloves!$F$13:$F$58,Gloves!$P$13:$P$58)","v":0},20240402,2414,{"$f":"_xlfn.XLOOKUP(B384,Gloves!$F$13:$F$58,Gloves!$Q$13:$Q$58)","v":0},20240501,2418,{"$f":"_xlfn.XLOOKUP(B384,Gloves!$F$13:$F$58,Gloves!$R$13:$R$58)","v":0},20240603,2423,{"$f":"_xlfn.XLOOKUP(B384,Gloves!$F$13:$F$58,Gloves!$S$13:$S$58)","v":0},{"$f":"_xlfn.XLOOKUP(B384,Gloves!$F$13:$F$58,Gloves!$L$13:$L$58)","v":19.164999999999999}]
["Gloves",599649412,20240103,2401,{"$f":"_xlfn.XLOOKUP(B385,Gloves!$F$13:$F$58,Gloves!$N$13:$N$58)","v":0},20240201,2405,{"$f":"_xlfn.XLOOKUP(B385,Gloves!$F$13:$F$58,Gloves!$O$13:$O$58)","v":0},20240301,2409,{"$f":"_xlfn.XLOOKUP(B385,Gloves!$F$13:$F$58,Gloves!$P$13:$P$58)","v":0},20240402,2414,{"$f":"_xlfn.XLOOKUP(B385,Gloves!$F$13:$F$58,Gloves!$Q$13:$Q$58)","v":0},20240501,2418,{"$f":"_xlfn.XLOOKUP(B385,Gloves!$F$13:$F$58,Gloves!$R$13:$R$58)","v":0},20240603,2423,{"$f":"_xlfn.XLOOKUP(B385,Gloves!$F$13:$F$58,Gloves!$S$13:$S$58)","v":0},{"$f":"_xlfn.XLOOKUP(B385,Gloves!$F$13:$F$58,Gloves!$L$13:$L$58)","v":9.9949999999999992}]
["Gloves",599649410,20240103,2401,{"$f":"_xlfn.XLOOKUP(B386,Gloves!$F$13:$F$58,Gloves!$N$13:$N$58)","v":0},20240201,2405,{"$f":"_xlfn.XLOOKUP(B386,Gloves!$F$13:$F$58,Gloves!$O$13:$O$58)","v":0},20240301,2409,{"$f":"_xlfn.XLOOKUP(B386,Gloves!$F$13:$F$58,Gloves!$P$13:$P$58)","v":0},20240402,2414,{"$f":"_xlfn.XLOOKUP(B386,Gloves!$F$13:$F$58,Gloves!$Q$13:$Q$58)","v":0},20240501,2418,{"$f":"_xlfn.XLOOKUP(B386,Gloves!$F$13:$F$58,Gloves!$R$13:$R$58)","v":0},20240603,2423,{"$f":"_xlfn.XLOOKUP(B386,Gloves!$F$13:$F$58,Gloves!$S$13:$S$58)","v":0},{"$f":"_xlfn.XLOOKUP(B386,Gloves!$F$13:$F$58,Gloves!$L$13:$L$58)","v":9.9949999999999992}]
["Gloves",599649409,20240103,2401,{"$f":"_xlfn.XLOOKUP(B387,Gloves!$F$13:$F$58,Gloves!$N$13:$N$58)","v":0},20240201,2405,{"$f":"_xlfn.XLOOKUP(B387,Gloves!$F$13:$F$58,Gloves!$O$13:$O$58)","v":0},20240301,2409,{"$f":"_xlfn.XLOOKUP(B387,Gloves!$F$13:$F$58,Gloves!$P$13:$P$58)","v":0},20240402,2414,{"$f":"_xlfn.XLOOKUP(B387,Gloves!$F$13:$F$58,Gloves!$Q$13:$Q$58)","v":0},20240501,2418,{"$f":"_xlfn.XLOOKUP(B387,Gloves!$F$13:$F$58,Gloves!$R$13:$R$58)","v":0},20240603,2423,{"$f":"_xlfn.XLOOKUP(B387,Gloves!$F$13:$F$58,Gloves!$S$13:$S$58)","v":0},{"$f":"_xlfn.XLOOKUP(B387,Gloves!$F$13:$F$58,Gloves!$L$13:$L$58)","v":9.9949999999999992}]
["Gloves",599649408,20240103,2401,{"$f":"_xlfn.XLOOKUP(B388,Gloves!$F$13:$F$58,Gloves!$N$13:$N$58)","v":0},20240201,2405,{"$f":"_xlfn.XLOOKUP(B388,Gloves!$F$13:$F$58,Gloves!$O$13:$O$58)","v":0},20240301,2409,{"$f":"_xlfn.XLOOKUP(B388,Gloves!$F$13:$F$58,Gloves!$P$13:$P$58)","v":0},20240402,2414,{"$f":"_xlfn.XLOOKUP(B388,Gloves!$F$13:$F$58,Gloves!$Q$13:$Q$58)","v":0},20240501,2418,{"$f":"_xlfn.XLOOKUP(B388,Gloves!$F$13:$F$58,Gloves!$R$13:$R$58)","v":0},20240603,2423,{"$f":"_xlfn.XLOOKUP(B388,Gloves!$F$13:$F$58,Gloves!$S$13:$S$58)","v":0},{"$f":"_xlfn.XLOOKUP(B388,Gloves!$F$13:$F$58,Gloves!$L$13:$L$58)","v":9.9949999999999992}]
["Gloves",599649407,20240103,2401,{"$f":"_xlfn.XLOOKUP(B389,Gloves!$F$13:$F$58,Gloves!$N$13:$N$58)","v":0},20240201,2405,{"$f":"_xlfn.XLOOKUP(B389,Gloves!$F$13:$F$58,Gloves!$O$13:$O$58)","v":0},20240301,2409,{"$f":"_xlfn.XLOOKUP(B389,Gloves!$F$13:$F$58,Gloves!$P$13:$P$58)","v":0},20240402,2414,{"$f":"_xlfn.XLOOKUP(B389,Gloves!$F$13:$F$58,Gloves!$Q$13:$Q$58)","v":0},20240501,2418,{"$f":"_xlfn.XLOOKUP(B389,Gloves!$F$13:$F$58,Gloves!$R$13:$R$58)","v":0},20240603,2423,{"$f":"_xlfn.XLOOKUP(B389,Gloves!$F$13:$F$58,Gloves!$S$13:$S$58)","v":0},{"$f":"_xlfn.XLOOKUP(B389,Gloves!$F$13:$F$58,Gloves!$L$13:$L$58)","v":9.9949999999999992}]
["Gloves",599649406,20240103,2401,{"$f":"_xlfn.XLOOKUP(B390,Gloves!$F$13:$F$58,Gloves!$N$13:$N$58)","v":0},20240201,2405,{"$f":"_xlfn.XLOOKUP(B390,Gloves!$F$13:$F$58,Gloves!$O$13:$O$58)","v":0},20240301,2409,{"$f":"_xlfn.XLOOKUP(B390,Gloves!$F$13:$F$58,Gloves!$P$13:$P$58)","v":0},20240402,2414,{"$f":"_xlfn.XLOOKUP(B390,Gloves!$F$13:$F$58,Gloves!$Q$13:$Q$58)","v":0},20240501,2418,{"$f":"_xlfn.XLOOKUP(B390,Gloves!$F$13:$F$58,Gloves!$R$13:$R$58)","v":0},20240603,2423,{"$f":"_xlfn.XLOOKUP(B390,Gloves!$F$13:$F$58,Gloves!$S$13:$S$58)","v":0},{"$f":"_xlfn.XLOOKUP(B390,Gloves!$F$13:$F$58,Gloves!$L$13:$L$58)","v":9.9949999999999992}]
["Gloves",529880412,20240103,2401,{"$f":"_xlfn.XLOOKUP(B391,Gloves!$F$13:$F$58,Gloves!$N$13:$N$58)","v":0},20240201,2405,{"$f":"_xlfn.XLOOKUP(B391,Gloves!$F$13:$F$58,Gloves!$O$13:$O$58)","v":0},20240301,2409,{"$f":"_xlfn.XLOOKUP(B391,Gloves!$F$13:$F$58,Gloves!$P$13:$P$58)","v":0},20240402,2414,{"$f":"_xlfn.XLOOKUP(B391,Gloves!$F$13:$F$58,Gloves!$Q$13:$Q$58)","v":0},20240501,2418,{"$f":"_xlfn.XLOOKUP(B391,Gloves!$F$13:$F$58,Gloves!$R$13:$R$58)","v":0},20240603,2423,{"$f":"_xlfn.XLOOKUP(B391,Gloves!$F$13:$F$58,Gloves!$S$13:$S$58)","v":0},{"$f":"_xlfn.XLOOKUP(B391,Gloves!$F$13:$F$58,Gloves!$L$13:$L$58)","v":4.165}]
["Gloves",529880410,20240103,2401,{"$f":"_xlfn.XLOOKUP(B392,Gloves!$F$13:$F$58,Gloves!$N$13:$N$58)","v":0},20240201,2405,{"$f":"_xlfn.XLOOKUP(B392,Gloves!$F$13:$F$58,Gloves!$O$13:$O$58)","v":0},20240301,2409,{"$f":"_xlfn.XLOOKUP(B392,Gloves!$F$13:$F$58,Gloves!$P$13:$P$58)","v":0},20240402,2414,{"$f":"_xlfn.XLOOKUP(B392,Gloves!$F$13:$F$58,Gloves!$Q$13:$Q$58)","v":0},20240501,2418,{"$f":"_xlfn.XLOOKUP(B392,Gloves!$F$13:$F$58,Gloves!$R$13:$R$58)","v":0},20240603,2423,{"$f":"_xlfn.XLOOKUP(B392,Gloves!$F$13:$F$58,Gloves!$S$13:$S$58)","v":0},{"$f":"_xlfn.XLOOKUP(B392,Gloves!$F$13:$F$58,Gloves!$L$13:$L$58)","v":4.165}]
["Gloves",529880409,20240103,2401,{"$f":"_xlfn.XLOOKUP(B393,Gloves!$F$13:$F$58,Gloves!$N$13:$N$58)","v":0},20240201,2405,{"$f":"_xlfn.XLOOKUP(B393,Gloves!$F$13:$F$58,Gloves!$O$13:$O$58)","v":0},20240301,2409,{"$f":"_xlfn.XLOOKUP(B393,Gloves!$F$13:$F$58,Gloves!$P$13:$P$58)","v":0},20240402,2414,{"$f":"_xlfn.XLOOKUP(B393,Gloves!$F$13:$F$58,Gloves!$Q$13:$Q$58)","v":0},20240501,2418,{"$f":"_xlfn.XLOOKUP(B393,Gloves!$F$13:$F$58,Gloves!$R$13:$R$58)","v":0},20240603,2423,{"$f":"_xlfn.XLOOKUP(B393,Gloves!$F$13:$F$58,Gloves!$S$13:$S$58)","v":0},{"$f":"_xlfn.XLOOKUP(B393,Gloves!$F$13:$F$58,Gloves!$L$13:$L$58)","v":4.165}]
["Gloves",529880408,20240103,2401,{"$f":"_xlfn.XLOOKUP(B394,Gloves!$F$13:$F$58,Gloves!$N$13:$N$58)","v":0},20240201,2405,{"$f":"_xlfn.XLOOKUP(B394,Gloves!$F$13:$F$58,Gloves!$O$13:$O$58)","v":0},20240301,2409,{"$f":"_xlfn.XLOOKUP(B394,Gloves!$F$13:$F$58,Gloves!$P$13:$P$58)","v":0},20240402,2414,{"$f":"_xlfn.XLOOKUP(B394,Gloves!$F$13:$F$58,Gloves!$Q$13:$Q$58)","v":0},20240501,2418,{"$f":"_xlfn.XLOOKUP(B394,Gloves!$F$13:$F$58,Gloves!$R$13:$R$58)","v":0},20240603,2423,{"$f":"_xlfn.XLOOKUP(B394,Gloves!$F$13:$F$58,Gloves!$S$13:$S$58)","v":0},{"$f":"_xlfn.XLOOKUP(B394,Gloves!$F$13:$F$58,Gloves!$L$13:$L$58)","v":4.165}]
["Gloves",529880312,20240103,2401,{"$f":"_xlfn.XLOOKUP(B395,Gloves!$F$13:$F$58,Gloves!$N$13:$N$58)","v":0},20240201,2405,{"$f":"_xlfn.XLOOKUP(B395,Gloves!$F$13:$F$58,Gloves!$O$13:$O$58)","v":0},20240301,2409,{"$f":"_xlfn.XLOOKUP(B395,Gloves!$F$13:$F$58,Gloves!$P$13:$P$58)","v":0},20240402,2414,{"$f":"_xlfn.XLOOKUP(B395,Gloves!$F$13:$F$58,Gloves!$Q$13:$Q$58)","v":0},20240501,2418,{"$f":"_xlfn.XLOOKUP(B395,Gloves!$F$13:$F$58,Gloves!$R$13:$R$58)","v":0},20240603,2423,{"$f":"_xlfn.XLOOKUP(B395,Gloves!$F$13:$F$58,Gloves!$S$13:$S$58)","v":0},{"$f":"_xlfn.XLOOKUP(B395,Gloves!$F$13:$F$58,Gloves!$L$13:$L$58)","v":4.165}]
["Gloves",529880310,20240103,2401,{"$f":"_xlfn.XLOOKUP(B396,Gloves!$F$13:$F$58,Gloves!$N$13:$N$58)","v":0},20240201,2405,{"$f":"_xlfn.XLOOKUP(B396,Gloves!$F$13:$F$58,Gloves!$O$13:$O$58)","v":0},20240301,2409,{"$f":"_xlfn.XLOOKUP(B396,Gloves!$F$13:$F$58,Gloves!$P$13:$P$58)","v":0},20240402,2414,{"$f":"_xlfn.XLOOKUP(B396,Gloves!$F$13:$F$58,Gloves!$Q$13:$Q$58)","v":0},20240501,2418,{"$f":"_xlfn.XLOOKUP(B396,Gloves!$F$13:$F$58,Gloves!$R$13:$R$58)","v":0},20240603,2423,{"$f":"_xlfn.XLOOKUP(B396,Gloves!$F$13:$F$58,Gloves!$S$13:$S$58)","v":0},{"$f":"_xlfn.XLOOKUP(B396,Gloves!$F$13:$F$58,Gloves!$L$13:$L$58)","v":4.165}]
["Gloves",529880309,20240103,2401,{"$f":"_xlfn.XLOOKUP(B397,Gloves!$F$13:$F$58,Gloves!$N$13:$N$58)","v":0},20240201,2405,{"$f":"_xlfn.XLOOKUP(B397,Gloves!$F$13:$F$58,Gloves!$O$13:$O$58)","v":0},20240301,2409,{"$f":"_xlfn.XLOOKUP(B397,Gloves!$F$13:$F$58,Gloves!$P$13:$P$58)","v":0},20240402,2414,{"$f":"_xlfn.XLOOKUP(B397,Gloves!$F$13:$F$58,Gloves!$Q$13:$Q$58)","v":0},20240501,2418,{"$f":"_xlfn.XLOOKUP(B397,Gloves!$F$13:$F$58,Gloves!$R$13:$R$58)","v":0},20240603,2423,{"$f":"_xlfn.XLOOKUP(B397,Gloves!$F$13:$F$58,Gloves!$S$13:$S$58)","v":0},{"$f":"_xlfn.XLOOKUP(B397,Gloves!$F$13:$F$58,Gloves!$L$13:$L$58)","v":4.165}]
["Gloves",529880308,20240103,2401,{"$f":"_xlfn.XLOOKUP(B398,Gloves!$F$13:$F$58,Gloves!$N$13:$N$58)","v":0},20240201,2405,{"$f":"_xlfn.XLOOKUP(B398,Gloves!$F$13:$F$58,Gloves!$O$13:$O$58)","v":0},20240301,2409,{"$f":"_xlfn.XLOOKUP(B398,Gloves!$F$13:$F$58,Gloves!$P$13:$P$58)","v":0},20240402,2414,{"$f":"_xlfn.XLOOKUP(B398,Gloves!$F$13:$F$58,Gloves!$Q$13:$Q$58)","v":0},20240501,2418,{"$f":"_xlfn.XLOOKUP(B398,Gloves!$F$13:$F$58,Gloves!$R$13:$R$58)","v":0},20240603,2423,{"$f":"_xlfn.XLOOKUP(B398,Gloves!$F$13:$F$58,Gloves!$S$13:$S$58)","v":0},{"$f":"_xlfn.XLOOKUP(B398,Gloves!$F$13:$F$58,Gloves!$L$13:$L$58)","v":4.165}]
["Gloves",529880307,20240103,2401,{"$f":"_xlfn.XLOOKUP(B399,Gloves!$F$13:$F$58,Gloves!$N$13:$N$58)","v":0},20240201,2405,{"$f":"_xlfn.XLOOKUP(B399,Gloves!$F$13:$F$58,Gloves!$O$13:$O$58)","v":0},20240301,2409,{"$f":"_xlfn.XLOOKUP(B399,Gloves!$F$13:$F$58,Gloves!$P$13:$P$58)","v":0},20240402,2414,{"$f":"_xlfn.XLOOKUP(B399,Gloves!$F$13:$F$58,Gloves!$Q$13:$Q$58)","v":0},20240501,2418,{"$f":"_xlfn.XLOOKUP(B399,Gloves!$F$13:$F$58,Gloves!$R$13:$R$58)","v":0},20240603,2423,{"$f":"_xlfn.XLOOKUP(B399,Gloves!$F$13:$F$58,Gloves!$S$13:$S$58)","v":0},{"$f":"_xlfn.XLOOKUP(B399,Gloves!$F$13:$F$58,Gloves!$L$13:$L$58)","v":4.165}]
["Gloves",529880210,20240103,2401,{"$f":"_xlfn.XLOOKUP(B400,Gloves!$F$13:$F$58,Gloves!$N$13:$N$58)","v":0},20240201,2405,{"$f":"_xlfn.XLOOKUP(B400,Gloves!$F$13:$F$58,Gloves!$O$13:$O$58)","v":0},20240301,2409,{"$f":"_xlfn.XLOOKUP(B400,Gloves!$F$13:$F$58,Gloves!$P$13:$P$58)","v":0},20240402,2414,{"$f":"_xlfn.XLOOKUP(B400,Gloves!$F$13:$F$58,Gloves!$Q$13:$Q$58)","v":0},20240501,2418,{"$f":"_xlfn.XLOOKUP(B400,Gloves!$F$13:$F$58,Gloves!$R$13:$R$58)","v":0},20240603,2423,{"$f":"_xlfn.XLOOKUP(B400,Gloves!$F$13:$F$58,Gloves!$S$13:$S$58)","v":0},{"$f":"_xlfn.XLOOKUP(B400,Gloves!$F$13:$F$58,Gloves!$L$13:$L$58)","v":9.9949999999999992}]
["Gloves",529880209,20240103,2401,{"$f":"_xlfn.XLOOKUP(B401,Gloves!$F$13:$F$58,Gloves!$N$13:$N$58)","v":0},20240201,2405,{"$f":"_xlfn.XLOOKUP(B401,Gloves!$F$13:$F$58,Gloves!$O$13:$O$58)","v":0},20240301,2409,{"$f":"_xlfn.XLOOKUP(B401,Gloves!$F$13:$F$58,Gloves!$P$13:$P$58)","v":0},20240402,2414,{"$f":"_xlfn.XLOOKUP(B401,Gloves!$F$13:$F$58,Gloves!$Q$13:$Q$58)","v":0},20240501,2418,{"$f":"_xlfn.XLOOKUP(B401,Gloves!$F$13:$F$58,Gloves!$R$13:$R$58)","v":0},20240603,2423,{"$f":"_xlfn.XLOOKUP(B401,Gloves!$F$13:$F$58,Gloves!$S$13:$S$58)","v":0},{"$f":"_xlfn.XLOOKUP(B401,Gloves!$F$13:$F$58,Gloves!$L$13:$L$58)","v":9.9949999999999992}]
["Gloves",529880208,20240103,2401,{"$f":"_xlfn.XLOOKUP(B402,Gloves!$F$13:$F$58,Gloves!$N$13:$N$58)","v":0},20240201,2405,{"$f":"_xlfn.XLOOKUP(B402,Gloves!$F$13:$F$58,Gloves!$O$13:$O$58)","v":0},20240301,2409,{"$f":"_xlfn.XLOOKUP(B402,Gloves!$F$13:$F$58,Gloves!$P$13:$P$58)","v":0},20240402,2414,{"$f":"_xlfn.XLOOKUP(B402,Gloves!$F$13:$F$58,Gloves!$Q$13:$Q$58)","v":0},20240501,2418,{"$f":"_xlfn.XLOOKUP(B402,Gloves!$F$13:$F$58,Gloves!$R$13:$R$58)","v":0},20240603,2423,{"$f":"_xlfn.XLOOKUP(B402,Gloves!$F$13:$F$58,Gloves!$S$13:$S$58)","v":0},{"$f":"_xlfn.XLOOKUP(B402,Gloves!$F$13:$F$58,Gloves!$L$13:$L$58)","v":9.9949999999999992}]
["Gloves",529880207,20240103,2401,{"$f":"_xlfn.XLOOKUP(B403,Gloves!$F$13:$F$58,Gloves!$N$13:$N$58)","v":0},20240201,2405,{"$f":"_xlfn.XLOOKUP(B403,Gloves!$F$13:$F$58,Gloves!$O$13:$O$58)","v":0},20240301,2409,{"$f":"_xlfn.XLOOKUP(B403,Gloves!$F$13:$F$58,Gloves!$P$13:$P$58)","v":0},20240402,2414,{"$f":"_xlfn.XLOOKUP(B403,Gloves!$F$13:$F$58,Gloves!$Q$13:$Q$58)","v":0},20240501,2418,{"$f":"_xlfn.XLOOKUP(B403,Gloves!$F$13:$F$58,Gloves!$R$13:$R$58)","v":0},20240603,2423,{"$f":"_xlfn.XLOOKUP(B403,Gloves!$F$13:$F$58,Gloves!$S$13:$S$58)","v":0},{"$f":"_xlfn.XLOOKUP(B403,Gloves!$F$13:$F$58,Gloves!$L$13:$L$58)","v":9.9949999999999992}]
["Gloves",529880110,20240103,2401,{"$f":"_xlfn.XLOOKUP(B404,Gloves!$F$13:$F$58,Gloves!$N$13:$N$58)","v":0},20240201,2405,{"$f":"_xlfn.XLOOKUP(B404,Gloves!$F$13:$F$58,Gloves!$O$13:$O$58)","v":0},20240301,2409,{"$f":"_xlfn.XLOOKUP(B404,Gloves!$F$13:$F$58,Gloves!$P$13:$P$58)","v":0},20240402,2414,{"$f":"_xlfn.XLOOKUP(B404,Gloves!$F$13:$F$58,Gloves!$Q$13:$Q$58)","v":0},20240501,2418,{"$f":"_xlfn.XLOOKUP(B404,Gloves!$F$13:$F$58,Gloves!$R$13:$R$58)","v":0},20240603,2423,{"$f":"_xlfn.XLOOKUP(B404,Gloves!$F$13:$F$58,Gloves!$S$13:$S$58)","v":0},{"$f":"_xlfn.XLOOKUP(B404,Gloves!$F$13:$F$58,Gloves!$L$13:$L$58)","v":9.9949999999999992}]
["Gloves",529880109,20240103,2401,{"$f":"_xlfn.XLOOKUP(B405,Gloves!$F$13:$F$58,Gloves!$N$13:$N$58)","v":0},20240201,2405,{"$f":"_xlfn.XLOOKUP(B405,Gloves!$F$13:$F$58,Gloves!$O$13:$O$58)","v":0},20240301,2409,{"$f":"_xlfn.XLOOKUP(B405,Gloves!$F$13:$F$58,Gloves!$P$13:$P$58)","v":0},20240402,2414,{"$f":"_xlfn.XLOOKUP(B405,Gloves!$F$13:$F$58,Gloves!$Q$13:$Q$58)","v":0},20240501,2418,{"$f":"_xlfn.XLOOKUP(B405,Gloves!$F$13:$F$58,Gloves!$R$13:$R$58)","v":0},20240603,2423,{"$f":"_xlfn.XLOOKUP(B405,Gloves!$F$13:$F$58,Gloves!$S$13:$S$58)","v":0},{"$f":"_xlfn.XLOOKUP(B405,Gloves!$F$13:$F$58,Gloves!$L$13:$L$58)","v":9.9949999999999992}]
["Gloves",529880108,20240103,2401,{"$f":"_xlfn.XLOOKUP(B406,Gloves!$F$13:$F$58,Gloves!$N$13:$N$58)","v":0},20240201,2405,{"$f":"_xlfn.XLOOKUP(B406,Gloves!$F$13:$F$58,Gloves!$O$13:$O$58)","v":0},20240301,2409,{"$f":"_xlfn.XLOOKUP(B406,Gloves!$F$13:$F$58,Gloves!$P$13:$P$58)","v":0},20240402,2414,{"$f":"_xlfn.XLOOKUP(B406,Gloves!$F$13:$F$58,Gloves!$Q$13:$Q$58)","v":0},20240501,2418,{"$f":"_xlfn.XLOOKUP(B406,Gloves!$F$13:$F$58,Gloves!$R$13:$R$58)","v":0},20240603,2423,{"$f":"_xlfn.XLOOKUP(B406,Gloves!$F$13:$F$58,Gloves!$S$13:$S$58)","v":0},{"$f":"_xlfn.XLOOKUP(B406,Gloves!$F$13:$F$58,Gloves!$L$13:$L$58)","v":9.9949999999999992}]
["Gloves",529880107,20240103,2401,{"$f":"_xlfn.XLOOKUP(B407,Gloves!$F$13:$F$58,Gloves!$N$13:$N$58)","v":0},20240201,2405,{"$f":"_xlfn.XLOOKUP(B407,Gloves!$F$13:$F$58,Gloves!$O$13:$O$58)","v":0},20240301,2409,{"$f":"_xlfn.XLOOKUP(B407,Gloves!$F$13:$F$58,Gloves!$P$13:$P$58)","v":0},20240402,2414,{"$f":"_xlfn.XLOOKUP(B407,Gloves!$F$13:$F$58,Gloves!$Q$13:$Q$58)","v":0},20240501,2418,{"$f":"_xlfn.XLOOKUP(B407,Gloves!$F$13:$F$58,Gloves!$R$13:$R$58)","v":0},20240603,2423,{"$f":"_xlfn.XLOOKUP(B407,Gloves!$F$13:$F$58,Gloves!$S$13:$S$58)","v":0},{"$f":"_xlfn.XLOOKUP(B407,Gloves!$F$13:$F$58,Gloves!$L$13:$L$58)","v":9.9949999999999992}]
["Gloves with protection",599651612,20240103,2401,{"$f":"_xlfn.XLOOKUP(B408,Gloves!$F$13:$F$58,Gloves!$N$13:$N$58)","v":0},20240201,2405,{"$f":"_xlfn.XLOOKUP(B408,Gloves!$F$13:$F$58,Gloves!$O$13:$O$58)","v":0},20240301,2409,{"$f":"_xlfn.XLOOKUP(B408,Gloves!$F$13:$F$58,Gloves!$P$13:$P$58)","v":0},20240402,2414,{"$f":"_xlfn.XLOOKUP(B408,Gloves!$F$13:$F$58,Gloves!$Q$13:$Q$58)","v":0},20240501,2418,{"$f":"_xlfn.XLOOKUP(B408,Gloves!$F$13:$F$58,Gloves!$R$13:$R$58)","v":0},20240603,2423,{"$f":"_xlfn.XLOOKUP(B408,Gloves!$F$13:$F$58,Gloves!$S$13:$S$58)","v":0},{"$f":"_xlfn.XLOOKUP(B408,Gloves!$F$13:$F$58,Gloves!$L$13:$L$58)","v":15.414999999999999}]
["Gloves with protection",599651610,20240103,2401,{"$f":"_xlfn.XLOOKUP(B409,Gloves!$F$13:$F$58,Gloves!$N$13:$N$58)","v":6},20240201,2405,{"$f":"_xlfn.XLOOKUP(B409,Gloves!$F$13:$F$58,Gloves!$O$13:$O$58)","v":6},20240301,2409,{"$f":"_xlfn.XLOOKUP(B409,Gloves!$F$13:$F$58,Gloves!$P$13:$P$58)","v":6},20240402,2414,{"$f":"_xlfn.XLOOKUP(B409,Gloves!$F$13:$F$58,Gloves!$Q$13:$Q$58)","v":6},20240501,2418,{"$f":"_xlfn.XLOOKUP(B409,Gloves!$F$13:$F$58,Gloves!$R$13:$R$58)","v":0},20240603,2423,{"$f":"_xlfn.XLOOKUP(B409,Gloves!$F$13:$F$58,Gloves!$S$13:$S$58)","v":0},{"$f":"_xlfn.XLOOKUP(B409,Gloves!$F$13:$F$58,Gloves!$L$13:$L$58)","v":15.414999999999999}]
["Gloves with protection",599651609,20240103,2401,{"$f":"_xlfn.XLOOKUP(B410,Gloves!$F$13:$F$58,Gloves!$N$13:$N$58)","v":12},20240201,2405,{"$f":"_xlfn.XLOOKUP(B410,Gloves!$F$13:$F$58,Gloves!$O$13:$O$58)","v":12},20240301,2409,{"$f":"_xlfn.XLOOKUP(B410,Gloves!$F$13:$F$58,Gloves!$P$13:$P$58)","v":12},20240402,2414,{"$f":"_xlfn.XLOOKUP(B410,Gloves!$F$13:$F$58,Gloves!$Q$13:$Q$58)","v":12},20240501,2418,{"$f":"_xlfn.XLOOKUP(B410,Gloves!$F$13:$F$58,Gloves!$R$13:$R$58)","v":0},20240603,2423,{"$f":"_xlfn.XLOOKUP(B410,Gloves!$F$13:$F$58,Gloves!$S$13:$S$58)","v":0},{"$f":"_xlfn.XLOOKUP(B410,Gloves!$F$13:$F$58,Gloves!$L$13:$L$58)","v":15.414999999999999}]
["Gloves with protection",599651608,20240103,2401,{"$f":"_xlfn.XLOOKUP(B411,Gloves!$F$13:$F$58,Gloves!$N$13:$N$58)","v":6},20240201,2405,{"$f":"_xlfn.XLOOKUP(B411,Gloves!$F$13:$F$58,Gloves!$O$13:$O$58)","v":6},20240301,2409,{"$f":"_xlfn.XLOOKUP(B411,Gloves!$F$13:$F$58,Gloves!$P$13:$P$58)","v":6},20240402,2414,{"$f":"_xlfn.XLOOKUP(B411,Gloves!$F$13:$F$58,Gloves!$Q$13:$Q$58)","v":6},20240501,2418,{"$f":"_xlfn.XLOOKUP(B411,Gloves!$F$13:$F$58,Gloves!$R$13:$R$58)","v":0},20240603,2423,{"$f":"_xlfn.XLOOKUP(B411,Gloves!$F$13:$F$58,Gloves!$S$13:$S$58)","v":0},{"$f":"_xlfn.XLOOKUP(B411,Gloves!$F$13:$F$58,Gloves!$L$13:$L$58)","v":15.414999999999999}]
["Gloves with protection",599651607,20240103,2401,{"$f":"_xlfn.XLOOKUP(B412,Gloves!$F$13:$F$58,Gloves!$N$13:$N$58)","v":0},20240201,2405,{"$f":"_xlfn.XLOOKUP(B412,Gloves!$F$13:$F$58,Gloves!$O$13:$O$58)","v":0},20240301,2409,{"$f":"_xlfn.XLOOKUP(B412,Gloves!$F$13:$F$58,Gloves!$P$13:$P$58)","v":0},20240402,2414,{"$f":"_xlfn.XLOOKUP(B412,Gloves!$F$13:$F$58,Gloves!$Q$13:$Q$58)","v":0},20240501,2418,{"$f":"_xlfn.XLOOKUP(B412,Gloves!$F$13:$F$58,Gloves!$R$13:$R$58)","v":0},20240603,2423,{"$f":"_xlfn.XLOOKUP(B412,Gloves!$F$13:$F$58,Gloves!$S$13:$S$58)","v":0},{"$f":"_xlfn.XLOOKUP(B412,Gloves!$F$13:$F$58,Gloves!$L$13:$L$58)","v":15.414999999999999}]
["Gloves with protection",599651210,20240103,2401,{"$f":"_xlfn.XLOOKUP(B413,Gloves!$F$13:$F$58,Gloves!$N$13:$N$58)","v":0},20240201,2405,{"$f":"_xlfn.XLOOKUP(B413,Gloves!$F$13:$F$58,Gloves!$O$13:$O$58)","v":0},20240301,2409,{"$f":"_xlfn.XLOOKUP(B413,Gloves!$F$13:$F$58,Gloves!$P$13:$P$58)","v":0},20240402,2414,{"$f":"_xlfn.XLOOKUP(B413,Gloves!$F$13:$F$58,Gloves!$Q$13:$Q$58)","v":0},20240501,2418,{"$f":"_xlfn.XLOOKUP(B413,Gloves!$F$13:$F$58,Gloves!$R$13:$R$58)","v":0},20240603,2423,{"$f":"_xlfn.XLOOKUP(B413,Gloves!$F$13:$F$58,Gloves!$S$13:$S$58)","v":0},{"$f":"_xlfn.XLOOKUP(B413,Gloves!$F$13:$F$58,Gloves!$L$13:$L$58)","v":22.914999999999999}]
["Gloves with protection",599651209,20240103,2401,{"$f":"_xlfn.XLOOKUP(B414,Gloves!$F$13:$F$58,Gloves!$N$13:$N$58)","v":0},20240201,2405,{"$f":"_xlfn.XLOOKUP(B414,Gloves!$F$13:$F$58,Gloves!$O$13:$O$58)","v":0},20240301,2409,{"$f":"_xlfn.XLOOKUP(B414,Gloves!$F$13:$F$58,Gloves!$P$13:$P$58)","v":0},20240402,2414,{"$f":"_xlfn.XLOOKUP(B414,Gloves!$F$13:$F$58,Gloves!$Q$13:$Q$58)","v":0},20240501,2418,{"$f":"_xlfn.XLOOKUP(B414,Gloves!$F$13:$F$58,Gloves!$R$13:$R$58)","v":0},20240603,2423,{"$f":"_xlfn.XLOOKUP(B414,Gloves!$F$13:$F$58,Gloves!$S$13:$S$58)","v":0},{"$f":"_xlfn.XLOOKUP(B414,Gloves!$F$13:$F$58,Gloves!$L$13:$L$58)","v":22.914999999999999}]
["Gloves with protection",599651208,20240103,2401,{"$f":"_xlfn.XLOOKUP(B415,Gloves!$F$13:$F$58,Gloves!$N$13:$N$58)","v":0},20240201,2405,{"$f":"_xlfn.XLOOKUP(B415,Gloves!$F$13:$F$58,Gloves!$O$13:$O$58)","v":0},20240301,2409,{"$f":"_xlfn.XLOOKUP(B415,Gloves!$F$13:$F$58,Gloves!$P$13:$P$58)","v":0},20240402,2414,{"$f":"_xlfn.XLOOKUP(B415,Gloves!$F$13:$F$58,Gloves!$Q$13:$Q$58)","v":0},20240501,2418,{"$f":"_xlfn.XLOOKUP(B415,Gloves!$F$13:$F$58,Gloves!$R$13:$R$58)","v":0},20240603,2423,{"$f":"_xlfn.XLOOKUP(B415,Gloves!$F$13:$F$58,Gloves!$S$13:$S$58)","v":0},{"$f":"_xlfn.XLOOKUP(B415,Gloves!$F$13:$F$58,Gloves!$L$13:$L$58)","v":22.914999999999999}]
["Head Protection",599675101,20240103,2401,{"$f":"_xlfn.XLOOKUP(B416,'Head Protection'!$F$18:$F$41,'Head Protection'!$N$18:$N$41)","v":0},20240201,2405,{"$f":"_xlfn.XLOOKUP(B416,'Head Protection'!$F$18:$F$41,'Head Protection'!$O$18:$O$41)","v":0},20240301,2409,{"$f":"_xlfn.XLOOKUP(B416,'Head Protection'!$F$18:$F$41,'Head Protection'!$P$18:$P$41)","v":0},20240402,2414,{"$f":"_xlfn.XLOOKUP(B416,'Head Protection'!$F$18:$F$41,'Head Protection'!$Q$18:$Q$41)","v":0},20240501,2418,{"$f":"_xlfn.XLOOKUP(B416,'Head Protection'!$F$18:$F$41,'Head Protection'!$R$18:$R$41)","v":0},20240603,2423,{"$f":"_xlfn.XLOOKUP(B416,'Head Protection'!$F$18:$F$41,'Head Protection'!$S$18:$S$41)","v":0},{"$f":"_xlfn.XLOOKUP(B416,'Head Protection'!$F$18:$F$41,'Head Protection'!$L$18:$L$41)","v":6.665}]
["Head Protection",599675001,20240103,2401,{"$f":"_xlfn.XLOOKUP(B417,'Head Protection'!$F$18:$F$41,'Head Protection'!$N$18:$N$41)","v":0},20240201,2405,{"$f":"_xlfn.XLOOKUP(B417,'Head Protection'!$F$18:$F$41,'Head Protection'!$O$18:$O$41)","v":0},20240301,2409,{"$f":"_xlfn.XLOOKUP(B417,'Head Protection'!$F$18:$F$41,'Head Protection'!$P$18:$P$41)","v":0},20240402,2414,{"$f":"_xlfn.XLOOKUP(B417,'Head Protection'!$F$18:$F$41,'Head Protection'!$Q$18:$Q$41)","v":0},20240501,2418,{"$f":"_xlfn.XLOOKUP(B417,'Head Protection'!$F$18:$F$41,'Head Protection'!$R$18:$R$41)","v":0},20240603,2423,{"$f":"_xlfn.XLOOKUP(B417,'Head Protection'!$F$18:$F$41,'Head Protection'!$S$18:$S$41)","v":0},{"$f":"_xlfn.XLOOKUP(B417,'Head Protection'!$F$18:$F$41,'Head Protection'!$L$18:$L$41)","v":6.665}]
["Head Protection",598862303,20240103,2401,{"$f":"_xlfn.XLOOKUP(B418,'Head Protection'!$F$18:$F$41,'Head Protection'!$N$18:$N$41)","v":0},20240201,2405,{"$f":"_xlfn.XLOOKUP(B418,'Head Protection'!$F$18:$F$41,'Head Protection'!$O$18:$O$41)","v":0},20240301,2409,{"$f":"_xlfn.XLOOKUP(B418,'Head Protection'!$F$18:$F$41,'Head Protection'!$P$18:$P$41)","v":0},20240402,2414,{"$f":"_xlfn.XLOOKUP(B418,'Head Protection'!$F$18:$F$41,'Head Protection'!$Q$18:$Q$41)","v":0},20240501,2418,{"$f":"_xlfn.XLOOKUP(B418,'Head Protection'!$F$18:$F$41,'Head Protection'!$R$18:$R$41)","v":0},20240603,2423,{"$f":"_xlfn.XLOOKUP(B418,'Head Protection'!$F$18:$F$41,'Head Protection'!$S$18:$S$41)","v":0},{"$f":"_xlfn.XLOOKUP(B418,'Head Protection'!$F$18:$F$41,'Head Protection'!$L$18:$L$41)","v":35.414999999999999}]
["Head Protection",598862302,20240103,2401,{"$f":"_xlfn.XLOOKUP(B419,'Head Protection'!$F$18:$F$41,'Head Protection'!$N$18:$N$41)","v":0},20240201,2405,{"$f":"_xlfn.XLOOKUP(B419,'Head Protection'!$F$18:$F$41,'Head Protection'!$O$18:$O$41)","v":0},20240301,2409,{"$f":"_xlfn.XLOOKUP(B419,'Head Protection'!$F$18:$F$41,'Head Protection'!$P$18:$P$41)","v":0},20240402,2414,{"$f":"_xlfn.XLOOKUP(B419,'Head Protection'!$F$18:$F$41,'Head Protection'!$Q$18:$Q$41)","v":0},20240501,2418,{"$f":"_xlfn.XLOOKUP(B419,'Head Protection'!$F$18:$F$41,'Head Protection'!$R$18:$R$41)","v":0},20240603,2423,{"$f":"_xlfn.XLOOKUP(B419,'Head Protection'!$F$18:$F$41,'Head Protection'!$S$18:$S$41)","v":0},{"$f":"_xlfn.XLOOKUP(B419,'Head Protection'!$F$18:$F$41,'Head Protection'!$L$18:$L$41)","v":31.245000000000001}]
["Head Protection",598862301,20240103,2401,{"$f":"_xlfn.XLOOKUP(B420,'Head Protection'!$F$18:$F$41,'Head Protection'!$N$18:$N$41)","v":0},20240201,2405,{"$f":"_xlfn.XLOOKUP(B420,'Head Protection'!$F$18:$F$41,'Head Protection'!$O$18:$O$41)","v":0},20240301,2409,{"$f":"_xlfn.XLOOKUP(B420,'Head Protection'!$F$18:$F$41,'Head Protection'!$P$18:$P$41)","v":0},20240402,2414,{"$f":"_xlfn.XLOOKUP(B420,'Head Protection'!$F$18:$F$41,'Head Protection'!$Q$18:$Q$41)","v":0},20240501,2418,{"$f":"_xlfn.XLOOKUP(B420,'Head Protection'!$F$18:$F$41,'Head Protection'!$R$18:$R$41)","v":0},20240603,2423,{"$f":"_xlfn.XLOOKUP(B420,'Head Protection'!$F$18:$F$41,'Head Protection'!$S$18:$S$41)","v":0},{"$f":"_xlfn.XLOOKUP(B420,'Head Protection'!$F$18:$F$41,'Head Protection'!$L$18:$L$41)","v":27.08}]
["Head Protection",598750101,20240103,2401,{"$f":"_xlfn.XLOOKUP(B421,'Head Protection'!$F$18:$F$41,'Head Protection'!$N$18:$N$41)","v":0},20240201,2405,{"$f":"_xlfn.XLOOKUP(B421,'Head Protection'!$F$18:$F$41,'Head Protection'!$O$18:$O$41)","v":0},20240301,2409,{"$f":"_xlfn.XLOOKUP(B421,'Head Protection'!$F$18:$F$41,'Head Protection'!$P$18:$P$41)","v":0},20240402,2414,{"$f":"_xlfn.XLOOKUP(B421,'Head Protection'!$F$18:$F$41,'Head Protection'!$Q$18:$Q$41)","v":0},20240501,2418,{"$f":"_xlfn.XLOOKUP(B421,'Head Protection'!$F$18:$F$41,'Head Protection'!$R$18:$R$41)","v":0},20240603,2423,{"$f":"_xlfn.XLOOKUP(B421,'Head Protection'!$F$18:$F$41,'Head Protection'!$S$18:$S$41)","v":0},{"$f":"_xlfn.XLOOKUP(B421,'Head Protection'!$F$18:$F$41,'Head Protection'!$L$18:$L$41)","v":22.914999999999999}]
["Head Protection",578274904,20240103,2401,{"$f":"_xlfn.XLOOKUP(B422,'Head Protection'!$F$18:$F$41,'Head Protection'!$N$18:$N$41)","v":0},20240201,2405,{"$f":"_xlfn.XLOOKUP(B422,'Head Protection'!$F$18:$F$41,'Head Protection'!$O$18:$O$41)","v":0},20240301,2409,{"$f":"_xlfn.XLOOKUP(B422,'Head Protection'!$F$18:$F$41,'Head Protection'!$P$18:$P$41)","v":0},20240402,2414,{"$f":"_xlfn.XLOOKUP(B422,'Head Protection'!$F$18:$F$41,'Head Protection'!$Q$18:$Q$41)","v":0},20240501,2418,{"$f":"_xlfn.XLOOKUP(B422,'Head Protection'!$F$18:$F$41,'Head Protection'!$R$18:$R$41)","v":0},20240603,2423,{"$f":"_xlfn.XLOOKUP(B422,'Head Protection'!$F$18:$F$41,'Head Protection'!$S$18:$S$41)","v":0},{"$f":"_xlfn.XLOOKUP(B422,'Head Protection'!$F$18:$F$41,'Head Protection'!$L$18:$L$41)","v":60.83}]
["Head Protection",578274903,20240103,2401,{"$f":"_xlfn.XLOOKUP(B423,'Head Protection'!$F$18:$F$41,'Head Protection'!$N$18:$N$41)","v":0},20240201,2405,{"$f":"_xlfn.XLOOKUP(B423,'Head Protection'!$F$18:$F$41,'Head Protection'!$O$18:$O$41)","v":0},20240301,2409,{"$f":"_xlfn.XLOOKUP(B423,'Head Protection'!$F$18:$F$41,'Head Protection'!$P$18:$P$41)","v":0},20240402,2414,{"$f":"_xlfn.XLOOKUP(B423,'Head Protection'!$F$18:$F$41,'Head Protection'!$Q$18:$Q$41)","v":0},20240501,2418,{"$f":"_xlfn.XLOOKUP(B423,'Head Protection'!$F$18:$F$41,'Head Protection'!$R$18:$R$41)","v":0},20240603,2423,{"$f":"_xlfn.XLOOKUP(B423,'Head Protection'!$F$18:$F$41,'Head Protection'!$S$18:$S$41)","v":0},{"$f":"_xlfn.XLOOKUP(B423,'Head Protection'!$F$18:$F$41,'Head Protection'!$L$18:$L$41)","v":60.83}]
["Head Protection",574613501,20240103,2401,{"$f":"_xlfn.XLOOKUP(B424,'Head Protection'!$F$18:$F$41,'Head Protection'!$N$18:$N$41)","v":6},20240201,2405,{"$f":"_xlfn.XLOOKUP(B424,'Head Protection'!$F$18:$F$41,'Head Protection'!$O$18:$O$41)","v":0},20240301,2409,{"$f":"_xlfn.XLOOKUP(B424,'Head Protection'!$F$18:$F$41,'Head Protection'!$P$18:$P$41)","v":6},20240402,2414,{"$f":"_xlfn.XLOOKUP(B424,'Head Protection'!$F$18:$F$41,'Head Protection'!$Q$18:$Q$41)","v":0},20240501,2418,{"$f":"_xlfn.XLOOKUP(B424,'Head Protection'!$F$18:$F$41,'Head Protection'!$R$18:$R$41)","v":0},20240603,2423,{"$f":"_xlfn.XLOOKUP(B424,'Head Protection'!$F$18:$F$41,'Head Protection'!$S$18:$S$41)","v":6},{"$f":"_xlfn.XLOOKUP(B424,'Head Protection'!$F$18:$F$41,'Head Protection'!$L$18:$L$41)","v":11.664999999999999}]
["Head Protection",544963901,20240103,2401,{"$f":"_xlfn.XLOOKUP(B425,'Head Protection'!$F$18:$F$41,'Head Protection'!$N$18:$N$41)","v":0},20240201,2405,{"$f":"_xlfn.XLOOKUP(B425,'Head Protection'!$F$18:$F$41,'Head Protection'!$O$18:$O$41)","v":0},20240301,2409,{"$f":"_xlfn.XLOOKUP(B425,'Head Protection'!$F$18:$F$41,'Head Protection'!$P$18:$P$41)","v":0},20240402,2414,{"$f":"_xlfn.XLOOKUP(B425,'Head Protection'!$F$18:$F$41,'Head Protection'!$Q$18:$Q$41)","v":0},20240501,2418,{"$f":"_xlfn.XLOOKUP(B425,'Head Protection'!$F$18:$F$41,'Head Protection'!$R$18:$R$41)","v":0},20240603,2423,{"$f":"_xlfn.XLOOKUP(B425,'Head Protection'!$F$18:$F$41,'Head Protection'!$S$18:$S$41)","v":0},{"$f":"_xlfn.XLOOKUP(B425,'Head Protection'!$F$18:$F$41,'Head Protection'!$L$18:$L$41)","v":10.83}]
["Head Protection",544963802,20240103,2401,{"$f":"_xlfn.XLOOKUP(B426,'Head Protection'!$F$18:$F$41,'Head Protection'!$N$18:$N$41)","v":0},20240201,2405,{"$f":"_xlfn.XLOOKUP(B426,'Head Protection'!$F$18:$F$41,'Head Protection'!$O$18:$O$41)","v":0},20240301,2409,{"$f":"_xlfn.XLOOKUP(B426,'Head Protection'!$F$18:$F$41,'Head Protection'!$P$18:$P$41)","v":0},20240402,2414,{"$f":"_xlfn.XLOOKUP(B426,'Head Protection'!$F$18:$F$41,'Head Protection'!$Q$18:$Q$41)","v":0},20240501,2418,{"$f":"_xlfn.XLOOKUP(B426,'Head Protection'!$F$18:$F$41,'Head Protection'!$R$18:$R$41)","v":0},20240603,2423,{"$f":"_xlfn.XLOOKUP(B426,'Head Protection'!$F$18:$F$41,'Head Protection'!$S$18:$S$41)","v":0},{"$f":"_xlfn.XLOOKUP(B426,'Head Protection'!$F$18:$F$41,'Head Protection'!$L$18:$L$41)","v":6.2450000000000001}]
["Head Protection",544963801,20240103,2401,{"$f":"_xlfn.XLOOKUP(B427,'Head Protection'!$F$18:$F$41,'Head Protection'!$N$18:$N$41)","v":0},20240201,2405,{"$f":"_xlfn.XLOOKUP(B427,'Head Protection'!$F$18:$F$41,'Head Protection'!$O$18:$O$41)","v":0},20240301,2409,{"$f":"_xlfn.XLOOKUP(B427,'Head Protection'!$F$18:$F$41,'Head Protection'!$P$18:$P$41)","v":0},20240402,2414,{"$f":"_xlfn.XLOOKUP(B427,'Head Protection'!$F$18:$F$41,'Head Protection'!$Q$18:$Q$41)","v":0},20240501,2418,{"$f":"_xlfn.XLOOKUP(B427,'Head Protection'!$F$18:$F$41,'Head Protection'!$R$18:$R$41)","v":0},20240603,2423,{"$f":"_xlfn.XLOOKUP(B427,'Head Protection'!$F$18:$F$41,'Head Protection'!$S$18:$S$41)","v":0},{"$f":"_xlfn.XLOOKUP(B427,'Head Protection'!$F$18:$F$41,'Head Protection'!$L$18:$L$41)","v":5.415}]
["Head Protection",544963703,20240103,2401,{"$f":"_xlfn.XLOOKUP(B428,'Head Protection'!$F$18:$F$41,'Head Protection'!$N$18:$N$41)","v":0},20240201,2405,{"$f":"_xlfn.XLOOKUP(B428,'Head Protection'!$F$18:$F$41,'Head Protection'!$O$18:$O$41)","v":0},20240301,2409,{"$f":"_xlfn.XLOOKUP(B428,'Head Protection'!$F$18:$F$41,'Head Protection'!$P$18:$P$41)","v":0},20240402,2414,{"$f":"_xlfn.XLOOKUP(B428,'Head Protection'!$F$18:$F$41,'Head Protection'!$Q$18:$Q$41)","v":0},20240501,2418,{"$f":"_xlfn.XLOOKUP(B428,'Head Protection'!$F$18:$F$41,'Head Protection'!$R$18:$R$41)","v":0},20240603,2423,{"$f":"_xlfn.XLOOKUP(B428,'Head Protection'!$F$18:$F$41,'Head Protection'!$S$18:$S$41)","v":0},{"$f":"_xlfn.XLOOKUP(B428,'Head Protection'!$F$18:$F$41,'Head Protection'!$L$18:$L$41)","v":8.33}]
["Head Protection",544963702,20240103,2401,{"$f":"_xlfn.XLOOKUP(B429,'Head Protection'!$F$18:$F$41,'Head Protection'!$N$18:$N$41)","v":0},20240201,2405,{"$f":"_xlfn.XLOOKUP(B429,'Head Protection'!$F$18:$F$41,'Head Protection'!$O$18:$O$41)","v":0},20240301,2409,{"$f":"_xlfn.XLOOKUP(B429,'Head Protection'!$F$18:$F$41,'Head Protection'!$P$18:$P$41)","v":0},20240402,2414,{"$f":"_xlfn.XLOOKUP(B429,'Head Protection'!$F$18:$F$41,'Head Protection'!$Q$18:$Q$41)","v":0},20240501,2418,{"$f":"_xlfn.XLOOKUP(B429,'Head Protection'!$F$18:$F$41,'Head Protection'!$R$18:$R$41)","v":0},20240603,2423,{"$f":"_xlfn.XLOOKUP(B429,'Head Protection'!$F$18:$F$41,'Head Protection'!$S$18:$S$41)","v":0},{"$f":"_xlfn.XLOOKUP(B429,'Head Protection'!$F$18:$F$41,'Head Protection'!$L$18:$L$41)","v":8.33}]
["Head Protection",544963701,20240103,2401,{"$f":"_xlfn.XLOOKUP(B430,'Head Protection'!$F$18:$F$41,'Head Protection'!$N$18:$N$41)","v":0},20240201,2405,{"$f":"_xlfn.XLOOKUP(B430,'Head Protection'!$F$18:$F$41,'Head Protection'!$O$18:$O$41)","v":0},20240301,2409,{"$f":"_xlfn.XLOOKUP(B430,'Head Protection'!$F$18:$F$41,'Head Protection'!$P$18:$P$41)","v":0},20240402,2414,{"$f":"_xlfn.XLOOKUP(B430,'Head Protection'!$F$18:$F$41,'Head Protection'!$Q$18:$Q$41)","v":0},20240501,2418,{"$f":"_xlfn.XLOOKUP(B430,'Head Protection'!$F$18:$F$41,'Head Protection'!$R$18:$R$41)","v":0},20240603,2423,{"$f":"_xlfn.XLOOKUP(B430,'Head Protection'!$F$18:$F$41,'Head Protection'!$S$18:$S$41)","v":0},{"$f":"_xlfn.XLOOKUP(B430,'Head Protection'!$F$18:$F$41,'Head Protection'!$L$18:$L$41)","v":7.08}]
["Head Protection",536913901,20240103,2401,{"$f":"_xlfn.XLOOKUP(B431,'Head Protection'!$F$18:$F$41,'Head Protection'!$N$18:$N$41)","v":0},20240201,2405,{"$f":"_xlfn.XLOOKUP(B431,'Head Protection'!$F$18:$F$41,'Head Protection'!$O$18:$O$41)","v":0},20240301,2409,{"$f":"_xlfn.XLOOKUP(B431,'Head Protection'!$F$18:$F$41,'Head Protection'!$P$18:$P$41)","v":0},20240402,2414,{"$f":"_xlfn.XLOOKUP(B431,'Head Protection'!$F$18:$F$41,'Head Protection'!$Q$18:$Q$41)","v":0},20240501,2418,{"$f":"_xlfn.XLOOKUP(B431,'Head Protection'!$F$18:$F$41,'Head Protection'!$R$18:$R$41)","v":0},20240603,2423,{"$f":"_xlfn.XLOOKUP(B431,'Head Protection'!$F$18:$F$41,'Head Protection'!$S$18:$S$41)","v":0},{"$f":"_xlfn.XLOOKUP(B431,'Head Protection'!$F$18:$F$41,'Head Protection'!$L$18:$L$41)","v":91.25}]
["Head Protection",536913601,20240103,2401,{"$f":"_xlfn.XLOOKUP(B432,'Head Protection'!$F$18:$F$41,'Head Protection'!$N$18:$N$41)","v":0},20240201,2405,{"$f":"_xlfn.XLOOKUP(B432,'Head Protection'!$F$18:$F$41,'Head Protection'!$O$18:$O$41)","v":0},20240301,2409,{"$f":"_xlfn.XLOOKUP(B432,'Head Protection'!$F$18:$F$41,'Head Protection'!$P$18:$P$41)","v":0},20240402,2414,{"$f":"_xlfn.XLOOKUP(B432,'Head Protection'!$F$18:$F$41,'Head Protection'!$Q$18:$Q$41)","v":0},20240501,2418,{"$f":"_xlfn.XLOOKUP(B432,'Head Protection'!$F$18:$F$41,'Head Protection'!$R$18:$R$41)","v":0},20240603,2423,{"$f":"_xlfn.XLOOKUP(B432,'Head Protection'!$F$18:$F$41,'Head Protection'!$S$18:$S$41)","v":0},{"$f":"_xlfn.XLOOKUP(B432,'Head Protection'!$F$18:$F$41,'Head Protection'!$L$18:$L$41)","v":91.25}]
["Head Protection",536913201,20240103,2401,{"$f":"_xlfn.XLOOKUP(B433,'Head Protection'!$F$18:$F$41,'Head Protection'!$N$18:$N$41)","v":0},20240201,2405,{"$f":"_xlfn.XLOOKUP(B433,'Head Protection'!$F$18:$F$41,'Head Protection'!$O$18:$O$41)","v":0},20240301,2409,{"$f":"_xlfn.XLOOKUP(B433,'Head Protection'!$F$18:$F$41,'Head Protection'!$P$18:$P$41)","v":0},20240402,2414,{"$f":"_xlfn.XLOOKUP(B433,'Head Protection'!$F$18:$F$41,'Head Protection'!$Q$18:$Q$41)","v":0},20240501,2418,{"$f":"_xlfn.XLOOKUP(B433,'Head Protection'!$F$18:$F$41,'Head Protection'!$R$18:$R$41)","v":0},20240603,2423,{"$f":"_xlfn.XLOOKUP(B433,'Head Protection'!$F$18:$F$41,'Head Protection'!$S$18:$S$41)","v":0},{"$f":"_xlfn.XLOOKUP(B433,'Head Protection'!$F$18:$F$41,'Head Protection'!$L$18:$L$41)","v":149.58500000000001}]
["Head Protection",536913101,20240103,2401,{"$f":"_xlfn.XLOOKUP(B434,'Head Protection'!$F$18:$F$41,'Head Protection'!$N$18:$N$41)","v":0},20240201,2405,{"$f":"_xlfn.XLOOKUP(B434,'Head Protection'!$F$18:$F$41,'Head Protection'!$O$18:$O$41)","v":0},20240301,2409,{"$f":"_xlfn.XLOOKUP(B434,'Head Protection'!$F$18:$F$41,'Head Protection'!$P$18:$P$41)","v":0},20240402,2414,{"$f":"_xlfn.XLOOKUP(B434,'Head Protection'!$F$18:$F$41,'Head Protection'!$Q$18:$Q$41)","v":0},20240501,2418,{"$f":"_xlfn.XLOOKUP(B434,'Head Protection'!$F$18:$F$41,'Head Protection'!$R$18:$R$41)","v":0},20240603,2423,{"$f":"_xlfn.XLOOKUP(B434,'Head Protection'!$F$18:$F$41,'Head Protection'!$S$18:$S$41)","v":0},{"$f":"_xlfn.XLOOKUP(B434,'Head Protection'!$F$18:$F$41,'Head Protection'!$L$18:$L$41)","v":149.58500000000001}]
["Head Protection",505699012,20240103,2401,{"$f":"_xlfn.XLOOKUP(B435,'Head Protection'!$F$18:$F$41,'Head Protection'!$N$18:$N$41)","v":0},20240201,2405,{"$f":"_xlfn.XLOOKUP(B435,'Head Protection'!$F$18:$F$41,'Head Protection'!$O$18:$O$41)","v":0},20240301,2409,{"$f":"_xlfn.XLOOKUP(B435,'Head Protection'!$F$18:$F$41,'Head Protection'!$P$18:$P$41)","v":0},20240402,2414,{"$f":"_xlfn.XLOOKUP(B435,'Head Protection'!$F$18:$F$41,'Head Protection'!$Q$18:$Q$41)","v":0},20240501,2418,{"$f":"_xlfn.XLOOKUP(B435,'Head Protection'!$F$18:$F$41,'Head Protection'!$R$18:$R$41)","v":0},20240603,2423,{"$f":"_xlfn.XLOOKUP(B435,'Head Protection'!$F$18:$F$41,'Head Protection'!$S$18:$S$41)","v":0},{"$f":"_xlfn.XLOOKUP(B435,'Head Protection'!$F$18:$F$41,'Head Protection'!$L$18:$L$41)","v":87.084999999999994}]
["Head Protection",505665360,20240103,2401,{"$f":"_xlfn.XLOOKUP(B436,'Head Protection'!$F$18:$F$41,'Head Protection'!$N$18:$N$41)","v":0},20240201,2405,{"$f":"_xlfn.XLOOKUP(B436,'Head Protection'!$F$18:$F$41,'Head Protection'!$O$18:$O$41)","v":0},20240301,2409,{"$f":"_xlfn.XLOOKUP(B436,'Head Protection'!$F$18:$F$41,'Head Protection'!$P$18:$P$41)","v":0},20240402,2414,{"$f":"_xlfn.XLOOKUP(B436,'Head Protection'!$F$18:$F$41,'Head Protection'!$Q$18:$Q$41)","v":0},20240501,2418,{"$f":"_xlfn.XLOOKUP(B436,'Head Protection'!$F$18:$F$41,'Head Protection'!$R$18:$R$41)","v":0},20240603,2423,{"$f":"_xlfn.XLOOKUP(B436,'Head Protection'!$F$18:$F$41,'Head Protection'!$S$18:$S$41)","v":0},{"$f":"_xlfn.XLOOKUP(B436,'Head Protection'!$F$18:$F$41,'Head Protection'!$L$18:$L$41)","v":14.994999999999999}]
["Head Protection",505665348,20240103,2401,{"$f":"_xlfn.XLOOKUP(B437,'Head Protection'!$F$18:$F$41,'Head Protection'!$N$18:$N$41)","v":4},20240201,2405,{"$f":"_xlfn.XLOOKUP(B437,'Head Protection'!$F$18:$F$41,'Head Protection'!$O$18:$O$41)","v":0},20240301,2409,{"$f":"_xlfn.XLOOKUP(B437,'Head Protection'!$F$18:$F$41,'Head Protection'!$P$18:$P$41)","v":4},20240402,2414,{"$f":"_xlfn.XLOOKUP(B437,'Head Protection'!$F$18:$F$41,'Head Protection'!$Q$18:$Q$41)","v":0},20240501,2418,{"$f":"_xlfn.XLOOKUP(B437,'Head Protection'!$F$18:$F$41,'Head Protection'!$R$18:$R$41)","v":4},20240603,2423,{"$f":"_xlfn.XLOOKUP(B437,'Head Protection'!$F$18:$F$41,'Head Protection'!$S$18:$S$41)","v":0},{"$f":"_xlfn.XLOOKUP(B437,'Head Protection'!$F$18:$F$41,'Head Protection'!$L$18:$L$41)","v":22.914999999999999}]
["Head Protection",505665325,20240103,2401,{"$f":"_xlfn.XLOOKUP(B438,'Head Protection'!$F$18:$F$41,'Head Protection'!$N$18:$N$41)","v":0},20240201,2405,{"$f":"_xlfn.XLOOKUP(B438,'Head Protection'!$F$18:$F$41,'Head Protection'!$O$18:$O$41)","v":0},20240301,2409,{"$f":"_xlfn.XLOOKUP(B438,'Head Protection'!$F$18:$F$41,'Head Protection'!$P$18:$P$41)","v":0},20240402,2414,{"$f":"_xlfn.XLOOKUP(B438,'Head Protection'!$F$18:$F$41,'Head Protection'!$Q$18:$Q$41)","v":0},20240501,2418,{"$f":"_xlfn.XLOOKUP(B438,'Head Protection'!$F$18:$F$41,'Head Protection'!$R$18:$R$41)","v":0},20240603,2423,{"$f":"_xlfn.XLOOKUP(B438,'Head Protection'!$F$18:$F$41,'Head Protection'!$S$18:$S$41)","v":0},{"$f":"_xlfn.XLOOKUP(B438,'Head Protection'!$F$18:$F$41,'Head Protection'!$L$18:$L$41)","v":14.164999999999999}]
["Head Protection",505665304,20240103,2401,{"$f":"_xlfn.XLOOKUP(B439,'Head Protection'!$F$18:$F$41,'Head Protection'!$N$18:$N$41)","v":0},20240201,2405,{"$f":"_xlfn.XLOOKUP(B439,'Head Protection'!$F$18:$F$41,'Head Protection'!$O$18:$O$41)","v":0},20240301,2409,{"$f":"_xlfn.XLOOKUP(B439,'Head Protection'!$F$18:$F$41,'Head Protection'!$P$18:$P$41)","v":0},20240402,2414,{"$f":"_xlfn.XLOOKUP(B439,'Head Protection'!$F$18:$F$41,'Head Protection'!$Q$18:$Q$41)","v":0},20240501,2418,{"$f":"_xlfn.XLOOKUP(B439,'Head Protection'!$F$18:$F$41,'Head Protection'!$R$18:$R$41)","v":0},20240603,2423,{"$f":"_xlfn.XLOOKUP(B439,'Head Protection'!$F$18:$F$41,'Head Protection'!$S$18:$S$41)","v":0},{"$f":"_xlfn.XLOOKUP(B439,'Head Protection'!$F$18:$F$41,'Head Protection'!$L$18:$L$41)","v":15.414999999999999}]
["Helmets",597681801,20240103,2401,{"$f":"_xlfn.XLOOKUP(B440,'Head Protection'!$F$13:$F$41,'Head Protection'!$N$13:$N$41)","v":0},20240201,2405,{"$f":"_xlfn.XLOOKUP(B440,'Head Protection'!$F$13:$F$41,'Head Protection'!$O$13:$O$41)","v":0},20240301,2409,{"$f":"_xlfn.XLOOKUP(B440,'Head Protection'!$F$13:$F$41,'Head Protection'!$P$13:$P$41)","v":0},20240402,2414,{"$f":"_xlfn.XLOOKUP(B440,'Head Protection'!$F$13:$F$41,'Head Protection'!$Q$13:$Q$41)","v":0},20240501,2418,{"$f":"_xlfn.XLOOKUP(B440,'Head Protection'!$F$13:$F$41,'Head Protection'!$R$13:$R$41)","v":0},20240603,2423,{"$f":"_xlfn.XLOOKUP(B440,'Head Protection'!$F$13:$F$41,'Head Protection'!$S$13:$S$41)","v":0},{"$f":"_xlfn.XLOOKUP(B440,'Head Protection'!$F$13:$F$41,'Head Protection'!$L$13:$L$41)","v":67.495000000000005}]
["Helmets",585058401,20240103,2401,{"$f":"_xlfn.XLOOKUP(B441,'Head Protection'!$F$13:$F$41,'Head Protection'!$N$13:$N$41)","v":20},20240201,2405,{"$f":"_xlfn.XLOOKUP(B441,'Head Protection'!$F$13:$F$41,'Head Protection'!$O$13:$O$41)","v":10},20240301,2409,{"$f":"_xlfn.XLOOKUP(B441,'Head Protection'!$F$13:$F$41,'Head Protection'!$P$13:$P$41)","v":10},20240402,2414,{"$f":"_xlfn.XLOOKUP(B441,'Head Protection'!$F$13:$F$41,'Head Protection'!$Q$13:$Q$41)","v":10},20240501,2418,{"$f":"_xlfn.XLOOKUP(B441,'Head Protection'!$F$13:$F$41,'Head Protection'!$R$13:$R$41)","v":10},20240603,2423,{"$f":"_xlfn.XLOOKUP(B441,'Head Protection'!$F$13:$F$41,'Head Protection'!$S$13:$S$41)","v":10},{"$f":"_xlfn.XLOOKUP(B441,'Head Protection'!$F$13:$F$41,'Head Protection'!$L$13:$L$41)","v":70.495000000000005}]
["Helmets",580754301,20240103,2401,{"$f":"_xlfn.XLOOKUP(B442,'Head Protection'!$F$13:$F$41,'Head Protection'!$N$13:$N$41)","v":30},20240201,2405,{"$f":"_xlfn.XLOOKUP(B442,'Head Protection'!$F$13:$F$41,'Head Protection'!$O$13:$O$41)","v":20},20240301,2409,{"$f":"_xlfn.XLOOKUP(B442,'Head Protection'!$F$13:$F$41,'Head Protection'!$P$13:$P$41)","v":20},20240402,2414,{"$f":"_xlfn.XLOOKUP(B442,'Head Protection'!$F$13:$F$41,'Head Protection'!$Q$13:$Q$41)","v":20},20240501,2418,{"$f":"_xlfn.XLOOKUP(B442,'Head Protection'!$F$13:$F$41,'Head Protection'!$R$13:$R$41)","v":20},20240603,2423,{"$f":"_xlfn.XLOOKUP(B442,'Head Protection'!$F$13:$F$41,'Head Protection'!$S$13:$S$41)","v":20},{"$f":"_xlfn.XLOOKUP(B442,'Head Protection'!$F$13:$F$41,'Head Protection'!$L$13:$L$41)","v":25.995000000000001}]
["Helmets",576412402,20240103,2401,{"$f":"_xlfn.XLOOKUP(B443,'Head Protection'!$F$13:$F$41,'Head Protection'!$N$13:$N$41)","v":0},20240201,2405,{"$f":"_xlfn.XLOOKUP(B443,'Head Protection'!$F$13:$F$41,'Head Protection'!$O$13:$O$41)","v":0},20240301,2409,{"$f":"_xlfn.XLOOKUP(B443,'Head Protection'!$F$13:$F$41,'Head Protection'!$P$13:$P$41)","v":0},20240402,2414,{"$f":"_xlfn.XLOOKUP(B443,'Head Protection'!$F$13:$F$41,'Head Protection'!$Q$13:$Q$41)","v":0},20240501,2418,{"$f":"_xlfn.XLOOKUP(B443,'Head Protection'!$F$13:$F$41,'Head Protection'!$R$13:$R$41)","v":0},20240603,2423,{"$f":"_xlfn.XLOOKUP(B443,'Head Protection'!$F$13:$F$41,'Head Protection'!$S$13:$S$41)","v":0},{"$f":"_xlfn.XLOOKUP(B443,'Head Protection'!$F$13:$F$41,'Head Protection'!$L$13:$L$41)","v":38.994999999999997}]
["Helmets",576412401,20240103,2401,{"$f":"_xlfn.XLOOKUP(B444,'Head Protection'!$F$13:$F$41,'Head Protection'!$N$13:$N$41)","v":0},20240201,2405,{"$f":"_xlfn.XLOOKUP(B444,'Head Protection'!$F$13:$F$41,'Head Protection'!$O$13:$O$41)","v":0},20240301,2409,{"$f":"_xlfn.XLOOKUP(B444,'Head Protection'!$F$13:$F$41,'Head Protection'!$P$13:$P$41)","v":0},20240402,2414,{"$f":"_xlfn.XLOOKUP(B444,'Head Protection'!$F$13:$F$41,'Head Protection'!$Q$13:$Q$41)","v":0},20240501,2418,{"$f":"_xlfn.XLOOKUP(B444,'Head Protection'!$F$13:$F$41,'Head Protection'!$R$13:$R$41)","v":0},20240603,2423,{"$f":"_xlfn.XLOOKUP(B444,'Head Protection'!$F$13:$F$41,'Head Protection'!$S$13:$S$41)","v":0},{"$f":"_xlfn.XLOOKUP(B444,'Head Protection'!$F$13:$F$41,'Head Protection'!$L$13:$L$41)","v":37.994999999999997}]
["Leisurewear Xplorer",597418101,20240103,2401,{"$f":"_xlfn.XLOOKUP(B445,'Xplorer Leisurewear'!$F$13:$F$18,'Xplorer Leisurewear'!$N$13:$N$18)","v":0},20240201,2405,{"$f":"_xlfn.XLOOKUP(B445,'Xplorer Leisurewear'!$F$13:$F$18,'Xplorer Leisurewear'!$O$13:$O$18)","v":0},20240301,2409,{"$f":"_xlfn.XLOOKUP(B445,'Xplorer Leisurewear'!$F$13:$F$18,'Xplorer Leisurewear'!$P$13:$P$18)","v":0},20240402,2414,{"$f":"_xlfn.XLOOKUP(B445,'Xplorer Leisurewear'!$F$13:$F$18,'Xplorer Leisurewear'!$Q$13:$Q$18)","v":0},20240501,2418,{"$f":"_xlfn.XLOOKUP(B445,'Xplorer Leisurewear'!$F$13:$F$18,'Xplorer Leisurewear'!$R$13:$R$18)","v":0},20240603,2423,{"$f":"_xlfn.XLOOKUP(B445,'Xplorer Leisurewear'!$F$13:$F$18,'Xplorer Leisurewear'!$S$13:$S$18)","v":0},{"$f":"_xlfn.XLOOKUP(B445,'Xplorer Leisurewear'!$F$13:$F$18,'Xplorer Leisurewear'!$L$13:$L$18)","v":10.83}]
["Leisurewear Xplorer",597417801,20240103,2401,{"$f":"_xlfn.XLOOKUP(B446,'Xplorer Leisurewear'!$F$13:$F$18,'Xplorer Leisurewear'!$N$13:$N$18)","v":0},20240201,2405,{"$f":"_xlfn.XLOOKUP(B446,'Xplorer Leisurewear'!$F$13:$F$18,'Xplorer Leisurewear'!$O$13:$O$18)","v":0},20240301,2409,{"$f":"_xlfn.XLOOKUP(B446,'Xplorer Leisurewear'!$F$13:$F$18,'Xplorer Leisurewear'!$P$13:$P$18)","v":0},20240402,2414,{"$f":"_xlfn.XLOOKUP(B446,'Xplorer Leisurewear'!$F$13:$F$18,'Xplorer Leisurewear'!$Q$13:$Q$18)","v":0},20240501,2418,{"$f":"_xlfn.XLOOKUP(B446,'Xplorer Leisurewear'!$F$13:$F$18,'Xplorer Leisurewear'!$R$13:$R$18)","v":0},20240603,2423,{"$f":"_xlfn.XLOOKUP(B446,'Xplorer Leisurewear'!$F$13:$F$18,'Xplorer Leisurewear'!$S$13:$S$18)","v":0},{"$f":"_xlfn.XLOOKUP(B446,'Xplorer Leisurewear'!$F$13:$F$18,'Xplorer Leisurewear'!$L$13:$L$18)","v":12.08}]
["Leisurewear Xplorer",593258301,20240103,2401,{"$f":"_xlfn.XLOOKUP(B447,'Xplorer Leisurewear'!$F$13:$F$18,'Xplorer Leisurewear'!$N$13:$N$18)","v":0},20240201,2405,{"$f":"_xlfn.XLOOKUP(B447,'Xplorer Leisurewear'!$F$13:$F$18,'Xplorer Leisurewear'!$O$13:$O$18)","v":2},20240301,2409,{"$f":"_xlfn.XLOOKUP(B447,'Xplorer Leisurewear'!$F$13:$F$18,'Xplorer Leisurewear'!$P$13:$P$18)","v":2},20240402,2414,{"$f":"_xlfn.XLOOKUP(B447,'Xplorer Leisurewear'!$F$13:$F$18,'Xplorer Leisurewear'!$Q$13:$Q$18)","v":0},20240501,2418,{"$f":"_xlfn.XLOOKUP(B447,'Xplorer Leisurewear'!$F$13:$F$18,'Xplorer Leisurewear'!$R$13:$R$18)","v":0},20240603,2423,{"$f":"_xlfn.XLOOKUP(B447,'Xplorer Leisurewear'!$F$13:$F$18,'Xplorer Leisurewear'!$S$13:$S$18)","v":0},{"$f":"_xlfn.XLOOKUP(B447,'Xplorer Leisurewear'!$F$13:$F$18,'Xplorer Leisurewear'!$L$13:$L$18)","v":47.494999999999997}]
["Leisurewear Xplorer",593258201,20240103,2401,{"$f":"_xlfn.XLOOKUP(B448,'Xplorer Leisurewear'!$F$13:$F$18,'Xplorer Leisurewear'!$N$13:$N$18)","v":0},20240201,2405,{"$f":"_xlfn.XLOOKUP(B448,'Xplorer Leisurewear'!$F$13:$F$18,'Xplorer Leisurewear'!$O$13:$O$18)","v":0},20240301,2409,{"$f":"_xlfn.XLOOKUP(B448,'Xplorer Leisurewear'!$F$13:$F$18,'Xplorer Leisurewear'!$P$13:$P$18)","v":0},20240402,2414,{"$f":"_xlfn.XLOOKUP(B448,'Xplorer Leisurewear'!$F$13:$F$18,'Xplorer Leisurewear'!$Q$13:$Q$18)","v":0},20240501,2418,{"$f":"_xlfn.XLOOKUP(B448,'Xplorer Leisurewear'!$F$13:$F$18,'Xplorer Leisurewear'!$R$13:$R$18)","v":0},20240603,2423,{"$f":"_xlfn.XLOOKUP(B448,'Xplorer Leisurewear'!$F$13:$F$18,'Xplorer Leisurewear'!$S$13:$S$18)","v":0},{"$f":"_xlfn.XLOOKUP(B448,'Xplorer Leisurewear'!$F$13:$F$18,'Xplorer Leisurewear'!$L$13:$L$18)","v":36.664999999999999}]
["Leisurewear Xplorer",593258101,20240103,2401,{"$f":"_xlfn.XLOOKUP(B449,'Xplorer Leisurewear'!$F$13:$F$18,'Xplorer Leisurewear'!$N$13:$N$18)","v":0},20240201,2405,{"$f":"_xlfn.XLOOKUP(B449,'Xplorer Leisurewear'!$F$13:$F$18,'Xplorer Leisurewear'!$O$13:$O$18)","v":0},20240301,2409,{"$f":"_xlfn.XLOOKUP(B449,'Xplorer Leisurewear'!$F$13:$F$18,'Xplorer Leisurewear'!$P$13:$P$18)","v":0},20240402,2414,{"$f":"_xlfn.XLOOKUP(B449,'Xplorer Leisurewear'!$F$13:$F$18,'Xplorer Leisurewear'!$Q$13:$Q$18)","v":0},20240501,2418,{"$f":"_xlfn.XLOOKUP(B449,'Xplorer Leisurewear'!$F$13:$F$18,'Xplorer Leisurewear'!$R$13:$R$18)","v":0},20240603,2423,{"$f":"_xlfn.XLOOKUP(B449,'Xplorer Leisurewear'!$F$13:$F$18,'Xplorer Leisurewear'!$S$13:$S$18)","v":0},{"$f":"_xlfn.XLOOKUP(B449,'Xplorer Leisurewear'!$F$13:$F$18,'Xplorer Leisurewear'!$L$13:$L$18)","v":64.58}]
["Leisurewear Xplorer",593257601,20240103,2401,{"$f":"_xlfn.XLOOKUP(B450,'Xplorer Leisurewear'!$F$13:$F$18,'Xplorer Leisurewear'!$N$13:$N$18)","v":0},20240201,2405,{"$f":"_xlfn.XLOOKUP(B450,'Xplorer Leisurewear'!$F$13:$F$18,'Xplorer Leisurewear'!$O$13:$O$18)","v":0},20240301,2409,{"$f":"_xlfn.XLOOKUP(B450,'Xplorer Leisurewear'!$F$13:$F$18,'Xplorer Leisurewear'!$P$13:$P$18)","v":0},20240402,2414,{"$f":"_xlfn.XLOOKUP(B450,'Xplorer Leisurewear'!$F$13:$F$18,'Xplorer Leisurewear'!$Q$13:$Q$18)","v":0},20240501,2418,{"$f":"_xlfn.XLOOKUP(B450,'Xplorer Leisurewear'!$F$13:$F$18,'Xplorer Leisurewear'!$R$13:$R$18)","v":0},20240603,2423,{"$f":"_xlfn.XLOOKUP(B450,'Xplorer Leisurewear'!$F$13:$F$18,'Xplorer Leisurewear'!$S$13:$S$18)","v":0},{"$f":"_xlfn.XLOOKUP(B450,'Xplorer Leisurewear'!$F$13:$F$18,'Xplorer Leisurewear'!$L$13:$L$18)","v":2.4950000000000001}]
["Oil & Lubricants",597687004,20240103,2401,{"$f":"_xlfn.XLOOKUP(B451,'Oil & Lubricants'!$F$13:$F$56,'Oil & Lubricants'!$N$13:$N$56)","v":0},20240201,2405,{"$f":"_xlfn.XLOOKUP(B451,'Oil & Lubricants'!$F$13:$F$56,'Oil & Lubricants'!$O$13:$O$56)","v":0},20240301,2409,{"$f":"_xlfn.XLOOKUP(B451,'Oil & Lubricants'!$F$13:$F$56,'Oil & Lubricants'!$P$13:$P$56)","v":0},20240402,2414,{"$f":"_xlfn.XLOOKUP(B451,'Oil & Lubricants'!$F$13:$F$56,'Oil & Lubricants'!$Q$13:$Q$56)","v":0},20240501,2418,{"$f":"_xlfn.XLOOKUP(B451,'Oil & Lubricants'!$F$13:$F$56,'Oil & Lubricants'!$R$13:$R$56)","v":0},20240603,2423,{"$f":"_xlfn.XLOOKUP(B451,'Oil & Lubricants'!$F$13:$F$56,'Oil & Lubricants'!$S$13:$S$56)","v":0},{"$f":"_xlfn.XLOOKUP(B451,'Oil & Lubricants'!$F$13:$F$56,'Oil & Lubricants'!$L$13:$L$56)","v":29.164999999999999}]
["Oil & Lubricants",597687001,20240103,2401,{"$f":"_xlfn.XLOOKUP(B452,'Oil & Lubricants'!$F$13:$F$56,'Oil & Lubricants'!$N$13:$N$56)","v":0},20240201,2405,{"$f":"_xlfn.XLOOKUP(B452,'Oil & Lubricants'!$F$13:$F$56,'Oil & Lubricants'!$O$13:$O$56)","v":0},20240301,2409,{"$f":"_xlfn.XLOOKUP(B452,'Oil & Lubricants'!$F$13:$F$56,'Oil & Lubricants'!$P$13:$P$56)","v":0},20240402,2414,{"$f":"_xlfn.XLOOKUP(B452,'Oil & Lubricants'!$F$13:$F$56,'Oil & Lubricants'!$Q$13:$Q$56)","v":0},20240501,2418,{"$f":"_xlfn.XLOOKUP(B452,'Oil & Lubricants'!$F$13:$F$56,'Oil & Lubricants'!$R$13:$R$56)","v":0},20240603,2423,{"$f":"_xlfn.XLOOKUP(B452,'Oil & Lubricants'!$F$13:$F$56,'Oil & Lubricants'!$S$13:$S$56)","v":0},{"$f":"_xlfn.XLOOKUP(B452,'Oil & Lubricants'!$F$13:$F$56,'Oil & Lubricants'!$L$13:$L$56)","v":10.414999999999999}]
["Oil & Lubricants",596457305,20240103,2401,{"$f":"_xlfn.XLOOKUP(B453,'Oil & Lubricants'!$F$13:$F$56,'Oil & Lubricants'!$N$13:$N$56)","v":0},20240201,2405,{"$f":"_xlfn.XLOOKUP(B453,'Oil & Lubricants'!$F$13:$F$56,'Oil & Lubricants'!$O$13:$O$56)","v":0},20240301,2409,{"$f":"_xlfn.XLOOKUP(B453,'Oil & Lubricants'!$F$13:$F$56,'Oil & Lubricants'!$P$13:$P$56)","v":0},20240402,2414,{"$f":"_xlfn.XLOOKUP(B453,'Oil & Lubricants'!$F$13:$F$56,'Oil & Lubricants'!$Q$13:$Q$56)","v":0},20240501,2418,{"$f":"_xlfn.XLOOKUP(B453,'Oil & Lubricants'!$F$13:$F$56,'Oil & Lubricants'!$R$13:$R$56)","v":0},20240603,2423,{"$f":"_xlfn.XLOOKUP(B453,'Oil & Lubricants'!$F$13:$F$56,'Oil & Lubricants'!$S$13:$S$56)","v":0},{"$f":"_xlfn.XLOOKUP(B453,'Oil & Lubricants'!$F$13:$F$56,'Oil & Lubricants'!$L$13:$L$56)","v":499.58499999999998}]
["Oil & Lubricants",596457304,20240103,2401,{"$f":"_xlfn.XLOOKUP(B454,'Oil & Lubricants'!$F$13:$F$56,'Oil & Lubricants'!$N$13:$N$56)","v":0},20240201,2405,{"$f":"_xlfn.XLOOKUP(B454,'Oil & Lubricants'!$F$13:$F$56,'Oil & Lubricants'!$O$13:$O$56)","v":0},20240301,2409,{"$f":"_xlfn.XLOOKUP(B454,'Oil & Lubricants'!$F$13:$F$56,'Oil & Lubricants'!$P$13:$P$56)","v":0},20240402,2414,{"$f":"_xlfn.XLOOKUP(B454,'Oil & Lubricants'!$F$13:$F$56,'Oil & Lubricants'!$Q$13:$Q$56)","v":0},20240501,2418,{"$f":"_xlfn.XLOOKUP(B454,'Oil & Lubricants'!$F$13:$F$56,'Oil & Lubricants'!$R$13:$R$56)","v":0},20240603,2423,{"$f":"_xlfn.XLOOKUP(B454,'Oil & Lubricants'!$F$13:$F$56,'Oil & Lubricants'!$S$13:$S$56)","v":0},{"$f":"_xlfn.XLOOKUP(B454,'Oil & Lubricants'!$F$13:$F$56,'Oil & Lubricants'!$L$13:$L$56)","v":49.58}]
["Oil & Lubricants",596457303,20240103,2401,{"$f":"_xlfn.XLOOKUP(B455,'Oil & Lubricants'!$F$13:$F$56,'Oil & Lubricants'!$N$13:$N$56)","v":0},20240201,2405,{"$f":"_xlfn.XLOOKUP(B455,'Oil & Lubricants'!$F$13:$F$56,'Oil & Lubricants'!$O$13:$O$56)","v":0},20240301,2409,{"$f":"_xlfn.XLOOKUP(B455,'Oil & Lubricants'!$F$13:$F$56,'Oil & Lubricants'!$P$13:$P$56)","v":0},20240402,2414,{"$f":"_xlfn.XLOOKUP(B455,'Oil & Lubricants'!$F$13:$F$56,'Oil & Lubricants'!$Q$13:$Q$56)","v":0},20240501,2418,{"$f":"_xlfn.XLOOKUP(B455,'Oil & Lubricants'!$F$13:$F$56,'Oil & Lubricants'!$R$13:$R$56)","v":0},20240603,2423,{"$f":"_xlfn.XLOOKUP(B455,'Oil & Lubricants'!$F$13:$F$56,'Oil & Lubricants'!$S$13:$S$56)","v":0},{"$f":"_xlfn.XLOOKUP(B455,'Oil & Lubricants'!$F$13:$F$56,'Oil & Lubricants'!$L$13:$L$56)","v":24.995000000000001}]
["Oil & Lubricants",596457302,20240103,2401,{"$f":"_xlfn.XLOOKUP(B456,'Oil & Lubricants'!$F$13:$F$56,'Oil & Lubricants'!$N$13:$N$56)","v":0},20240201,2405,{"$f":"_xlfn.XLOOKUP(B456,'Oil & Lubricants'!$F$13:$F$56,'Oil & Lubricants'!$O$13:$O$56)","v":0},20240301,2409,{"$f":"_xlfn.XLOOKUP(B456,'Oil & Lubricants'!$F$13:$F$56,'Oil & Lubricants'!$P$13:$P$56)","v":0},20240402,2414,{"$f":"_xlfn.XLOOKUP(B456,'Oil & Lubricants'!$F$13:$F$56,'Oil & Lubricants'!$Q$13:$Q$56)","v":0},20240501,2418,{"$f":"_xlfn.XLOOKUP(B456,'Oil & Lubricants'!$F$13:$F$56,'Oil & Lubricants'!$R$13:$R$56)","v":0},20240603,2423,{"$f":"_xlfn.XLOOKUP(B456,'Oil & Lubricants'!$F$13:$F$56,'Oil & Lubricants'!$S$13:$S$56)","v":0},{"$f":"_xlfn.XLOOKUP(B456,'Oil & Lubricants'!$F$13:$F$56,'Oil & Lubricants'!$L$13:$L$56)","v":13.744999999999999}]
["Oil & Lubricants",596457301,20240103,2401,{"$f":"_xlfn.XLOOKUP(B457,'Oil & Lubricants'!$F$13:$F$56,'Oil & Lubricants'!$N$13:$N$56)","v":0},20240201,2405,{"$f":"_xlfn.XLOOKUP(B457,'Oil & Lubricants'!$F$13:$F$56,'Oil & Lubricants'!$O$13:$O$56)","v":0},20240301,2409,{"$f":"_xlfn.XLOOKUP(B457,'Oil & Lubricants'!$F$13:$F$56,'Oil & Lubricants'!$P$13:$P$56)","v":0},20240402,2414,{"$f":"_xlfn.XLOOKUP(B457,'Oil & Lubricants'!$F$13:$F$56,'Oil & Lubricants'!$Q$13:$Q$56)","v":0},20240501,2418,{"$f":"_xlfn.XLOOKUP(B457,'Oil & Lubricants'!$F$13:$F$56,'Oil & Lubricants'!$R$13:$R$56)","v":0},20240603,2423,{"$f":"_xlfn.XLOOKUP(B457,'Oil & Lubricants'!$F$13:$F$56,'Oil & Lubricants'!$S$13:$S$56)","v":0},{"$f":"_xlfn.XLOOKUP(B457,'Oil & Lubricants'!$F$13:$F$56,'Oil & Lubricants'!$L$13:$L$56)","v":4.165}]
["Oil & Lubricants",595011701,20240103,2401,{"$f":"_xlfn.XLOOKUP(B458,'Oil & Lubricants'!$F$13:$F$56,'Oil & Lubricants'!$N$13:$N$56)","v":0},20240201,2405,{"$f":"_xlfn.XLOOKUP(B458,'Oil & Lubricants'!$F$13:$F$56,'Oil & Lubricants'!$O$13:$O$56)","v":0},20240301,2409,{"$f":"_xlfn.XLOOKUP(B458,'Oil & Lubricants'!$F$13:$F$56,'Oil & Lubricants'!$P$13:$P$56)","v":0},20240402,2414,{"$f":"_xlfn.XLOOKUP(B458,'Oil & Lubricants'!$F$13:$F$56,'Oil & Lubricants'!$Q$13:$Q$56)","v":0},20240501,2418,{"$f":"_xlfn.XLOOKUP(B458,'Oil & Lubricants'!$F$13:$F$56,'Oil & Lubricants'!$R$13:$R$56)","v":0},20240603,2423,{"$f":"_xlfn.XLOOKUP(B458,'Oil & Lubricants'!$F$13:$F$56,'Oil & Lubricants'!$S$13:$S$56)","v":0},{"$f":"_xlfn.XLOOKUP(B458,'Oil & Lubricants'!$F$13:$F$56,'Oil & Lubricants'!$L$13:$L$56)","v":7.4950000000000001}]
["Oil & Lubricants",588814801,20240103,2401,{"$f":"_xlfn.XLOOKUP(B459,'Oil & Lubricants'!$F$13:$F$56,'Oil & Lubricants'!$N$13:$N$56)","v":0},20240201,2405,{"$f":"_xlfn.XLOOKUP(B459,'Oil & Lubricants'!$F$13:$F$56,'Oil & Lubricants'!$O$13:$O$56)","v":0},20240301,2409,{"$f":"_xlfn.XLOOKUP(B459,'Oil & Lubricants'!$F$13:$F$56,'Oil & Lubricants'!$P$13:$P$56)","v":0},20240402,2414,{"$f":"_xlfn.XLOOKUP(B459,'Oil & Lubricants'!$F$13:$F$56,'Oil & Lubricants'!$Q$13:$Q$56)","v":0},20240501,2418,{"$f":"_xlfn.XLOOKUP(B459,'Oil & Lubricants'!$F$13:$F$56,'Oil & Lubricants'!$R$13:$R$56)","v":0},20240603,2423,{"$f":"_xlfn.XLOOKUP(B459,'Oil & Lubricants'!$F$13:$F$56,'Oil & Lubricants'!$S$13:$S$56)","v":0},{"$f":"_xlfn.XLOOKUP(B459,'Oil & Lubricants'!$F$13:$F$56,'Oil & Lubricants'!$L$13:$L$56)","v":11.664999999999999}]
["Oil & Lubricants",587808540,20240103,2401,{"$f":"_xlfn.XLOOKUP(B460,'Oil & Lubricants'!$F$13:$F$56,'Oil & Lubricants'!$N$13:$N$56)","v":0},20240201,2405,{"$f":"_xlfn.XLOOKUP(B460,'Oil & Lubricants'!$F$13:$F$56,'Oil & Lubricants'!$O$13:$O$56)","v":0},20240301,2409,{"$f":"_xlfn.XLOOKUP(B460,'Oil & Lubricants'!$F$13:$F$56,'Oil & Lubricants'!$P$13:$P$56)","v":0},20240402,2414,{"$f":"_xlfn.XLOOKUP(B460,'Oil & Lubricants'!$F$13:$F$56,'Oil & Lubricants'!$Q$13:$Q$56)","v":0},20240501,2418,{"$f":"_xlfn.XLOOKUP(B460,'Oil & Lubricants'!$F$13:$F$56,'Oil & Lubricants'!$R$13:$R$56)","v":0},20240603,2423,{"$f":"_xlfn.XLOOKUP(B460,'Oil & Lubricants'!$F$13:$F$56,'Oil & Lubricants'!$S$13:$S$56)","v":0},{"$f":"_xlfn.XLOOKUP(B460,'Oil & Lubricants'!$F$13:$F$56,'Oil & Lubricants'!$L$13:$L$56)","v":820.41499999999996}]
["Oil & Lubricants",587808530,20240103,2401,{"$f":"_xlfn.XLOOKUP(B461,'Oil & Lubricants'!$F$13:$F$56,'Oil & Lubricants'!$N$13:$N$56)","v":0},20240201,2405,{"$f":"_xlfn.XLOOKUP(B461,'Oil & Lubricants'!$F$13:$F$56,'Oil & Lubricants'!$O$13:$O$56)","v":0},20240301,2409,{"$f":"_xlfn.XLOOKUP(B461,'Oil & Lubricants'!$F$13:$F$56,'Oil & Lubricants'!$P$13:$P$56)","v":0},20240402,2414,{"$f":"_xlfn.XLOOKUP(B461,'Oil & Lubricants'!$F$13:$F$56,'Oil & Lubricants'!$Q$13:$Q$56)","v":0},20240501,2418,{"$f":"_xlfn.XLOOKUP(B461,'Oil & Lubricants'!$F$13:$F$56,'Oil & Lubricants'!$R$13:$R$56)","v":0},20240603,2423,{"$f":"_xlfn.XLOOKUP(B461,'Oil & Lubricants'!$F$13:$F$56,'Oil & Lubricants'!$S$13:$S$56)","v":0},{"$f":"_xlfn.XLOOKUP(B461,'Oil & Lubricants'!$F$13:$F$56,'Oil & Lubricants'!$L$13:$L$56)","v":82.915000000000006}]
["Oil & Lubricants",587808520,20240103,2401,{"$f":"_xlfn.XLOOKUP(B462,'Oil & Lubricants'!$F$13:$F$56,'Oil & Lubricants'!$N$13:$N$56)","v":0},20240201,2405,{"$f":"_xlfn.XLOOKUP(B462,'Oil & Lubricants'!$F$13:$F$56,'Oil & Lubricants'!$O$13:$O$56)","v":0},20240301,2409,{"$f":"_xlfn.XLOOKUP(B462,'Oil & Lubricants'!$F$13:$F$56,'Oil & Lubricants'!$P$13:$P$56)","v":0},20240402,2414,{"$f":"_xlfn.XLOOKUP(B462,'Oil & Lubricants'!$F$13:$F$56,'Oil & Lubricants'!$Q$13:$Q$56)","v":0},20240501,2418,{"$f":"_xlfn.XLOOKUP(B462,'Oil & Lubricants'!$F$13:$F$56,'Oil & Lubricants'!$R$13:$R$56)","v":0},20240603,2423,{"$f":"_xlfn.XLOOKUP(B462,'Oil & Lubricants'!$F$13:$F$56,'Oil & Lubricants'!$S$13:$S$56)","v":0},{"$f":"_xlfn.XLOOKUP(B462,'Oil & Lubricants'!$F$13:$F$56,'Oil & Lubricants'!$L$13:$L$56)","v":18.745000000000001}]
["Oil & Lubricants",587808511,20240103,2401,{"$f":"_xlfn.XLOOKUP(B463,'Oil & Lubricants'!$F$13:$F$56,'Oil & Lubricants'!$N$13:$N$56)","v":0},20240201,2405,{"$f":"_xlfn.XLOOKUP(B463,'Oil & Lubricants'!$F$13:$F$56,'Oil & Lubricants'!$O$13:$O$56)","v":0},20240301,2409,{"$f":"_xlfn.XLOOKUP(B463,'Oil & Lubricants'!$F$13:$F$56,'Oil & Lubricants'!$P$13:$P$56)","v":0},20240402,2414,{"$f":"_xlfn.XLOOKUP(B463,'Oil & Lubricants'!$F$13:$F$56,'Oil & Lubricants'!$Q$13:$Q$56)","v":0},20240501,2418,{"$f":"_xlfn.XLOOKUP(B463,'Oil & Lubricants'!$F$13:$F$56,'Oil & Lubricants'!$R$13:$R$56)","v":0},20240603,2423,{"$f":"_xlfn.XLOOKUP(B463,'Oil & Lubricants'!$F$13:$F$56,'Oil & Lubricants'!$S$13:$S$56)","v":0},{"$f":"_xlfn.XLOOKUP(B463,'Oil & Lubricants'!$F$13:$F$56,'Oil & Lubricants'!$L$13:$L$56)","v":6.2450000000000001}]
["Oil & Lubricants",587808501,20240103,2401,{"$f":"_xlfn.XLOOKUP(B464,'Oil & Lubricants'!$F$13:$F$56,'Oil & Lubricants'!$N$13:$N$56)","v":0},20240201,2405,{"$f":"_xlfn.XLOOKUP(B464,'Oil & Lubricants'!$F$13:$F$56,'Oil & Lubricants'!$O$13:$O$56)","v":0},20240301,2409,{"$f":"_xlfn.XLOOKUP(B464,'Oil & Lubricants'!$F$13:$F$56,'Oil & Lubricants'!$P$13:$P$56)","v":0},20240402,2414,{"$f":"_xlfn.XLOOKUP(B464,'Oil & Lubricants'!$F$13:$F$56,'Oil & Lubricants'!$Q$13:$Q$56)","v":0},20240501,2418,{"$f":"_xlfn.XLOOKUP(B464,'Oil & Lubricants'!$F$13:$F$56,'Oil & Lubricants'!$R$13:$R$56)","v":0},20240603,2423,{"$f":"_xlfn.XLOOKUP(B464,'Oil & Lubricants'!$F$13:$F$56,'Oil & Lubricants'!$S$13:$S$56)","v":0},{"$f":"_xlfn.XLOOKUP(B464,'Oil & Lubricants'!$F$13:$F$56,'Oil & Lubricants'!$L$13:$L$56)","v":1.37}]
["Oil & Lubricants",586110701,20240103,2401,{"$f":"_xlfn.XLOOKUP(B465,'Oil & Lubricants'!$F$13:$F$56,'Oil & Lubricants'!$N$13:$N$56)","v":0},20240201,2405,{"$f":"_xlfn.XLOOKUP(B465,'Oil & Lubricants'!$F$13:$F$56,'Oil & Lubricants'!$O$13:$O$56)","v":0},20240301,2409,{"$f":"_xlfn.XLOOKUP(B465,'Oil & Lubricants'!$F$13:$F$56,'Oil & Lubricants'!$P$13:$P$56)","v":0},20240402,2414,{"$f":"_xlfn.XLOOKUP(B465,'Oil & Lubricants'!$F$13:$F$56,'Oil & Lubricants'!$Q$13:$Q$56)","v":0},20240501,2418,{"$f":"_xlfn.XLOOKUP(B465,'Oil & Lubricants'!$F$13:$F$56,'Oil & Lubricants'!$R$13:$R$56)","v":0},20240603,2423,{"$f":"_xlfn.XLOOKUP(B465,'Oil & Lubricants'!$F$13:$F$56,'Oil & Lubricants'!$S$13:$S$56)","v":0},{"$f":"_xlfn.XLOOKUP(B465,'Oil & Lubricants'!$F$13:$F$56,'Oil & Lubricants'!$L$13:$L$56)","v":5.83}]
["Oil & Lubricants",586110501,20240103,2401,{"$f":"_xlfn.XLOOKUP(B466,'Oil & Lubricants'!$F$13:$F$56,'Oil & Lubricants'!$N$13:$N$56)","v":0},20240201,2405,{"$f":"_xlfn.XLOOKUP(B466,'Oil & Lubricants'!$F$13:$F$56,'Oil & Lubricants'!$O$13:$O$56)","v":10},20240301,2409,{"$f":"_xlfn.XLOOKUP(B466,'Oil & Lubricants'!$F$13:$F$56,'Oil & Lubricants'!$P$13:$P$56)","v":0},20240402,2414,{"$f":"_xlfn.XLOOKUP(B466,'Oil & Lubricants'!$F$13:$F$56,'Oil & Lubricants'!$Q$13:$Q$56)","v":0},20240501,2418,{"$f":"_xlfn.XLOOKUP(B466,'Oil & Lubricants'!$F$13:$F$56,'Oil & Lubricants'!$R$13:$R$56)","v":0},20240603,2423,{"$f":"_xlfn.XLOOKUP(B466,'Oil & Lubricants'!$F$13:$F$56,'Oil & Lubricants'!$S$13:$S$56)","v":0},{"$f":"_xlfn.XLOOKUP(B466,'Oil & Lubricants'!$F$13:$F$56,'Oil & Lubricants'!$L$13:$L$56)","v":10.414999999999999}]
["Oil & Lubricants",586110401,20240103,2401,{"$f":"_xlfn.XLOOKUP(B467,'Oil & Lubricants'!$F$13:$F$56,'Oil & Lubricants'!$N$13:$N$56)","v":10},20240201,2405,{"$f":"_xlfn.XLOOKUP(B467,'Oil & Lubricants'!$F$13:$F$56,'Oil & Lubricants'!$O$13:$O$56)","v":0},20240301,2409,{"$f":"_xlfn.XLOOKUP(B467,'Oil & Lubricants'!$F$13:$F$56,'Oil & Lubricants'!$P$13:$P$56)","v":0},20240402,2414,{"$f":"_xlfn.XLOOKUP(B467,'Oil & Lubricants'!$F$13:$F$56,'Oil & Lubricants'!$Q$13:$Q$56)","v":0},20240501,2418,{"$f":"_xlfn.XLOOKUP(B467,'Oil & Lubricants'!$F$13:$F$56,'Oil & Lubricants'!$R$13:$R$56)","v":0},20240603,2423,{"$f":"_xlfn.XLOOKUP(B467,'Oil & Lubricants'!$F$13:$F$56,'Oil & Lubricants'!$S$13:$S$56)","v":0},{"$f":"_xlfn.XLOOKUP(B467,'Oil & Lubricants'!$F$13:$F$56,'Oil & Lubricants'!$L$13:$L$56)","v":10.414999999999999}]
["Oil & Lubricants",582066601,20240103,2401,{"$f":"_xlfn.XLOOKUP(B468,'Oil & Lubricants'!$F$13:$F$56,'Oil & Lubricants'!$N$13:$N$56)","v":0},20240201,2405,{"$f":"_xlfn.XLOOKUP(B468,'Oil & Lubricants'!$F$13:$F$56,'Oil & Lubricants'!$O$13:$O$56)","v":0},20240301,2409,{"$f":"_xlfn.XLOOKUP(B468,'Oil & Lubricants'!$F$13:$F$56,'Oil & Lubricants'!$P$13:$P$56)","v":0},20240402,2414,{"$f":"_xlfn.XLOOKUP(B468,'Oil & Lubricants'!$F$13:$F$56,'Oil & Lubricants'!$Q$13:$Q$56)","v":0},20240501,2418,{"$f":"_xlfn.XLOOKUP(B468,'Oil & Lubricants'!$F$13:$F$56,'Oil & Lubricants'!$R$13:$R$56)","v":0},20240603,2423,{"$f":"_xlfn.XLOOKUP(B468,'Oil & Lubricants'!$F$13:$F$56,'Oil & Lubricants'!$S$13:$S$56)","v":0},{"$f":"_xlfn.XLOOKUP(B468,'Oil & Lubricants'!$F$13:$F$56,'Oil & Lubricants'!$L$13:$L$56)","v":9.9949999999999992}]
["Oil & Lubricants",580754201,20240103,2401,{"$f":"_xlfn.XLOOKUP(B469,'Oil & Lubricants'!$F$13:$F$56,'Oil & Lubricants'!$N$13:$N$56)","v":20},20240201,2405,{"$f":"_xlfn.XLOOKUP(B469,'Oil & Lubricants'!$F$13:$F$56,'Oil & Lubricants'!$O$13:$O$56)","v":20},20240301,2409,{"$f":"_xlfn.XLOOKUP(B469,'Oil & Lubricants'!$F$13:$F$56,'Oil & Lubricants'!$P$13:$P$56)","v":20},20240402,2414,{"$f":"_xlfn.XLOOKUP(B469,'Oil & Lubricants'!$F$13:$F$56,'Oil & Lubricants'!$Q$13:$Q$56)","v":20},20240501,2418,{"$f":"_xlfn.XLOOKUP(B469,'Oil & Lubricants'!$F$13:$F$56,'Oil & Lubricants'!$R$13:$R$56)","v":20},20240603,2423,{"$f":"_xlfn.XLOOKUP(B469,'Oil & Lubricants'!$F$13:$F$56,'Oil & Lubricants'!$S$13:$S$56)","v":20},{"$f":"_xlfn.XLOOKUP(B469,'Oil & Lubricants'!$F$13:$F$56,'Oil & Lubricants'!$L$13:$L$56)","v":25.83}]
["Oil & Lubricants",579396301,20240103,2401,{"$f":"_xlfn.XLOOKUP(B470,'Oil & Lubricants'!$F$13:$F$56,'Oil & Lubricants'!$N$13:$N$56)","v":0},20240201,2405,{"$f":"_xlfn.XLOOKUP(B470,'Oil & Lubricants'!$F$13:$F$56,'Oil & Lubricants'!$O$13:$O$56)","v":0},20240301,2409,{"$f":"_xlfn.XLOOKUP(B470,'Oil & Lubricants'!$F$13:$F$56,'Oil & Lubricants'!$P$13:$P$56)","v":0},20240402,2414,{"$f":"_xlfn.XLOOKUP(B470,'Oil & Lubricants'!$F$13:$F$56,'Oil & Lubricants'!$Q$13:$Q$56)","v":0},20240501,2418,{"$f":"_xlfn.XLOOKUP(B470,'Oil & Lubricants'!$F$13:$F$56,'Oil & Lubricants'!$R$13:$R$56)","v":0},20240603,2423,{"$f":"_xlfn.XLOOKUP(B470,'Oil & Lubricants'!$F$13:$F$56,'Oil & Lubricants'!$S$13:$S$56)","v":0},{"$f":"_xlfn.XLOOKUP(B470,'Oil & Lubricants'!$F$13:$F$56,'Oil & Lubricants'!$L$13:$L$56)","v":374.58499999999998}]
["Oil & Lubricants",579396201,20240103,2401,{"$f":"_xlfn.XLOOKUP(B471,'Oil & Lubricants'!$F$13:$F$56,'Oil & Lubricants'!$N$13:$N$56)","v":0},20240201,2405,{"$f":"_xlfn.XLOOKUP(B471,'Oil & Lubricants'!$F$13:$F$56,'Oil & Lubricants'!$O$13:$O$56)","v":0},20240301,2409,{"$f":"_xlfn.XLOOKUP(B471,'Oil & Lubricants'!$F$13:$F$56,'Oil & Lubricants'!$P$13:$P$56)","v":0},20240402,2414,{"$f":"_xlfn.XLOOKUP(B471,'Oil & Lubricants'!$F$13:$F$56,'Oil & Lubricants'!$Q$13:$Q$56)","v":0},20240501,2418,{"$f":"_xlfn.XLOOKUP(B471,'Oil & Lubricants'!$F$13:$F$56,'Oil & Lubricants'!$R$13:$R$56)","v":0},20240603,2423,{"$f":"_xlfn.XLOOKUP(B471,'Oil & Lubricants'!$F$13:$F$56,'Oil & Lubricants'!$S$13:$S$56)","v":0},{"$f":"_xlfn.XLOOKUP(B471,'Oil & Lubricants'!$F$13:$F$56,'Oil & Lubricants'!$L$13:$L$56)","v":38.33}]
["Oil & Lubricants",579396101,20240103,2401,{"$f":"_xlfn.XLOOKUP(B472,'Oil & Lubricants'!$F$13:$F$56,'Oil & Lubricants'!$N$13:$N$56)","v":0},20240201,2405,{"$f":"_xlfn.XLOOKUP(B472,'Oil & Lubricants'!$F$13:$F$56,'Oil & Lubricants'!$O$13:$O$56)","v":0},20240301,2409,{"$f":"_xlfn.XLOOKUP(B472,'Oil & Lubricants'!$F$13:$F$56,'Oil & Lubricants'!$P$13:$P$56)","v":0},20240402,2414,{"$f":"_xlfn.XLOOKUP(B472,'Oil & Lubricants'!$F$13:$F$56,'Oil & Lubricants'!$Q$13:$Q$56)","v":0},20240501,2418,{"$f":"_xlfn.XLOOKUP(B472,'Oil & Lubricants'!$F$13:$F$56,'Oil & Lubricants'!$R$13:$R$56)","v":0},20240603,2423,{"$f":"_xlfn.XLOOKUP(B472,'Oil & Lubricants'!$F$13:$F$56,'Oil & Lubricants'!$S$13:$S$56)","v":0},{"$f":"_xlfn.XLOOKUP(B472,'Oil & Lubricants'!$F$13:$F$56,'Oil & Lubricants'!$L$13:$L$56)","v":10.414999999999999}]
["Oil & Lubricants",579396001,20240103,2401,{"$f":"_xlfn.XLOOKUP(B473,'Oil & Lubricants'!$F$13:$F$56,'Oil & Lubricants'!$N$13:$N$56)","v":0},20240201,2405,{"$f":"_xlfn.XLOOKUP(B473,'Oil & Lubricants'!$F$13:$F$56,'Oil & Lubricants'!$O$13:$O$56)","v":0},20240301,2409,{"$f":"_xlfn.XLOOKUP(B473,'Oil & Lubricants'!$F$13:$F$56,'Oil & Lubricants'!$P$13:$P$56)","v":0},20240402,2414,{"$f":"_xlfn.XLOOKUP(B473,'Oil & Lubricants'!$F$13:$F$56,'Oil & Lubricants'!$Q$13:$Q$56)","v":0},20240501,2418,{"$f":"_xlfn.XLOOKUP(B473,'Oil & Lubricants'!$F$13:$F$56,'Oil & Lubricants'!$R$13:$R$56)","v":0},20240603,2423,{"$f":"_xlfn.XLOOKUP(B473,'Oil & Lubricants'!$F$13:$F$56,'Oil & Lubricants'!$S$13:$S$56)","v":0},{"$f":"_xlfn.XLOOKUP(B473,'Oil & Lubricants'!$F$13:$F$56,'Oil & Lubricants'!$L$13:$L$56)","v":3.165}]
["Oil & Lubricants",578180403,20240103,2401,{"$f":"_xlfn.XLOOKUP(B474,'Oil & Lubricants'!$F$13:$F$56,'Oil & Lubricants'!$N$13:$N$56)","v":0},20240201,2405,{"$f":"_xlfn.XLOOKUP(B474,'Oil & Lubricants'!$F$13:$F$56,'Oil & Lubricants'!$O$13:$O$56)","v":0},20240301,2409,{"$f":"_xlfn.XLOOKUP(B474,'Oil & Lubricants'!$F$13:$F$56,'Oil & Lubricants'!$P$13:$P$56)","v":0},20240402,2414,{"$f":"_xlfn.XLOOKUP(B474,'Oil & Lubricants'!$F$13:$F$56,'Oil & Lubricants'!$Q$13:$Q$56)","v":0},20240501,2418,{"$f":"_xlfn.XLOOKUP(B474,'Oil & Lubricants'!$F$13:$F$56,'Oil & Lubricants'!$R$13:$R$56)","v":0},20240603,2423,{"$f":"_xlfn.XLOOKUP(B474,'Oil & Lubricants'!$F$13:$F$56,'Oil & Lubricants'!$S$13:$S$56)","v":0},{"$f":"_xlfn.XLOOKUP(B474,'Oil & Lubricants'!$F$13:$F$56,'Oil & Lubricants'!$L$13:$L$56)","v":1832.915}]
["Oil & Lubricants",578180402,20240103,2401,{"$f":"_xlfn.XLOOKUP(B475,'Oil & Lubricants'!$F$13:$F$56,'Oil & Lubricants'!$N$13:$N$56)","v":0},20240201,2405,{"$f":"_xlfn.XLOOKUP(B475,'Oil & Lubricants'!$F$13:$F$56,'Oil & Lubricants'!$O$13:$O$56)","v":0},20240301,2409,{"$f":"_xlfn.XLOOKUP(B475,'Oil & Lubricants'!$F$13:$F$56,'Oil & Lubricants'!$P$13:$P$56)","v":0},20240402,2414,{"$f":"_xlfn.XLOOKUP(B475,'Oil & Lubricants'!$F$13:$F$56,'Oil & Lubricants'!$Q$13:$Q$56)","v":0},20240501,2418,{"$f":"_xlfn.XLOOKUP(B475,'Oil & Lubricants'!$F$13:$F$56,'Oil & Lubricants'!$R$13:$R$56)","v":0},20240603,2423,{"$f":"_xlfn.XLOOKUP(B475,'Oil & Lubricants'!$F$13:$F$56,'Oil & Lubricants'!$S$13:$S$56)","v":0},{"$f":"_xlfn.XLOOKUP(B475,'Oil & Lubricants'!$F$13:$F$56,'Oil & Lubricants'!$L$13:$L$56)","v":1032.915}]
["Oil & Lubricants",578180303,20240103,2401,{"$f":"_xlfn.XLOOKUP(B476,'Oil & Lubricants'!$F$13:$F$56,'Oil & Lubricants'!$N$13:$N$56)","v":0},20240201,2405,{"$f":"_xlfn.XLOOKUP(B476,'Oil & Lubricants'!$F$13:$F$56,'Oil & Lubricants'!$O$13:$O$56)","v":0},20240301,2409,{"$f":"_xlfn.XLOOKUP(B476,'Oil & Lubricants'!$F$13:$F$56,'Oil & Lubricants'!$P$13:$P$56)","v":0},20240402,2414,{"$f":"_xlfn.XLOOKUP(B476,'Oil & Lubricants'!$F$13:$F$56,'Oil & Lubricants'!$Q$13:$Q$56)","v":0},20240501,2418,{"$f":"_xlfn.XLOOKUP(B476,'Oil & Lubricants'!$F$13:$F$56,'Oil & Lubricants'!$R$13:$R$56)","v":0},20240603,2423,{"$f":"_xlfn.XLOOKUP(B476,'Oil & Lubricants'!$F$13:$F$56,'Oil & Lubricants'!$S$13:$S$56)","v":0},{"$f":"_xlfn.XLOOKUP(B476,'Oil & Lubricants'!$F$13:$F$56,'Oil & Lubricants'!$L$13:$L$56)","v":2.04}]
["Oil & Lubricants",578180302,20240103,2401,{"$f":"_xlfn.XLOOKUP(B477,'Oil & Lubricants'!$F$13:$F$56,'Oil & Lubricants'!$N$13:$N$56)","v":0},20240201,2405,{"$f":"_xlfn.XLOOKUP(B477,'Oil & Lubricants'!$F$13:$F$56,'Oil & Lubricants'!$O$13:$O$56)","v":0},20240301,2409,{"$f":"_xlfn.XLOOKUP(B477,'Oil & Lubricants'!$F$13:$F$56,'Oil & Lubricants'!$P$13:$P$56)","v":0},20240402,2414,{"$f":"_xlfn.XLOOKUP(B477,'Oil & Lubricants'!$F$13:$F$56,'Oil & Lubricants'!$Q$13:$Q$56)","v":0},20240501,2418,{"$f":"_xlfn.XLOOKUP(B477,'Oil & Lubricants'!$F$13:$F$56,'Oil & Lubricants'!$R$13:$R$56)","v":0},20240603,2423,{"$f":"_xlfn.XLOOKUP(B477,'Oil & Lubricants'!$F$13:$F$56,'Oil & Lubricants'!$S$13:$S$56)","v":0},{"$f":"_xlfn.XLOOKUP(B477,'Oil & Lubricants'!$F$13:$F$56,'Oil & Lubricants'!$L$13:$L$56)","v":1.665}]
["Oil & Lubricants",578180003,20240103,2401,{"$f":"_xlfn.XLOOKUP(B478,'Oil & Lubricants'!$F$13:$F$56,'Oil & Lubricants'!$N$13:$N$56)","v":0},20240201,2405,{"$f":"_xlfn.XLOOKUP(B478,'Oil & Lubricants'!$F$13:$F$56,'Oil & Lubricants'!$O$13:$O$56)","v":0},20240301,2409,{"$f":"_xlfn.XLOOKUP(B478,'Oil & Lubricants'!$F$13:$F$56,'Oil & Lubricants'!$P$13:$P$56)","v":0},20240402,2414,{"$f":"_xlfn.XLOOKUP(B478,'Oil & Lubricants'!$F$13:$F$56,'Oil & Lubricants'!$Q$13:$Q$56)","v":0},20240501,2418,{"$f":"_xlfn.XLOOKUP(B478,'Oil & Lubricants'!$F$13:$F$56,'Oil & Lubricants'!$R$13:$R$56)","v":0},20240603,2423,{"$f":"_xlfn.XLOOKUP(B478,'Oil & Lubricants'!$F$13:$F$56,'Oil & Lubricants'!$S$13:$S$56)","v":0},{"$f":"_xlfn.XLOOKUP(B478,'Oil & Lubricants'!$F$13:$F$56,'Oil & Lubricants'!$L$13:$L$56)","v":91.25}]
["Oil & Lubricants",578180002,20240103,2401,{"$f":"_xlfn.XLOOKUP(B479,'Oil & Lubricants'!$F$13:$F$56,'Oil & Lubricants'!$N$13:$N$56)","v":0},20240201,2405,{"$f":"_xlfn.XLOOKUP(B479,'Oil & Lubricants'!$F$13:$F$56,'Oil & Lubricants'!$O$13:$O$56)","v":0},20240301,2409,{"$f":"_xlfn.XLOOKUP(B479,'Oil & Lubricants'!$F$13:$F$56,'Oil & Lubricants'!$P$13:$P$56)","v":0},20240402,2414,{"$f":"_xlfn.XLOOKUP(B479,'Oil & Lubricants'!$F$13:$F$56,'Oil & Lubricants'!$Q$13:$Q$56)","v":0},20240501,2418,{"$f":"_xlfn.XLOOKUP(B479,'Oil & Lubricants'!$F$13:$F$56,'Oil & Lubricants'!$R$13:$R$56)","v":0},20240603,2423,{"$f":"_xlfn.XLOOKUP(B479,'Oil & Lubricants'!$F$13:$F$56,'Oil & Lubricants'!$S$13:$S$56)","v":0},{"$f":"_xlfn.XLOOKUP(B479,'Oil & Lubricants'!$F$13:$F$56,'Oil & Lubricants'!$L$13:$L$56)","v":52.494999999999997}]
["Oil & Lubricants",578037103,20240103,2401,{"$f":"_xlfn.XLOOKUP(B480,'Oil & Lubricants'!$F$13:$F$56,'Oil & Lubricants'!$N$13:$N$56)","v":0},20240201,2405,{"$f":"_xlfn.XLOOKUP(B480,'Oil & Lubricants'!$F$13:$F$56,'Oil & Lubricants'!$O$13:$O$56)","v":0},20240301,2409,{"$f":"_xlfn.XLOOKUP(B480,'Oil & Lubricants'!$F$13:$F$56,'Oil & Lubricants'!$P$13:$P$56)","v":3},20240402,2414,{"$f":"_xlfn.XLOOKUP(B480,'Oil & Lubricants'!$F$13:$F$56,'Oil & Lubricants'!$Q$13:$Q$56)","v":0},20240501,2418,{"$f":"_xlfn.XLOOKUP(B480,'Oil & Lubricants'!$F$13:$F$56,'Oil & Lubricants'!$R$13:$R$56)","v":0},20240603,2423,{"$f":"_xlfn.XLOOKUP(B480,'Oil & Lubricants'!$F$13:$F$56,'Oil & Lubricants'!$S$13:$S$56)","v":0},{"$f":"_xlfn.XLOOKUP(B480,'Oil & Lubricants'!$F$13:$F$56,'Oil & Lubricants'!$L$13:$L$56)","v":38.33}]
["Oil & Lubricants",578037102,20240103,2401,{"$f":"_xlfn.XLOOKUP(B481,'Oil & Lubricants'!$F$13:$F$56,'Oil & Lubricants'!$N$13:$N$56)","v":0},20240201,2405,{"$f":"_xlfn.XLOOKUP(B481,'Oil & Lubricants'!$F$13:$F$56,'Oil & Lubricants'!$O$13:$O$56)","v":0},20240301,2409,{"$f":"_xlfn.XLOOKUP(B481,'Oil & Lubricants'!$F$13:$F$56,'Oil & Lubricants'!$P$13:$P$56)","v":0},20240402,2414,{"$f":"_xlfn.XLOOKUP(B481,'Oil & Lubricants'!$F$13:$F$56,'Oil & Lubricants'!$Q$13:$Q$56)","v":0},20240501,2418,{"$f":"_xlfn.XLOOKUP(B481,'Oil & Lubricants'!$F$13:$F$56,'Oil & Lubricants'!$R$13:$R$56)","v":0},20240603,2423,{"$f":"_xlfn.XLOOKUP(B481,'Oil & Lubricants'!$F$13:$F$56,'Oil & Lubricants'!$S$13:$S$56)","v":0},{"$f":"_xlfn.XLOOKUP(B481,'Oil & Lubricants'!$F$13:$F$56,'Oil & Lubricants'!$L$13:$L$56)","v":22.914999999999999}]
["Oil & Lubricants",578037003,20240103,2401,{"$f":"_xlfn.XLOOKUP(B482,'Oil & Lubricants'!$F$13:$F$56,'Oil & Lubricants'!$N$13:$N$56)","v":12},20240201,2405,{"$f":"_xlfn.XLOOKUP(B482,'Oil & Lubricants'!$F$13:$F$56,'Oil & Lubricants'!$O$13:$O$56)","v":0},20240301,2409,{"$f":"_xlfn.XLOOKUP(B482,'Oil & Lubricants'!$F$13:$F$56,'Oil & Lubricants'!$P$13:$P$56)","v":12},20240402,2414,{"$f":"_xlfn.XLOOKUP(B482,'Oil & Lubricants'!$F$13:$F$56,'Oil & Lubricants'!$Q$13:$Q$56)","v":0},20240501,2418,{"$f":"_xlfn.XLOOKUP(B482,'Oil & Lubricants'!$F$13:$F$56,'Oil & Lubricants'!$R$13:$R$56)","v":12},20240603,2423,{"$f":"_xlfn.XLOOKUP(B482,'Oil & Lubricants'!$F$13:$F$56,'Oil & Lubricants'!$S$13:$S$56)","v":0},{"$f":"_xlfn.XLOOKUP(B482,'Oil & Lubricants'!$F$13:$F$56,'Oil & Lubricants'!$L$13:$L$56)","v":11.664999999999999}]
["Oil & Lubricants",578037002,20240103,2401,{"$f":"_xlfn.XLOOKUP(B483,'Oil & Lubricants'!$F$13:$F$56,'Oil & Lubricants'!$N$13:$N$56)","v":12},20240201,2405,{"$f":"_xlfn.XLOOKUP(B483,'Oil & Lubricants'!$F$13:$F$56,'Oil & Lubricants'!$O$13:$O$56)","v":0},20240301,2409,{"$f":"_xlfn.XLOOKUP(B483,'Oil & Lubricants'!$F$13:$F$56,'Oil & Lubricants'!$P$13:$P$56)","v":12},20240402,2414,{"$f":"_xlfn.XLOOKUP(B483,'Oil & Lubricants'!$F$13:$F$56,'Oil & Lubricants'!$Q$13:$Q$56)","v":0},20240501,2418,{"$f":"_xlfn.XLOOKUP(B483,'Oil & Lubricants'!$F$13:$F$56,'Oil & Lubricants'!$R$13:$R$56)","v":0},20240603,2423,{"$f":"_xlfn.XLOOKUP(B483,'Oil & Lubricants'!$F$13:$F$56,'Oil & Lubricants'!$S$13:$S$56)","v":0},{"$f":"_xlfn.XLOOKUP(B483,'Oil & Lubricants'!$F$13:$F$56,'Oil & Lubricants'!$L$13:$L$56)","v":7.4950000000000001}]
["Oil & Lubricants",577419702,20240103,2401,{"$f":"_xlfn.XLOOKUP(B484,'Oil & Lubricants'!$F$13:$F$56,'Oil & Lubricants'!$N$13:$N$56)","v":0},20240201,2405,{"$f":"_xlfn.XLOOKUP(B484,'Oil & Lubricants'!$F$13:$F$56,'Oil & Lubricants'!$O$13:$O$56)","v":0},20240301,2409,{"$f":"_xlfn.XLOOKUP(B484,'Oil & Lubricants'!$F$13:$F$56,'Oil & Lubricants'!$P$13:$P$56)","v":0},20240402,2414,{"$f":"_xlfn.XLOOKUP(B484,'Oil & Lubricants'!$F$13:$F$56,'Oil & Lubricants'!$Q$13:$Q$56)","v":0},20240501,2418,{"$f":"_xlfn.XLOOKUP(B484,'Oil & Lubricants'!$F$13:$F$56,'Oil & Lubricants'!$R$13:$R$56)","v":0},20240603,2423,{"$f":"_xlfn.XLOOKUP(B484,'Oil & Lubricants'!$F$13:$F$56,'Oil & Lubricants'!$S$13:$S$56)","v":0},{"$f":"_xlfn.XLOOKUP(B484,'Oil & Lubricants'!$F$13:$F$56,'Oil & Lubricants'!$L$13:$L$56)","v":8.33}]
["Oil & Lubricants",577419701,20240103,2401,{"$f":"_xlfn.XLOOKUP(B485,'Oil & Lubricants'!$F$13:$F$56,'Oil & Lubricants'!$N$13:$N$56)","v":0},20240201,2405,{"$f":"_xlfn.XLOOKUP(B485,'Oil & Lubricants'!$F$13:$F$56,'Oil & Lubricants'!$O$13:$O$56)","v":0},20240301,2409,{"$f":"_xlfn.XLOOKUP(B485,'Oil & Lubricants'!$F$13:$F$56,'Oil & Lubricants'!$P$13:$P$56)","v":0},20240402,2414,{"$f":"_xlfn.XLOOKUP(B485,'Oil & Lubricants'!$F$13:$F$56,'Oil & Lubricants'!$Q$13:$Q$56)","v":0},20240501,2418,{"$f":"_xlfn.XLOOKUP(B485,'Oil & Lubricants'!$F$13:$F$56,'Oil & Lubricants'!$R$13:$R$56)","v":0},20240603,2423,{"$f":"_xlfn.XLOOKUP(B485,'Oil & Lubricants'!$F$13:$F$56,'Oil & Lubricants'!$S$13:$S$56)","v":0},{"$f":"_xlfn.XLOOKUP(B485,'Oil & Lubricants'!$F$13:$F$56,'Oil & Lubricants'!$L$13:$L$56)","v":6.2450000000000001}]
["Oil & Lubricants",577419201,20240103,2401,{"$f":"_xlfn.XLOOKUP(B486,'Oil & Lubricants'!$F$13:$F$56,'Oil & Lubricants'!$N$13:$N$56)","v":0},20240201,2405,{"$f":"_xlfn.XLOOKUP(B486,'Oil & Lubricants'!$F$13:$F$56,'Oil & Lubricants'!$O$13:$O$56)","v":0},20240301,2409,{"$f":"_xlfn.XLOOKUP(B486,'Oil & Lubricants'!$F$13:$F$56,'Oil & Lubricants'!$P$13:$P$56)","v":0},20240402,2414,{"$f":"_xlfn.XLOOKUP(B486,'Oil & Lubricants'!$F$13:$F$56,'Oil & Lubricants'!$Q$13:$Q$56)","v":0},20240501,2418,{"$f":"_xlfn.XLOOKUP(B486,'Oil & Lubricants'!$F$13:$F$56,'Oil & Lubricants'!$R$13:$R$56)","v":0},20240603,2423,{"$f":"_xlfn.XLOOKUP(B486,'Oil & Lubricants'!$F$13:$F$56,'Oil & Lubricants'!$S$13:$S$56)","v":0},{"$f":"_xlfn.XLOOKUP(B486,'Oil & Lubricants'!$F$13:$F$56,'Oil & Lubricants'!$L$13:$L$56)","v":2.915}]
["Oil & Lubricants",538629501,20240103,2401,{"$f":"_xlfn.XLOOKUP(B487,'Oil & Lubricants'!$F$13:$F$56,'Oil & Lubricants'!$N$13:$N$56)","v":0},20240201,2405,{"$f":"_xlfn.XLOOKUP(B487,'Oil & Lubricants'!$F$13:$F$56,'Oil & Lubricants'!$O$13:$O$56)","v":0},20240301,2409,{"$f":"_xlfn.XLOOKUP(B487,'Oil & Lubricants'!$F$13:$F$56,'Oil & Lubricants'!$P$13:$P$56)","v":0},20240402,2414,{"$f":"_xlfn.XLOOKUP(B487,'Oil & Lubricants'!$F$13:$F$56,'Oil & Lubricants'!$Q$13:$Q$56)","v":0},20240501,2418,{"$f":"_xlfn.XLOOKUP(B487,'Oil & Lubricants'!$F$13:$F$56,'Oil & Lubricants'!$R$13:$R$56)","v":0},20240603,2423,{"$f":"_xlfn.XLOOKUP(B487,'Oil & Lubricants'!$F$13:$F$56,'Oil & Lubricants'!$S$13:$S$56)","v":0},{"$f":"_xlfn.XLOOKUP(B487,'Oil & Lubricants'!$F$13:$F$56,'Oil & Lubricants'!$L$13:$L$56)","v":5.83}]
["Oil & Lubricants",538629401,20240103,2401,{"$f":"_xlfn.XLOOKUP(B488,'Oil & Lubricants'!$F$13:$F$56,'Oil & Lubricants'!$N$13:$N$56)","v":0},20240201,2405,{"$f":"_xlfn.XLOOKUP(B488,'Oil & Lubricants'!$F$13:$F$56,'Oil & Lubricants'!$O$13:$O$56)","v":0},20240301,2409,{"$f":"_xlfn.XLOOKUP(B488,'Oil & Lubricants'!$F$13:$F$56,'Oil & Lubricants'!$P$13:$P$56)","v":0},20240402,2414,{"$f":"_xlfn.XLOOKUP(B488,'Oil & Lubricants'!$F$13:$F$56,'Oil & Lubricants'!$Q$13:$Q$56)","v":0},20240501,2418,{"$f":"_xlfn.XLOOKUP(B488,'Oil & Lubricants'!$F$13:$F$56,'Oil & Lubricants'!$R$13:$R$56)","v":0},20240603,2423,{"$f":"_xlfn.XLOOKUP(B488,'Oil & Lubricants'!$F$13:$F$56,'Oil & Lubricants'!$S$13:$S$56)","v":0},{"$f":"_xlfn.XLOOKUP(B488,'Oil & Lubricants'!$F$13:$F$56,'Oil & Lubricants'!$L$13:$L$56)","v":3.7450000000000001}]
["Oil & Lubricants",538629201,20240103,2401,{"$f":"_xlfn.XLOOKUP(B489,'Oil & Lubricants'!$F$13:$F$56,'Oil & Lubricants'!$N$13:$N$56)","v":0},20240201,2405,{"$f":"_xlfn.XLOOKUP(B489,'Oil & Lubricants'!$F$13:$F$56,'Oil & Lubricants'!$O$13:$O$56)","v":0},20240301,2409,{"$f":"_xlfn.XLOOKUP(B489,'Oil & Lubricants'!$F$13:$F$56,'Oil & Lubricants'!$P$13:$P$56)","v":0},20240402,2414,{"$f":"_xlfn.XLOOKUP(B489,'Oil & Lubricants'!$F$13:$F$56,'Oil & Lubricants'!$Q$13:$Q$56)","v":0},20240501,2418,{"$f":"_xlfn.XLOOKUP(B489,'Oil & Lubricants'!$F$13:$F$56,'Oil & Lubricants'!$R$13:$R$56)","v":0},20240603,2423,{"$f":"_xlfn.XLOOKUP(B489,'Oil & Lubricants'!$F$13:$F$56,'Oil & Lubricants'!$S$13:$S$56)","v":0},{"$f":"_xlfn.XLOOKUP(B489,'Oil & Lubricants'!$F$13:$F$56,'Oil & Lubricants'!$L$13:$L$56)","v":6.665}]
["Oil & Lubricants",537657601,20240103,2401,{"$f":"_xlfn.XLOOKUP(B490,Aspire!$F$30,Aspire!U30)","v":0},20240201,2405,{"$f":"_xlfn.XLOOKUP(B490,Aspire!$F$30,Aspire!V30)","v":0},20240301,2409,{"$f":"_xlfn.XLOOKUP(B490,Aspire!$F$30,Aspire!W30)","v":0},20240402,2414,{"$f":"_xlfn.XLOOKUP(B490,Aspire!$F$30,Aspire!X30)","v":0},20240501,2418,{"$f":"_xlfn.XLOOKUP(B490,Aspire!$F$30,Aspire!Y30)","v":0},20240603,2423,{"$f":"_xlfn.XLOOKUP(B490,Aspire!$F$30,Aspire!Z30)","v":0},{"$f":"_xlfn.XLOOKUP(B490,Aspire!$F$30,Aspire!L30)","v":2.2953999999999999}]
["Oil & Lubricants",537639101,20240103,2401,{"$f":"_xlfn.XLOOKUP(B491,'Oil & Lubricants'!$F$13:$F$56,'Oil & Lubricants'!$N$13:$N$56)","v":0},20240201,2405,{"$f":"_xlfn.XLOOKUP(B491,'Oil & Lubricants'!$F$13:$F$56,'Oil & Lubricants'!$O$13:$O$56)","v":0},20240301,2409,{"$f":"_xlfn.XLOOKUP(B491,'Oil & Lubricants'!$F$13:$F$56,'Oil & Lubricants'!$P$13:$P$56)","v":0},20240402,2414,{"$f":"_xlfn.XLOOKUP(B491,'Oil & Lubricants'!$F$13:$F$56,'Oil & Lubricants'!$Q$13:$Q$56)","v":0},20240501,2418,{"$f":"_xlfn.XLOOKUP(B491,'Oil & Lubricants'!$F$13:$F$56,'Oil & Lubricants'!$R$13:$R$56)","v":0},20240603,2423,{"$f":"_xlfn.XLOOKUP(B491,'Oil & Lubricants'!$F$13:$F$56,'Oil & Lubricants'!$S$13:$S$56)","v":0},{"$f":"_xlfn.XLOOKUP(B491,'Oil & Lubricants'!$F$13:$F$56,'Oil & Lubricants'!$L$13:$L$56)","v":4.165}]
["Oil & Lubricants",535560001,20240103,2401,{"$f":"_xlfn.XLOOKUP(B492,'Oil & Lubricants'!$F$13:$F$56,'Oil & Lubricants'!$N$13:$N$56)","v":0},20240201,2405,{"$f":"_xlfn.XLOOKUP(B492,'Oil & Lubricants'!$F$13:$F$56,'Oil & Lubricants'!$O$13:$O$56)","v":0},20240301,2409,{"$f":"_xlfn.XLOOKUP(B492,'Oil & Lubricants'!$F$13:$F$56,'Oil & Lubricants'!$P$13:$P$56)","v":0},20240402,2414,{"$f":"_xlfn.XLOOKUP(B492,'Oil & Lubricants'!$F$13:$F$56,'Oil & Lubricants'!$Q$13:$Q$56)","v":0},20240501,2418,{"$f":"_xlfn.XLOOKUP(B492,'Oil & Lubricants'!$F$13:$F$56,'Oil & Lubricants'!$R$13:$R$56)","v":0},20240603,2423,{"$f":"_xlfn.XLOOKUP(B492,'Oil & Lubricants'!$F$13:$F$56,'Oil & Lubricants'!$S$13:$S$56)","v":0},{"$f":"_xlfn.XLOOKUP(B492,'Oil & Lubricants'!$F$13:$F$56,'Oil & Lubricants'!$L$13:$L$56)","v":4.08}]
["Oil & Lubricants",531009248,20240103,2401,{"$f":"_xlfn.XLOOKUP(B493,'Oil & Lubricants'!$F$13:$F$56,'Oil & Lubricants'!$N$13:$N$56)","v":0},20240201,2405,{"$f":"_xlfn.XLOOKUP(B493,'Oil & Lubricants'!$F$13:$F$56,'Oil & Lubricants'!$O$13:$O$56)","v":0},20240301,2409,{"$f":"_xlfn.XLOOKUP(B493,'Oil & Lubricants'!$F$13:$F$56,'Oil & Lubricants'!$P$13:$P$56)","v":0},20240402,2414,{"$f":"_xlfn.XLOOKUP(B493,'Oil & Lubricants'!$F$13:$F$56,'Oil & Lubricants'!$Q$13:$Q$56)","v":0},20240501,2418,{"$f":"_xlfn.XLOOKUP(B493,'Oil & Lubricants'!$F$13:$F$56,'Oil & Lubricants'!$R$13:$R$56)","v":0},20240603,2423,{"$f":"_xlfn.XLOOKUP(B493,'Oil & Lubricants'!$F$13:$F$56,'Oil & Lubricants'!$S$13:$S$56)","v":0},{"$f":"_xlfn.XLOOKUP(B493,'Oil & Lubricants'!$F$13:$F$56,'Oil & Lubricants'!$L$13:$L$56)","v":13.744999999999999}]
["Oil & Lubricants",503976401,20240103,2401,{"$f":"_xlfn.XLOOKUP(B494,'Oil & Lubricants'!$F$13:$F$56,'Oil & Lubricants'!$N$13:$N$56)","v":0},20240201,2405,{"$f":"_xlfn.XLOOKUP(B494,'Oil & Lubricants'!$F$13:$F$56,'Oil & Lubricants'!$O$13:$O$56)","v":0},20240301,2409,{"$f":"_xlfn.XLOOKUP(B494,'Oil & Lubricants'!$F$13:$F$56,'Oil & Lubricants'!$P$13:$P$56)","v":0},20240402,2414,{"$f":"_xlfn.XLOOKUP(B494,'Oil & Lubricants'!$F$13:$F$56,'Oil & Lubricants'!$Q$13:$Q$56)","v":0},20240501,2418,{"$f":"_xlfn.XLOOKUP(B494,'Oil & Lubricants'!$F$13:$F$56,'Oil & Lubricants'!$R$13:$R$56)","v":0},20240603,2423,{"$f":"_xlfn.XLOOKUP(B494,'Oil & Lubricants'!$F$13:$F$56,'Oil & Lubricants'!$S$13:$S$56)","v":0},{"$f":"_xlfn.XLOOKUP(B494,'Oil & Lubricants'!$F$13:$F$56,'Oil & Lubricants'!$L$13:$L$56)","v":4.58}]
["Oil & Lubricants",502512701,20240103,2401,{"$f":"_xlfn.XLOOKUP(B495,'Oil & Lubricants'!$F$13:$F$56,'Oil & Lubricants'!$N$13:$N$56)","v":0},20240201,2405,{"$f":"_xlfn.XLOOKUP(B495,'Oil & Lubricants'!$F$13:$F$56,'Oil & Lubricants'!$O$13:$O$56)","v":0},20240301,2409,{"$f":"_xlfn.XLOOKUP(B495,'Oil & Lubricants'!$F$13:$F$56,'Oil & Lubricants'!$P$13:$P$56)","v":0},20240402,2414,{"$f":"_xlfn.XLOOKUP(B495,'Oil & Lubricants'!$F$13:$F$56,'Oil & Lubricants'!$Q$13:$Q$56)","v":0},20240501,2418,{"$f":"_xlfn.XLOOKUP(B495,'Oil & Lubricants'!$F$13:$F$56,'Oil & Lubricants'!$R$13:$R$56)","v":0},20240603,2423,{"$f":"_xlfn.XLOOKUP(B495,'Oil & Lubricants'!$F$13:$F$56,'Oil & Lubricants'!$S$13:$S$56)","v":0},{"$f":"_xlfn.XLOOKUP(B495,'Oil & Lubricants'!$F$13:$F$56,'Oil & Lubricants'!$L$13:$L$56)","v":4.9950000000000001}]
["PPE",597661242,20240103,2401,{"$f":"_xlfn.XLOOKUP(B496,'T-Shirts'!$F$13:$F$40,'T-Shirts'!$N$13:$N$40,)","v":0},20240201,2405,{"$f":"_xlfn.XLOOKUP(B496,'T-Shirts'!$F$13:$F$40,'T-Shirts'!$O$13:$O$40,)","v":0},20240301,2409,{"$f":"_xlfn.XLOOKUP(B496,'T-Shirts'!$F$13:$F$40,'T-Shirts'!$P$13:$P$40,)","v":0},20240402,2414,{"$f":"_xlfn.XLOOKUP(B496,'T-Shirts'!$F$13:$F$40,'T-Shirts'!$Q$13:$Q$40,)","v":0},20240501,2418,{"$f":"_xlfn.XLOOKUP(B496,'T-Shirts'!$F$13:$F$40,'T-Shirts'!$R$13:$R$40,)","v":0},20240603,2423,{"$f":"_xlfn.XLOOKUP(B496,'T-Shirts'!$F$13:$F$40,'T-Shirts'!$S$13:$S$40,)","v":0},{"$f":"_xlfn.XLOOKUP(B496,'T-Shirts'!$F$13:$F$40,'T-Shirts'!$L$13:$L$40,)","v":24.995000000000001}]
["PPE",597662858,20240103,2401,{"$f":"_xlfn.XLOOKUP(B497,Jackets!$F$13:$F$73,Jackets!$N$13:$N$73)","v":0},20240201,2405,{"$f":"_xlfn.XLOOKUP(B497,Jackets!$F$13:$F$73,Jackets!$O$13:$O$73)","v":0},20240301,2409,{"$f":"_xlfn.XLOOKUP(B497,Jackets!$F$13:$F$73,Jackets!$P$13:$P$73)","v":0},20240402,2414,{"$f":"_xlfn.XLOOKUP(B497,Jackets!$F$13:$F$73,Jackets!$Q$13:$Q$73)","v":0},20240501,2418,{"$f":"_xlfn.XLOOKUP(B497,Jackets!$F$13:$F$73,Jackets!$R$13:$R$73)","v":0},20240603,2423,{"$f":"_xlfn.XLOOKUP(B497,Jackets!$F$13:$F$73,Jackets!$S$13:$S$73)","v":0},{"$f":"_xlfn.XLOOKUP(B497,Jackets!$F$13:$F$73,Jackets!$L$13:$L$73)","v":60.83}]
["PPE",597662854,20240103,2401,{"$f":"_xlfn.XLOOKUP(B498,Jackets!$F$13:$F$73,Jackets!$N$13:$N$73)","v":0},20240201,2405,{"$f":"_xlfn.XLOOKUP(B498,Jackets!$F$13:$F$73,Jackets!$O$13:$O$73)","v":0},20240301,2409,{"$f":"_xlfn.XLOOKUP(B498,Jackets!$F$13:$F$73,Jackets!$P$13:$P$73)","v":0},20240402,2414,{"$f":"_xlfn.XLOOKUP(B498,Jackets!$F$13:$F$73,Jackets!$Q$13:$Q$73)","v":0},20240501,2418,{"$f":"_xlfn.XLOOKUP(B498,Jackets!$F$13:$F$73,Jackets!$R$13:$R$73)","v":0},20240603,2423,{"$f":"_xlfn.XLOOKUP(B498,Jackets!$F$13:$F$73,Jackets!$S$13:$S$73)","v":0},{"$f":"_xlfn.XLOOKUP(B498,Jackets!$F$13:$F$73,Jackets!$L$13:$L$73)","v":60.83}]
["PPE",597662850,20240103,2401,{"$f":"_xlfn.XLOOKUP(B499,Jackets!$F$13:$F$73,Jackets!$N$13:$N$73)","v":0},20240201,2405,{"$f":"_xlfn.XLOOKUP(B499,Jackets!$F$13:$F$73,Jackets!$O$13:$O$73)","v":0},20240301,2409,{"$f":"_xlfn.XLOOKUP(B499,Jackets!$F$13:$F$73,Jackets!$P$13:$P$73)","v":0},20240402,2414,{"$f":"_xlfn.XLOOKUP(B499,Jackets!$F$13:$F$73,Jackets!$Q$13:$Q$73)","v":0},20240501,2418,{"$f":"_xlfn.XLOOKUP(B499,Jackets!$F$13:$F$73,Jackets!$R$13:$R$73)","v":0},20240603,2423,{"$f":"_xlfn.XLOOKUP(B499,Jackets!$F$13:$F$73,Jackets!$S$13:$S$73)","v":0},{"$f":"_xlfn.XLOOKUP(B499,Jackets!$F$13:$F$73,Jackets!$L$13:$L$73)","v":60.83}]
["PPE",597662846,20240103,2401,{"$f":"_xlfn.XLOOKUP(B500,Jackets!$F$13:$F$73,Jackets!$N$13:$N$73)","v":0},20240201,2405,{"$f":"_xlfn.XLOOKUP(B500,Jackets!$F$13:$F$73,Jackets!$O$13:$O$73)","v":0},20240301,2409,{"$f":"_xlfn.XLOOKUP(B500,Jackets!$F$13:$F$73,Jackets!$P$13:$P$73)","v":0},20240402,2414,{"$f":"_xlfn.XLOOKUP(B500,Jackets!$F$13:$F$73,Jackets!$Q$13:$Q$73)","v":0},20240501,2418,{"$f":"_xlfn.XLOOKUP(B500,Jackets!$F$13:$F$73,Jackets!$R$13:$R$73)","v":0},20240603,2423,{"$f":"_xlfn.XLOOKUP(B500,Jackets!$F$13:$F$73,Jackets!$S$13:$S$73)","v":0},{"$f":"_xlfn.XLOOKUP(B500,Jackets!$F$13:$F$73,Jackets!$L$13:$L$73)","v":60.83}]
["PPE",597662842,20240103,2401,{"$f":"_xlfn.XLOOKUP(B501,Jackets!$F$13:$F$73,Jackets!$N$13:$N$73)","v":0},20240201,2405,{"$f":"_xlfn.XLOOKUP(B501,Jackets!$F$13:$F$73,Jackets!$O$13:$O$73)","v":0},20240301,2409,{"$f":"_xlfn.XLOOKUP(B501,Jackets!$F$13:$F$73,Jackets!$P$13:$P$73)","v":0},20240402,2414,{"$f":"_xlfn.XLOOKUP(B501,Jackets!$F$13:$F$73,Jackets!$Q$13:$Q$73)","v":0},20240501,2418,{"$f":"_xlfn.XLOOKUP(B501,Jackets!$F$13:$F$73,Jackets!$R$13:$R$73)","v":0},20240603,2423,{"$f":"_xlfn.XLOOKUP(B501,Jackets!$F$13:$F$73,Jackets!$S$13:$S$73)","v":0},{"$f":"_xlfn.XLOOKUP(B501,Jackets!$F$13:$F$73,Jackets!$L$13:$L$73)","v":60.83}]
["PPE",597662662,20240103,2401,{"$f":"_xlfn.XLOOKUP(B502,Jackets!$F$13:$F$73,Jackets!$N$13:$N$73)","v":0},20240201,2405,{"$f":"_xlfn.XLOOKUP(B502,Jackets!$F$13:$F$73,Jackets!$O$13:$O$73)","v":0},20240301,2409,{"$f":"_xlfn.XLOOKUP(B502,Jackets!$F$13:$F$73,Jackets!$P$13:$P$73)","v":0},20240402,2414,{"$f":"_xlfn.XLOOKUP(B502,Jackets!$F$13:$F$73,Jackets!$Q$13:$Q$73)","v":0},20240501,2418,{"$f":"_xlfn.XLOOKUP(B502,Jackets!$F$13:$F$73,Jackets!$R$13:$R$73)","v":0},20240603,2423,{"$f":"_xlfn.XLOOKUP(B502,Jackets!$F$13:$F$73,Jackets!$S$13:$S$73)","v":0},{"$f":"_xlfn.XLOOKUP(B502,Jackets!$F$13:$F$73,Jackets!$L$13:$L$73)","v":99.584999999999994}]
["PPE",597662658,20240103,2401,{"$f":"_xlfn.XLOOKUP(B503,Jackets!$F$13:$F$73,Jackets!$N$13:$N$73)","v":0},20240201,2405,{"$f":"_xlfn.XLOOKUP(B503,Jackets!$F$13:$F$73,Jackets!$O$13:$O$73)","v":0},20240301,2409,{"$f":"_xlfn.XLOOKUP(B503,Jackets!$F$13:$F$73,Jackets!$P$13:$P$73)","v":0},20240402,2414,{"$f":"_xlfn.XLOOKUP(B503,Jackets!$F$13:$F$73,Jackets!$Q$13:$Q$73)","v":0},20240501,2418,{"$f":"_xlfn.XLOOKUP(B503,Jackets!$F$13:$F$73,Jackets!$R$13:$R$73)","v":0},20240603,2423,{"$f":"_xlfn.XLOOKUP(B503,Jackets!$F$13:$F$73,Jackets!$S$13:$S$73)","v":0},{"$f":"_xlfn.XLOOKUP(B503,Jackets!$F$13:$F$73,Jackets!$L$13:$L$73)","v":99.584999999999994}]
["PPE",597662654,20240103,2401,{"$f":"_xlfn.XLOOKUP(B504,Jackets!$F$13:$F$73,Jackets!$N$13:$N$73)","v":0},20240201,2405,{"$f":"_xlfn.XLOOKUP(B504,Jackets!$F$13:$F$73,Jackets!$O$13:$O$73)","v":0},20240301,2409,{"$f":"_xlfn.XLOOKUP(B504,Jackets!$F$13:$F$73,Jackets!$P$13:$P$73)","v":0},20240402,2414,{"$f":"_xlfn.XLOOKUP(B504,Jackets!$F$13:$F$73,Jackets!$Q$13:$Q$73)","v":0},20240501,2418,{"$f":"_xlfn.XLOOKUP(B504,Jackets!$F$13:$F$73,Jackets!$R$13:$R$73)","v":0},20240603,2423,{"$f":"_xlfn.XLOOKUP(B504,Jackets!$F$13:$F$73,Jackets!$S$13:$S$73)","v":0},{"$f":"_xlfn.XLOOKUP(B504,Jackets!$F$13:$F$73,Jackets!$L$13:$L$73)","v":99.584999999999994}]
["PPE",546342630,20240103,2401,{"$f":"_xlfn.XLOOKUP(B505,Jackets!$F$13:$F$73,Jackets!$N$13:$N$73)","v":0},20240201,2405,{"$f":"_xlfn.XLOOKUP(B505,Jackets!$F$13:$F$73,Jackets!$O$13:$O$73)","v":0},20240301,2409,{"$f":"_xlfn.XLOOKUP(B505,Jackets!$F$13:$F$73,Jackets!$P$13:$P$73)","v":0},20240402,2414,{"$f":"_xlfn.XLOOKUP(B505,Jackets!$F$13:$F$73,Jackets!$Q$13:$Q$73)","v":0},20240501,2418,{"$f":"_xlfn.XLOOKUP(B505,Jackets!$F$13:$F$73,Jackets!$R$13:$R$73)","v":0},20240603,2423,{"$f":"_xlfn.XLOOKUP(B505,Jackets!$F$13:$F$73,Jackets!$S$13:$S$73)","v":0},{"$f":"_xlfn.XLOOKUP(B505,Jackets!$F$13:$F$73,Jackets!$L$13:$L$73)","v":52.08}]
["PPE",546342634,20240103,2401,{"$f":"_xlfn.XLOOKUP(B506,Jackets!$F$13:$F$73,Jackets!$N$13:$N$73)","v":0},20240201,2405,{"$f":"_xlfn.XLOOKUP(B506,Jackets!$F$13:$F$73,Jackets!$O$13:$O$73)","v":0},20240301,2409,{"$f":"_xlfn.XLOOKUP(B506,Jackets!$F$13:$F$73,Jackets!$P$13:$P$73)","v":0},20240402,2414,{"$f":"_xlfn.XLOOKUP(B506,Jackets!$F$13:$F$73,Jackets!$Q$13:$Q$73)","v":0},20240501,2418,{"$f":"_xlfn.XLOOKUP(B506,Jackets!$F$13:$F$73,Jackets!$R$13:$R$73)","v":0},20240603,2423,{"$f":"_xlfn.XLOOKUP(B506,Jackets!$F$13:$F$73,Jackets!$S$13:$S$73)","v":0},{"$f":"_xlfn.XLOOKUP(B506,Jackets!$F$13:$F$73,Jackets!$L$13:$L$73)","v":52.494999999999997}]
["PPE",546342638,20240103,2401,{"$f":"_xlfn.XLOOKUP(B507,Jackets!$F$13:$F$73,Jackets!$N$13:$N$73)","v":0},20240201,2405,{"$f":"_xlfn.XLOOKUP(B507,Jackets!$F$13:$F$73,Jackets!$O$13:$O$73)","v":0},20240301,2409,{"$f":"_xlfn.XLOOKUP(B507,Jackets!$F$13:$F$73,Jackets!$P$13:$P$73)","v":0},20240402,2414,{"$f":"_xlfn.XLOOKUP(B507,Jackets!$F$13:$F$73,Jackets!$Q$13:$Q$73)","v":0},20240501,2418,{"$f":"_xlfn.XLOOKUP(B507,Jackets!$F$13:$F$73,Jackets!$R$13:$R$73)","v":0},20240603,2423,{"$f":"_xlfn.XLOOKUP(B507,Jackets!$F$13:$F$73,Jackets!$S$13:$S$73)","v":0},{"$f":"_xlfn.XLOOKUP(B507,Jackets!$F$13:$F$73,Jackets!$L$13:$L$73)","v":52.914999999999999}]
["PPE",546342642,20240103,2401,{"$f":"_xlfn.XLOOKUP(B508,Jackets!$F$13:$F$73,Jackets!$N$13:$N$73)","v":0},20240201,2405,{"$f":"_xlfn.XLOOKUP(B508,Jackets!$F$13:$F$73,Jackets!$O$13:$O$73)","v":0},20240301,2409,{"$f":"_xlfn.XLOOKUP(B508,Jackets!$F$13:$F$73,Jackets!$P$13:$P$73)","v":0},20240402,2414,{"$f":"_xlfn.XLOOKUP(B508,Jackets!$F$13:$F$73,Jackets!$Q$13:$Q$73)","v":0},20240501,2418,{"$f":"_xlfn.XLOOKUP(B508,Jackets!$F$13:$F$73,Jackets!$R$13:$R$73)","v":0},20240603,2423,{"$f":"_xlfn.XLOOKUP(B508,Jackets!$F$13:$F$73,Jackets!$S$13:$S$73)","v":0},{"$f":"_xlfn.XLOOKUP(B508,Jackets!$F$13:$F$73,Jackets!$L$13:$L$73)","v":53.33}]
["PPE",546342646,20240103,2401,{"$f":"_xlfn.XLOOKUP(B509,Jackets!$F$13:$F$73,Jackets!$N$13:$N$73)","v":0},20240201,2405,{"$f":"_xlfn.XLOOKUP(B509,Jackets!$F$13:$F$73,Jackets!$O$13:$O$73)","v":0},20240301,2409,{"$f":"_xlfn.XLOOKUP(B509,Jackets!$F$13:$F$73,Jackets!$P$13:$P$73)","v":0},20240402,2414,{"$f":"_xlfn.XLOOKUP(B509,Jackets!$F$13:$F$73,Jackets!$Q$13:$Q$73)","v":0},20240501,2418,{"$f":"_xlfn.XLOOKUP(B509,Jackets!$F$13:$F$73,Jackets!$R$13:$R$73)","v":0},20240603,2423,{"$f":"_xlfn.XLOOKUP(B509,Jackets!$F$13:$F$73,Jackets!$S$13:$S$73)","v":0},{"$f":"_xlfn.XLOOKUP(B509,Jackets!$F$13:$F$73,Jackets!$L$13:$L$73)","v":53.744999999999997}]
["PPE",597245942,20240103,2401,{"$f":"_xlfn.XLOOKUP(B510,Jackets!$F$13:$F$73,Jackets!$N$13:$N$73)","v":0},20240201,2405,{"$f":"_xlfn.XLOOKUP(B510,Jackets!$F$13:$F$73,Jackets!$O$13:$O$73)","v":0},20240301,2409,{"$f":"_xlfn.XLOOKUP(B510,Jackets!$F$13:$F$73,Jackets!$P$13:$P$73)","v":0},20240402,2414,{"$f":"_xlfn.XLOOKUP(B510,Jackets!$F$13:$F$73,Jackets!$Q$13:$Q$73)","v":0},20240501,2418,{"$f":"_xlfn.XLOOKUP(B510,Jackets!$F$13:$F$73,Jackets!$R$13:$R$73)","v":0},20240603,2423,{"$f":"_xlfn.XLOOKUP(B510,Jackets!$F$13:$F$73,Jackets!$S$13:$S$73)","v":0},{"$f":"_xlfn.XLOOKUP(B510,Jackets!$F$13:$F$73,Jackets!$L$13:$L$73)","v":68.33}]
["PPE",597662650,20240103,2401,{"$f":"_xlfn.XLOOKUP(B511,Jackets!$F$13:$F$73,Jackets!$N$13:$N$73)","v":0},20240201,2405,{"$f":"_xlfn.XLOOKUP(B511,Jackets!$F$13:$F$73,Jackets!$O$13:$O$73)","v":0},20240301,2409,{"$f":"_xlfn.XLOOKUP(B511,Jackets!$F$13:$F$73,Jackets!$P$13:$P$73)","v":0},20240402,2414,{"$f":"_xlfn.XLOOKUP(B511,Jackets!$F$13:$F$73,Jackets!$Q$13:$Q$73)","v":0},20240501,2418,{"$f":"_xlfn.XLOOKUP(B511,Jackets!$F$13:$F$73,Jackets!$R$13:$R$73)","v":0},20240603,2423,{"$f":"_xlfn.XLOOKUP(B511,Jackets!$F$13:$F$73,Jackets!$S$13:$S$73)","v":0},{"$f":"_xlfn.XLOOKUP(B511,Jackets!$F$13:$F$73,Jackets!$L$13:$L$73)","v":99.584999999999994}]
["PPE",597662646,20240103,2401,{"$f":"_xlfn.XLOOKUP(B512,Jackets!$F$13:$F$73,Jackets!$N$13:$N$73)","v":0},20240201,2405,{"$f":"_xlfn.XLOOKUP(B512,Jackets!$F$13:$F$73,Jackets!$O$13:$O$73)","v":0},20240301,2409,{"$f":"_xlfn.XLOOKUP(B512,Jackets!$F$13:$F$73,Jackets!$P$13:$P$73)","v":0},20240402,2414,{"$f":"_xlfn.XLOOKUP(B512,Jackets!$F$13:$F$73,Jackets!$Q$13:$Q$73)","v":0},20240501,2418,{"$f":"_xlfn.XLOOKUP(B512,Jackets!$F$13:$F$73,Jackets!$R$13:$R$73)","v":0},20240603,2423,{"$f":"_xlfn.XLOOKUP(B512,Jackets!$F$13:$F$73,Jackets!$S$13:$S$73)","v":0},{"$f":"_xlfn.XLOOKUP(B512,Jackets!$F$13:$F$73,Jackets!$L$13:$L$73)","v":99.584999999999994}]
["PPE",597662642,20240103,2401,{"$f":"_xlfn.XLOOKUP(B513,Jackets!$F$13:$F$73,Jackets!$N$13:$N$73)","v":0},20240201,2405,{"$f":"_xlfn.XLOOKUP(B513,Jackets!$F$13:$F$73,Jackets!$O$13:$O$73)","v":0},20240301,2409,{"$f":"_xlfn.XLOOKUP(B513,Jackets!$F$13:$F$73,Jackets!$P$13:$P$73)","v":0},20240402,2414,{"$f":"_xlfn.XLOOKUP(B513,Jackets!$F$13:$F$73,Jackets!$Q$13:$Q$73)","v":0},20240501,2418,{"$f":"_xlfn.XLOOKUP(B513,Jackets!$F$13:$F$73,Jackets!$R$13:$R$73)","v":0},20240603,2423,{"$f":"_xlfn.XLOOKUP(B513,Jackets!$F$13:$F$73,Jackets!$S$13:$S$73)","v":0},{"$f":"_xlfn.XLOOKUP(B513,Jackets!$F$13:$F$73,Jackets!$L$13:$L$73)","v":99.584999999999994}]
["PPE",597660262,20240103,2401,{"$f":"_xlfn.XLOOKUP(B514,Jackets!$F$13:$F$73,Jackets!$N$13:$N$73)","v":0},20240201,2405,{"$f":"_xlfn.XLOOKUP(B514,Jackets!$F$13:$F$73,Jackets!$O$13:$O$73)","v":0},20240301,2409,{"$f":"_xlfn.XLOOKUP(B514,Jackets!$F$13:$F$73,Jackets!$P$13:$P$73)","v":0},20240402,2414,{"$f":"_xlfn.XLOOKUP(B514,Jackets!$F$13:$F$73,Jackets!$Q$13:$Q$73)","v":0},20240501,2418,{"$f":"_xlfn.XLOOKUP(B514,Jackets!$F$13:$F$73,Jackets!$R$13:$R$73)","v":0},20240603,2423,{"$f":"_xlfn.XLOOKUP(B514,Jackets!$F$13:$F$73,Jackets!$S$13:$S$73)","v":0},{"$f":"_xlfn.XLOOKUP(B514,Jackets!$F$13:$F$73,Jackets!$L$13:$L$73)","v":60.83}]
["PPE",597660258,20240103,2401,{"$f":"_xlfn.XLOOKUP(B515,Jackets!$F$13:$F$73,Jackets!$N$13:$N$73)","v":0},20240201,2405,{"$f":"_xlfn.XLOOKUP(B515,Jackets!$F$13:$F$73,Jackets!$O$13:$O$73)","v":0},20240301,2409,{"$f":"_xlfn.XLOOKUP(B515,Jackets!$F$13:$F$73,Jackets!$P$13:$P$73)","v":0},20240402,2414,{"$f":"_xlfn.XLOOKUP(B515,Jackets!$F$13:$F$73,Jackets!$Q$13:$Q$73)","v":0},20240501,2418,{"$f":"_xlfn.XLOOKUP(B515,Jackets!$F$13:$F$73,Jackets!$R$13:$R$73)","v":0},20240603,2423,{"$f":"_xlfn.XLOOKUP(B515,Jackets!$F$13:$F$73,Jackets!$S$13:$S$73)","v":0},{"$f":"_xlfn.XLOOKUP(B515,Jackets!$F$13:$F$73,Jackets!$L$13:$L$73)","v":60.83}]
["PPE",597660254,20240103,2401,{"$f":"_xlfn.XLOOKUP(B516,Jackets!$F$13:$F$73,Jackets!$N$13:$N$73)","v":0},20240201,2405,{"$f":"_xlfn.XLOOKUP(B516,Jackets!$F$13:$F$73,Jackets!$O$13:$O$73)","v":0},20240301,2409,{"$f":"_xlfn.XLOOKUP(B516,Jackets!$F$13:$F$73,Jackets!$P$13:$P$73)","v":0},20240402,2414,{"$f":"_xlfn.XLOOKUP(B516,Jackets!$F$13:$F$73,Jackets!$Q$13:$Q$73)","v":0},20240501,2418,{"$f":"_xlfn.XLOOKUP(B516,Jackets!$F$13:$F$73,Jackets!$R$13:$R$73)","v":0},20240603,2423,{"$f":"_xlfn.XLOOKUP(B516,Jackets!$F$13:$F$73,Jackets!$S$13:$S$73)","v":0},{"$f":"_xlfn.XLOOKUP(B516,Jackets!$F$13:$F$73,Jackets!$L$13:$L$73)","v":60.83}]
["PPE",597660250,20240103,2401,{"$f":"_xlfn.XLOOKUP(B517,Jackets!$F$13:$F$73,Jackets!$N$13:$N$73)","v":0},20240201,2405,{"$f":"_xlfn.XLOOKUP(B517,Jackets!$F$13:$F$73,Jackets!$O$13:$O$73)","v":0},20240301,2409,{"$f":"_xlfn.XLOOKUP(B517,Jackets!$F$13:$F$73,Jackets!$P$13:$P$73)","v":0},20240402,2414,{"$f":"_xlfn.XLOOKUP(B517,Jackets!$F$13:$F$73,Jackets!$Q$13:$Q$73)","v":0},20240501,2418,{"$f":"_xlfn.XLOOKUP(B517,Jackets!$F$13:$F$73,Jackets!$R$13:$R$73)","v":0},20240603,2423,{"$f":"_xlfn.XLOOKUP(B517,Jackets!$F$13:$F$73,Jackets!$S$13:$S$73)","v":0},{"$f":"_xlfn.XLOOKUP(B517,Jackets!$F$13:$F$73,Jackets!$L$13:$L$73)","v":60.83}]
["PPE",597660246,20240103,2401,{"$f":"_xlfn.XLOOKUP(B518,Jackets!$F$13:$F$73,Jackets!$N$13:$N$73)","v":0},20240201,2405,{"$f":"_xlfn.XLOOKUP(B518,Jackets!$F$13:$F$73,Jackets!$O$13:$O$73)","v":0},20240301,2409,{"$f":"_xlfn.XLOOKUP(B518,Jackets!$F$13:$F$73,Jackets!$P$13:$P$73)","v":0},20240402,2414,{"$f":"_xlfn.XLOOKUP(B518,Jackets!$F$13:$F$73,Jackets!$Q$13:$Q$73)","v":0},20240501,2418,{"$f":"_xlfn.XLOOKUP(B518,Jackets!$F$13:$F$73,Jackets!$R$13:$R$73)","v":0},20240603,2423,{"$f":"_xlfn.XLOOKUP(B518,Jackets!$F$13:$F$73,Jackets!$S$13:$S$73)","v":0},{"$f":"_xlfn.XLOOKUP(B518,Jackets!$F$13:$F$73,Jackets!$L$13:$L$73)","v":60.83}]
["PPE",597245962,20240103,2401,{"$f":"_xlfn.XLOOKUP(B519,Jackets!$F$13:$F$73,Jackets!$N$13:$N$73)","v":0},20240201,2405,{"$f":"_xlfn.XLOOKUP(B519,Jackets!$F$13:$F$73,Jackets!$O$13:$O$73)","v":0},20240301,2409,{"$f":"_xlfn.XLOOKUP(B519,Jackets!$F$13:$F$73,Jackets!$P$13:$P$73)","v":0},20240402,2414,{"$f":"_xlfn.XLOOKUP(B519,Jackets!$F$13:$F$73,Jackets!$Q$13:$Q$73)","v":0},20240501,2418,{"$f":"_xlfn.XLOOKUP(B519,Jackets!$F$13:$F$73,Jackets!$R$13:$R$73)","v":0},20240603,2423,{"$f":"_xlfn.XLOOKUP(B519,Jackets!$F$13:$F$73,Jackets!$S$13:$S$73)","v":0},{"$f":"_xlfn.XLOOKUP(B519,Jackets!$F$13:$F$73,Jackets!$L$13:$L$73)","v":68.33}]
["PPE",597245958,20240103,2401,{"$f":"_xlfn.XLOOKUP(B520,Jackets!$F$13:$F$73,Jackets!$N$13:$N$73)","v":0},20240201,2405,{"$f":"_xlfn.XLOOKUP(B520,Jackets!$F$13:$F$73,Jackets!$O$13:$O$73)","v":0},20240301,2409,{"$f":"_xlfn.XLOOKUP(B520,Jackets!$F$13:$F$73,Jackets!$P$13:$P$73)","v":0},20240402,2414,{"$f":"_xlfn.XLOOKUP(B520,Jackets!$F$13:$F$73,Jackets!$Q$13:$Q$73)","v":0},20240501,2418,{"$f":"_xlfn.XLOOKUP(B520,Jackets!$F$13:$F$73,Jackets!$R$13:$R$73)","v":0},20240603,2423,{"$f":"_xlfn.XLOOKUP(B520,Jackets!$F$13:$F$73,Jackets!$S$13:$S$73)","v":0},{"$f":"_xlfn.XLOOKUP(B520,Jackets!$F$13:$F$73,Jackets!$L$13:$L$73)","v":68.33}]
["PPE",597245954,20240103,2401,{"$f":"_xlfn.XLOOKUP(B521,Jackets!$F$13:$F$73,Jackets!$N$13:$N$73)","v":0},20240201,2405,{"$f":"_xlfn.XLOOKUP(B521,Jackets!$F$13:$F$73,Jackets!$O$13:$O$73)","v":0},20240301,2409,{"$f":"_xlfn.XLOOKUP(B521,Jackets!$F$13:$F$73,Jackets!$P$13:$P$73)","v":0},20240402,2414,{"$f":"_xlfn.XLOOKUP(B521,Jackets!$F$13:$F$73,Jackets!$Q$13:$Q$73)","v":0},20240501,2418,{"$f":"_xlfn.XLOOKUP(B521,Jackets!$F$13:$F$73,Jackets!$R$13:$R$73)","v":0},20240603,2423,{"$f":"_xlfn.XLOOKUP(B521,Jackets!$F$13:$F$73,Jackets!$S$13:$S$73)","v":0},{"$f":"_xlfn.XLOOKUP(B521,Jackets!$F$13:$F$73,Jackets!$L$13:$L$73)","v":68.33}]
["PPE",597245950,20240103,2401,{"$f":"_xlfn.XLOOKUP(B522,Jackets!$F$13:$F$73,Jackets!$N$13:$N$73)","v":0},20240201,2405,{"$f":"_xlfn.XLOOKUP(B522,Jackets!$F$13:$F$73,Jackets!$O$13:$O$73)","v":0},20240301,2409,{"$f":"_xlfn.XLOOKUP(B522,Jackets!$F$13:$F$73,Jackets!$P$13:$P$73)","v":0},20240402,2414,{"$f":"_xlfn.XLOOKUP(B522,Jackets!$F$13:$F$73,Jackets!$Q$13:$Q$73)","v":0},20240501,2418,{"$f":"_xlfn.XLOOKUP(B522,Jackets!$F$13:$F$73,Jackets!$R$13:$R$73)","v":0},20240603,2423,{"$f":"_xlfn.XLOOKUP(B522,Jackets!$F$13:$F$73,Jackets!$S$13:$S$73)","v":0},{"$f":"_xlfn.XLOOKUP(B522,Jackets!$F$13:$F$73,Jackets!$L$13:$L$73)","v":68.33}]
["PPE",597245946,20240103,2401,{"$f":"_xlfn.XLOOKUP(B523,Jackets!$F$13:$F$73,Jackets!$N$13:$N$73)","v":0},20240201,2405,{"$f":"_xlfn.XLOOKUP(B523,Jackets!$F$13:$F$73,Jackets!$O$13:$O$73)","v":0},20240301,2409,{"$f":"_xlfn.XLOOKUP(B523,Jackets!$F$13:$F$73,Jackets!$P$13:$P$73)","v":0},20240402,2414,{"$f":"_xlfn.XLOOKUP(B523,Jackets!$F$13:$F$73,Jackets!$Q$13:$Q$73)","v":0},20240501,2418,{"$f":"_xlfn.XLOOKUP(B523,Jackets!$F$13:$F$73,Jackets!$R$13:$R$73)","v":0},20240603,2423,{"$f":"_xlfn.XLOOKUP(B523,Jackets!$F$13:$F$73,Jackets!$S$13:$S$73)","v":0},{"$f":"_xlfn.XLOOKUP(B523,Jackets!$F$13:$F$73,Jackets!$L$13:$L$73)","v":68.33}]
["PPE",597663310,20240103,2401,{"$f":"_xlfn.XLOOKUP(B524,Jackets!$F$13:$F$73,Jackets!$N$13:$N$73)","v":0},20240201,2405,{"$f":"_xlfn.XLOOKUP(B524,Jackets!$F$13:$F$73,Jackets!$O$13:$O$73)","v":0},20240301,2409,{"$f":"_xlfn.XLOOKUP(B524,Jackets!$F$13:$F$73,Jackets!$P$13:$P$73)","v":0},20240402,2414,{"$f":"_xlfn.XLOOKUP(B524,Jackets!$F$13:$F$73,Jackets!$Q$13:$Q$73)","v":0},20240501,2418,{"$f":"_xlfn.XLOOKUP(B524,Jackets!$F$13:$F$73,Jackets!$R$13:$R$73)","v":0},20240603,2423,{"$f":"_xlfn.XLOOKUP(B524,Jackets!$F$13:$F$73,Jackets!$S$13:$S$73)","v":0},{"$f":"_xlfn.XLOOKUP(B524,Jackets!$F$13:$F$73,Jackets!$L$13:$L$73)","v":27.08}]
["PPE",597663210,20240103,2401,{"$f":"_xlfn.XLOOKUP(B525,Trousers!$F$13:$F$107,Trousers!N13:N107)","v":0},20240201,2405,{"$f":"_xlfn.XLOOKUP(B525,Trousers!$F$13:$F$107,Trousers!O13:O107)","v":0},20240301,2409,{"$f":"_xlfn.XLOOKUP(B525,Trousers!$F$13:$F$107,Trousers!$P$13:$P$107)","v":0},20240402,2414,{"$f":"_xlfn.XLOOKUP(B525,Trousers!$F$13:$F$107,Trousers!$Q$13:$Q$107)","v":0},20240501,2418,{"$f":"_xlfn.XLOOKUP(B525,Trousers!$F$13:$F$107,Trousers!$R$13:$R$107)","v":0},20240603,2423,{"$f":"_xlfn.XLOOKUP(B525,Trousers!$F$13:$F$107,Trousers!$S$13:$S$107)","v":0},{"$f":"_xlfn.XLOOKUP(B525,Trousers!$F$13:$F$107,Trousers!$L$13:$L$107)","v":31.664999999999999}]
["PPE",597662958,20240103,2401,{"$f":"_xlfn.XLOOKUP(B526,Trousers!$F$13:$F$107,Trousers!$N$13:$N$107)","v":0},20240201,2405,{"$f":"_xlfn.XLOOKUP(B526,Trousers!$F$13:$F$107,Trousers!$O$13:$O$107)","v":0},20240301,2409,{"$f":"_xlfn.XLOOKUP(B526,Trousers!$F$13:$F$107,Trousers!$P$13:$P$107)","v":0},20240402,2414,{"$f":"_xlfn.XLOOKUP(B526,Trousers!$F$13:$F$107,Trousers!$Q$13:$Q$107)","v":0},20240501,2418,{"$f":"_xlfn.XLOOKUP(B526,Trousers!$F$13:$F$107,Trousers!$R$13:$R$107)","v":0},20240603,2423,{"$f":"_xlfn.XLOOKUP(B526,Trousers!$F$13:$F$107,Trousers!$S$13:$S$107)","v":0},{"$f":"_xlfn.XLOOKUP(B526,Trousers!$F$13:$F$107,Trousers!$L$13:$L$107)","v":38.33}]
["PPE",597662954,20240103,2401,{"$f":"_xlfn.XLOOKUP(B527,Trousers!$F$13:$F$107,Trousers!$N$13:$N$107)","v":0},20240201,2405,{"$f":"_xlfn.XLOOKUP(B527,Trousers!$F$13:$F$107,Trousers!$O$13:$O$107)","v":0},20240301,2409,{"$f":"_xlfn.XLOOKUP(B527,Trousers!$F$13:$F$107,Trousers!$P$13:$P$107)","v":0},20240402,2414,{"$f":"_xlfn.XLOOKUP(B527,Trousers!$F$13:$F$107,Trousers!$Q$13:$Q$107)","v":0},20240501,2418,{"$f":"_xlfn.XLOOKUP(B527,Trousers!$F$13:$F$107,Trousers!$R$13:$R$107)","v":0},20240603,2423,{"$f":"_xlfn.XLOOKUP(B527,Trousers!$F$13:$F$107,Trousers!$S$13:$S$107)","v":0},{"$f":"_xlfn.XLOOKUP(B527,Trousers!$F$13:$F$107,Trousers!$L$13:$L$107)","v":38.33}]
["PPE",597662950,20240103,2401,{"$f":"_xlfn.XLOOKUP(B528,Trousers!$F$13:$F$107,Trousers!$N$13:$N$107)","v":0},20240201,2405,{"$f":"_xlfn.XLOOKUP(B528,Trousers!$F$13:$F$107,Trousers!$O$13:$O$107)","v":0},20240301,2409,{"$f":"_xlfn.XLOOKUP(B528,Trousers!$F$13:$F$107,Trousers!$P$13:$P$107)","v":0},20240402,2414,{"$f":"_xlfn.XLOOKUP(B528,Trousers!$F$13:$F$107,Trousers!$Q$13:$Q$107)","v":0},20240501,2418,{"$f":"_xlfn.XLOOKUP(B528,Trousers!$F$13:$F$107,Trousers!$R$13:$R$107)","v":0},20240603,2423,{"$f":"_xlfn.XLOOKUP(B528,Trousers!$F$13:$F$107,Trousers!$S$13:$S$107)","v":0},{"$f":"_xlfn.XLOOKUP(B528,Trousers!$F$13:$F$107,Trousers!$L$13:$L$107)","v":38.33}]
["PPE",597662946,20240103,2401,{"$f":"_xlfn.XLOOKUP(B529,Trousers!$F$13:$F$107,Trousers!$N$13:$N$107)","v":0},20240201,2405,{"$f":"_xlfn.XLOOKUP(B529,Trousers!$F$13:$F$107,Trousers!$O$13:$O$107)","v":0},20240301,2409,{"$f":"_xlfn.XLOOKUP(B529,Trousers!$F$13:$F$107,Trousers!$P$13:$P$107)","v":0},20240402,2414,{"$f":"_xlfn.XLOOKUP(B529,Trousers!$F$13:$F$107,Trousers!$Q$13:$Q$107)","v":0},20240501,2418,{"$f":"_xlfn.XLOOKUP(B529,Trousers!$F$13:$F$107,Trousers!$R$13:$R$107)","v":0},20240603,2423,{"$f":"_xlfn.XLOOKUP(B529,Trousers!$F$13:$F$107,Trousers!$S$13:$S$107)","v":0},{"$f":"_xlfn.XLOOKUP(B529,Trousers!$F$13:$F$107,Trousers!$L$13:$L$107)","v":38.33}]
["PPE",597246242,20240103,2401,{"$f":"_xlfn.XLOOKUP(B530,Trousers!$F$13:$F$107,Trousers!$N$13:$N$107)","v":0},20240201,2405,{"$f":"_xlfn.XLOOKUP(B530,Trousers!$F$13:$F$107,Trousers!$O$13:$O$107)","v":0},20240301,2409,{"$f":"_xlfn.XLOOKUP(B530,Trousers!$F$13:$F$107,Trousers!$P$13:$P$107)","v":0},20240402,2414,{"$f":"_xlfn.XLOOKUP(B530,Trousers!$F$13:$F$107,Trousers!$Q$13:$Q$107)","v":0},20240501,2418,{"$f":"_xlfn.XLOOKUP(B530,Trousers!$F$13:$F$107,Trousers!$R$13:$R$107)","v":0},20240603,2423,{"$f":"_xlfn.XLOOKUP(B530,Trousers!$F$13:$F$107,Trousers!$S$13:$S$107)","v":0},{"$f":"_xlfn.XLOOKUP(B530,Trousers!$F$13:$F$107,Trousers!$L$13:$L$107)","v":63.744999999999997}]
["PPE",597660642,20240103,2401,{"$f":"_xlfn.XLOOKUP(B531,Trousers!$F$13:$F$107,Trousers!$N$13:$N$107)","v":0},20240201,2405,{"$f":"_xlfn.XLOOKUP(B531,Trousers!$F$13:$F$107,Trousers!$O$13:$O$107)","v":0},20240301,2409,{"$f":"_xlfn.XLOOKUP(B531,Trousers!$F$13:$F$107,Trousers!$P$13:$P$107)","v":0},20240402,2414,{"$f":"_xlfn.XLOOKUP(B531,Trousers!$F$13:$F$107,Trousers!$Q$13:$Q$107)","v":0},20240501,2418,{"$f":"_xlfn.XLOOKUP(B531,Trousers!$F$13:$F$107,Trousers!$R$13:$R$107)","v":0},20240603,2423,{"$f":"_xlfn.XLOOKUP(B531,Trousers!$F$13:$F$107,Trousers!$S$13:$S$107)","v":0},{"$f":"_xlfn.XLOOKUP(B531,Trousers!$F$13:$F$107,Trousers!$L$13:$L$107)","v":56.244999999999997}]
["PPE",597662942,20240103,2401,{"$f":"_xlfn.XLOOKUP(B532,Trousers!$F$13:$F$107,Trousers!$N$13:$N$107)","v":0},20240201,2405,{"$f":"_xlfn.XLOOKUP(B532,Trousers!$F$13:$F$107,Trousers!$O$13:$O$107)","v":0},20240301,2409,{"$f":"_xlfn.XLOOKUP(B532,Trousers!$F$13:$F$107,Trousers!$P$13:$P$107)","v":0},20240402,2414,{"$f":"_xlfn.XLOOKUP(B532,Trousers!$F$13:$F$107,Trousers!$Q$13:$Q$107)","v":0},20240501,2418,{"$f":"_xlfn.XLOOKUP(B532,Trousers!$F$13:$F$107,Trousers!$R$13:$R$107)","v":0},20240603,2423,{"$f":"_xlfn.XLOOKUP(B532,Trousers!$F$13:$F$107,Trousers!$S$13:$S$107)","v":0},{"$f":"_xlfn.XLOOKUP(B532,Trousers!$F$13:$F$107,Trousers!$L$13:$L$107)","v":38.33}]
["PPE",597662762,20240103,2401,{"$f":"_xlfn.XLOOKUP(B533,Trousers!$F$13:$F$107,Trousers!$N$13:$N$107)","v":0},20240201,2405,{"$f":"_xlfn.XLOOKUP(B533,Trousers!$F$13:$F$107,Trousers!$O$13:$O$107)","v":0},20240301,2409,{"$f":"_xlfn.XLOOKUP(B533,Trousers!$F$13:$F$107,Trousers!$P$13:$P$107)","v":0},20240402,2414,{"$f":"_xlfn.XLOOKUP(B533,Trousers!$F$13:$F$107,Trousers!$Q$13:$Q$107)","v":0},20240501,2418,{"$f":"_xlfn.XLOOKUP(B533,Trousers!$F$13:$F$107,Trousers!$R$13:$R$107)","v":0},20240603,2423,{"$f":"_xlfn.XLOOKUP(B533,Trousers!$F$13:$F$107,Trousers!$S$13:$S$107)","v":0},{"$f":"_xlfn.XLOOKUP(B533,Trousers!$F$13:$F$107,Trousers!$L$13:$L$107)","v":51.664999999999999}]
["PPE",597662758,20240103,2401,{"$f":"_xlfn.XLOOKUP(B534,Trousers!$F$13:$F$107,Trousers!$N$13:$N$107)","v":0},20240201,2405,{"$f":"_xlfn.XLOOKUP(B534,Trousers!$F$13:$F$107,Trousers!$O$13:$O$107)","v":0},20240301,2409,{"$f":"_xlfn.XLOOKUP(B534,Trousers!$F$13:$F$107,Trousers!$P$13:$P$107)","v":0},20240402,2414,{"$f":"_xlfn.XLOOKUP(B534,Trousers!$F$13:$F$107,Trousers!$Q$13:$Q$107)","v":0},20240501,2418,{"$f":"_xlfn.XLOOKUP(B534,Trousers!$F$13:$F$107,Trousers!$R$13:$R$107)","v":0},20240603,2423,{"$f":"_xlfn.XLOOKUP(B534,Trousers!$F$13:$F$107,Trousers!$S$13:$S$107)","v":0},{"$f":"_xlfn.XLOOKUP(B534,Trousers!$F$13:$F$107,Trousers!$L$13:$L$107)","v":51.664999999999999}]
["PPE",597662754,20240103,2401,{"$f":"_xlfn.XLOOKUP(B535,Trousers!$F$13:$F$107,Trousers!$N$13:$N$107)","v":0},20240201,2405,{"$f":"_xlfn.XLOOKUP(B535,Trousers!$F$13:$F$107,Trousers!$O$13:$O$107)","v":0},20240301,2409,{"$f":"_xlfn.XLOOKUP(B535,Trousers!$F$13:$F$107,Trousers!$P$13:$P$107)","v":0},20240402,2414,{"$f":"_xlfn.XLOOKUP(B535,Trousers!$F$13:$F$107,Trousers!$Q$13:$Q$107)","v":0},20240501,2418,{"$f":"_xlfn.XLOOKUP(B535,Trousers!$F$13:$F$107,Trousers!$R$13:$R$107)","v":0},20240603,2423,{"$f":"_xlfn.XLOOKUP(B535,Trousers!$F$13:$F$107,Trousers!$S$13:$S$107)","v":0},{"$f":"_xlfn.XLOOKUP(B535,Trousers!$F$13:$F$107,Trousers!$L$13:$L$107)","v":51.664999999999999}]
["PPE",597662750,20240103,2401,{"$f":"_xlfn.XLOOKUP(B536,Trousers!$F$13:$F$107,Trousers!$N$13:$N$107)","v":0},20240201,2405,{"$f":"_xlfn.XLOOKUP(B536,Trousers!$F$13:$F$107,Trousers!$O$13:$O$107)","v":0},20240301,2409,{"$f":"_xlfn.XLOOKUP(B536,Trousers!$F$13:$F$107,Trousers!$P$13:$P$107)","v":0},20240402,2414,{"$f":"_xlfn.XLOOKUP(B536,Trousers!$F$13:$F$107,Trousers!$Q$13:$Q$107)","v":0},20240501,2418,{"$f":"_xlfn.XLOOKUP(B536,Trousers!$F$13:$F$107,Trousers!$R$13:$R$107)","v":0},20240603,2423,{"$f":"_xlfn.XLOOKUP(B536,Trousers!$F$13:$F$107,Trousers!$S$13:$S$107)","v":0},{"$f":"_xlfn.XLOOKUP(B536,Trousers!$F$13:$F$107,Trousers!$L$13:$L$107)","v":51.664999999999999}]
["PPE",597662746,20240103,2401,{"$f":"_xlfn.XLOOKUP(B537,Trousers!$F$13:$F$107,Trousers!$N$13:$N$107)","v":0},20240201,2405,{"$f":"_xlfn.XLOOKUP(B537,Trousers!$F$13:$F$107,Trousers!$O$13:$O$107)","v":0},20240301,2409,{"$f":"_xlfn.XLOOKUP(B537,Trousers!$F$13:$F$107,Trousers!$P$13:$P$107)","v":0},20240402,2414,{"$f":"_xlfn.XLOOKUP(B537,Trousers!$F$13:$F$107,Trousers!$Q$13:$Q$107)","v":0},20240501,2418,{"$f":"_xlfn.XLOOKUP(B537,Trousers!$F$13:$F$107,Trousers!$R$13:$R$107)","v":0},20240603,2423,{"$f":"_xlfn.XLOOKUP(B537,Trousers!$F$13:$F$107,Trousers!$S$13:$S$107)","v":0},{"$f":"_xlfn.XLOOKUP(B537,Trousers!$F$13:$F$107,Trousers!$L$13:$L$107)","v":51.664999999999999}]
["PPE",597662742,20240103,2401,{"$f":"_xlfn.XLOOKUP(B538,Trousers!$F$13:$F$107,Trousers!$N$13:$N$107)","v":0},20240201,2405,{"$f":"_xlfn.XLOOKUP(B538,Trousers!$F$13:$F$107,Trousers!$O$13:$O$107)","v":0},20240301,2409,{"$f":"_xlfn.XLOOKUP(B538,Trousers!$F$13:$F$107,Trousers!$P$13:$P$107)","v":0},20240402,2414,{"$f":"_xlfn.XLOOKUP(B538,Trousers!$F$13:$F$107,Trousers!$Q$13:$Q$107)","v":0},20240501,2418,{"$f":"_xlfn.XLOOKUP(B538,Trousers!$F$13:$F$107,Trousers!$R$13:$R$107)","v":0},20240603,2423,{"$f":"_xlfn.XLOOKUP(B538,Trousers!$F$13:$F$107,Trousers!$S$13:$S$107)","v":0},{"$f":"_xlfn.XLOOKUP(B538,Trousers!$F$13:$F$107,Trousers!$L$13:$L$107)","v":51.664999999999999}]
["PPE",597660660,20240103,2401,{"$f":"_xlfn.XLOOKUP(B539,Trousers!$F$13:$F$107,Trousers!$N$13:$N$107)","v":0},20240201,2405,{"$f":"_xlfn.XLOOKUP(B539,Trousers!$F$13:$F$107,Trousers!$O$13:$O$107)","v":0},20240301,2409,{"$f":"_xlfn.XLOOKUP(B539,Trousers!$F$13:$F$107,Trousers!$P$13:$P$107)","v":0},20240402,2414,{"$f":"_xlfn.XLOOKUP(B539,Trousers!$F$13:$F$107,Trousers!$Q$13:$Q$107)","v":0},20240501,2418,{"$f":"_xlfn.XLOOKUP(B539,Trousers!$F$13:$F$107,Trousers!$R$13:$R$107)","v":0},20240603,2423,{"$f":"_xlfn.XLOOKUP(B539,Trousers!$F$13:$F$107,Trousers!$S$13:$S$107)","v":0},{"$f":"_xlfn.XLOOKUP(B539,Trousers!$F$13:$F$107,Trousers!$L$13:$L$107)","v":56.244999999999997}]
["PPE",597660658,20240103,2401,{"$f":"_xlfn.XLOOKUP(B540,Trousers!$F$13:$F$107,Trousers!$N$13:$N$107)","v":0},20240201,2405,{"$f":"_xlfn.XLOOKUP(B540,Trousers!$F$13:$F$107,Trousers!$O$13:$O$107)","v":0},20240301,2409,{"$f":"_xlfn.XLOOKUP(B540,Trousers!$F$13:$F$107,Trousers!$P$13:$P$107)","v":0},20240402,2414,{"$f":"_xlfn.XLOOKUP(B540,Trousers!$F$13:$F$107,Trousers!$Q$13:$Q$107)","v":0},20240501,2418,{"$f":"_xlfn.XLOOKUP(B540,Trousers!$F$13:$F$107,Trousers!$R$13:$R$107)","v":0},20240603,2423,{"$f":"_xlfn.XLOOKUP(B540,Trousers!$F$13:$F$107,Trousers!$S$13:$S$107)","v":0},{"$f":"_xlfn.XLOOKUP(B540,Trousers!$F$13:$F$107,Trousers!$L$13:$L$107)","v":56.244999999999997}]
["PPE",597660656,20240103,2401,{"$f":"_xlfn.XLOOKUP(B541,Trousers!$F$13:$F$107,Trousers!$N$13:$N$107)","v":0},20240201,2405,{"$f":"_xlfn.XLOOKUP(B541,Trousers!$F$13:$F$107,Trousers!$O$13:$O$107)","v":0},20240301,2409,{"$f":"_xlfn.XLOOKUP(B541,Trousers!$F$13:$F$107,Trousers!$P$13:$P$107)","v":0},20240402,2414,{"$f":"_xlfn.XLOOKUP(B541,Trousers!$F$13:$F$107,Trousers!$Q$13:$Q$107)","v":0},20240501,2418,{"$f":"_xlfn.XLOOKUP(B541,Trousers!$F$13:$F$107,Trousers!$R$13:$R$107)","v":0},20240603,2423,{"$f":"_xlfn.XLOOKUP(B541,Trousers!$F$13:$F$107,Trousers!$S$13:$S$107)","v":0},{"$f":"_xlfn.XLOOKUP(B541,Trousers!$F$13:$F$107,Trousers!$L$13:$L$107)","v":56.244999999999997}]
["PPE",597660654,20240103,2401,{"$f":"_xlfn.XLOOKUP(B542,Trousers!$F$13:$F$107,Trousers!$N$13:$N$107)","v":0},20240201,2405,{"$f":"_xlfn.XLOOKUP(B542,Trousers!$F$13:$F$107,Trousers!$O$13:$O$107)","v":0},20240301,2409,{"$f":"_xlfn.XLOOKUP(B542,Trousers!$F$13:$F$107,Trousers!$P$13:$P$107)","v":0},20240402,2414,{"$f":"_xlfn.XLOOKUP(B542,Trousers!$F$13:$F$107,Trousers!$Q$13:$Q$107)","v":0},20240501,2418,{"$f":"_xlfn.XLOOKUP(B542,Trousers!$F$13:$F$107,Trousers!$R$13:$R$107)","v":0},20240603,2423,{"$f":"_xlfn.XLOOKUP(B542,Trousers!$F$13:$F$107,Trousers!$S$13:$S$107)","v":0},{"$f":"_xlfn.XLOOKUP(B542,Trousers!$F$13:$F$107,Trousers!$L$13:$L$107)","v":56.244999999999997}]
["PPE",597660652,20240103,2401,{"$f":"_xlfn.XLOOKUP(B543,Trousers!$F$13:$F$107,Trousers!$N$13:$N$107)","v":0},20240201,2405,{"$f":"_xlfn.XLOOKUP(B543,Trousers!$F$13:$F$107,Trousers!$O$13:$O$107)","v":0},20240301,2409,{"$f":"_xlfn.XLOOKUP(B543,Trousers!$F$13:$F$107,Trousers!$P$13:$P$107)","v":0},20240402,2414,{"$f":"_xlfn.XLOOKUP(B543,Trousers!$F$13:$F$107,Trousers!$Q$13:$Q$107)","v":0},20240501,2418,{"$f":"_xlfn.XLOOKUP(B543,Trousers!$F$13:$F$107,Trousers!$R$13:$R$107)","v":0},20240603,2423,{"$f":"_xlfn.XLOOKUP(B543,Trousers!$F$13:$F$107,Trousers!$S$13:$S$107)","v":0},{"$f":"_xlfn.XLOOKUP(B543,Trousers!$F$13:$F$107,Trousers!$L$13:$L$107)","v":56.244999999999997}]
["PPE",597660650,20240103,2401,{"$f":"_xlfn.XLOOKUP(B544,Trousers!$F$13:$F$107,Trousers!$N$13:$N$107)","v":0},20240201,2405,{"$f":"_xlfn.XLOOKUP(B544,Trousers!$F$13:$F$107,Trousers!$O$13:$O$107)","v":0},20240301,2409,{"$f":"_xlfn.XLOOKUP(B544,Trousers!$F$13:$F$107,Trousers!$P$13:$P$107)","v":0},20240402,2414,{"$f":"_xlfn.XLOOKUP(B544,Trousers!$F$13:$F$107,Trousers!$Q$13:$Q$107)","v":0},20240501,2418,{"$f":"_xlfn.XLOOKUP(B544,Trousers!$F$13:$F$107,Trousers!$R$13:$R$107)","v":0},20240603,2423,{"$f":"_xlfn.XLOOKUP(B544,Trousers!$F$13:$F$107,Trousers!$S$13:$S$107)","v":0},{"$f":"_xlfn.XLOOKUP(B544,Trousers!$F$13:$F$107,Trousers!$L$13:$L$107)","v":56.244999999999997}]
["PPE",597660648,20240103,2401,{"$f":"_xlfn.XLOOKUP(B545,Trousers!$F$13:$F$107,Trousers!$N$13:$N$107)","v":0},20240201,2405,{"$f":"_xlfn.XLOOKUP(B545,Trousers!$F$13:$F$107,Trousers!$O$13:$O$107)","v":0},20240301,2409,{"$f":"_xlfn.XLOOKUP(B545,Trousers!$F$13:$F$107,Trousers!$P$13:$P$107)","v":0},20240402,2414,{"$f":"_xlfn.XLOOKUP(B545,Trousers!$F$13:$F$107,Trousers!$Q$13:$Q$107)","v":0},20240501,2418,{"$f":"_xlfn.XLOOKUP(B545,Trousers!$F$13:$F$107,Trousers!$R$13:$R$107)","v":0},20240603,2423,{"$f":"_xlfn.XLOOKUP(B545,Trousers!$F$13:$F$107,Trousers!$S$13:$S$107)","v":0},{"$f":"_xlfn.XLOOKUP(B545,Trousers!$F$13:$F$107,Trousers!$L$13:$L$107)","v":56.244999999999997}]
["PPE",597660646,20240103,2401,{"$f":"_xlfn.XLOOKUP(B546,Trousers!$F$13:$F$107,Trousers!$N$13:$N$107)","v":0},20240201,2405,{"$f":"_xlfn.XLOOKUP(B546,Trousers!$F$13:$F$107,Trousers!$O$13:$O$107)","v":0},20240301,2409,{"$f":"_xlfn.XLOOKUP(B546,Trousers!$F$13:$F$107,Trousers!$P$13:$P$107)","v":0},20240402,2414,{"$f":"_xlfn.XLOOKUP(B546,Trousers!$F$13:$F$107,Trousers!$Q$13:$Q$107)","v":0},20240501,2418,{"$f":"_xlfn.XLOOKUP(B546,Trousers!$F$13:$F$107,Trousers!$R$13:$R$107)","v":0},20240603,2423,{"$f":"_xlfn.XLOOKUP(B546,Trousers!$F$13:$F$107,Trousers!$S$13:$S$107)","v":0},{"$f":"_xlfn.XLOOKUP(B546,Trousers!$F$13:$F$107,Trousers!$L$13:$L$107)","v":56.244999999999997}]
["PPE",597246260,20240103,2401,{"$f":"_xlfn.XLOOKUP(B547,Trousers!$F$13:$F$107,Trousers!$N$13:$N$107)","v":0},20240201,2405,{"$f":"_xlfn.XLOOKUP(B547,Trousers!$F$13:$F$107,Trousers!$O$13:$O$107)","v":0},20240301,2409,{"$f":"_xlfn.XLOOKUP(B547,Trousers!$F$13:$F$107,Trousers!$P$13:$P$107)","v":0},20240402,2414,{"$f":"_xlfn.XLOOKUP(B547,Trousers!$F$13:$F$107,Trousers!$Q$13:$Q$107)","v":0},20240501,2418,{"$f":"_xlfn.XLOOKUP(B547,Trousers!$F$13:$F$107,Trousers!$R$13:$R$107)","v":0},20240603,2423,{"$f":"_xlfn.XLOOKUP(B547,Trousers!$F$13:$F$107,Trousers!$S$13:$S$107)","v":0},{"$f":"_xlfn.XLOOKUP(B547,Trousers!$F$13:$F$107,Trousers!$L$13:$L$107)","v":66.665000000000006}]
["PPE",597246258,20240103,2401,{"$f":"_xlfn.XLOOKUP(B548,Trousers!$F$13:$F$107,Trousers!$N$13:$N$107)","v":0},20240201,2405,{"$f":"_xlfn.XLOOKUP(B548,Trousers!$F$13:$F$107,Trousers!$O$13:$O$107)","v":0},20240301,2409,{"$f":"_xlfn.XLOOKUP(B548,Trousers!$F$13:$F$107,Trousers!$P$13:$P$107)","v":0},20240402,2414,{"$f":"_xlfn.XLOOKUP(B548,Trousers!$F$13:$F$107,Trousers!$Q$13:$Q$107)","v":0},20240501,2418,{"$f":"_xlfn.XLOOKUP(B548,Trousers!$F$13:$F$107,Trousers!$R$13:$R$107)","v":0},20240603,2423,{"$f":"_xlfn.XLOOKUP(B548,Trousers!$F$13:$F$107,Trousers!$S$13:$S$107)","v":0},{"$f":"_xlfn.XLOOKUP(B548,Trousers!$F$13:$F$107,Trousers!$L$13:$L$107)","v":66.665000000000006}]
["PPE",597246256,20240103,2401,{"$f":"_xlfn.XLOOKUP(B549,Trousers!$F$13:$F$107,Trousers!$N$13:$N$107)","v":0},20240201,2405,{"$f":"_xlfn.XLOOKUP(B549,Trousers!$F$13:$F$107,Trousers!$O$13:$O$107)","v":0},20240301,2409,{"$f":"_xlfn.XLOOKUP(B549,Trousers!$F$13:$F$107,Trousers!$P$13:$P$107)","v":0},20240402,2414,{"$f":"_xlfn.XLOOKUP(B549,Trousers!$F$13:$F$107,Trousers!$Q$13:$Q$107)","v":0},20240501,2418,{"$f":"_xlfn.XLOOKUP(B549,Trousers!$F$13:$F$107,Trousers!$R$13:$R$107)","v":0},20240603,2423,{"$f":"_xlfn.XLOOKUP(B549,Trousers!$F$13:$F$107,Trousers!$S$13:$S$107)","v":0},{"$f":"_xlfn.XLOOKUP(B549,Trousers!$F$13:$F$107,Trousers!$L$13:$L$107)","v":66.665000000000006}]
["PPE",597246254,20240103,2401,{"$f":"_xlfn.XLOOKUP(B550,Trousers!$F$13:$F$107,Trousers!$N$13:$N$107)","v":0},20240201,2405,{"$f":"_xlfn.XLOOKUP(B550,Trousers!$F$13:$F$107,Trousers!$O$13:$O$107)","v":0},20240301,2409,{"$f":"_xlfn.XLOOKUP(B550,Trousers!$F$13:$F$107,Trousers!$P$13:$P$107)","v":0},20240402,2414,{"$f":"_xlfn.XLOOKUP(B550,Trousers!$F$13:$F$107,Trousers!$Q$13:$Q$107)","v":0},20240501,2418,{"$f":"_xlfn.XLOOKUP(B550,Trousers!$F$13:$F$107,Trousers!$R$13:$R$107)","v":0},20240603,2423,{"$f":"_xlfn.XLOOKUP(B550,Trousers!$F$13:$F$107,Trousers!$S$13:$S$107)","v":0},{"$f":"_xlfn.XLOOKUP(B550,Trousers!$F$13:$F$107,Trousers!$L$13:$L$107)","v":66.665000000000006}]
["PPE",597246252,20240103,2401,{"$f":"_xlfn.XLOOKUP(B551,Trousers!$F$13:$F$107,Trousers!$N$13:$N$107)","v":0},20240201,2405,{"$f":"_xlfn.XLOOKUP(B551,Trousers!$F$13:$F$107,Trousers!$O$13:$O$107)","v":0},20240301,2409,{"$f":"_xlfn.XLOOKUP(B551,Trousers!$F$13:$F$107,Trousers!$P$13:$P$107)","v":0},20240402,2414,{"$f":"_xlfn.XLOOKUP(B551,Trousers!$F$13:$F$107,Trousers!$Q$13:$Q$107)","v":0},20240501,2418,{"$f":"_xlfn.XLOOKUP(B551,Trousers!$F$13:$F$107,Trousers!$R$13:$R$107)","v":0},20240603,2423,{"$f":"_xlfn.XLOOKUP(B551,Trousers!$F$13:$F$107,Trousers!$S$13:$S$107)","v":0},{"$f":"_xlfn.XLOOKUP(B551,Trousers!$F$13:$F$107,Trousers!$L$13:$L$107)","v":66.665000000000006}]
["PPE",597246250,20240103,2401,{"$f":"_xlfn.XLOOKUP(B552,Trousers!$F$13:$F$107,Trousers!$N$13:$N$107)","v":0},20240201,2405,{"$f":"_xlfn.XLOOKUP(B552,Trousers!$F$13:$F$107,Trousers!$O$13:$O$107)","v":0},20240301,2409,{"$f":"_xlfn.XLOOKUP(B552,Trousers!$F$13:$F$107,Trousers!$P$13:$P$107)","v":0},20240402,2414,{"$f":"_xlfn.XLOOKUP(B552,Trousers!$F$13:$F$107,Trousers!$Q$13:$Q$107)","v":0},20240501,2418,{"$f":"_xlfn.XLOOKUP(B552,Trousers!$F$13:$F$107,Trousers!$R$13:$R$107)","v":0},20240603,2423,{"$f":"_xlfn.XLOOKUP(B552,Trousers!$F$13:$F$107,Trousers!$S$13:$S$107)","v":0},{"$f":"_xlfn.XLOOKUP(B552,Trousers!$F$13:$F$107,Trousers!$L$13:$L$107)","v":66.665000000000006}]
["PPE",597246248,20240103,2401,{"$f":"_xlfn.XLOOKUP(B553,Trousers!$F$13:$F$107,Trousers!$N$13:$N$107)","v":0},20240201,2405,{"$f":"_xlfn.XLOOKUP(B553,Trousers!$F$13:$F$107,Trousers!$O$13:$O$107)","v":0},20240301,2409,{"$f":"_xlfn.XLOOKUP(B553,Trousers!$F$13:$F$107,Trousers!$P$13:$P$107)","v":0},20240402,2414,{"$f":"_xlfn.XLOOKUP(B553,Trousers!$F$13:$F$107,Trousers!$Q$13:$Q$107)","v":0},20240501,2418,{"$f":"_xlfn.XLOOKUP(B553,Trousers!$F$13:$F$107,Trousers!$R$13:$R$107)","v":0},20240603,2423,{"$f":"_xlfn.XLOOKUP(B553,Trousers!$F$13:$F$107,Trousers!$S$13:$S$107)","v":0},{"$f":"_xlfn.XLOOKUP(B553,Trousers!$F$13:$F$107,Trousers!$L$13:$L$107)","v":66.665000000000006}]
["PPE",597246246,20240103,2401,{"$f":"_xlfn.XLOOKUP(B554,Trousers!$F$13:$F$107,Trousers!$N$13:$N$107)","v":0},20240201,2405,{"$f":"_xlfn.XLOOKUP(B554,Trousers!$F$13:$F$107,Trousers!$O$13:$O$107)","v":0},20240301,2409,{"$f":"_xlfn.XLOOKUP(B554,Trousers!$F$13:$F$107,Trousers!$P$13:$P$107)","v":0},20240402,2414,{"$f":"_xlfn.XLOOKUP(B554,Trousers!$F$13:$F$107,Trousers!$Q$13:$Q$107)","v":0},20240501,2418,{"$f":"_xlfn.XLOOKUP(B554,Trousers!$F$13:$F$107,Trousers!$R$13:$R$107)","v":0},20240603,2423,{"$f":"_xlfn.XLOOKUP(B554,Trousers!$F$13:$F$107,Trousers!$S$13:$S$107)","v":0},{"$f":"_xlfn.XLOOKUP(B554,Trousers!$F$13:$F$107,Trousers!$L$13:$L$107)","v":66.665000000000006}]
["PPE",531080403,20240103,2401,{"$f":"_xlfn.XLOOKUP(B555,Trousers!$F$13:$F$107,Trousers!$N$13:$N$107)","v":0},20240201,2405,{"$f":"_xlfn.XLOOKUP(B555,Trousers!$F$13:$F$107,Trousers!$O$13:$O$107)","v":0},20240301,2409,{"$f":"_xlfn.XLOOKUP(B555,Trousers!$F$13:$F$107,Trousers!$P$13:$P$107)","v":0},20240402,2414,{"$f":"_xlfn.XLOOKUP(B555,Trousers!$F$13:$F$107,Trousers!$Q$13:$Q$107)","v":0},20240501,2418,{"$f":"_xlfn.XLOOKUP(B555,Trousers!$F$13:$F$107,Trousers!$R$13:$R$107)","v":0},20240603,2423,{"$f":"_xlfn.XLOOKUP(B555,Trousers!$F$13:$F$107,Trousers!$S$13:$S$107)","v":0},{"$f":"_xlfn.XLOOKUP(B555,Trousers!$F$13:$F$107,Trousers!$L$13:$L$107)","v":58.33}]
["PPE",531080402,20240103,2401,{"$f":"_xlfn.XLOOKUP(B556,Trousers!$F$13:$F$107,Trousers!$N$13:$N$107)","v":0},20240201,2405,{"$f":"_xlfn.XLOOKUP(B556,Trousers!$F$13:$F$107,Trousers!$O$13:$O$107)","v":0},20240301,2409,{"$f":"_xlfn.XLOOKUP(B556,Trousers!$F$13:$F$107,Trousers!$P$13:$P$107)","v":0},20240402,2414,{"$f":"_xlfn.XLOOKUP(B556,Trousers!$F$13:$F$107,Trousers!$Q$13:$Q$107)","v":0},20240501,2418,{"$f":"_xlfn.XLOOKUP(B556,Trousers!$F$13:$F$107,Trousers!$R$13:$R$107)","v":0},20240603,2423,{"$f":"_xlfn.XLOOKUP(B556,Trousers!$F$13:$F$107,Trousers!$S$13:$S$107)","v":0},{"$f":"_xlfn.XLOOKUP(B556,Trousers!$F$13:$F$107,Trousers!$L$13:$L$107)","v":58.33}]
["PPE",531080401,20240103,2401,{"$f":"_xlfn.XLOOKUP(B557,Trousers!$F$13:$F$107,Trousers!$N$13:$N$107)","v":0},20240201,2405,{"$f":"_xlfn.XLOOKUP(B557,Trousers!$F$13:$F$107,Trousers!$O$13:$O$107)","v":0},20240301,2409,{"$f":"_xlfn.XLOOKUP(B557,Trousers!$F$13:$F$107,Trousers!$P$13:$P$107)","v":0},20240402,2414,{"$f":"_xlfn.XLOOKUP(B557,Trousers!$F$13:$F$107,Trousers!$Q$13:$Q$107)","v":0},20240501,2418,{"$f":"_xlfn.XLOOKUP(B557,Trousers!$F$13:$F$107,Trousers!$R$13:$R$107)","v":0},20240603,2423,{"$f":"_xlfn.XLOOKUP(B557,Trousers!$F$13:$F$107,Trousers!$S$13:$S$107)","v":0},{"$f":"_xlfn.XLOOKUP(B557,Trousers!$F$13:$F$107,Trousers!$L$13:$L$107)","v":58.33}]
["PPE",529518362,20240103,2401,{"$f":"_xlfn.XLOOKUP(B558,Trousers!$F$13:$F$107,Trousers!$N$13:$N$107)","v":0},20240201,2405,{"$f":"_xlfn.XLOOKUP(B558,Trousers!$F$13:$F$107,Trousers!$O$13:$O$107)","v":0},20240301,2409,{"$f":"_xlfn.XLOOKUP(B558,Trousers!$F$13:$F$107,Trousers!$P$13:$P$107)","v":0},20240402,2414,{"$f":"_xlfn.XLOOKUP(B558,Trousers!$F$13:$F$107,Trousers!$Q$13:$Q$107)","v":0},20240501,2418,{"$f":"_xlfn.XLOOKUP(B558,Trousers!$F$13:$F$107,Trousers!$R$13:$R$107)","v":0},20240603,2423,{"$f":"_xlfn.XLOOKUP(B558,Trousers!$F$13:$F$107,Trousers!$S$13:$S$107)","v":0},{"$f":"_xlfn.XLOOKUP(B558,Trousers!$F$13:$F$107,Trousers!$L$13:$L$107)","v":128.75}]
["PPE",529518358,20240103,2401,{"$f":"_xlfn.XLOOKUP(B559,Trousers!$F$13:$F$107,Trousers!$N$13:$N$107)","v":0},20240201,2405,{"$f":"_xlfn.XLOOKUP(B559,Trousers!$F$13:$F$107,Trousers!$O$13:$O$107)","v":0},20240301,2409,{"$f":"_xlfn.XLOOKUP(B559,Trousers!$F$13:$F$107,Trousers!$P$13:$P$107)","v":0},20240402,2414,{"$f":"_xlfn.XLOOKUP(B559,Trousers!$F$13:$F$107,Trousers!$Q$13:$Q$107)","v":0},20240501,2418,{"$f":"_xlfn.XLOOKUP(B559,Trousers!$F$13:$F$107,Trousers!$R$13:$R$107)","v":0},20240603,2423,{"$f":"_xlfn.XLOOKUP(B559,Trousers!$F$13:$F$107,Trousers!$S$13:$S$107)","v":0},{"$f":"_xlfn.XLOOKUP(B559,Trousers!$F$13:$F$107,Trousers!$L$13:$L$107)","v":128.75}]
["PPE",529518354,20240103,2401,{"$f":"_xlfn.XLOOKUP(B560,Trousers!$F$13:$F$107,Trousers!$N$13:$N$107)","v":0},20240201,2405,{"$f":"_xlfn.XLOOKUP(B560,Trousers!$F$13:$F$107,Trousers!$O$13:$O$107)","v":0},20240301,2409,{"$f":"_xlfn.XLOOKUP(B560,Trousers!$F$13:$F$107,Trousers!$P$13:$P$107)","v":0},20240402,2414,{"$f":"_xlfn.XLOOKUP(B560,Trousers!$F$13:$F$107,Trousers!$Q$13:$Q$107)","v":0},20240501,2418,{"$f":"_xlfn.XLOOKUP(B560,Trousers!$F$13:$F$107,Trousers!$R$13:$R$107)","v":0},20240603,2423,{"$f":"_xlfn.XLOOKUP(B560,Trousers!$F$13:$F$107,Trousers!$S$13:$S$107)","v":0},{"$f":"_xlfn.XLOOKUP(B560,Trousers!$F$13:$F$107,Trousers!$L$13:$L$107)","v":128.75}]
["PPE",529518350,20240103,2401,{"$f":"_xlfn.XLOOKUP(B561,Trousers!$F$13:$F$107,Trousers!$N$13:$N$107)","v":0},20240201,2405,{"$f":"_xlfn.XLOOKUP(B561,Trousers!$F$13:$F$107,Trousers!$O$13:$O$107)","v":0},20240301,2409,{"$f":"_xlfn.XLOOKUP(B561,Trousers!$F$13:$F$107,Trousers!$P$13:$P$107)","v":0},20240402,2414,{"$f":"_xlfn.XLOOKUP(B561,Trousers!$F$13:$F$107,Trousers!$Q$13:$Q$107)","v":0},20240501,2418,{"$f":"_xlfn.XLOOKUP(B561,Trousers!$F$13:$F$107,Trousers!$R$13:$R$107)","v":0},20240603,2423,{"$f":"_xlfn.XLOOKUP(B561,Trousers!$F$13:$F$107,Trousers!$S$13:$S$107)","v":0},{"$f":"_xlfn.XLOOKUP(B561,Trousers!$F$13:$F$107,Trousers!$L$13:$L$107)","v":128.75}]
["PPE",529518346,20240103,2401,{"$f":"_xlfn.XLOOKUP(B562,Trousers!$F$13:$F$107,Trousers!$N$13:$N$107)","v":0},20240201,2405,{"$f":"_xlfn.XLOOKUP(B562,Trousers!$F$13:$F$107,Trousers!$O$13:$O$107)","v":0},20240301,2409,{"$f":"_xlfn.XLOOKUP(B562,Trousers!$F$13:$F$107,Trousers!$P$13:$P$107)","v":0},20240402,2414,{"$f":"_xlfn.XLOOKUP(B562,Trousers!$F$13:$F$107,Trousers!$Q$13:$Q$107)","v":0},20240501,2418,{"$f":"_xlfn.XLOOKUP(B562,Trousers!$F$13:$F$107,Trousers!$R$13:$R$107)","v":0},20240603,2423,{"$f":"_xlfn.XLOOKUP(B562,Trousers!$F$13:$F$107,Trousers!$S$13:$S$107)","v":0},{"$f":"_xlfn.XLOOKUP(B562,Trousers!$F$13:$F$107,Trousers!$L$13:$L$107)","v":128.75}]
["PPE ",597661266,20240103,2401,{"$f":"_xlfn.XLOOKUP(B563,'T-Shirts'!$F$13:$F$40,'T-Shirts'!$N$13:$N$40,)","v":0},20240201,2405,{"$f":"_xlfn.XLOOKUP(B563,'T-Shirts'!$F$13:$F$40,'T-Shirts'!$O$13:$O$40,)","v":0},20240301,2409,{"$f":"_xlfn.XLOOKUP(B563,'T-Shirts'!$F$13:$F$40,'T-Shirts'!$P$13:$P$40,)","v":0},20240402,2414,{"$f":"_xlfn.XLOOKUP(B563,'T-Shirts'!$F$13:$F$40,'T-Shirts'!$Q$13:$Q$40,)","v":0},20240501,2418,{"$f":"_xlfn.XLOOKUP(B563,'T-Shirts'!$F$13:$F$40,'T-Shirts'!$R$13:$R$40,)","v":0},20240603,2423,{"$f":"_xlfn.XLOOKUP(B563,'T-Shirts'!$F$13:$F$40,'T-Shirts'!$S$13:$S$40,)","v":0},{"$f":"_xlfn.XLOOKUP(B563,'T-Shirts'!$F$13:$F$40,'T-Shirts'!$L$13:$L$40,)","v":24.995000000000001}]
["PPE ",597661262,20240103,2401,{"$f":"_xlfn.XLOOKUP(B564,'T-Shirts'!$F$13:$F$40,'T-Shirts'!$N$13:$N$40,)","v":0},20240201,2405,{"$f":"_xlfn.XLOOKUP(B564,'T-Shirts'!$F$13:$F$40,'T-Shirts'!$O$13:$O$40,)","v":0},20240301,2409,{"$f":"_xlfn.XLOOKUP(B564,'T-Shirts'!$F$13:$F$40,'T-Shirts'!$P$13:$P$40,)","v":0},20240402,2414,{"$f":"_xlfn.XLOOKUP(B564,'T-Shirts'!$F$13:$F$40,'T-Shirts'!$Q$13:$Q$40,)","v":0},20240501,2418,{"$f":"_xlfn.XLOOKUP(B564,'T-Shirts'!$F$13:$F$40,'T-Shirts'!$R$13:$R$40,)","v":0},20240603,2423,{"$f":"_xlfn.XLOOKUP(B564,'T-Shirts'!$F$13:$F$40,'T-Shirts'!$S$13:$S$40,)","v":0},{"$f":"_xlfn.XLOOKUP(B564,'T-Shirts'!$F$13:$F$40,'T-Shirts'!$L$13:$L$40,)","v":24.995000000000001}]
["PPE ",597661258,20240103,2401,{"$f":"_xlfn.XLOOKUP(B565,'T-Shirts'!$F$13:$F$40,'T-Shirts'!$N$13:$N$40,)","v":0},20240201,2405,{"$f":"_xlfn.XLOOKUP(B565,'T-Shirts'!$F$13:$F$40,'T-Shirts'!$O$13:$O$40,)","v":0},20240301,2409,{"$f":"_xlfn.XLOOKUP(B565,'T-Shirts'!$F$13:$F$40,'T-Shirts'!$P$13:$P$40,)","v":0},20240402,2414,{"$f":"_xlfn.XLOOKUP(B565,'T-Shirts'!$F$13:$F$40,'T-Shirts'!$Q$13:$Q$40,)","v":0},20240501,2418,{"$f":"_xlfn.XLOOKUP(B565,'T-Shirts'!$F$13:$F$40,'T-Shirts'!$R$13:$R$40,)","v":0},20240603,2423,{"$f":"_xlfn.XLOOKUP(B565,'T-Shirts'!$F$13:$F$40,'T-Shirts'!$S$13:$S$40,)","v":0},{"$f":"_xlfn.XLOOKUP(B565,'T-Shirts'!$F$13:$F$40,'T-Shirts'!$L$13:$L$40,)","v":24.995000000000001}]
["PPE ",597661254,20240103,2401,{"$f":"_xlfn.XLOOKUP(B566,'T-Shirts'!$F$13:$F$40,'T-Shirts'!$N$13:$N$40,)","v":0},20240201,2405,{"$f":"_xlfn.XLOOKUP(B566,'T-Shirts'!$F$13:$F$40,'T-Shirts'!$O$13:$O$40,)","v":0},20240301,2409,{"$f":"_xlfn.XLOOKUP(B566,'T-Shirts'!$F$13:$F$40,'T-Shirts'!$P$13:$P$40,)","v":0},20240402,2414,{"$f":"_xlfn.XLOOKUP(B566,'T-Shirts'!$F$13:$F$40,'T-Shirts'!$Q$13:$Q$40,)","v":0},20240501,2418,{"$f":"_xlfn.XLOOKUP(B566,'T-Shirts'!$F$13:$F$40,'T-Shirts'!$R$13:$R$40,)","v":0},20240603,2423,{"$f":"_xlfn.XLOOKUP(B566,'T-Shirts'!$F$13:$F$40,'T-Shirts'!$S$13:$S$40,)","v":0},{"$f":"_xlfn.XLOOKUP(B566,'T-Shirts'!$F$13:$F$40,'T-Shirts'!$L$13:$L$40,)","v":24.995000000000001}]
["PPE ",597661250,20240103,2401,{"$f":"_xlfn.XLOOKUP(B567,'T-Shirts'!$F$13:$F$40,'T-Shirts'!$N$13:$N$40,)","v":0},20240201,2405,{"$f":"_xlfn.XLOOKUP(B567,'T-Shirts'!$F$13:$F$40,'T-Shirts'!$O$13:$O$40,)","v":0},20240301,2409,{"$f":"_xlfn.XLOOKUP(B567,'T-Shirts'!$F$13:$F$40,'T-Shirts'!$P$13:$P$40,)","v":0},20240402,2414,{"$f":"_xlfn.XLOOKUP(B567,'T-Shirts'!$F$13:$F$40,'T-Shirts'!$Q$13:$Q$40,)","v":0},20240501,2418,{"$f":"_xlfn.XLOOKUP(B567,'T-Shirts'!$F$13:$F$40,'T-Shirts'!$R$13:$R$40,)","v":0},20240603,2423,{"$f":"_xlfn.XLOOKUP(B567,'T-Shirts'!$F$13:$F$40,'T-Shirts'!$S$13:$S$40,)","v":0},{"$f":"_xlfn.XLOOKUP(B567,'T-Shirts'!$F$13:$F$40,'T-Shirts'!$L$13:$L$40,)","v":24.995000000000001}]
["PPE ",597661246,20240103,2401,{"$f":"_xlfn.XLOOKUP(B568,'T-Shirts'!$F$13:$F$40,'T-Shirts'!$N$13:$N$40,)","v":0},20240201,2405,{"$f":"_xlfn.XLOOKUP(B568,'T-Shirts'!$F$13:$F$40,'T-Shirts'!$O$13:$O$40,)","v":0},20240301,2409,{"$f":"_xlfn.XLOOKUP(B568,'T-Shirts'!$F$13:$F$40,'T-Shirts'!$P$13:$P$40,)","v":0},20240402,2414,{"$f":"_xlfn.XLOOKUP(B568,'T-Shirts'!$F$13:$F$40,'T-Shirts'!$Q$13:$Q$40,)","v":0},20240501,2418,{"$f":"_xlfn.XLOOKUP(B568,'T-Shirts'!$F$13:$F$40,'T-Shirts'!$R$13:$R$40,)","v":0},20240603,2423,{"$f":"_xlfn.XLOOKUP(B568,'T-Shirts'!$F$13:$F$40,'T-Shirts'!$S$13:$S$40,)","v":0},{"$f":"_xlfn.XLOOKUP(B568,'T-Shirts'!$F$13:$F$40,'T-Shirts'!$L$13:$L$40,)","v":24.995000000000001}]
["PPE ",597661166,20240103,2401,{"$f":"_xlfn.XLOOKUP(B569,'T-Shirts'!$F$13:$F$40,'T-Shirts'!$N$13:$N$40,)","v":0},20240201,2405,{"$f":"_xlfn.XLOOKUP(B569,'T-Shirts'!$F$13:$F$40,'T-Shirts'!$O$13:$O$40,)","v":0},20240301,2409,{"$f":"_xlfn.XLOOKUP(B569,'T-Shirts'!$F$13:$F$40,'T-Shirts'!$P$13:$P$40,)","v":0},20240402,2414,{"$f":"_xlfn.XLOOKUP(B569,'T-Shirts'!$F$13:$F$40,'T-Shirts'!$Q$13:$Q$40,)","v":0},20240501,2418,{"$f":"_xlfn.XLOOKUP(B569,'T-Shirts'!$F$13:$F$40,'T-Shirts'!$R$13:$R$40,)","v":0},20240603,2423,{"$f":"_xlfn.XLOOKUP(B569,'T-Shirts'!$F$13:$F$40,'T-Shirts'!$S$13:$S$40,)","v":0},{"$f":"_xlfn.XLOOKUP(B569,'T-Shirts'!$F$13:$F$40,'T-Shirts'!$L$13:$L$40,)","v":19.164999999999999}]
["PPE ",597661162,20240103,2401,{"$f":"_xlfn.XLOOKUP(B570,'T-Shirts'!$F$13:$F$40,'T-Shirts'!$N$13:$N$40,)","v":0},20240201,2405,{"$f":"_xlfn.XLOOKUP(B570,'T-Shirts'!$F$13:$F$40,'T-Shirts'!$O$13:$O$40,)","v":0},20240301,2409,{"$f":"_xlfn.XLOOKUP(B570,'T-Shirts'!$F$13:$F$40,'T-Shirts'!$P$13:$P$40,)","v":0},20240402,2414,{"$f":"_xlfn.XLOOKUP(B570,'T-Shirts'!$F$13:$F$40,'T-Shirts'!$Q$13:$Q$40,)","v":0},20240501,2418,{"$f":"_xlfn.XLOOKUP(B570,'T-Shirts'!$F$13:$F$40,'T-Shirts'!$R$13:$R$40,)","v":0},20240603,2423,{"$f":"_xlfn.XLOOKUP(B570,'T-Shirts'!$F$13:$F$40,'T-Shirts'!$S$13:$S$40,)","v":0},{"$f":"_xlfn.XLOOKUP(B570,'T-Shirts'!$F$13:$F$40,'T-Shirts'!$L$13:$L$40,)","v":19.164999999999999}]
["PPE ",597661158,20240103,2401,{"$f":"_xlfn.XLOOKUP(B571,'T-Shirts'!$F$13:$F$40,'T-Shirts'!$N$13:$N$40,)","v":0},20240201,2405,{"$f":"_xlfn.XLOOKUP(B571,'T-Shirts'!$F$13:$F$40,'T-Shirts'!$O$13:$O$40,)","v":0},20240301,2409,{"$f":"_xlfn.XLOOKUP(B571,'T-Shirts'!$F$13:$F$40,'T-Shirts'!$P$13:$P$40,)","v":0},20240402,2414,{"$f":"_xlfn.XLOOKUP(B571,'T-Shirts'!$F$13:$F$40,'T-Shirts'!$Q$13:$Q$40,)","v":0},20240501,2418,{"$f":"_xlfn.XLOOKUP(B571,'T-Shirts'!$F$13:$F$40,'T-Shirts'!$R$13:$R$40,)","v":0},20240603,2423,{"$f":"_xlfn.XLOOKUP(B571,'T-Shirts'!$F$13:$F$40,'T-Shirts'!$S$13:$S$40,)","v":0},{"$f":"_xlfn.XLOOKUP(B571,'T-Shirts'!$F$13:$F$40,'T-Shirts'!$L$13:$L$40,)","v":19.164999999999999}]
["PPE ",597661154,20240103,2401,{"$f":"_xlfn.XLOOKUP(B572,'T-Shirts'!$F$13:$F$40,'T-Shirts'!$N$13:$N$40,)","v":0},20240201,2405,{"$f":"_xlfn.XLOOKUP(B572,'T-Shirts'!$F$13:$F$40,'T-Shirts'!$O$13:$O$40,)","v":0},20240301,2409,{"$f":"_xlfn.XLOOKUP(B572,'T-Shirts'!$F$13:$F$40,'T-Shirts'!$P$13:$P$40,)","v":0},20240402,2414,{"$f":"_xlfn.XLOOKUP(B572,'T-Shirts'!$F$13:$F$40,'T-Shirts'!$Q$13:$Q$40,)","v":0},20240501,2418,{"$f":"_xlfn.XLOOKUP(B572,'T-Shirts'!$F$13:$F$40,'T-Shirts'!$R$13:$R$40,)","v":0},20240603,2423,{"$f":"_xlfn.XLOOKUP(B572,'T-Shirts'!$F$13:$F$40,'T-Shirts'!$S$13:$S$40,)","v":0},{"$f":"_xlfn.XLOOKUP(B572,'T-Shirts'!$F$13:$F$40,'T-Shirts'!$L$13:$L$40,)","v":19.164999999999999}]
["PPE ",597661150,20240103,2401,{"$f":"_xlfn.XLOOKUP(B573,'T-Shirts'!$F$13:$F$40,'T-Shirts'!$N$13:$N$40,)","v":0},20240201,2405,{"$f":"_xlfn.XLOOKUP(B573,'T-Shirts'!$F$13:$F$40,'T-Shirts'!$O$13:$O$40,)","v":0},20240301,2409,{"$f":"_xlfn.XLOOKUP(B573,'T-Shirts'!$F$13:$F$40,'T-Shirts'!$P$13:$P$40,)","v":0},20240402,2414,{"$f":"_xlfn.XLOOKUP(B573,'T-Shirts'!$F$13:$F$40,'T-Shirts'!$Q$13:$Q$40,)","v":0},20240501,2418,{"$f":"_xlfn.XLOOKUP(B573,'T-Shirts'!$F$13:$F$40,'T-Shirts'!$R$13:$R$40,)","v":0},20240603,2423,{"$f":"_xlfn.XLOOKUP(B573,'T-Shirts'!$F$13:$F$40,'T-Shirts'!$S$13:$S$40,)","v":0},{"$f":"_xlfn.XLOOKUP(B573,'T-Shirts'!$F$13:$F$40,'T-Shirts'!$L$13:$L$40,)","v":19.164999999999999}]
["PPE ",597661146,20240103,2401,{"$f":"_xlfn.XLOOKUP(B574,'T-Shirts'!$F$13:$F$40,'T-Shirts'!$N$13:$N$40,)","v":0},20240201,2405,{"$f":"_xlfn.XLOOKUP(B574,'T-Shirts'!$F$13:$F$40,'T-Shirts'!$O$13:$O$40,)","v":0},20240301,2409,{"$f":"_xlfn.XLOOKUP(B574,'T-Shirts'!$F$13:$F$40,'T-Shirts'!$P$13:$P$40,)","v":0},20240402,2414,{"$f":"_xlfn.XLOOKUP(B574,'T-Shirts'!$F$13:$F$40,'T-Shirts'!$Q$13:$Q$40,)","v":0},20240501,2418,{"$f":"_xlfn.XLOOKUP(B574,'T-Shirts'!$F$13:$F$40,'T-Shirts'!$R$13:$R$40,)","v":0},20240603,2423,{"$f":"_xlfn.XLOOKUP(B574,'T-Shirts'!$F$13:$F$40,'T-Shirts'!$S$13:$S$40,)","v":0},{"$f":"_xlfn.XLOOKUP(B574,'T-Shirts'!$F$13:$F$40,'T-Shirts'!$L$13:$L$40,)","v":19.164999999999999}]
["PPE ",597661142,20240103,2401,{"$f":"_xlfn.XLOOKUP(B575,'T-Shirts'!$F$13:$F$40,'T-Shirts'!$N$13:$N$40,)","v":0},20240201,2405,{"$f":"_xlfn.XLOOKUP(B575,'T-Shirts'!$F$13:$F$40,'T-Shirts'!$O$13:$O$40,)","v":0},20240301,2409,{"$f":"_xlfn.XLOOKUP(B575,'T-Shirts'!$F$13:$F$40,'T-Shirts'!$P$13:$P$40,)","v":0},20240402,2414,{"$f":"_xlfn.XLOOKUP(B575,'T-Shirts'!$F$13:$F$40,'T-Shirts'!$Q$13:$Q$40,)","v":0},20240501,2418,{"$f":"_xlfn.XLOOKUP(B575,'T-Shirts'!$F$13:$F$40,'T-Shirts'!$R$13:$R$40,)","v":0},20240603,2423,{"$f":"_xlfn.XLOOKUP(B575,'T-Shirts'!$F$13:$F$40,'T-Shirts'!$S$13:$S$40,)","v":0},{"$f":"_xlfn.XLOOKUP(B575,'T-Shirts'!$F$13:$F$40,'T-Shirts'!$L$13:$L$40,)","v":19.164999999999999}]
["PPE ",596303966,20240103,2401,{"$f":"_xlfn.XLOOKUP(B576,'T-Shirts'!$F$13:$F$40,'T-Shirts'!$N$13:$N$40,)","v":0},20240201,2405,{"$f":"_xlfn.XLOOKUP(B576,'T-Shirts'!$F$13:$F$40,'T-Shirts'!$O$13:$O$40,)","v":0},20240301,2409,{"$f":"_xlfn.XLOOKUP(B576,'T-Shirts'!$F$13:$F$40,'T-Shirts'!$P$13:$P$40,)","v":0},20240402,2414,{"$f":"_xlfn.XLOOKUP(B576,'T-Shirts'!$F$13:$F$40,'T-Shirts'!$Q$13:$Q$40,)","v":0},20240501,2418,{"$f":"_xlfn.XLOOKUP(B576,'T-Shirts'!$F$13:$F$40,'T-Shirts'!$R$13:$R$40,)","v":0},20240603,2423,{"$f":"_xlfn.XLOOKUP(B576,'T-Shirts'!$F$13:$F$40,'T-Shirts'!$S$13:$S$40,)","v":0},{"$f":"_xlfn.XLOOKUP(B576,'T-Shirts'!$F$13:$F$40,'T-Shirts'!$L$13:$L$40,)","v":22.914999999999999}]
["PPE ",596303962,20240103,2401,{"$f":"_xlfn.XLOOKUP(B577,'T-Shirts'!$F$13:$F$40,'T-Shirts'!$N$13:$N$40,)","v":0},20240201,2405,{"$f":"_xlfn.XLOOKUP(B577,'T-Shirts'!$F$13:$F$40,'T-Shirts'!$O$13:$O$40,)","v":0},20240301,2409,{"$f":"_xlfn.XLOOKUP(B577,'T-Shirts'!$F$13:$F$40,'T-Shirts'!$P$13:$P$40,)","v":0},20240402,2414,{"$f":"_xlfn.XLOOKUP(B577,'T-Shirts'!$F$13:$F$40,'T-Shirts'!$Q$13:$Q$40,)","v":0},20240501,2418,{"$f":"_xlfn.XLOOKUP(B577,'T-Shirts'!$F$13:$F$40,'T-Shirts'!$R$13:$R$40,)","v":0},20240603,2423,{"$f":"_xlfn.XLOOKUP(B577,'T-Shirts'!$F$13:$F$40,'T-Shirts'!$S$13:$S$40,)","v":0},{"$f":"_xlfn.XLOOKUP(B577,'T-Shirts'!$F$13:$F$40,'T-Shirts'!$L$13:$L$40,)","v":22.914999999999999}]
["PPE ",596303842,20240103,2401,{"$f":"_xlfn.XLOOKUP(B578,'T-Shirts'!$F$13:$F$40,'T-Shirts'!$N$13:$N$40,)","v":0},20240201,2405,{"$f":"_xlfn.XLOOKUP(B578,'T-Shirts'!$F$13:$F$40,'T-Shirts'!$O$13:$O$40,)","v":0},20240301,2409,{"$f":"_xlfn.XLOOKUP(B578,'T-Shirts'!$F$13:$F$40,'T-Shirts'!$P$13:$P$40,)","v":0},20240402,2414,{"$f":"_xlfn.XLOOKUP(B578,'T-Shirts'!$F$13:$F$40,'T-Shirts'!$Q$13:$Q$40,)","v":0},20240501,2418,{"$f":"_xlfn.XLOOKUP(B578,'T-Shirts'!$F$13:$F$40,'T-Shirts'!$R$13:$R$40,)","v":0},20240603,2423,{"$f":"_xlfn.XLOOKUP(B578,'T-Shirts'!$F$13:$F$40,'T-Shirts'!$S$13:$S$40,)","v":0},{"$f":"_xlfn.XLOOKUP(B578,'T-Shirts'!$F$13:$F$40,'T-Shirts'!$L$13:$L$40,)","v":28.33}]
["PPE ",596303942,20240103,2401,{"$f":"_xlfn.XLOOKUP(B579,'T-Shirts'!$F$13:$F$40,'T-Shirts'!$N$13:$N$40,)","v":0},20240201,2405,{"$f":"_xlfn.XLOOKUP(B579,'T-Shirts'!$F$13:$F$40,'T-Shirts'!$O$13:$O$40,)","v":0},20240301,2409,{"$f":"_xlfn.XLOOKUP(B579,'T-Shirts'!$F$13:$F$40,'T-Shirts'!$P$13:$P$40,)","v":0},20240402,2414,{"$f":"_xlfn.XLOOKUP(B579,'T-Shirts'!$F$13:$F$40,'T-Shirts'!$Q$13:$Q$40,)","v":0},20240501,2418,{"$f":"_xlfn.XLOOKUP(B579,'T-Shirts'!$F$13:$F$40,'T-Shirts'!$R$13:$R$40,)","v":0},20240603,2423,{"$f":"_xlfn.XLOOKUP(B579,'T-Shirts'!$F$13:$F$40,'T-Shirts'!$S$13:$S$40,)","v":0},{"$f":"_xlfn.XLOOKUP(B579,'T-Shirts'!$F$13:$F$40,'T-Shirts'!$L$13:$L$40,)","v":22.914999999999999}]
["PPE ",596303958,20240103,2401,{"$f":"_xlfn.XLOOKUP(B580,'T-Shirts'!$F$13:$F$40,'T-Shirts'!$N$13:$N$40,)","v":0},20240201,2405,{"$f":"_xlfn.XLOOKUP(B580,'T-Shirts'!$F$13:$F$40,'T-Shirts'!$O$13:$O$40,)","v":0},20240301,2409,{"$f":"_xlfn.XLOOKUP(B580,'T-Shirts'!$F$13:$F$40,'T-Shirts'!$P$13:$P$40,)","v":0},20240402,2414,{"$f":"_xlfn.XLOOKUP(B580,'T-Shirts'!$F$13:$F$40,'T-Shirts'!$Q$13:$Q$40,)","v":0},20240501,2418,{"$f":"_xlfn.XLOOKUP(B580,'T-Shirts'!$F$13:$F$40,'T-Shirts'!$R$13:$R$40,)","v":0},20240603,2423,{"$f":"_xlfn.XLOOKUP(B580,'T-Shirts'!$F$13:$F$40,'T-Shirts'!$S$13:$S$40,)","v":0},{"$f":"_xlfn.XLOOKUP(B580,'T-Shirts'!$F$13:$F$40,'T-Shirts'!$L$13:$L$40,)","v":22.914999999999999}]
["PPE ",596303954,20240103,2401,{"$f":"_xlfn.XLOOKUP(B581,'T-Shirts'!$F$13:$F$40,'T-Shirts'!$N$13:$N$40,)","v":0},20240201,2405,{"$f":"_xlfn.XLOOKUP(B581,'T-Shirts'!$F$13:$F$40,'T-Shirts'!$O$13:$O$40,)","v":0},20240301,2409,{"$f":"_xlfn.XLOOKUP(B581,'T-Shirts'!$F$13:$F$40,'T-Shirts'!$P$13:$P$40,)","v":0},20240402,2414,{"$f":"_xlfn.XLOOKUP(B581,'T-Shirts'!$F$13:$F$40,'T-Shirts'!$Q$13:$Q$40,)","v":0},20240501,2418,{"$f":"_xlfn.XLOOKUP(B581,'T-Shirts'!$F$13:$F$40,'T-Shirts'!$R$13:$R$40,)","v":0},20240603,2423,{"$f":"_xlfn.XLOOKUP(B581,'T-Shirts'!$F$13:$F$40,'T-Shirts'!$S$13:$S$40,)","v":0},{"$f":"_xlfn.XLOOKUP(B581,'T-Shirts'!$F$13:$F$40,'T-Shirts'!$L$13:$L$40,)","v":22.914999999999999}]
["PPE ",596303950,20240103,2401,{"$f":"_xlfn.XLOOKUP(B582,'T-Shirts'!$F$13:$F$40,'T-Shirts'!$N$13:$N$40,)","v":0},20240201,2405,{"$f":"_xlfn.XLOOKUP(B582,'T-Shirts'!$F$13:$F$40,'T-Shirts'!$O$13:$O$40,)","v":0},20240301,2409,{"$f":"_xlfn.XLOOKUP(B582,'T-Shirts'!$F$13:$F$40,'T-Shirts'!$P$13:$P$40,)","v":0},20240402,2414,{"$f":"_xlfn.XLOOKUP(B582,'T-Shirts'!$F$13:$F$40,'T-Shirts'!$Q$13:$Q$40,)","v":0},20240501,2418,{"$f":"_xlfn.XLOOKUP(B582,'T-Shirts'!$F$13:$F$40,'T-Shirts'!$R$13:$R$40,)","v":0},20240603,2423,{"$f":"_xlfn.XLOOKUP(B582,'T-Shirts'!$F$13:$F$40,'T-Shirts'!$S$13:$S$40,)","v":0},{"$f":"_xlfn.XLOOKUP(B582,'T-Shirts'!$F$13:$F$40,'T-Shirts'!$L$13:$L$40,)","v":22.914999999999999}]
["PPE ",596303946,20240103,2401,{"$f":"_xlfn.XLOOKUP(B583,'T-Shirts'!$F$13:$F$40,'T-Shirts'!$N$13:$N$40,)","v":0},20240201,2405,{"$f":"_xlfn.XLOOKUP(B583,'T-Shirts'!$F$13:$F$40,'T-Shirts'!$O$13:$O$40,)","v":0},20240301,2409,{"$f":"_xlfn.XLOOKUP(B583,'T-Shirts'!$F$13:$F$40,'T-Shirts'!$P$13:$P$40,)","v":0},20240402,2414,{"$f":"_xlfn.XLOOKUP(B583,'T-Shirts'!$F$13:$F$40,'T-Shirts'!$Q$13:$Q$40,)","v":0},20240501,2418,{"$f":"_xlfn.XLOOKUP(B583,'T-Shirts'!$F$13:$F$40,'T-Shirts'!$R$13:$R$40,)","v":0},20240603,2423,{"$f":"_xlfn.XLOOKUP(B583,'T-Shirts'!$F$13:$F$40,'T-Shirts'!$S$13:$S$40,)","v":0},{"$f":"_xlfn.XLOOKUP(B583,'T-Shirts'!$F$13:$F$40,'T-Shirts'!$L$13:$L$40,)","v":22.914999999999999}]
["PPE ",596303866,20240103,2401,{"$f":"_xlfn.XLOOKUP(B584,'T-Shirts'!$F$13:$F$40,'T-Shirts'!$N$13:$N$40,)","v":0},20240201,2405,{"$f":"_xlfn.XLOOKUP(B584,'T-Shirts'!$F$13:$F$40,'T-Shirts'!$O$13:$O$40,)","v":0},20240301,2409,{"$f":"_xlfn.XLOOKUP(B584,'T-Shirts'!$F$13:$F$40,'T-Shirts'!$P$13:$P$40,)","v":0},20240402,2414,{"$f":"_xlfn.XLOOKUP(B584,'T-Shirts'!$F$13:$F$40,'T-Shirts'!$Q$13:$Q$40,)","v":0},20240501,2418,{"$f":"_xlfn.XLOOKUP(B584,'T-Shirts'!$F$13:$F$40,'T-Shirts'!$R$13:$R$40,)","v":0},20240603,2423,{"$f":"_xlfn.XLOOKUP(B584,'T-Shirts'!$F$13:$F$40,'T-Shirts'!$S$13:$S$40,)","v":0},{"$f":"_xlfn.XLOOKUP(B584,'T-Shirts'!$F$13:$F$40,'T-Shirts'!$L$13:$L$40,)","v":28.33}]
["PPE ",596303862,20240103,2401,{"$f":"_xlfn.XLOOKUP(B585,'T-Shirts'!$F$13:$F$40,'T-Shirts'!$N$13:$N$40,)","v":0},20240201,2405,{"$f":"_xlfn.XLOOKUP(B585,'T-Shirts'!$F$13:$F$40,'T-Shirts'!$O$13:$O$40,)","v":0},20240301,2409,{"$f":"_xlfn.XLOOKUP(B585,'T-Shirts'!$F$13:$F$40,'T-Shirts'!$P$13:$P$40,)","v":0},20240402,2414,{"$f":"_xlfn.XLOOKUP(B585,'T-Shirts'!$F$13:$F$40,'T-Shirts'!$Q$13:$Q$40,)","v":0},20240501,2418,{"$f":"_xlfn.XLOOKUP(B585,'T-Shirts'!$F$13:$F$40,'T-Shirts'!$R$13:$R$40,)","v":0},20240603,2423,{"$f":"_xlfn.XLOOKUP(B585,'T-Shirts'!$F$13:$F$40,'T-Shirts'!$S$13:$S$40,)","v":0},{"$f":"_xlfn.XLOOKUP(B585,'T-Shirts'!$F$13:$F$40,'T-Shirts'!$L$13:$L$40,)","v":28.33}]
["PPE ",596303858,20240103,2401,{"$f":"_xlfn.XLOOKUP(B586,'T-Shirts'!$F$13:$F$40,'T-Shirts'!$N$13:$N$40,)","v":0},20240201,2405,{"$f":"_xlfn.XLOOKUP(B586,'T-Shirts'!$F$13:$F$40,'T-Shirts'!$O$13:$O$40,)","v":0},20240301,2409,{"$f":"_xlfn.XLOOKUP(B586,'T-Shirts'!$F$13:$F$40,'T-Shirts'!$P$13:$P$40,)","v":0},20240402,2414,{"$f":"_xlfn.XLOOKUP(B586,'T-Shirts'!$F$13:$F$40,'T-Shirts'!$Q$13:$Q$40,)","v":0},20240501,2418,{"$f":"_xlfn.XLOOKUP(B586,'T-Shirts'!$F$13:$F$40,'T-Shirts'!$R$13:$R$40,)","v":0},20240603,2423,{"$f":"_xlfn.XLOOKUP(B586,'T-Shirts'!$F$13:$F$40,'T-Shirts'!$S$13:$S$40,)","v":0},{"$f":"_xlfn.XLOOKUP(B586,'T-Shirts'!$F$13:$F$40,'T-Shirts'!$L$13:$L$40,)","v":28.33}]
["PPE ",596303854,20240103,2401,{"$f":"_xlfn.XLOOKUP(B587,'T-Shirts'!$F$13:$F$40,'T-Shirts'!$N$13:$N$40,)","v":0},20240201,2405,{"$f":"_xlfn.XLOOKUP(B587,'T-Shirts'!$F$13:$F$40,'T-Shirts'!$O$13:$O$40,)","v":0},20240301,2409,{"$f":"_xlfn.XLOOKUP(B587,'T-Shirts'!$F$13:$F$40,'T-Shirts'!$P$13:$P$40,)","v":0},20240402,2414,{"$f":"_xlfn.XLOOKUP(B587,'T-Shirts'!$F$13:$F$40,'T-Shirts'!$Q$13:$Q$40,)","v":0},20240501,2418,{"$f":"_xlfn.XLOOKUP(B587,'T-Shirts'!$F$13:$F$40,'T-Shirts'!$R$13:$R$40,)","v":0},20240603,2423,{"$f":"_xlfn.XLOOKUP(B587,'T-Shirts'!$F$13:$F$40,'T-Shirts'!$S$13:$S$40,)","v":0},{"$f":"_xlfn.XLOOKUP(B587,'T-Shirts'!$F$13:$F$40,'T-Shirts'!$L$13:$L$40,)","v":28.33}]
["PPE ",596303850,20240103,2401,{"$f":"_xlfn.XLOOKUP(B588,'T-Shirts'!$F$13:$F$40,'T-Shirts'!$N$13:$N$40,)","v":0},20240201,2405,{"$f":"_xlfn.XLOOKUP(B588,'T-Shirts'!$F$13:$F$40,'T-Shirts'!$O$13:$O$40,)","v":0},20240301,2409,{"$f":"_xlfn.XLOOKUP(B588,'T-Shirts'!$F$13:$F$40,'T-Shirts'!$P$13:$P$40,)","v":0},20240402,2414,{"$f":"_xlfn.XLOOKUP(B588,'T-Shirts'!$F$13:$F$40,'T-Shirts'!$Q$13:$Q$40,)","v":0},20240501,2418,{"$f":"_xlfn.XLOOKUP(B588,'T-Shirts'!$F$13:$F$40,'T-Shirts'!$R$13:$R$40,)","v":0},20240603,2423,{"$f":"_xlfn.XLOOKUP(B588,'T-Shirts'!$F$13:$F$40,'T-Shirts'!$S$13:$S$40,)","v":0},{"$f":"_xlfn.XLOOKUP(B588,'T-Shirts'!$F$13:$F$40,'T-Shirts'!$L$13:$L$40,)","v":28.33}]
["PPE ",596303846,20240103,2401,{"$f":"_xlfn.XLOOKUP(B589,'T-Shirts'!$F$13:$F$40,'T-Shirts'!$N$13:$N$40,)","v":0},20240201,2405,{"$f":"_xlfn.XLOOKUP(B589,'T-Shirts'!$F$13:$F$40,'T-Shirts'!$O$13:$O$40,)","v":0},20240301,2409,{"$f":"_xlfn.XLOOKUP(B589,'T-Shirts'!$F$13:$F$40,'T-Shirts'!$P$13:$P$40,)","v":0},20240402,2414,{"$f":"_xlfn.XLOOKUP(B589,'T-Shirts'!$F$13:$F$40,'T-Shirts'!$Q$13:$Q$40,)","v":0},20240501,2418,{"$f":"_xlfn.XLOOKUP(B589,'T-Shirts'!$F$13:$F$40,'T-Shirts'!$R$13:$R$40,)","v":0},20240603,2423,{"$f":"_xlfn.XLOOKUP(B589,'T-Shirts'!$F$13:$F$40,'T-Shirts'!$S$13:$S$40,)","v":0},{"$f":"_xlfn.XLOOKUP(B589,'T-Shirts'!$F$13:$F$40,'T-Shirts'!$L$13:$L$40,)","v":28.33}]
["PPE ",596304666,20240103,2401,{"$f":"_xlfn.XLOOKUP(B590,Jackets!$F$13:$F$73,Jackets!$N$13:$N$73)","v":0},20240201,2405,{"$f":"_xlfn.XLOOKUP(B590,Jackets!$F$13:$F$73,Jackets!$O$13:$O$73)","v":0},20240301,2409,{"$f":"_xlfn.XLOOKUP(B590,Jackets!$F$13:$F$73,Jackets!$P$13:$P$73)","v":0},20240402,2414,{"$f":"_xlfn.XLOOKUP(B590,Jackets!$F$13:$F$73,Jackets!$Q$13:$Q$73)","v":0},20240501,2418,{"$f":"_xlfn.XLOOKUP(B590,Jackets!$F$13:$F$73,Jackets!$R$13:$R$73)","v":0},20240603,2423,{"$f":"_xlfn.XLOOKUP(B590,Jackets!$F$13:$F$73,Jackets!$S$13:$S$73)","v":0},{"$f":"_xlfn.XLOOKUP(B590,Jackets!$F$13:$F$73,Jackets!$L$13:$L$73)","v":51.664999999999999}]
["PPE ",596304662,20240103,2401,{"$f":"_xlfn.XLOOKUP(B591,Jackets!$F$13:$F$73,Jackets!$N$13:$N$73)","v":0},20240201,2405,{"$f":"_xlfn.XLOOKUP(B591,Jackets!$F$13:$F$73,Jackets!$O$13:$O$73)","v":0},20240301,2409,{"$f":"_xlfn.XLOOKUP(B591,Jackets!$F$13:$F$73,Jackets!$P$13:$P$73)","v":0},20240402,2414,{"$f":"_xlfn.XLOOKUP(B591,Jackets!$F$13:$F$73,Jackets!$Q$13:$Q$73)","v":0},20240501,2418,{"$f":"_xlfn.XLOOKUP(B591,Jackets!$F$13:$F$73,Jackets!$R$13:$R$73)","v":0},20240603,2423,{"$f":"_xlfn.XLOOKUP(B591,Jackets!$F$13:$F$73,Jackets!$S$13:$S$73)","v":0},{"$f":"_xlfn.XLOOKUP(B591,Jackets!$F$13:$F$73,Jackets!$L$13:$L$73)","v":51.664999999999999}]
["PPE ",596304658,20240103,2401,{"$f":"_xlfn.XLOOKUP(B592,Jackets!$F$13:$F$73,Jackets!$N$13:$N$73)","v":0},20240201,2405,{"$f":"_xlfn.XLOOKUP(B592,Jackets!$F$13:$F$73,Jackets!$O$13:$O$73)","v":0},20240301,2409,{"$f":"_xlfn.XLOOKUP(B592,Jackets!$F$13:$F$73,Jackets!$P$13:$P$73)","v":0},20240402,2414,{"$f":"_xlfn.XLOOKUP(B592,Jackets!$F$13:$F$73,Jackets!$Q$13:$Q$73)","v":0},20240501,2418,{"$f":"_xlfn.XLOOKUP(B592,Jackets!$F$13:$F$73,Jackets!$R$13:$R$73)","v":0},20240603,2423,{"$f":"_xlfn.XLOOKUP(B592,Jackets!$F$13:$F$73,Jackets!$S$13:$S$73)","v":0},{"$f":"_xlfn.XLOOKUP(B592,Jackets!$F$13:$F$73,Jackets!$L$13:$L$73)","v":51.664999999999999}]
["PPE ",596304654,20240103,2401,{"$f":"_xlfn.XLOOKUP(B593,Jackets!$F$13:$F$73,Jackets!$N$13:$N$73)","v":0},20240201,2405,{"$f":"_xlfn.XLOOKUP(B593,Jackets!$F$13:$F$73,Jackets!$O$13:$O$73)","v":0},20240301,2409,{"$f":"_xlfn.XLOOKUP(B593,Jackets!$F$13:$F$73,Jackets!$P$13:$P$73)","v":0},20240402,2414,{"$f":"_xlfn.XLOOKUP(B593,Jackets!$F$13:$F$73,Jackets!$Q$13:$Q$73)","v":0},20240501,2418,{"$f":"_xlfn.XLOOKUP(B593,Jackets!$F$13:$F$73,Jackets!$R$13:$R$73)","v":0},20240603,2423,{"$f":"_xlfn.XLOOKUP(B593,Jackets!$F$13:$F$73,Jackets!$S$13:$S$73)","v":0},{"$f":"_xlfn.XLOOKUP(B593,Jackets!$F$13:$F$73,Jackets!$L$13:$L$73)","v":51.664999999999999}]
["PPE ",596304650,20240103,2401,{"$f":"_xlfn.XLOOKUP(B594,Jackets!$F$13:$F$73,Jackets!$N$13:$N$73)","v":0},20240201,2405,{"$f":"_xlfn.XLOOKUP(B594,Jackets!$F$13:$F$73,Jackets!$O$13:$O$73)","v":0},20240301,2409,{"$f":"_xlfn.XLOOKUP(B594,Jackets!$F$13:$F$73,Jackets!$P$13:$P$73)","v":0},20240402,2414,{"$f":"_xlfn.XLOOKUP(B594,Jackets!$F$13:$F$73,Jackets!$Q$13:$Q$73)","v":0},20240501,2418,{"$f":"_xlfn.XLOOKUP(B594,Jackets!$F$13:$F$73,Jackets!$R$13:$R$73)","v":0},20240603,2423,{"$f":"_xlfn.XLOOKUP(B594,Jackets!$F$13:$F$73,Jackets!$S$13:$S$73)","v":0},{"$f":"_xlfn.XLOOKUP(B594,Jackets!$F$13:$F$73,Jackets!$L$13:$L$73)","v":51.664999999999999}]
["PPE ",596304646,20240103,2401,{"$f":"_xlfn.XLOOKUP(B595,Jackets!$F$13:$F$73,Jackets!$N$13:$N$73)","v":0},20240201,2405,{"$f":"_xlfn.XLOOKUP(B595,Jackets!$F$13:$F$73,Jackets!$O$13:$O$73)","v":0},20240301,2409,{"$f":"_xlfn.XLOOKUP(B595,Jackets!$F$13:$F$73,Jackets!$P$13:$P$73)","v":0},20240402,2414,{"$f":"_xlfn.XLOOKUP(B595,Jackets!$F$13:$F$73,Jackets!$Q$13:$Q$73)","v":0},20240501,2418,{"$f":"_xlfn.XLOOKUP(B595,Jackets!$F$13:$F$73,Jackets!$R$13:$R$73)","v":0},20240603,2423,{"$f":"_xlfn.XLOOKUP(B595,Jackets!$F$13:$F$73,Jackets!$S$13:$S$73)","v":0},{"$f":"_xlfn.XLOOKUP(B595,Jackets!$F$13:$F$73,Jackets!$L$13:$L$73)","v":51.664999999999999}]
["PPE ",582340750,20240103,2401,{"$f":"_xlfn.XLOOKUP(B596,Jackets!$F$13:$F$73,Jackets!$N$13:$N$73)","v":0},20240201,2405,{"$f":"_xlfn.XLOOKUP(B596,Jackets!$F$13:$F$73,Jackets!$O$13:$O$73)","v":0},20240301,2409,{"$f":"_xlfn.XLOOKUP(B596,Jackets!$F$13:$F$73,Jackets!$P$13:$P$73)","v":0},20240402,2414,{"$f":"_xlfn.XLOOKUP(B596,Jackets!$F$13:$F$73,Jackets!$Q$13:$Q$73)","v":0},20240501,2418,{"$f":"_xlfn.XLOOKUP(B596,Jackets!$F$13:$F$73,Jackets!$R$13:$R$73)","v":0},20240603,2423,{"$f":"_xlfn.XLOOKUP(B596,Jackets!$F$13:$F$73,Jackets!$S$13:$S$73)","v":0},{"$f":"_xlfn.XLOOKUP(B596,Jackets!$F$13:$F$73,Jackets!$L$13:$L$73)","v":141.25}]
["PPE ",582340746,20240103,2401,{"$f":"_xlfn.XLOOKUP(B597,Jackets!$F$13:$F$73,Jackets!$N$13:$N$73)","v":0},20240201,2405,{"$f":"_xlfn.XLOOKUP(B597,Jackets!$F$13:$F$73,Jackets!$O$13:$O$73)","v":0},20240301,2409,{"$f":"_xlfn.XLOOKUP(B597,Jackets!$F$13:$F$73,Jackets!$P$13:$P$73)","v":0},20240402,2414,{"$f":"_xlfn.XLOOKUP(B597,Jackets!$F$13:$F$73,Jackets!$Q$13:$Q$73)","v":0},20240501,2418,{"$f":"_xlfn.XLOOKUP(B597,Jackets!$F$13:$F$73,Jackets!$R$13:$R$73)","v":0},20240603,2423,{"$f":"_xlfn.XLOOKUP(B597,Jackets!$F$13:$F$73,Jackets!$S$13:$S$73)","v":0},{"$f":"_xlfn.XLOOKUP(B597,Jackets!$F$13:$F$73,Jackets!$L$13:$L$73)","v":141.25}]
["PPE ",582340742,20240103,2401,{"$f":"_xlfn.XLOOKUP(B598,Jackets!$F$13:$F$73,Jackets!$N$13:$N$73)","v":0},20240201,2405,{"$f":"_xlfn.XLOOKUP(B598,Jackets!$F$13:$F$73,Jackets!$O$13:$O$73)","v":0},20240301,2409,{"$f":"_xlfn.XLOOKUP(B598,Jackets!$F$13:$F$73,Jackets!$P$13:$P$73)","v":0},20240402,2414,{"$f":"_xlfn.XLOOKUP(B598,Jackets!$F$13:$F$73,Jackets!$Q$13:$Q$73)","v":0},20240501,2418,{"$f":"_xlfn.XLOOKUP(B598,Jackets!$F$13:$F$73,Jackets!$R$13:$R$73)","v":0},20240603,2423,{"$f":"_xlfn.XLOOKUP(B598,Jackets!$F$13:$F$73,Jackets!$S$13:$S$73)","v":0},{"$f":"_xlfn.XLOOKUP(B598,Jackets!$F$13:$F$73,Jackets!$L$13:$L$73)","v":141.25}]
["PPE ",582335162,20240103,2401,{"$f":"_xlfn.XLOOKUP(B599,Jackets!$F$13:$F$73,Jackets!$N$13:$N$73)","v":0},20240201,2405,{"$f":"_xlfn.XLOOKUP(B599,Jackets!$F$13:$F$73,Jackets!$O$13:$O$73)","v":0},20240301,2409,{"$f":"_xlfn.XLOOKUP(B599,Jackets!$F$13:$F$73,Jackets!$P$13:$P$73)","v":0},20240402,2414,{"$f":"_xlfn.XLOOKUP(B599,Jackets!$F$13:$F$73,Jackets!$Q$13:$Q$73)","v":0},20240501,2418,{"$f":"_xlfn.XLOOKUP(B599,Jackets!$F$13:$F$73,Jackets!$R$13:$R$73)","v":0},20240603,2423,{"$f":"_xlfn.XLOOKUP(B599,Jackets!$F$13:$F$73,Jackets!$S$13:$S$73)","v":0},{"$f":"_xlfn.XLOOKUP(B599,Jackets!$F$13:$F$73,Jackets!$L$13:$L$73)","v":31.245000000000001}]
["PPE ",582335158,20240103,2401,{"$f":"_xlfn.XLOOKUP(B600,Jackets!$F$13:$F$73,Jackets!$N$13:$N$73)","v":0},20240201,2405,{"$f":"_xlfn.XLOOKUP(B600,Jackets!$F$13:$F$73,Jackets!$O$13:$O$73)","v":0},20240301,2409,{"$f":"_xlfn.XLOOKUP(B600,Jackets!$F$13:$F$73,Jackets!$P$13:$P$73)","v":0},20240402,2414,{"$f":"_xlfn.XLOOKUP(B600,Jackets!$F$13:$F$73,Jackets!$Q$13:$Q$73)","v":0},20240501,2418,{"$f":"_xlfn.XLOOKUP(B600,Jackets!$F$13:$F$73,Jackets!$R$13:$R$73)","v":0},20240603,2423,{"$f":"_xlfn.XLOOKUP(B600,Jackets!$F$13:$F$73,Jackets!$S$13:$S$73)","v":0},{"$f":"_xlfn.XLOOKUP(B600,Jackets!$F$13:$F$73,Jackets!$L$13:$L$73)","v":31.245000000000001}]
["PPE ",582335154,20240103,2401,{"$f":"_xlfn.XLOOKUP(B601,Jackets!$F$13:$F$73,Jackets!$N$13:$N$73)","v":0},20240201,2405,{"$f":"_xlfn.XLOOKUP(B601,Jackets!$F$13:$F$73,Jackets!$O$13:$O$73)","v":0},20240301,2409,{"$f":"_xlfn.XLOOKUP(B601,Jackets!$F$13:$F$73,Jackets!$P$13:$P$73)","v":0},20240402,2414,{"$f":"_xlfn.XLOOKUP(B601,Jackets!$F$13:$F$73,Jackets!$Q$13:$Q$73)","v":0},20240501,2418,{"$f":"_xlfn.XLOOKUP(B601,Jackets!$F$13:$F$73,Jackets!$R$13:$R$73)","v":0},20240603,2423,{"$f":"_xlfn.XLOOKUP(B601,Jackets!$F$13:$F$73,Jackets!$S$13:$S$73)","v":0},{"$f":"_xlfn.XLOOKUP(B601,Jackets!$F$13:$F$73,Jackets!$L$13:$L$73)","v":31.245000000000001}]
["PPE ",582335150,20240103,2401,{"$f":"_xlfn.XLOOKUP(B602,Jackets!$F$13:$F$73,Jackets!$N$13:$N$73)","v":0},20240201,2405,{"$f":"_xlfn.XLOOKUP(B602,Jackets!$F$13:$F$73,Jackets!$O$13:$O$73)","v":0},20240301,2409,{"$f":"_xlfn.XLOOKUP(B602,Jackets!$F$13:$F$73,Jackets!$P$13:$P$73)","v":0},20240402,2414,{"$f":"_xlfn.XLOOKUP(B602,Jackets!$F$13:$F$73,Jackets!$Q$13:$Q$73)","v":0},20240501,2418,{"$f":"_xlfn.XLOOKUP(B602,Jackets!$F$13:$F$73,Jackets!$R$13:$R$73)","v":0},20240603,2423,{"$f":"_xlfn.XLOOKUP(B602,Jackets!$F$13:$F$73,Jackets!$S$13:$S$73)","v":0},{"$f":"_xlfn.XLOOKUP(B602,Jackets!$F$13:$F$73,Jackets!$L$13:$L$73)","v":31.245000000000001}]
["PPE ",582335146,20240103,2401,{"$f":"_xlfn.XLOOKUP(B603,Jackets!$F$13:$F$73,Jackets!$N$13:$N$73)","v":0},20240201,2405,{"$f":"_xlfn.XLOOKUP(B603,Jackets!$F$13:$F$73,Jackets!$O$13:$O$73)","v":0},20240301,2409,{"$f":"_xlfn.XLOOKUP(B603,Jackets!$F$13:$F$73,Jackets!$P$13:$P$73)","v":0},20240402,2414,{"$f":"_xlfn.XLOOKUP(B603,Jackets!$F$13:$F$73,Jackets!$Q$13:$Q$73)","v":0},20240501,2418,{"$f":"_xlfn.XLOOKUP(B603,Jackets!$F$13:$F$73,Jackets!$R$13:$R$73)","v":0},20240603,2423,{"$f":"_xlfn.XLOOKUP(B603,Jackets!$F$13:$F$73,Jackets!$S$13:$S$73)","v":0},{"$f":"_xlfn.XLOOKUP(B603,Jackets!$F$13:$F$73,Jackets!$L$13:$L$73)","v":31.245000000000001}]
["PPE ",582334362,20240103,2401,{"$f":"_xlfn.XLOOKUP(B604,Jackets!$F$13:$F$73,Jackets!$N$13:$N$73)","v":0},20240201,2405,{"$f":"_xlfn.XLOOKUP(B604,Jackets!$F$13:$F$73,Jackets!$O$13:$O$73)","v":0},20240301,2409,{"$f":"_xlfn.XLOOKUP(B604,Jackets!$F$13:$F$73,Jackets!$P$13:$P$73)","v":0},20240402,2414,{"$f":"_xlfn.XLOOKUP(B604,Jackets!$F$13:$F$73,Jackets!$Q$13:$Q$73)","v":0},20240501,2418,{"$f":"_xlfn.XLOOKUP(B604,Jackets!$F$13:$F$73,Jackets!$R$13:$R$73)","v":0},20240603,2423,{"$f":"_xlfn.XLOOKUP(B604,Jackets!$F$13:$F$73,Jackets!$S$13:$S$73)","v":0},{"$f":"_xlfn.XLOOKUP(B604,Jackets!$F$13:$F$73,Jackets!$L$13:$L$73)","v":52.08}]
["PPE ",582334358,20240103,2401,{"$f":"_xlfn.XLOOKUP(B605,Jackets!$F$13:$F$73,Jackets!$N$13:$N$73)","v":0},20240201,2405,{"$f":"_xlfn.XLOOKUP(B605,Jackets!$F$13:$F$73,Jackets!$O$13:$O$73)","v":0},20240301,2409,{"$f":"_xlfn.XLOOKUP(B605,Jackets!$F$13:$F$73,Jackets!$P$13:$P$73)","v":0},20240402,2414,{"$f":"_xlfn.XLOOKUP(B605,Jackets!$F$13:$F$73,Jackets!$Q$13:$Q$73)","v":0},20240501,2418,{"$f":"_xlfn.XLOOKUP(B605,Jackets!$F$13:$F$73,Jackets!$R$13:$R$73)","v":0},20240603,2423,{"$f":"_xlfn.XLOOKUP(B605,Jackets!$F$13:$F$73,Jackets!$S$13:$S$73)","v":0},{"$f":"_xlfn.XLOOKUP(B605,Jackets!$F$13:$F$73,Jackets!$L$13:$L$73)","v":52.08}]
["PPE ",582334354,20240103,2401,{"$f":"_xlfn.XLOOKUP(B606,Jackets!$F$13:$F$73,Jackets!$N$13:$N$73)","v":0},20240201,2405,{"$f":"_xlfn.XLOOKUP(B606,Jackets!$F$13:$F$73,Jackets!$O$13:$O$73)","v":0},20240301,2409,{"$f":"_xlfn.XLOOKUP(B606,Jackets!$F$13:$F$73,Jackets!$P$13:$P$73)","v":0},20240402,2414,{"$f":"_xlfn.XLOOKUP(B606,Jackets!$F$13:$F$73,Jackets!$Q$13:$Q$73)","v":0},20240501,2418,{"$f":"_xlfn.XLOOKUP(B606,Jackets!$F$13:$F$73,Jackets!$R$13:$R$73)","v":0},20240603,2423,{"$f":"_xlfn.XLOOKUP(B606,Jackets!$F$13:$F$73,Jackets!$S$13:$S$73)","v":0},{"$f":"_xlfn.XLOOKUP(B606,Jackets!$F$13:$F$73,Jackets!$L$13:$L$73)","v":52.08}]
["PPE ",582334350,20240103,2401,{"$f":"_xlfn.XLOOKUP(B607,Jackets!$F$13:$F$73,Jackets!$N$13:$N$73)","v":0},20240201,2405,{"$f":"_xlfn.XLOOKUP(B607,Jackets!$F$13:$F$73,Jackets!$O$13:$O$73)","v":0},20240301,2409,{"$f":"_xlfn.XLOOKUP(B607,Jackets!$F$13:$F$73,Jackets!$P$13:$P$73)","v":0},20240402,2414,{"$f":"_xlfn.XLOOKUP(B607,Jackets!$F$13:$F$73,Jackets!$Q$13:$Q$73)","v":0},20240501,2418,{"$f":"_xlfn.XLOOKUP(B607,Jackets!$F$13:$F$73,Jackets!$R$13:$R$73)","v":0},20240603,2423,{"$f":"_xlfn.XLOOKUP(B607,Jackets!$F$13:$F$73,Jackets!$S$13:$S$73)","v":0},{"$f":"_xlfn.XLOOKUP(B607,Jackets!$F$13:$F$73,Jackets!$L$13:$L$73)","v":52.08}]
["PPE ",582334346,20240103,2401,{"$f":"_xlfn.XLOOKUP(B608,Jackets!$F$13:$F$73,Jackets!$N$13:$N$73)","v":0},20240201,2405,{"$f":"_xlfn.XLOOKUP(B608,Jackets!$F$13:$F$73,Jackets!$O$13:$O$73)","v":0},20240301,2409,{"$f":"_xlfn.XLOOKUP(B608,Jackets!$F$13:$F$73,Jackets!$P$13:$P$73)","v":0},20240402,2414,{"$f":"_xlfn.XLOOKUP(B608,Jackets!$F$13:$F$73,Jackets!$Q$13:$Q$73)","v":0},20240501,2418,{"$f":"_xlfn.XLOOKUP(B608,Jackets!$F$13:$F$73,Jackets!$R$13:$R$73)","v":0},20240603,2423,{"$f":"_xlfn.XLOOKUP(B608,Jackets!$F$13:$F$73,Jackets!$S$13:$S$73)","v":0},{"$f":"_xlfn.XLOOKUP(B608,Jackets!$F$13:$F$73,Jackets!$L$13:$L$73)","v":52.08}]
["PPE ",582332162,20240103,2401,{"$f":"_xlfn.XLOOKUP(B609,Jackets!$F$13:$F$73,Jackets!$N$13:$N$73)","v":0},20240201,2405,{"$f":"_xlfn.XLOOKUP(B609,Jackets!$F$13:$F$73,Jackets!$O$13:$O$73)","v":0},20240301,2409,{"$f":"_xlfn.XLOOKUP(B609,Jackets!$F$13:$F$73,Jackets!$P$13:$P$73)","v":0},20240402,2414,{"$f":"_xlfn.XLOOKUP(B609,Jackets!$F$13:$F$73,Jackets!$Q$13:$Q$73)","v":0},20240501,2418,{"$f":"_xlfn.XLOOKUP(B609,Jackets!$F$13:$F$73,Jackets!$R$13:$R$73)","v":0},20240603,2423,{"$f":"_xlfn.XLOOKUP(B609,Jackets!$F$13:$F$73,Jackets!$S$13:$S$73)","v":0},{"$f":"_xlfn.XLOOKUP(B609,Jackets!$F$13:$F$73,Jackets!$L$13:$L$73)","v":112.08499999999999}]
["PPE ",582332158,20240103,2401,{"$f":"_xlfn.XLOOKUP(B610,Jackets!$F$13:$F$73,Jackets!$N$13:$N$73)","v":0},20240201,2405,{"$f":"_xlfn.XLOOKUP(B610,Jackets!$F$13:$F$73,Jackets!$O$13:$O$73)","v":0},20240301,2409,{"$f":"_xlfn.XLOOKUP(B610,Jackets!$F$13:$F$73,Jackets!$P$13:$P$73)","v":0},20240402,2414,{"$f":"_xlfn.XLOOKUP(B610,Jackets!$F$13:$F$73,Jackets!$Q$13:$Q$73)","v":0},20240501,2418,{"$f":"_xlfn.XLOOKUP(B610,Jackets!$F$13:$F$73,Jackets!$R$13:$R$73)","v":0},20240603,2423,{"$f":"_xlfn.XLOOKUP(B610,Jackets!$F$13:$F$73,Jackets!$S$13:$S$73)","v":0},{"$f":"_xlfn.XLOOKUP(B610,Jackets!$F$13:$F$73,Jackets!$L$13:$L$73)","v":112.08499999999999}]
["PPE ",582332154,20240103,2401,{"$f":"_xlfn.XLOOKUP(B611,Jackets!$F$13:$F$73,Jackets!$N$13:$N$73)","v":0},20240201,2405,{"$f":"_xlfn.XLOOKUP(B611,Jackets!$F$13:$F$73,Jackets!$O$13:$O$73)","v":0},20240301,2409,{"$f":"_xlfn.XLOOKUP(B611,Jackets!$F$13:$F$73,Jackets!$P$13:$P$73)","v":0},20240402,2414,{"$f":"_xlfn.XLOOKUP(B611,Jackets!$F$13:$F$73,Jackets!$Q$13:$Q$73)","v":0},20240501,2418,{"$f":"_xlfn.XLOOKUP(B611,Jackets!$F$13:$F$73,Jackets!$R$13:$R$73)","v":0},20240603,2423,{"$f":"_xlfn.XLOOKUP(B611,Jackets!$F$13:$F$73,Jackets!$S$13:$S$73)","v":0},{"$f":"_xlfn.XLOOKUP(B611,Jackets!$F$13:$F$73,Jackets!$L$13:$L$73)","v":112.08499999999999}]
["PPE ",582332150,20240103,2401,{"$f":"_xlfn.XLOOKUP(B612,Jackets!$F$13:$F$73,Jackets!$N$13:$N$73)","v":0},20240201,2405,{"$f":"_xlfn.XLOOKUP(B612,Jackets!$F$13:$F$73,Jackets!$O$13:$O$73)","v":0},20240301,2409,{"$f":"_xlfn.XLOOKUP(B612,Jackets!$F$13:$F$73,Jackets!$P$13:$P$73)","v":0},20240402,2414,{"$f":"_xlfn.XLOOKUP(B612,Jackets!$F$13:$F$73,Jackets!$Q$13:$Q$73)","v":0},20240501,2418,{"$f":"_xlfn.XLOOKUP(B612,Jackets!$F$13:$F$73,Jackets!$R$13:$R$73)","v":0},20240603,2423,{"$f":"_xlfn.XLOOKUP(B612,Jackets!$F$13:$F$73,Jackets!$S$13:$S$73)","v":0},{"$f":"_xlfn.XLOOKUP(B612,Jackets!$F$13:$F$73,Jackets!$L$13:$L$73)","v":112.08499999999999}]
["PPE ",582332146,20240103,2401,{"$f":"_xlfn.XLOOKUP(B613,Jackets!$F$13:$F$73,Jackets!$N$13:$N$73)","v":0},20240201,2405,{"$f":"_xlfn.XLOOKUP(B613,Jackets!$F$13:$F$73,Jackets!$O$13:$O$73)","v":0},20240301,2409,{"$f":"_xlfn.XLOOKUP(B613,Jackets!$F$13:$F$73,Jackets!$P$13:$P$73)","v":0},20240402,2414,{"$f":"_xlfn.XLOOKUP(B613,Jackets!$F$13:$F$73,Jackets!$Q$13:$Q$73)","v":0},20240501,2418,{"$f":"_xlfn.XLOOKUP(B613,Jackets!$F$13:$F$73,Jackets!$R$13:$R$73)","v":0},20240603,2423,{"$f":"_xlfn.XLOOKUP(B613,Jackets!$F$13:$F$73,Jackets!$S$13:$S$73)","v":0},{"$f":"_xlfn.XLOOKUP(B613,Jackets!$F$13:$F$73,Jackets!$L$13:$L$73)","v":112.08499999999999}]
["PPE ",582331462,20240103,2401,{"$f":"_xlfn.XLOOKUP(B614,Jackets!$F$13:$F$73,Jackets!$N$13:$N$73)","v":0},20240201,2405,{"$f":"_xlfn.XLOOKUP(B614,Jackets!$F$13:$F$73,Jackets!$O$13:$O$73)","v":0},20240301,2409,{"$f":"_xlfn.XLOOKUP(B614,Jackets!$F$13:$F$73,Jackets!$P$13:$P$73)","v":0},20240402,2414,{"$f":"_xlfn.XLOOKUP(B614,Jackets!$F$13:$F$73,Jackets!$Q$13:$Q$73)","v":0},20240501,2418,{"$f":"_xlfn.XLOOKUP(B614,Jackets!$F$13:$F$73,Jackets!$R$13:$R$73)","v":0},20240603,2423,{"$f":"_xlfn.XLOOKUP(B614,Jackets!$F$13:$F$73,Jackets!$S$13:$S$73)","v":0},{"$f":"_xlfn.XLOOKUP(B614,Jackets!$F$13:$F$73,Jackets!$L$13:$L$73)","v":56.244999999999997}]
["PPE ",582331458,20240103,2401,{"$f":"_xlfn.XLOOKUP(B615,Jackets!$F$13:$F$73,Jackets!$N$13:$N$73)","v":0},20240201,2405,{"$f":"_xlfn.XLOOKUP(B615,Jackets!$F$13:$F$73,Jackets!$O$13:$O$73)","v":0},20240301,2409,{"$f":"_xlfn.XLOOKUP(B615,Jackets!$F$13:$F$73,Jackets!$P$13:$P$73)","v":0},20240402,2414,{"$f":"_xlfn.XLOOKUP(B615,Jackets!$F$13:$F$73,Jackets!$Q$13:$Q$73)","v":0},20240501,2418,{"$f":"_xlfn.XLOOKUP(B615,Jackets!$F$13:$F$73,Jackets!$R$13:$R$73)","v":0},20240603,2423,{"$f":"_xlfn.XLOOKUP(B615,Jackets!$F$13:$F$73,Jackets!$S$13:$S$73)","v":0},{"$f":"_xlfn.XLOOKUP(B615,Jackets!$F$13:$F$73,Jackets!$L$13:$L$73)","v":56.244999999999997}]
["PPE ",582331454,20240103,2401,{"$f":"_xlfn.XLOOKUP(B616,Jackets!$F$13:$F$73,Jackets!$N$13:$N$73)","v":0},20240201,2405,{"$f":"_xlfn.XLOOKUP(B616,Jackets!$F$13:$F$73,Jackets!$O$13:$O$73)","v":0},20240301,2409,{"$f":"_xlfn.XLOOKUP(B616,Jackets!$F$13:$F$73,Jackets!$P$13:$P$73)","v":0},20240402,2414,{"$f":"_xlfn.XLOOKUP(B616,Jackets!$F$13:$F$73,Jackets!$Q$13:$Q$73)","v":0},20240501,2418,{"$f":"_xlfn.XLOOKUP(B616,Jackets!$F$13:$F$73,Jackets!$R$13:$R$73)","v":0},20240603,2423,{"$f":"_xlfn.XLOOKUP(B616,Jackets!$F$13:$F$73,Jackets!$S$13:$S$73)","v":0},{"$f":"_xlfn.XLOOKUP(B616,Jackets!$F$13:$F$73,Jackets!$L$13:$L$73)","v":56.244999999999997}]
["PPE ",582331450,20240103,2401,{"$f":"_xlfn.XLOOKUP(B617,Jackets!$F$13:$F$73,Jackets!$N$13:$N$73)","v":0},20240201,2405,{"$f":"_xlfn.XLOOKUP(B617,Jackets!$F$13:$F$73,Jackets!$O$13:$O$73)","v":0},20240301,2409,{"$f":"_xlfn.XLOOKUP(B617,Jackets!$F$13:$F$73,Jackets!$P$13:$P$73)","v":0},20240402,2414,{"$f":"_xlfn.XLOOKUP(B617,Jackets!$F$13:$F$73,Jackets!$Q$13:$Q$73)","v":0},20240501,2418,{"$f":"_xlfn.XLOOKUP(B617,Jackets!$F$13:$F$73,Jackets!$R$13:$R$73)","v":0},20240603,2423,{"$f":"_xlfn.XLOOKUP(B617,Jackets!$F$13:$F$73,Jackets!$S$13:$S$73)","v":0},{"$f":"_xlfn.XLOOKUP(B617,Jackets!$F$13:$F$73,Jackets!$L$13:$L$73)","v":56.244999999999997}]
["PPE ",582331446,20240103,2401,{"$f":"_xlfn.XLOOKUP(B618,Jackets!$F$13:$F$73,Jackets!$N$13:$N$73)","v":0},20240201,2405,{"$f":"_xlfn.XLOOKUP(B618,Jackets!$F$13:$F$73,Jackets!$O$13:$O$73)","v":0},20240301,2409,{"$f":"_xlfn.XLOOKUP(B618,Jackets!$F$13:$F$73,Jackets!$P$13:$P$73)","v":0},20240402,2414,{"$f":"_xlfn.XLOOKUP(B618,Jackets!$F$13:$F$73,Jackets!$Q$13:$Q$73)","v":0},20240501,2418,{"$f":"_xlfn.XLOOKUP(B618,Jackets!$F$13:$F$73,Jackets!$R$13:$R$73)","v":0},20240603,2423,{"$f":"_xlfn.XLOOKUP(B618,Jackets!$F$13:$F$73,Jackets!$S$13:$S$73)","v":0},{"$f":"_xlfn.XLOOKUP(B618,Jackets!$F$13:$F$73,Jackets!$L$13:$L$73)","v":56.244999999999997}]
["PPE ",529516258,20240103,2401,{"$f":"_xlfn.XLOOKUP(B619,Jackets!$F$13:$F$73,Jackets!$N$13:$N$73)","v":0},20240201,2405,{"$f":"_xlfn.XLOOKUP(B619,Jackets!$F$13:$F$73,Jackets!$O$13:$O$73)","v":0},20240301,2409,{"$f":"_xlfn.XLOOKUP(B619,Jackets!$F$13:$F$73,Jackets!$P$13:$P$73)","v":0},20240402,2414,{"$f":"_xlfn.XLOOKUP(B619,Jackets!$F$13:$F$73,Jackets!$Q$13:$Q$73)","v":0},20240501,2418,{"$f":"_xlfn.XLOOKUP(B619,Jackets!$F$13:$F$73,Jackets!$R$13:$R$73)","v":0},20240603,2423,{"$f":"_xlfn.XLOOKUP(B619,Jackets!$F$13:$F$73,Jackets!$S$13:$S$73)","v":0},{"$f":"_xlfn.XLOOKUP(B619,Jackets!$F$13:$F$73,Jackets!$L$13:$L$73)","v":153.75}]
["PPE ",529516254,20240103,2401,{"$f":"_xlfn.XLOOKUP(B620,Jackets!$F$13:$F$73,Jackets!$N$13:$N$73)","v":0},20240201,2405,{"$f":"_xlfn.XLOOKUP(B620,Jackets!$F$13:$F$73,Jackets!$O$13:$O$73)","v":0},20240301,2409,{"$f":"_xlfn.XLOOKUP(B620,Jackets!$F$13:$F$73,Jackets!$P$13:$P$73)","v":0},20240402,2414,{"$f":"_xlfn.XLOOKUP(B620,Jackets!$F$13:$F$73,Jackets!$Q$13:$Q$73)","v":0},20240501,2418,{"$f":"_xlfn.XLOOKUP(B620,Jackets!$F$13:$F$73,Jackets!$R$13:$R$73)","v":0},20240603,2423,{"$f":"_xlfn.XLOOKUP(B620,Jackets!$F$13:$F$73,Jackets!$S$13:$S$73)","v":0},{"$f":"_xlfn.XLOOKUP(B620,Jackets!$F$13:$F$73,Jackets!$L$13:$L$73)","v":153.75}]
["PPE ",529516250,20240103,2401,{"$f":"_xlfn.XLOOKUP(B621,Jackets!$F$13:$F$73,Jackets!$N$13:$N$73)","v":0},20240201,2405,{"$f":"_xlfn.XLOOKUP(B621,Jackets!$F$13:$F$73,Jackets!$O$13:$O$73)","v":0},20240301,2409,{"$f":"_xlfn.XLOOKUP(B621,Jackets!$F$13:$F$73,Jackets!$P$13:$P$73)","v":0},20240402,2414,{"$f":"_xlfn.XLOOKUP(B621,Jackets!$F$13:$F$73,Jackets!$Q$13:$Q$73)","v":0},20240501,2418,{"$f":"_xlfn.XLOOKUP(B621,Jackets!$F$13:$F$73,Jackets!$R$13:$R$73)","v":0},20240603,2423,{"$f":"_xlfn.XLOOKUP(B621,Jackets!$F$13:$F$73,Jackets!$S$13:$S$73)","v":0},{"$f":"_xlfn.XLOOKUP(B621,Jackets!$F$13:$F$73,Jackets!$L$13:$L$73)","v":153.75}]
["PPE ",529516246,20240103,2401,{"$f":"_xlfn.XLOOKUP(B622,Jackets!$F$13:$F$73,Jackets!$N$13:$N$73)","v":0},20240201,2405,{"$f":"_xlfn.XLOOKUP(B622,Jackets!$F$13:$F$73,Jackets!$O$13:$O$73)","v":0},20240301,2409,{"$f":"_xlfn.XLOOKUP(B622,Jackets!$F$13:$F$73,Jackets!$P$13:$P$73)","v":0},20240402,2414,{"$f":"_xlfn.XLOOKUP(B622,Jackets!$F$13:$F$73,Jackets!$Q$13:$Q$73)","v":0},20240501,2418,{"$f":"_xlfn.XLOOKUP(B622,Jackets!$F$13:$F$73,Jackets!$R$13:$R$73)","v":0},20240603,2423,{"$f":"_xlfn.XLOOKUP(B622,Jackets!$F$13:$F$73,Jackets!$S$13:$S$73)","v":0},{"$f":"_xlfn.XLOOKUP(B622,Jackets!$F$13:$F$73,Jackets!$L$13:$L$73)","v":153.75}]
["PPE ",529880003,20240103,2401,{"$f":"_xlfn.XLOOKUP(B623,Trousers!$F$13:$F$107,Trousers!$N$13:$N$107)","v":0},20240201,2405,{"$f":"_xlfn.XLOOKUP(B623,Trousers!$F$13:$F$107,Trousers!$O$13:$O$107)","v":0},20240301,2409,{"$f":"_xlfn.XLOOKUP(B623,Trousers!$F$13:$F$107,Trousers!$P$13:$P$107)","v":0},20240402,2414,{"$f":"_xlfn.XLOOKUP(B623,Trousers!$F$13:$F$107,Trousers!$Q$13:$Q$107)","v":0},20240501,2418,{"$f":"_xlfn.XLOOKUP(B623,Trousers!$F$13:$F$107,Trousers!$R$13:$R$107)","v":0},20240603,2423,{"$f":"_xlfn.XLOOKUP(B623,Trousers!$F$13:$F$107,Trousers!$S$13:$S$107)","v":0},{"$f":"_xlfn.XLOOKUP(B623,Trousers!$F$13:$F$107,Trousers!$L$13:$L$107)","v":67.495000000000005}]
["PPE ",529880002,20240103,2401,{"$f":"_xlfn.XLOOKUP(B624,Trousers!$F$13:$F$107,Trousers!$N$13:$N$107)","v":0},20240201,2405,{"$f":"_xlfn.XLOOKUP(B624,Trousers!$F$13:$F$107,Trousers!$O$13:$O$107)","v":0},20240301,2409,{"$f":"_xlfn.XLOOKUP(B624,Trousers!$F$13:$F$107,Trousers!$P$13:$P$107)","v":0},20240402,2414,{"$f":"_xlfn.XLOOKUP(B624,Trousers!$F$13:$F$107,Trousers!$Q$13:$Q$107)","v":0},20240501,2418,{"$f":"_xlfn.XLOOKUP(B624,Trousers!$F$13:$F$107,Trousers!$R$13:$R$107)","v":0},20240603,2423,{"$f":"_xlfn.XLOOKUP(B624,Trousers!$F$13:$F$107,Trousers!$S$13:$S$107)","v":0},{"$f":"_xlfn.XLOOKUP(B624,Trousers!$F$13:$F$107,Trousers!$L$13:$L$107)","v":67.495000000000005}]
["PPE ",529880001,20240103,2401,{"$f":"_xlfn.XLOOKUP(B625,Trousers!$F$13:$F$107,Trousers!$N$13:$N$107)","v":0},20240201,2405,{"$f":"_xlfn.XLOOKUP(B625,Trousers!$F$13:$F$107,Trousers!$O$13:$O$107)","v":0},20240301,2409,{"$f":"_xlfn.XLOOKUP(B625,Trousers!$F$13:$F$107,Trousers!$P$13:$P$107)","v":0},20240402,2414,{"$f":"_xlfn.XLOOKUP(B625,Trousers!$F$13:$F$107,Trousers!$Q$13:$Q$107)","v":0},20240501,2418,{"$f":"_xlfn.XLOOKUP(B625,Trousers!$F$13:$F$107,Trousers!$R$13:$R$107)","v":0},20240603,2423,{"$f":"_xlfn.XLOOKUP(B625,Trousers!$F$13:$F$107,Trousers!$S$13:$S$107)","v":0},{"$f":"_xlfn.XLOOKUP(B625,Trousers!$F$13:$F$107,Trousers!$L$13:$L$107)","v":67.495000000000005}]
["PPE ",529520101,20240103,2401,{"$f":"_xlfn.XLOOKUP(B626,Trousers!$F$13:$F$107,Trousers!$N$13:$N$107)","v":0},20240201,2405,{"$f":"_xlfn.XLOOKUP(B626,Trousers!$F$13:$F$107,Trousers!$O$13:$O$107)","v":0},20240301,2409,{"$f":"_xlfn.XLOOKUP(B626,Trousers!$F$13:$F$107,Trousers!$P$13:$P$107)","v":0},20240402,2414,{"$f":"_xlfn.XLOOKUP(B626,Trousers!$F$13:$F$107,Trousers!$Q$13:$Q$107)","v":0},20240501,2418,{"$f":"_xlfn.XLOOKUP(B626,Trousers!$F$13:$F$107,Trousers!$R$13:$R$107)","v":0},20240603,2423,{"$f":"_xlfn.XLOOKUP(B626,Trousers!$F$13:$F$107,Trousers!$S$13:$S$107)","v":0},{"$f":"_xlfn.XLOOKUP(B626,Trousers!$F$13:$F$107,Trousers!$L$13:$L$107)","v":83.33}]
["PPE ",529518964,20240103,2401,{"$f":"_xlfn.XLOOKUP(B627,Trousers!$F$13:$F$107,Trousers!$N$13:$N$107)","v":0},20240201,2405,{"$f":"_xlfn.XLOOKUP(B627,Trousers!$F$13:$F$107,Trousers!$O$13:$O$107)","v":0},20240301,2409,{"$f":"_xlfn.XLOOKUP(B627,Trousers!$F$13:$F$107,Trousers!$P$13:$P$107)","v":0},20240402,2414,{"$f":"_xlfn.XLOOKUP(B627,Trousers!$F$13:$F$107,Trousers!$Q$13:$Q$107)","v":0},20240501,2418,{"$f":"_xlfn.XLOOKUP(B627,Trousers!$F$13:$F$107,Trousers!$R$13:$R$107)","v":0},20240603,2423,{"$f":"_xlfn.XLOOKUP(B627,Trousers!$F$13:$F$107,Trousers!$S$13:$S$107)","v":0},{"$f":"_xlfn.XLOOKUP(B627,Trousers!$F$13:$F$107,Trousers!$L$13:$L$107)","v":49.58}]
["PPE ",529518962,20240103,2401,{"$f":"_xlfn.XLOOKUP(B628,Trousers!$F$13:$F$107,Trousers!$N$13:$N$107)","v":0},20240201,2405,{"$f":"_xlfn.XLOOKUP(B628,Trousers!$F$13:$F$107,Trousers!$O$13:$O$107)","v":0},20240301,2409,{"$f":"_xlfn.XLOOKUP(B628,Trousers!$F$13:$F$107,Trousers!$P$13:$P$107)","v":0},20240402,2414,{"$f":"_xlfn.XLOOKUP(B628,Trousers!$F$13:$F$107,Trousers!$Q$13:$Q$107)","v":0},20240501,2418,{"$f":"_xlfn.XLOOKUP(B628,Trousers!$F$13:$F$107,Trousers!$R$13:$R$107)","v":0},20240603,2423,{"$f":"_xlfn.XLOOKUP(B628,Trousers!$F$13:$F$107,Trousers!$S$13:$S$107)","v":0},{"$f":"_xlfn.XLOOKUP(B628,Trousers!$F$13:$F$107,Trousers!$L$13:$L$107)","v":49.58}]
["PPE ",529518960,20240103,2401,{"$f":"_xlfn.XLOOKUP(B629,Trousers!$F$13:$F$107,Trousers!$N$13:$N$107)","v":0},20240201,2405,{"$f":"_xlfn.XLOOKUP(B629,Trousers!$F$13:$F$107,Trousers!$O$13:$O$107)","v":0},20240301,2409,{"$f":"_xlfn.XLOOKUP(B629,Trousers!$F$13:$F$107,Trousers!$P$13:$P$107)","v":0},20240402,2414,{"$f":"_xlfn.XLOOKUP(B629,Trousers!$F$13:$F$107,Trousers!$Q$13:$Q$107)","v":0},20240501,2418,{"$f":"_xlfn.XLOOKUP(B629,Trousers!$F$13:$F$107,Trousers!$R$13:$R$107)","v":0},20240603,2423,{"$f":"_xlfn.XLOOKUP(B629,Trousers!$F$13:$F$107,Trousers!$S$13:$S$107)","v":0},{"$f":"_xlfn.XLOOKUP(B629,Trousers!$F$13:$F$107,Trousers!$L$13:$L$107)","v":49.58}]
["PPE ",529518958,20240103,2401,{"$f":"_xlfn.XLOOKUP(B630,Trousers!$F$13:$F$107,Trousers!$N$13:$N$107)","v":0},20240201,2405,{"$f":"_xlfn.XLOOKUP(B630,Trousers!$F$13:$F$107,Trousers!$O$13:$O$107)","v":0},20240301,2409,{"$f":"_xlfn.XLOOKUP(B630,Trousers!$F$13:$F$107,Trousers!$P$13:$P$107)","v":0},20240402,2414,{"$f":"_xlfn.XLOOKUP(B630,Trousers!$F$13:$F$107,Trousers!$Q$13:$Q$107)","v":0},20240501,2418,{"$f":"_xlfn.XLOOKUP(B630,Trousers!$F$13:$F$107,Trousers!$R$13:$R$107)","v":0},20240603,2423,{"$f":"_xlfn.XLOOKUP(B630,Trousers!$F$13:$F$107,Trousers!$S$13:$S$107)","v":0},{"$f":"_xlfn.XLOOKUP(B630,Trousers!$F$13:$F$107,Trousers!$L$13:$L$107)","v":49.58}]
["PPE ",529518956,20240103,2401,{"$f":"_xlfn.XLOOKUP(B631,Trousers!$F$13:$F$107,Trousers!$N$13:$N$107)","v":0},20240201,2405,{"$f":"_xlfn.XLOOKUP(B631,Trousers!$F$13:$F$107,Trousers!$O$13:$O$107)","v":0},20240301,2409,{"$f":"_xlfn.XLOOKUP(B631,Trousers!$F$13:$F$107,Trousers!$P$13:$P$107)","v":0},20240402,2414,{"$f":"_xlfn.XLOOKUP(B631,Trousers!$F$13:$F$107,Trousers!$Q$13:$Q$107)","v":0},20240501,2418,{"$f":"_xlfn.XLOOKUP(B631,Trousers!$F$13:$F$107,Trousers!$R$13:$R$107)","v":0},20240603,2423,{"$f":"_xlfn.XLOOKUP(B631,Trousers!$F$13:$F$107,Trousers!$S$13:$S$107)","v":0},{"$f":"_xlfn.XLOOKUP(B631,Trousers!$F$13:$F$107,Trousers!$L$13:$L$107)","v":49.58}]
["PPE ",529518954,20240103,2401,{"$f":"_xlfn.XLOOKUP(B632,Trousers!$F$13:$F$107,Trousers!$N$13:$N$107)","v":0},20240201,2405,{"$f":"_xlfn.XLOOKUP(B632,Trousers!$F$13:$F$107,Trousers!$O$13:$O$107)","v":0},20240301,2409,{"$f":"_xlfn.XLOOKUP(B632,Trousers!$F$13:$F$107,Trousers!$P$13:$P$107)","v":0},20240402,2414,{"$f":"_xlfn.XLOOKUP(B632,Trousers!$F$13:$F$107,Trousers!$Q$13:$Q$107)","v":0},20240501,2418,{"$f":"_xlfn.XLOOKUP(B632,Trousers!$F$13:$F$107,Trousers!$R$13:$R$107)","v":0},20240603,2423,{"$f":"_xlfn.XLOOKUP(B632,Trousers!$F$13:$F$107,Trousers!$S$13:$S$107)","v":0},{"$f":"_xlfn.XLOOKUP(B632,Trousers!$F$13:$F$107,Trousers!$L$13:$L$107)","v":49.58}]
["PPE ",529518952,20240103,2401,{"$f":"_xlfn.XLOOKUP(B633,Trousers!$F$13:$F$107,Trousers!$N$13:$N$107)","v":4},20240201,2405,{"$f":"_xlfn.XLOOKUP(B633,Trousers!$F$13:$F$107,Trousers!$O$13:$O$107)","v":0},20240301,2409,{"$f":"_xlfn.XLOOKUP(B633,Trousers!$F$13:$F$107,Trousers!$P$13:$P$107)","v":4},20240402,2414,{"$f":"_xlfn.XLOOKUP(B633,Trousers!$F$13:$F$107,Trousers!$Q$13:$Q$107)","v":0},20240501,2418,{"$f":"_xlfn.XLOOKUP(B633,Trousers!$F$13:$F$107,Trousers!$R$13:$R$107)","v":4},20240603,2423,{"$f":"_xlfn.XLOOKUP(B633,Trousers!$F$13:$F$107,Trousers!$S$13:$S$107)","v":0},{"$f":"_xlfn.XLOOKUP(B633,Trousers!$F$13:$F$107,Trousers!$L$13:$L$107)","v":49.58}]
["PPE ",529518950,20240103,2401,{"$f":"_xlfn.XLOOKUP(B634,Trousers!$F$13:$F$107,Trousers!$N$13:$N$107)","v":4},20240201,2405,{"$f":"_xlfn.XLOOKUP(B634,Trousers!$F$13:$F$107,Trousers!$O$13:$O$107)","v":0},20240301,2409,{"$f":"_xlfn.XLOOKUP(B634,Trousers!$F$13:$F$107,Trousers!$P$13:$P$107)","v":4},20240402,2414,{"$f":"_xlfn.XLOOKUP(B634,Trousers!$F$13:$F$107,Trousers!$Q$13:$Q$107)","v":0},20240501,2418,{"$f":"_xlfn.XLOOKUP(B634,Trousers!$F$13:$F$107,Trousers!$R$13:$R$107)","v":4},20240603,2423,{"$f":"_xlfn.XLOOKUP(B634,Trousers!$F$13:$F$107,Trousers!$S$13:$S$107)","v":0},{"$f":"_xlfn.XLOOKUP(B634,Trousers!$F$13:$F$107,Trousers!$L$13:$L$107)","v":49.58}]
["PPE ",529518948,20240103,2401,{"$f":"_xlfn.XLOOKUP(B635,Trousers!$F$13:$F$107,Trousers!$N$13:$N$107)","v":4},20240201,2405,{"$f":"_xlfn.XLOOKUP(B635,Trousers!$F$13:$F$107,Trousers!$O$13:$O$107)","v":0},20240301,2409,{"$f":"_xlfn.XLOOKUP(B635,Trousers!$F$13:$F$107,Trousers!$P$13:$P$107)","v":4},20240402,2414,{"$f":"_xlfn.XLOOKUP(B635,Trousers!$F$13:$F$107,Trousers!$Q$13:$Q$107)","v":0},20240501,2418,{"$f":"_xlfn.XLOOKUP(B635,Trousers!$F$13:$F$107,Trousers!$R$13:$R$107)","v":4},20240603,2423,{"$f":"_xlfn.XLOOKUP(B635,Trousers!$F$13:$F$107,Trousers!$S$13:$S$107)","v":0},{"$f":"_xlfn.XLOOKUP(B635,Trousers!$F$13:$F$107,Trousers!$L$13:$L$107)","v":49.58}]
["PPE ",529518946,20240103,2401,{"$f":"_xlfn.XLOOKUP(B636,Trousers!$F$13:$F$107,Trousers!$N$13:$N$107)","v":4},20240201,2405,{"$f":"_xlfn.XLOOKUP(B636,Trousers!$F$13:$F$107,Trousers!$O$13:$O$107)","v":0},20240301,2409,{"$f":"_xlfn.XLOOKUP(B636,Trousers!$F$13:$F$107,Trousers!$P$13:$P$107)","v":0},20240402,2414,{"$f":"_xlfn.XLOOKUP(B636,Trousers!$F$13:$F$107,Trousers!$Q$13:$Q$107)","v":4},20240501,2418,{"$f":"_xlfn.XLOOKUP(B636,Trousers!$F$13:$F$107,Trousers!$R$13:$R$107)","v":0},20240603,2423,{"$f":"_xlfn.XLOOKUP(B636,Trousers!$F$13:$F$107,Trousers!$S$13:$S$107)","v":0},{"$f":"_xlfn.XLOOKUP(B636,Trousers!$F$13:$F$107,Trousers!$L$13:$L$107)","v":49.58}]
["PPE ",529518944,20240103,2401,{"$f":"_xlfn.XLOOKUP(B637,Trousers!$F$13:$F$107,Trousers!$N$13:$N$107)","v":0},20240201,2405,{"$f":"_xlfn.XLOOKUP(B637,Trousers!$F$13:$F$107,Trousers!$O$13:$O$107)","v":0},20240301,2409,{"$f":"_xlfn.XLOOKUP(B637,Trousers!$F$13:$F$107,Trousers!$P$13:$P$107)","v":0},20240402,2414,{"$f":"_xlfn.XLOOKUP(B637,Trousers!$F$13:$F$107,Trousers!$Q$13:$Q$107)","v":0},20240501,2418,{"$f":"_xlfn.XLOOKUP(B637,Trousers!$F$13:$F$107,Trousers!$R$13:$R$107)","v":0},20240603,2423,{"$f":"_xlfn.XLOOKUP(B637,Trousers!$F$13:$F$107,Trousers!$S$13:$S$107)","v":0},{"$f":"_xlfn.XLOOKUP(B637,Trousers!$F$13:$F$107,Trousers!$L$13:$L$107)","v":49.58}]
["PPE ",529518862,20240103,2401,{"$f":"_xlfn.XLOOKUP(B638,Trousers!$F$13:$F$107,Trousers!$N$13:$N$107)","v":0},20240201,2405,{"$f":"_xlfn.XLOOKUP(B638,Trousers!$F$13:$F$107,Trousers!$O$13:$O$107)","v":0},20240301,2409,{"$f":"_xlfn.XLOOKUP(B638,Trousers!$F$13:$F$107,Trousers!$P$13:$P$107)","v":0},20240402,2414,{"$f":"_xlfn.XLOOKUP(B638,Trousers!$F$13:$F$107,Trousers!$Q$13:$Q$107)","v":0},20240501,2418,{"$f":"_xlfn.XLOOKUP(B638,Trousers!$F$13:$F$107,Trousers!$R$13:$R$107)","v":0},20240603,2423,{"$f":"_xlfn.XLOOKUP(B638,Trousers!$F$13:$F$107,Trousers!$S$13:$S$107)","v":0},{"$f":"_xlfn.XLOOKUP(B638,Trousers!$F$13:$F$107,Trousers!$L$13:$L$107)","v":99.584999999999994}]
["PPE ",529518858,20240103,2401,{"$f":"_xlfn.XLOOKUP(B639,Trousers!$F$13:$F$107,Trousers!$N$13:$N$107)","v":0},20240201,2405,{"$f":"_xlfn.XLOOKUP(B639,Trousers!$F$13:$F$107,Trousers!$O$13:$O$107)","v":0},20240301,2409,{"$f":"_xlfn.XLOOKUP(B639,Trousers!$F$13:$F$107,Trousers!$P$13:$P$107)","v":0},20240402,2414,{"$f":"_xlfn.XLOOKUP(B639,Trousers!$F$13:$F$107,Trousers!$Q$13:$Q$107)","v":0},20240501,2418,{"$f":"_xlfn.XLOOKUP(B639,Trousers!$F$13:$F$107,Trousers!$R$13:$R$107)","v":0},20240603,2423,{"$f":"_xlfn.XLOOKUP(B639,Trousers!$F$13:$F$107,Trousers!$S$13:$S$107)","v":0},{"$f":"_xlfn.XLOOKUP(B639,Trousers!$F$13:$F$107,Trousers!$L$13:$L$107)","v":99.584999999999994}]
["PPE ",529518854,20240103,2401,{"$f":"_xlfn.XLOOKUP(B640,Trousers!$F$13:$F$107,Trousers!$N$13:$N$107)","v":0},20240201,2405,{"$f":"_xlfn.XLOOKUP(B640,Trousers!$F$13:$F$107,Trousers!$O$13:$O$107)","v":0},20240301,2409,{"$f":"_xlfn.XLOOKUP(B640,Trousers!$F$13:$F$107,Trousers!$P$13:$P$107)","v":0},20240402,2414,{"$f":"_xlfn.XLOOKUP(B640,Trousers!$F$13:$F$107,Trousers!$Q$13:$Q$107)","v":0},20240501,2418,{"$f":"_xlfn.XLOOKUP(B640,Trousers!$F$13:$F$107,Trousers!$R$13:$R$107)","v":0},20240603,2423,{"$f":"_xlfn.XLOOKUP(B640,Trousers!$F$13:$F$107,Trousers!$S$13:$S$107)","v":0},{"$f":"_xlfn.XLOOKUP(B640,Trousers!$F$13:$F$107,Trousers!$L$13:$L$107)","v":99.584999999999994}]
["PPE ",529518850,20240103,2401,{"$f":"_xlfn.XLOOKUP(B641,Trousers!$F$13:$F$107,Trousers!$N$13:$N$107)","v":0},20240201,2405,{"$f":"_xlfn.XLOOKUP(B641,Trousers!$F$13:$F$107,Trousers!$O$13:$O$107)","v":0},20240301,2409,{"$f":"_xlfn.XLOOKUP(B641,Trousers!$F$13:$F$107,Trousers!$P$13:$P$107)","v":0},20240402,2414,{"$f":"_xlfn.XLOOKUP(B641,Trousers!$F$13:$F$107,Trousers!$Q$13:$Q$107)","v":0},20240501,2418,{"$f":"_xlfn.XLOOKUP(B641,Trousers!$F$13:$F$107,Trousers!$R$13:$R$107)","v":0},20240603,2423,{"$f":"_xlfn.XLOOKUP(B641,Trousers!$F$13:$F$107,Trousers!$S$13:$S$107)","v":0},{"$f":"_xlfn.XLOOKUP(B641,Trousers!$F$13:$F$107,Trousers!$L$13:$L$107)","v":99.584999999999994}]
["PPE ",529518846,20240103,2401,{"$f":"_xlfn.XLOOKUP(B642,Trousers!$F$13:$F$107,Trousers!$N$13:$N$107)","v":0},20240201,2405,{"$f":"_xlfn.XLOOKUP(B642,Trousers!$F$13:$F$107,Trousers!$O$13:$O$107)","v":0},20240301,2409,{"$f":"_xlfn.XLOOKUP(B642,Trousers!$F$13:$F$107,Trousers!$P$13:$P$107)","v":0},20240402,2414,{"$f":"_xlfn.XLOOKUP(B642,Trousers!$F$13:$F$107,Trousers!$Q$13:$Q$107)","v":0},20240501,2418,{"$f":"_xlfn.XLOOKUP(B642,Trousers!$F$13:$F$107,Trousers!$R$13:$R$107)","v":0},20240603,2423,{"$f":"_xlfn.XLOOKUP(B642,Trousers!$F$13:$F$107,Trousers!$S$13:$S$107)","v":0},{"$f":"_xlfn.XLOOKUP(B642,Trousers!$F$13:$F$107,Trousers!$L$13:$L$107)","v":99.584999999999994}]
["PPE ",529518662,20240103,2401,{"$f":"_xlfn.XLOOKUP(B643,Trousers!$F$13:$F$107,Trousers!$N$13:$N$107)","v":0},20240201,2405,{"$f":"_xlfn.XLOOKUP(B643,Trousers!$F$13:$F$107,Trousers!$O$13:$O$107)","v":0},20240301,2409,{"$f":"_xlfn.XLOOKUP(B643,Trousers!$F$13:$F$107,Trousers!$P$13:$P$107)","v":0},20240402,2414,{"$f":"_xlfn.XLOOKUP(B643,Trousers!$F$13:$F$107,Trousers!$Q$13:$Q$107)","v":0},20240501,2418,{"$f":"_xlfn.XLOOKUP(B643,Trousers!$F$13:$F$107,Trousers!$R$13:$R$107)","v":0},20240603,2423,{"$f":"_xlfn.XLOOKUP(B643,Trousers!$F$13:$F$107,Trousers!$S$13:$S$107)","v":0},{"$f":"_xlfn.XLOOKUP(B643,Trousers!$F$13:$F$107,Trousers!$L$13:$L$107)","v":87.084999999999994}]
["PPE ",529518660,20240103,2401,{"$f":"_xlfn.XLOOKUP(B644,Trousers!$F$13:$F$107,Trousers!$N$13:$N$107)","v":0},20240201,2405,{"$f":"_xlfn.XLOOKUP(B644,Trousers!$F$13:$F$107,Trousers!$O$13:$O$107)","v":0},20240301,2409,{"$f":"_xlfn.XLOOKUP(B644,Trousers!$F$13:$F$107,Trousers!$P$13:$P$107)","v":0},20240402,2414,{"$f":"_xlfn.XLOOKUP(B644,Trousers!$F$13:$F$107,Trousers!$Q$13:$Q$107)","v":0},20240501,2418,{"$f":"_xlfn.XLOOKUP(B644,Trousers!$F$13:$F$107,Trousers!$R$13:$R$107)","v":0},20240603,2423,{"$f":"_xlfn.XLOOKUP(B644,Trousers!$F$13:$F$107,Trousers!$S$13:$S$107)","v":0},{"$f":"_xlfn.XLOOKUP(B644,Trousers!$F$13:$F$107,Trousers!$L$13:$L$107)","v":87.084999999999994}]
["PPE ",529518658,20240103,2401,{"$f":"_xlfn.XLOOKUP(B645,Trousers!$F$13:$F$107,Trousers!$N$13:$N$107)","v":0},20240201,2405,{"$f":"_xlfn.XLOOKUP(B645,Trousers!$F$13:$F$107,Trousers!$O$13:$O$107)","v":0},20240301,2409,{"$f":"_xlfn.XLOOKUP(B645,Trousers!$F$13:$F$107,Trousers!$P$13:$P$107)","v":0},20240402,2414,{"$f":"_xlfn.XLOOKUP(B645,Trousers!$F$13:$F$107,Trousers!$Q$13:$Q$107)","v":0},20240501,2418,{"$f":"_xlfn.XLOOKUP(B645,Trousers!$F$13:$F$107,Trousers!$R$13:$R$107)","v":0},20240603,2423,{"$f":"_xlfn.XLOOKUP(B645,Trousers!$F$13:$F$107,Trousers!$S$13:$S$107)","v":0},{"$f":"_xlfn.XLOOKUP(B645,Trousers!$F$13:$F$107,Trousers!$L$13:$L$107)","v":87.084999999999994}]
["PPE ",529518656,20240103,2401,{"$f":"_xlfn.XLOOKUP(B646,Trousers!$F$13:$F$107,Trousers!$N$13:$N$107)","v":0},20240201,2405,{"$f":"_xlfn.XLOOKUP(B646,Trousers!$F$13:$F$107,Trousers!$O$13:$O$107)","v":0},20240301,2409,{"$f":"_xlfn.XLOOKUP(B646,Trousers!$F$13:$F$107,Trousers!$P$13:$P$107)","v":0},20240402,2414,{"$f":"_xlfn.XLOOKUP(B646,Trousers!$F$13:$F$107,Trousers!$Q$13:$Q$107)","v":0},20240501,2418,{"$f":"_xlfn.XLOOKUP(B646,Trousers!$F$13:$F$107,Trousers!$R$13:$R$107)","v":0},20240603,2423,{"$f":"_xlfn.XLOOKUP(B646,Trousers!$F$13:$F$107,Trousers!$S$13:$S$107)","v":0},{"$f":"_xlfn.XLOOKUP(B646,Trousers!$F$13:$F$107,Trousers!$L$13:$L$107)","v":87.084999999999994}]
["PPE ",529518654,20240103,2401,{"$f":"_xlfn.XLOOKUP(B647,Trousers!$F$13:$F$107,Trousers!$N$13:$N$107)","v":0},20240201,2405,{"$f":"_xlfn.XLOOKUP(B647,Trousers!$F$13:$F$107,Trousers!$O$13:$O$107)","v":0},20240301,2409,{"$f":"_xlfn.XLOOKUP(B647,Trousers!$F$13:$F$107,Trousers!$P$13:$P$107)","v":0},20240402,2414,{"$f":"_xlfn.XLOOKUP(B647,Trousers!$F$13:$F$107,Trousers!$Q$13:$Q$107)","v":0},20240501,2418,{"$f":"_xlfn.XLOOKUP(B647,Trousers!$F$13:$F$107,Trousers!$R$13:$R$107)","v":0},20240603,2423,{"$f":"_xlfn.XLOOKUP(B647,Trousers!$F$13:$F$107,Trousers!$S$13:$S$107)","v":0},{"$f":"_xlfn.XLOOKUP(B647,Trousers!$F$13:$F$107,Trousers!$L$13:$L$107)","v":87.084999999999994}]
["PPE ",529518652,20240103,2401,{"$f":"_xlfn.XLOOKUP(B648,Trousers!$F$13:$F$107,Trousers!$N$13:$N$107)","v":0},20240201,2405,{"$f":"_xlfn.XLOOKUP(B648,Trousers!$F$13:$F$107,Trousers!$O$13:$O$107)","v":0},20240301,2409,{"$f":"_xlfn.XLOOKUP(B648,Trousers!$F$13:$F$107,Trousers!$P$13:$P$107)","v":0},20240402,2414,{"$f":"_xlfn.XLOOKUP(B648,Trousers!$F$13:$F$107,Trousers!$Q$13:$Q$107)","v":0},20240501,2418,{"$f":"_xlfn.XLOOKUP(B648,Trousers!$F$13:$F$107,Trousers!$R$13:$R$107)","v":0},20240603,2423,{"$f":"_xlfn.XLOOKUP(B648,Trousers!$F$13:$F$107,Trousers!$S$13:$S$107)","v":0},{"$f":"_xlfn.XLOOKUP(B648,Trousers!$F$13:$F$107,Trousers!$L$13:$L$107)","v":87.084999999999994}]
["PPE ",529518650,20240103,2401,{"$f":"_xlfn.XLOOKUP(B649,Trousers!$F$13:$F$107,Trousers!$N$13:$N$107)","v":0},20240201,2405,{"$f":"_xlfn.XLOOKUP(B649,Trousers!$F$13:$F$107,Trousers!$O$13:$O$107)","v":0},20240301,2409,{"$f":"_xlfn.XLOOKUP(B649,Trousers!$F$13:$F$107,Trousers!$P$13:$P$107)","v":0},20240402,2414,{"$f":"_xlfn.XLOOKUP(B649,Trousers!$F$13:$F$107,Trousers!$Q$13:$Q$107)","v":0},20240501,2418,{"$f":"_xlfn.XLOOKUP(B649,Trousers!$F$13:$F$107,Trousers!$R$13:$R$107)","v":0},20240603,2423,{"$f":"_xlfn.XLOOKUP(B649,Trousers!$F$13:$F$107,Trousers!$S$13:$S$107)","v":0},{"$f":"_xlfn.XLOOKUP(B649,Trousers!$F$13:$F$107,Trousers!$L$13:$L$107)","v":87.084999999999994}]
["PPE ",529518648,20240103,2401,{"$f":"_xlfn.XLOOKUP(B650,Trousers!$F$13:$F$107,Trousers!$N$13:$N$107)","v":0},20240201,2405,{"$f":"_xlfn.XLOOKUP(B650,Trousers!$F$13:$F$107,Trousers!$O$13:$O$107)","v":0},20240301,2409,{"$f":"_xlfn.XLOOKUP(B650,Trousers!$F$13:$F$107,Trousers!$P$13:$P$107)","v":0},20240402,2414,{"$f":"_xlfn.XLOOKUP(B650,Trousers!$F$13:$F$107,Trousers!$Q$13:$Q$107)","v":0},20240501,2418,{"$f":"_xlfn.XLOOKUP(B650,Trousers!$F$13:$F$107,Trousers!$R$13:$R$107)","v":0},20240603,2423,{"$f":"_xlfn.XLOOKUP(B650,Trousers!$F$13:$F$107,Trousers!$S$13:$S$107)","v":0},{"$f":"_xlfn.XLOOKUP(B650,Trousers!$F$13:$F$107,Trousers!$L$13:$L$107)","v":87.084999999999994}]
["PPE ",529518646,20240103,2401,{"$f":"_xlfn.XLOOKUP(B651,Trousers!$F$13:$F$107,Trousers!$N$13:$N$107)","v":0},20240201,2405,{"$f":"_xlfn.XLOOKUP(B651,Trousers!$F$13:$F$107,Trousers!$O$13:$O$107)","v":0},20240301,2409,{"$f":"_xlfn.XLOOKUP(B651,Trousers!$F$13:$F$107,Trousers!$P$13:$P$107)","v":0},20240402,2414,{"$f":"_xlfn.XLOOKUP(B651,Trousers!$F$13:$F$107,Trousers!$Q$13:$Q$107)","v":0},20240501,2418,{"$f":"_xlfn.XLOOKUP(B651,Trousers!$F$13:$F$107,Trousers!$R$13:$R$107)","v":0},20240603,2423,{"$f":"_xlfn.XLOOKUP(B651,Trousers!$F$13:$F$107,Trousers!$S$13:$S$107)","v":0},{"$f":"_xlfn.XLOOKUP(B651,Trousers!$F$13:$F$107,Trousers!$L$13:$L$107)","v":87.084999999999994}]
["PPE ",529518562,20240103,2401,{"$f":"_xlfn.XLOOKUP(B652,Trousers!$F$13:$F$107,Trousers!$N$13:$N$107)","v":0},20240201,2405,{"$f":"_xlfn.XLOOKUP(B652,Trousers!$F$13:$F$107,Trousers!$O$13:$O$107)","v":0},20240301,2409,{"$f":"_xlfn.XLOOKUP(B652,Trousers!$F$13:$F$107,Trousers!$P$13:$P$107)","v":0},20240402,2414,{"$f":"_xlfn.XLOOKUP(B652,Trousers!$F$13:$F$107,Trousers!$Q$13:$Q$107)","v":0},20240501,2418,{"$f":"_xlfn.XLOOKUP(B652,Trousers!$F$13:$F$107,Trousers!$R$13:$R$107)","v":0},20240603,2423,{"$f":"_xlfn.XLOOKUP(B652,Trousers!$F$13:$F$107,Trousers!$S$13:$S$107)","v":0},{"$f":"_xlfn.XLOOKUP(B652,Trousers!$F$13:$F$107,Trousers!$L$13:$L$107)","v":78.33}]
["PPE ",529518560,20240103,2401,{"$f":"_xlfn.XLOOKUP(B653,Trousers!$F$13:$F$107,Trousers!$N$13:$N$107)","v":0},20240201,2405,{"$f":"_xlfn.XLOOKUP(B653,Trousers!$F$13:$F$107,Trousers!$O$13:$O$107)","v":0},20240301,2409,{"$f":"_xlfn.XLOOKUP(B653,Trousers!$F$13:$F$107,Trousers!$P$13:$P$107)","v":0},20240402,2414,{"$f":"_xlfn.XLOOKUP(B653,Trousers!$F$13:$F$107,Trousers!$Q$13:$Q$107)","v":0},20240501,2418,{"$f":"_xlfn.XLOOKUP(B653,Trousers!$F$13:$F$107,Trousers!$R$13:$R$107)","v":0},20240603,2423,{"$f":"_xlfn.XLOOKUP(B653,Trousers!$F$13:$F$107,Trousers!$S$13:$S$107)","v":0},{"$f":"_xlfn.XLOOKUP(B653,Trousers!$F$13:$F$107,Trousers!$L$13:$L$107)","v":78.33}]
["PPE ",529518558,20240103,2401,{"$f":"_xlfn.XLOOKUP(B654,Trousers!$F$13:$F$107,Trousers!$N$13:$N$107)","v":0},20240201,2405,{"$f":"_xlfn.XLOOKUP(B654,Trousers!$F$13:$F$107,Trousers!$O$13:$O$107)","v":0},20240301,2409,{"$f":"_xlfn.XLOOKUP(B654,Trousers!$F$13:$F$107,Trousers!$P$13:$P$107)","v":0},20240402,2414,{"$f":"_xlfn.XLOOKUP(B654,Trousers!$F$13:$F$107,Trousers!$Q$13:$Q$107)","v":0},20240501,2418,{"$f":"_xlfn.XLOOKUP(B654,Trousers!$F$13:$F$107,Trousers!$R$13:$R$107)","v":0},20240603,2423,{"$f":"_xlfn.XLOOKUP(B654,Trousers!$F$13:$F$107,Trousers!$S$13:$S$107)","v":0},{"$f":"_xlfn.XLOOKUP(B654,Trousers!$F$13:$F$107,Trousers!$L$13:$L$107)","v":78.33}]
["PPE ",529518556,20240103,2401,{"$f":"_xlfn.XLOOKUP(B655,Trousers!$F$13:$F$107,Trousers!$N$13:$N$107)","v":0},20240201,2405,{"$f":"_xlfn.XLOOKUP(B655,Trousers!$F$13:$F$107,Trousers!$O$13:$O$107)","v":0},20240301,2409,{"$f":"_xlfn.XLOOKUP(B655,Trousers!$F$13:$F$107,Trousers!$P$13:$P$107)","v":0},20240402,2414,{"$f":"_xlfn.XLOOKUP(B655,Trousers!$F$13:$F$107,Trousers!$Q$13:$Q$107)","v":0},20240501,2418,{"$f":"_xlfn.XLOOKUP(B655,Trousers!$F$13:$F$107,Trousers!$R$13:$R$107)","v":0},20240603,2423,{"$f":"_xlfn.XLOOKUP(B655,Trousers!$F$13:$F$107,Trousers!$S$13:$S$107)","v":0},{"$f":"_xlfn.XLOOKUP(B655,Trousers!$F$13:$F$107,Trousers!$L$13:$L$107)","v":78.33}]
["PPE ",529518554,20240103,2401,{"$f":"_xlfn.XLOOKUP(B656,Trousers!$F$13:$F$107,Trousers!$N$13:$N$107)","v":0},20240201,2405,{"$f":"_xlfn.XLOOKUP(B656,Trousers!$F$13:$F$107,Trousers!$O$13:$O$107)","v":0},20240301,2409,{"$f":"_xlfn.XLOOKUP(B656,Trousers!$F$13:$F$107,Trousers!$P$13:$P$107)","v":0},20240402,2414,{"$f":"_xlfn.XLOOKUP(B656,Trousers!$F$13:$F$107,Trousers!$Q$13:$Q$107)","v":0},20240501,2418,{"$f":"_xlfn.XLOOKUP(B656,Trousers!$F$13:$F$107,Trousers!$R$13:$R$107)","v":0},20240603,2423,{"$f":"_xlfn.XLOOKUP(B656,Trousers!$F$13:$F$107,Trousers!$S$13:$S$107)","v":0},{"$f":"_xlfn.XLOOKUP(B656,Trousers!$F$13:$F$107,Trousers!$L$13:$L$107)","v":78.33}]
["PPE ",529518552,20240103,2401,{"$f":"_xlfn.XLOOKUP(B657,Trousers!$F$13:$F$107,Trousers!$N$13:$N$107)","v":0},20240201,2405,{"$f":"_xlfn.XLOOKUP(B657,Trousers!$F$13:$F$107,Trousers!$O$13:$O$107)","v":0},20240301,2409,{"$f":"_xlfn.XLOOKUP(B657,Trousers!$F$13:$F$107,Trousers!$P$13:$P$107)","v":0},20240402,2414,{"$f":"_xlfn.XLOOKUP(B657,Trousers!$F$13:$F$107,Trousers!$Q$13:$Q$107)","v":0},20240501,2418,{"$f":"_xlfn.XLOOKUP(B657,Trousers!$F$13:$F$107,Trousers!$R$13:$R$107)","v":0},20240603,2423,{"$f":"_xlfn.XLOOKUP(B657,Trousers!$F$13:$F$107,Trousers!$S$13:$S$107)","v":0},{"$f":"_xlfn.XLOOKUP(B657,Trousers!$F$13:$F$107,Trousers!$L$13:$L$107)","v":78.33}]
["PPE ",529518550,20240103,2401,{"$f":"_xlfn.XLOOKUP(B658,Trousers!$F$13:$F$107,Trousers!$N$13:$N$107)","v":0},20240201,2405,{"$f":"_xlfn.XLOOKUP(B658,Trousers!$F$13:$F$107,Trousers!$O$13:$O$107)","v":0},20240301,2409,{"$f":"_xlfn.XLOOKUP(B658,Trousers!$F$13:$F$107,Trousers!$P$13:$P$107)","v":0},20240402,2414,{"$f":"_xlfn.XLOOKUP(B658,Trousers!$F$13:$F$107,Trousers!$Q$13:$Q$107)","v":0},20240501,2418,{"$f":"_xlfn.XLOOKUP(B658,Trousers!$F$13:$F$107,Trousers!$R$13:$R$107)","v":0},20240603,2423,{"$f":"_xlfn.XLOOKUP(B658,Trousers!$F$13:$F$107,Trousers!$S$13:$S$107)","v":0},{"$f":"_xlfn.XLOOKUP(B658,Trousers!$F$13:$F$107,Trousers!$L$13:$L$107)","v":78.33}]
["PPE ",529518548,20240103,2401,{"$f":"_xlfn.XLOOKUP(B659,Trousers!$F$13:$F$107,Trousers!$N$13:$N$107)","v":0},20240201,2405,{"$f":"_xlfn.XLOOKUP(B659,Trousers!$F$13:$F$107,Trousers!$O$13:$O$107)","v":0},20240301,2409,{"$f":"_xlfn.XLOOKUP(B659,Trousers!$F$13:$F$107,Trousers!$P$13:$P$107)","v":0},20240402,2414,{"$f":"_xlfn.XLOOKUP(B659,Trousers!$F$13:$F$107,Trousers!$Q$13:$Q$107)","v":0},20240501,2418,{"$f":"_xlfn.XLOOKUP(B659,Trousers!$F$13:$F$107,Trousers!$R$13:$R$107)","v":0},20240603,2423,{"$f":"_xlfn.XLOOKUP(B659,Trousers!$F$13:$F$107,Trousers!$S$13:$S$107)","v":0},{"$f":"_xlfn.XLOOKUP(B659,Trousers!$F$13:$F$107,Trousers!$L$13:$L$107)","v":78.33}]
["PPE ",529518546,20240103,2401,{"$f":"_xlfn.XLOOKUP(B660,Trousers!$F$13:$F$107,Trousers!$N$13:$N$107)","v":0},20240201,2405,{"$f":"_xlfn.XLOOKUP(B660,Trousers!$F$13:$F$107,Trousers!$O$13:$O$107)","v":0},20240301,2409,{"$f":"_xlfn.XLOOKUP(B660,Trousers!$F$13:$F$107,Trousers!$P$13:$P$107)","v":0},20240402,2414,{"$f":"_xlfn.XLOOKUP(B660,Trousers!$F$13:$F$107,Trousers!$Q$13:$Q$107)","v":0},20240501,2418,{"$f":"_xlfn.XLOOKUP(B660,Trousers!$F$13:$F$107,Trousers!$R$13:$R$107)","v":0},20240603,2423,{"$f":"_xlfn.XLOOKUP(B660,Trousers!$F$13:$F$107,Trousers!$S$13:$S$107)","v":0},{"$f":"_xlfn.XLOOKUP(B660,Trousers!$F$13:$F$107,Trousers!$L$13:$L$107)","v":78.33}]
["PPE ",529518162,20240103,2401,{"$f":"_xlfn.XLOOKUP(B661,Trousers!$F$13:$F$107,Trousers!$N$13:$N$107)","v":0},20240201,2405,{"$f":"_xlfn.XLOOKUP(B661,Trousers!$F$13:$F$107,Trousers!$O$13:$O$107)","v":0},20240301,2409,{"$f":"_xlfn.XLOOKUP(B661,Trousers!$F$13:$F$107,Trousers!$P$13:$P$107)","v":0},20240402,2414,{"$f":"_xlfn.XLOOKUP(B661,Trousers!$F$13:$F$107,Trousers!$Q$13:$Q$107)","v":0},20240501,2418,{"$f":"_xlfn.XLOOKUP(B661,Trousers!$F$13:$F$107,Trousers!$R$13:$R$107)","v":0},20240603,2423,{"$f":"_xlfn.XLOOKUP(B661,Trousers!$F$13:$F$107,Trousers!$S$13:$S$107)","v":0},{"$f":"_xlfn.XLOOKUP(B661,Trousers!$F$13:$F$107,Trousers!$L$13:$L$107)","v":153.75}]
["PPE ",529518158,20240103,2401,{"$f":"_xlfn.XLOOKUP(B662,Trousers!$F$13:$F$107,Trousers!$N$13:$N$107)","v":0},20240201,2405,{"$f":"_xlfn.XLOOKUP(B662,Trousers!$F$13:$F$107,Trousers!$O$13:$O$107)","v":1},20240301,2409,{"$f":"_xlfn.XLOOKUP(B662,Trousers!$F$13:$F$107,Trousers!$P$13:$P$107)","v":0},20240402,2414,{"$f":"_xlfn.XLOOKUP(B662,Trousers!$F$13:$F$107,Trousers!$Q$13:$Q$107)","v":0},20240501,2418,{"$f":"_xlfn.XLOOKUP(B662,Trousers!$F$13:$F$107,Trousers!$R$13:$R$107)","v":0},20240603,2423,{"$f":"_xlfn.XLOOKUP(B662,Trousers!$F$13:$F$107,Trousers!$S$13:$S$107)","v":0},{"$f":"_xlfn.XLOOKUP(B662,Trousers!$F$13:$F$107,Trousers!$L$13:$L$107)","v":153.75}]
["PPE ",529518154,20240103,2401,{"$f":"_xlfn.XLOOKUP(B663,Trousers!$F$13:$F$107,Trousers!$N$13:$N$107)","v":0},20240201,2405,{"$f":"_xlfn.XLOOKUP(B663,Trousers!$F$13:$F$107,Trousers!$O$13:$O$107)","v":4},20240301,2409,{"$f":"_xlfn.XLOOKUP(B663,Trousers!$F$13:$F$107,Trousers!$P$13:$P$107)","v":0},20240402,2414,{"$f":"_xlfn.XLOOKUP(B663,Trousers!$F$13:$F$107,Trousers!$Q$13:$Q$107)","v":0},20240501,2418,{"$f":"_xlfn.XLOOKUP(B663,Trousers!$F$13:$F$107,Trousers!$R$13:$R$107)","v":0},20240603,2423,{"$f":"_xlfn.XLOOKUP(B663,Trousers!$F$13:$F$107,Trousers!$S$13:$S$107)","v":0},{"$f":"_xlfn.XLOOKUP(B663,Trousers!$F$13:$F$107,Trousers!$L$13:$L$107)","v":153.75}]
["PPE ",529518150,20240103,2401,{"$f":"_xlfn.XLOOKUP(B664,Trousers!$F$13:$F$107,Trousers!$N$13:$N$107)","v":4},20240201,2405,{"$f":"_xlfn.XLOOKUP(B664,Trousers!$F$13:$F$107,Trousers!$O$13:$O$107)","v":0},20240301,2409,{"$f":"_xlfn.XLOOKUP(B664,Trousers!$F$13:$F$107,Trousers!$P$13:$P$107)","v":4},20240402,2414,{"$f":"_xlfn.XLOOKUP(B664,Trousers!$F$13:$F$107,Trousers!$Q$13:$Q$107)","v":0},20240501,2418,{"$f":"_xlfn.XLOOKUP(B664,Trousers!$F$13:$F$107,Trousers!$R$13:$R$107)","v":0},20240603,2423,{"$f":"_xlfn.XLOOKUP(B664,Trousers!$F$13:$F$107,Trousers!$S$13:$S$107)","v":0},{"$f":"_xlfn.XLOOKUP(B664,Trousers!$F$13:$F$107,Trousers!$L$13:$L$107)","v":153.75}]
["PPE ",529518146,20240103,2401,{"$f":"_xlfn.XLOOKUP(B665,Trousers!$F$13:$F$107,Trousers!$N$13:$N$107)","v":4},20240201,2405,{"$f":"_xlfn.XLOOKUP(B665,Trousers!$F$13:$F$107,Trousers!$O$13:$O$107)","v":0},20240301,2409,{"$f":"_xlfn.XLOOKUP(B665,Trousers!$F$13:$F$107,Trousers!$P$13:$P$107)","v":4},20240402,2414,{"$f":"_xlfn.XLOOKUP(B665,Trousers!$F$13:$F$107,Trousers!$Q$13:$Q$107)","v":0},20240501,2418,{"$f":"_xlfn.XLOOKUP(B665,Trousers!$F$13:$F$107,Trousers!$R$13:$R$107)","v":0},20240603,2423,{"$f":"_xlfn.XLOOKUP(B665,Trousers!$F$13:$F$107,Trousers!$S$13:$S$107)","v":0},{"$f":"_xlfn.XLOOKUP(B665,Trousers!$F$13:$F$107,Trousers!$L$13:$L$107)","v":153.75}]
["PPE ",529516462,20240103,2401,{"$f":"_xlfn.XLOOKUP(B666,Trousers!$F$13:$F$107,Trousers!$N$13:$N$107)","v":0},20240201,2405,{"$f":"_xlfn.XLOOKUP(B666,Trousers!$F$13:$F$107,Trousers!$O$13:$O$107)","v":0},20240301,2409,{"$f":"_xlfn.XLOOKUP(B666,Trousers!$F$13:$F$107,Trousers!$P$13:$P$107)","v":0},20240402,2414,{"$f":"_xlfn.XLOOKUP(B666,Trousers!$F$13:$F$107,Trousers!$Q$13:$Q$107)","v":0},20240501,2418,{"$f":"_xlfn.XLOOKUP(B666,Trousers!$F$13:$F$107,Trousers!$R$13:$R$107)","v":0},20240603,2423,{"$f":"_xlfn.XLOOKUP(B666,Trousers!$F$13:$F$107,Trousers!$S$13:$S$107)","v":0},{"$f":"_xlfn.XLOOKUP(B666,Trousers!$F$13:$F$107,Trousers!$L$13:$L$107)","v":128.75}]
["PPE ",529516461,20240103,2401,{"$f":"_xlfn.XLOOKUP(B667,Trousers!$F$13:$F$107,Trousers!$N$13:$N$107)","v":0},20240201,2405,{"$f":"_xlfn.XLOOKUP(B667,Trousers!$F$13:$F$107,Trousers!$O$13:$O$107)","v":0},20240301,2409,{"$f":"_xlfn.XLOOKUP(B667,Trousers!$F$13:$F$107,Trousers!$P$13:$P$107)","v":0},20240402,2414,{"$f":"_xlfn.XLOOKUP(B667,Trousers!$F$13:$F$107,Trousers!$Q$13:$Q$107)","v":0},20240501,2418,{"$f":"_xlfn.XLOOKUP(B667,Trousers!$F$13:$F$107,Trousers!$R$13:$R$107)","v":0},20240603,2423,{"$f":"_xlfn.XLOOKUP(B667,Trousers!$F$13:$F$107,Trousers!$S$13:$S$107)","v":0},{"$f":"_xlfn.XLOOKUP(B667,Trousers!$F$13:$F$107,Trousers!$L$13:$L$107)","v":128.75}]
["PPE ",529516459,20240103,2401,{"$f":"_xlfn.XLOOKUP(B668,Trousers!$F$13:$F$107,Trousers!$N$13:$N$107)","v":0},20240201,2405,{"$f":"_xlfn.XLOOKUP(B668,Trousers!$F$13:$F$107,Trousers!$O$13:$O$107)","v":0},20240301,2409,{"$f":"_xlfn.XLOOKUP(B668,Trousers!$F$13:$F$107,Trousers!$P$13:$P$107)","v":0},20240402,2414,{"$f":"_xlfn.XLOOKUP(B668,Trousers!$F$13:$F$107,Trousers!$Q$13:$Q$107)","v":0},20240501,2418,{"$f":"_xlfn.XLOOKUP(B668,Trousers!$F$13:$F$107,Trousers!$R$13:$R$107)","v":0},20240603,2423,{"$f":"_xlfn.XLOOKUP(B668,Trousers!$F$13:$F$107,Trousers!$S$13:$S$107)","v":0},{"$f":"_xlfn.XLOOKUP(B668,Trousers!$F$13:$F$107,Trousers!$L$13:$L$107)","v":128.75}]
["PPE ",529516458,20240103,2401,{"$f":"_xlfn.XLOOKUP(B669,Trousers!$F$13:$F$107,Trousers!$N$13:$N$107)","v":0},20240201,2405,{"$f":"_xlfn.XLOOKUP(B669,Trousers!$F$13:$F$107,Trousers!$O$13:$O$107)","v":0},20240301,2409,{"$f":"_xlfn.XLOOKUP(B669,Trousers!$F$13:$F$107,Trousers!$P$13:$P$107)","v":0},20240402,2414,{"$f":"_xlfn.XLOOKUP(B669,Trousers!$F$13:$F$107,Trousers!$Q$13:$Q$107)","v":0},20240501,2418,{"$f":"_xlfn.XLOOKUP(B669,Trousers!$F$13:$F$107,Trousers!$R$13:$R$107)","v":0},20240603,2423,{"$f":"_xlfn.XLOOKUP(B669,Trousers!$F$13:$F$107,Trousers!$S$13:$S$107)","v":0},{"$f":"_xlfn.XLOOKUP(B669,Trousers!$F$13:$F$107,Trousers!$L$13:$L$107)","v":128.75}]
["PPE ",529516457,20240103,2401,{"$f":"_xlfn.XLOOKUP(B670,Trousers!$F$13:$F$107,Trousers!$N$13:$N$107)","v":0},20240201,2405,{"$f":"_xlfn.XLOOKUP(B670,Trousers!$F$13:$F$107,Trousers!$O$13:$O$107)","v":0},20240301,2409,{"$f":"_xlfn.XLOOKUP(B670,Trousers!$F$13:$F$107,Trousers!$P$13:$P$107)","v":0},20240402,2414,{"$f":"_xlfn.XLOOKUP(B670,Trousers!$F$13:$F$107,Trousers!$Q$13:$Q$107)","v":0},20240501,2418,{"$f":"_xlfn.XLOOKUP(B670,Trousers!$F$13:$F$107,Trousers!$R$13:$R$107)","v":0},20240603,2423,{"$f":"_xlfn.XLOOKUP(B670,Trousers!$F$13:$F$107,Trousers!$S$13:$S$107)","v":0},{"$f":"_xlfn.XLOOKUP(B670,Trousers!$F$13:$F$107,Trousers!$L$13:$L$107)","v":128.75}]
["PPE ",529516455,20240103,2401,{"$f":"_xlfn.XLOOKUP(B671,Trousers!$F$13:$F$107,Trousers!$N$13:$N$107)","v":0},20240201,2405,{"$f":"_xlfn.XLOOKUP(B671,Trousers!$F$13:$F$107,Trousers!$O$13:$O$107)","v":0},20240301,2409,{"$f":"_xlfn.XLOOKUP(B671,Trousers!$F$13:$F$107,Trousers!$P$13:$P$107)","v":0},20240402,2414,{"$f":"_xlfn.XLOOKUP(B671,Trousers!$F$13:$F$107,Trousers!$Q$13:$Q$107)","v":0},20240501,2418,{"$f":"_xlfn.XLOOKUP(B671,Trousers!$F$13:$F$107,Trousers!$R$13:$R$107)","v":0},20240603,2423,{"$f":"_xlfn.XLOOKUP(B671,Trousers!$F$13:$F$107,Trousers!$S$13:$S$107)","v":0},{"$f":"_xlfn.XLOOKUP(B671,Trousers!$F$13:$F$107,Trousers!$L$13:$L$107)","v":128.75}]
["PPE ",529516454,20240103,2401,{"$f":"_xlfn.XLOOKUP(B672,Trousers!$F$13:$F$107,Trousers!$N$13:$N$107)","v":0},20240201,2405,{"$f":"_xlfn.XLOOKUP(B672,Trousers!$F$13:$F$107,Trousers!$O$13:$O$107)","v":0},20240301,2409,{"$f":"_xlfn.XLOOKUP(B672,Trousers!$F$13:$F$107,Trousers!$P$13:$P$107)","v":0},20240402,2414,{"$f":"_xlfn.XLOOKUP(B672,Trousers!$F$13:$F$107,Trousers!$Q$13:$Q$107)","v":0},20240501,2418,{"$f":"_xlfn.XLOOKUP(B672,Trousers!$F$13:$F$107,Trousers!$R$13:$R$107)","v":0},20240603,2423,{"$f":"_xlfn.XLOOKUP(B672,Trousers!$F$13:$F$107,Trousers!$S$13:$S$107)","v":0},{"$f":"_xlfn.XLOOKUP(B672,Trousers!$F$13:$F$107,Trousers!$L$13:$L$107)","v":128.75}]
["PPE ",529516453,20240103,2401,{"$f":"_xlfn.XLOOKUP(B673,Trousers!$F$13:$F$107,Trousers!$N$13:$N$107)","v":0},20240201,2405,{"$f":"_xlfn.XLOOKUP(B673,Trousers!$F$13:$F$107,Trousers!$O$13:$O$107)","v":0},20240301,2409,{"$f":"_xlfn.XLOOKUP(B673,Trousers!$F$13:$F$107,Trousers!$P$13:$P$107)","v":0},20240402,2414,{"$f":"_xlfn.XLOOKUP(B673,Trousers!$F$13:$F$107,Trousers!$Q$13:$Q$107)","v":0},20240501,2418,{"$f":"_xlfn.XLOOKUP(B673,Trousers!$F$13:$F$107,Trousers!$R$13:$R$107)","v":0},20240603,2423,{"$f":"_xlfn.XLOOKUP(B673,Trousers!$F$13:$F$107,Trousers!$S$13:$S$107)","v":0},{"$f":"_xlfn.XLOOKUP(B673,Trousers!$F$13:$F$107,Trousers!$L$13:$L$107)","v":128.75}]
["PPE ",529516451,20240103,2401,{"$f":"_xlfn.XLOOKUP(B674,Trousers!$F$13:$F$107,Trousers!$N$13:$N$107)","v":0},20240201,2405,{"$f":"_xlfn.XLOOKUP(B674,Trousers!$F$13:$F$107,Trousers!$O$13:$O$107)","v":0},20240301,2409,{"$f":"_xlfn.XLOOKUP(B674,Trousers!$F$13:$F$107,Trousers!$P$13:$P$107)","v":0},20240402,2414,{"$f":"_xlfn.XLOOKUP(B674,Trousers!$F$13:$F$107,Trousers!$Q$13:$Q$107)","v":0},20240501,2418,{"$f":"_xlfn.XLOOKUP(B674,Trousers!$F$13:$F$107,Trousers!$R$13:$R$107)","v":0},20240603,2423,{"$f":"_xlfn.XLOOKUP(B674,Trousers!$F$13:$F$107,Trousers!$S$13:$S$107)","v":0},{"$f":"_xlfn.XLOOKUP(B674,Trousers!$F$13:$F$107,Trousers!$L$13:$L$107)","v":128.75}]
["PPE ",529516450,20240103,2401,{"$f":"_xlfn.XLOOKUP(B675,Trousers!$F$13:$F$107,Trousers!$N$13:$N$107)","v":0},20240201,2405,{"$f":"_xlfn.XLOOKUP(B675,Trousers!$F$13:$F$107,Trousers!$O$13:$O$107)","v":0},20240301,2409,{"$f":"_xlfn.XLOOKUP(B675,Trousers!$F$13:$F$107,Trousers!$P$13:$P$107)","v":0},20240402,2414,{"$f":"_xlfn.XLOOKUP(B675,Trousers!$F$13:$F$107,Trousers!$Q$13:$Q$107)","v":0},20240501,2418,{"$f":"_xlfn.XLOOKUP(B675,Trousers!$F$13:$F$107,Trousers!$R$13:$R$107)","v":0},20240603,2423,{"$f":"_xlfn.XLOOKUP(B675,Trousers!$F$13:$F$107,Trousers!$S$13:$S$107)","v":0},{"$f":"_xlfn.XLOOKUP(B675,Trousers!$F$13:$F$107,Trousers!$L$13:$L$107)","v":128.75}]
["PPE ",529516449,20240103,2401,{"$f":"_xlfn.XLOOKUP(B676,Trousers!$F$13:$F$107,Trousers!$N$13:$N$107)","v":0},20240201,2405,{"$f":"_xlfn.XLOOKUP(B676,Trousers!$F$13:$F$107,Trousers!$O$13:$O$107)","v":0},20240301,2409,{"$f":"_xlfn.XLOOKUP(B676,Trousers!$F$13:$F$107,Trousers!$P$13:$P$107)","v":0},20240402,2414,{"$f":"_xlfn.XLOOKUP(B676,Trousers!$F$13:$F$107,Trousers!$Q$13:$Q$107)","v":0},20240501,2418,{"$f":"_xlfn.XLOOKUP(B676,Trousers!$F$13:$F$107,Trousers!$R$13:$R$107)","v":0},20240603,2423,{"$f":"_xlfn.XLOOKUP(B676,Trousers!$F$13:$F$107,Trousers!$S$13:$S$107)","v":0},{"$f":"_xlfn.XLOOKUP(B676,Trousers!$F$13:$F$107,Trousers!$L$13:$L$107)","v":128.75}]
["PPE ",529516447,20240103,2401,{"$f":"_xlfn.XLOOKUP(B677,Trousers!$F$13:$F$107,Trousers!$N$13:$N$107)","v":0},20240201,2405,{"$f":"_xlfn.XLOOKUP(B677,Trousers!$F$13:$F$107,Trousers!$O$13:$O$107)","v":0},20240301,2409,{"$f":"_xlfn.XLOOKUP(B677,Trousers!$F$13:$F$107,Trousers!$P$13:$P$107)","v":0},20240402,2414,{"$f":"_xlfn.XLOOKUP(B677,Trousers!$F$13:$F$107,Trousers!$Q$13:$Q$107)","v":0},20240501,2418,{"$f":"_xlfn.XLOOKUP(B677,Trousers!$F$13:$F$107,Trousers!$R$13:$R$107)","v":0},20240603,2423,{"$f":"_xlfn.XLOOKUP(B677,Trousers!$F$13:$F$107,Trousers!$S$13:$S$107)","v":0},{"$f":"_xlfn.XLOOKUP(B677,Trousers!$F$13:$F$107,Trousers!$L$13:$L$107)","v":128.75}]
["PPE ",529516446,20240103,2401,{"$f":"_xlfn.XLOOKUP(B678,Trousers!$F$13:$F$107,Trousers!$N$13:$N$107)","v":0},20240201,2405,{"$f":"_xlfn.XLOOKUP(B678,Trousers!$F$13:$F$107,Trousers!$O$13:$O$107)","v":0},20240301,2409,{"$f":"_xlfn.XLOOKUP(B678,Trousers!$F$13:$F$107,Trousers!$P$13:$P$107)","v":0},20240402,2414,{"$f":"_xlfn.XLOOKUP(B678,Trousers!$F$13:$F$107,Trousers!$Q$13:$Q$107)","v":0},20240501,2418,{"$f":"_xlfn.XLOOKUP(B678,Trousers!$F$13:$F$107,Trousers!$R$13:$R$107)","v":0},20240603,2423,{"$f":"_xlfn.XLOOKUP(B678,Trousers!$F$13:$F$107,Trousers!$S$13:$S$107)","v":0},{"$f":"_xlfn.XLOOKUP(B678,Trousers!$F$13:$F$107,Trousers!$L$13:$L$107)","v":128.75}]
["PPE ",529516445,20240103,2401,{"$f":"_xlfn.XLOOKUP(B679,Trousers!$F$13:$F$107,Trousers!$N$13:$N$107)","v":0},20240201,2405,{"$f":"_xlfn.XLOOKUP(B679,Trousers!$F$13:$F$107,Trousers!$O$13:$O$107)","v":0},20240301,2409,{"$f":"_xlfn.XLOOKUP(B679,Trousers!$F$13:$F$107,Trousers!$P$13:$P$107)","v":0},20240402,2414,{"$f":"_xlfn.XLOOKUP(B679,Trousers!$F$13:$F$107,Trousers!$Q$13:$Q$107)","v":0},20240501,2418,{"$f":"_xlfn.XLOOKUP(B679,Trousers!$F$13:$F$107,Trousers!$R$13:$R$107)","v":0},20240603,2423,{"$f":"_xlfn.XLOOKUP(B679,Trousers!$F$13:$F$107,Trousers!$S$13:$S$107)","v":0},{"$f":"_xlfn.XLOOKUP(B679,Trousers!$F$13:$F$107,Trousers!$L$13:$L$107)","v":128.75}]
["Tool Belt",593975501,20240103,2401,{"$f":"_xlfn.XLOOKUP(B680,'Tool Belts'!$F$13:$F$28,'Tool Belts'!$N$13:$N$28)","v":0},20240201,2405,{"$f":"_xlfn.XLOOKUP(B680,'Tool Belts'!$F$13:$F$28,'Tool Belts'!$O$13:$O$28)","v":0},20240301,2409,{"$f":"_xlfn.XLOOKUP(B680,'Tool Belts'!$F$13:$F$28,'Tool Belts'!$P$13:$P$28)","v":0},20240402,2414,{"$f":"_xlfn.XLOOKUP(B680,'Tool Belts'!$F$13:$F$28,'Tool Belts'!$Q$13:$Q$28)","v":0},20240501,2418,{"$f":"_xlfn.XLOOKUP(B680,'Tool Belts'!$F$13:$F$28,'Tool Belts'!$R$13:$R$28)","v":0},20240603,2423,{"$f":"_xlfn.XLOOKUP(B680,'Tool Belts'!$F$13:$F$28,'Tool Belts'!$S$13:$S$28)","v":0},{"$f":"_xlfn.XLOOKUP(B680,'Tool Belts'!$F$13:$F$28,'Tool Belts'!$L$13:$L$28)","v":8.33}]
["Tool Belt",593839801,20240103,2401,{"$f":"_xlfn.XLOOKUP(B681,'Tool Belts'!$F$13:$F$28,'Tool Belts'!$N$13:$N$28)","v":0},20240201,2405,{"$f":"_xlfn.XLOOKUP(B681,'Tool Belts'!$F$13:$F$28,'Tool Belts'!$O$13:$O$28)","v":0},20240301,2409,{"$f":"_xlfn.XLOOKUP(B681,'Tool Belts'!$F$13:$F$28,'Tool Belts'!$P$13:$P$28)","v":0},20240402,2414,{"$f":"_xlfn.XLOOKUP(B681,'Tool Belts'!$F$13:$F$28,'Tool Belts'!$Q$13:$Q$28)","v":0},20240501,2418,{"$f":"_xlfn.XLOOKUP(B681,'Tool Belts'!$F$13:$F$28,'Tool Belts'!$R$13:$R$28)","v":0},20240603,2423,{"$f":"_xlfn.XLOOKUP(B681,'Tool Belts'!$F$13:$F$28,'Tool Belts'!$S$13:$S$28)","v":0},{"$f":"_xlfn.XLOOKUP(B681,'Tool Belts'!$F$13:$F$28,'Tool Belts'!$L$13:$L$28)","v":22.495000000000001}]
["Tool Belt",593839701,20240103,2401,{"$f":"_xlfn.XLOOKUP(B682,'Tool Belts'!$F$13:$F$28,'Tool Belts'!$N$13:$N$28)","v":0},20240201,2405,{"$f":"_xlfn.XLOOKUP(B682,'Tool Belts'!$F$13:$F$28,'Tool Belts'!$O$13:$O$28)","v":0},20240301,2409,{"$f":"_xlfn.XLOOKUP(B682,'Tool Belts'!$F$13:$F$28,'Tool Belts'!$P$13:$P$28)","v":0},20240402,2414,{"$f":"_xlfn.XLOOKUP(B682,'Tool Belts'!$F$13:$F$28,'Tool Belts'!$Q$13:$Q$28)","v":0},20240501,2418,{"$f":"_xlfn.XLOOKUP(B682,'Tool Belts'!$F$13:$F$28,'Tool Belts'!$R$13:$R$28)","v":0},20240603,2423,{"$f":"_xlfn.XLOOKUP(B682,'Tool Belts'!$F$13:$F$28,'Tool Belts'!$S$13:$S$28)","v":0},{"$f":"_xlfn.XLOOKUP(B682,'Tool Belts'!$F$13:$F$28,'Tool Belts'!$L$13:$L$28)","v":6.665}]
["Tool Belt",593839601,20240103,2401,{"$f":"_xlfn.XLOOKUP(B683,'Tool Belts'!$F$13:$F$28,'Tool Belts'!$N$13:$N$28)","v":0},20240201,2405,{"$f":"_xlfn.XLOOKUP(B683,'Tool Belts'!$F$13:$F$28,'Tool Belts'!$O$13:$O$28)","v":0},20240301,2409,{"$f":"_xlfn.XLOOKUP(B683,'Tool Belts'!$F$13:$F$28,'Tool Belts'!$P$13:$P$28)","v":0},20240402,2414,{"$f":"_xlfn.XLOOKUP(B683,'Tool Belts'!$F$13:$F$28,'Tool Belts'!$Q$13:$Q$28)","v":0},20240501,2418,{"$f":"_xlfn.XLOOKUP(B683,'Tool Belts'!$F$13:$F$28,'Tool Belts'!$R$13:$R$28)","v":0},20240603,2423,{"$f":"_xlfn.XLOOKUP(B683,'Tool Belts'!$F$13:$F$28,'Tool Belts'!$S$13:$S$28)","v":0},{"$f":"_xlfn.XLOOKUP(B683,'Tool Belts'!$F$13:$F$28,'Tool Belts'!$L$13:$L$28)","v":6.665}]
["Tool Belt",593839501,20240103,2401,{"$f":"_xlfn.XLOOKUP(B684,'Tool Belts'!$F$13:$F$28,'Tool Belts'!$N$13:$N$28)","v":0},20240201,2405,{"$f":"_xlfn.XLOOKUP(B684,'Tool Belts'!$F$13:$F$28,'Tool Belts'!$O$13:$O$28)","v":0},20240301,2409,{"$f":"_xlfn.XLOOKUP(B684,'Tool Belts'!$F$13:$F$28,'Tool Belts'!$P$13:$P$28)","v":0},20240402,2414,{"$f":"_xlfn.XLOOKUP(B684,'Tool Belts'!$F$13:$F$28,'Tool Belts'!$Q$13:$Q$28)","v":0},20240501,2418,{"$f":"_xlfn.XLOOKUP(B684,'Tool Belts'!$F$13:$F$28,'Tool Belts'!$R$13:$R$28)","v":0},20240603,2423,{"$f":"_xlfn.XLOOKUP(B684,'Tool Belts'!$F$13:$F$28,'Tool Belts'!$S$13:$S$28)","v":0},{"$f":"_xlfn.XLOOKUP(B684,'Tool Belts'!$F$13:$F$28,'Tool Belts'!$L$13:$L$28)","v":6.665}]
["Tool Belt",593839401,20240103,2401,{"$f":"_xlfn.XLOOKUP(B685,'Tool Belts'!$F$13:$F$28,'Tool Belts'!$N$13:$N$28)","v":0},20240201,2405,{"$f":"_xlfn.XLOOKUP(B685,'Tool Belts'!$F$13:$F$28,'Tool Belts'!$O$13:$O$28)","v":0},20240301,2409,{"$f":"_xlfn.XLOOKUP(B685,'Tool Belts'!$F$13:$F$28,'Tool Belts'!$P$13:$P$28)","v":0},20240402,2414,{"$f":"_xlfn.XLOOKUP(B685,'Tool Belts'!$F$13:$F$28,'Tool Belts'!$Q$13:$Q$28)","v":0},20240501,2418,{"$f":"_xlfn.XLOOKUP(B685,'Tool Belts'!$F$13:$F$28,'Tool Belts'!$R$13:$R$28)","v":0},20240603,2423,{"$f":"_xlfn.XLOOKUP(B685,'Tool Belts'!$F$13:$F$28,'Tool Belts'!$S$13:$S$28)","v":0},{"$f":"_xlfn.XLOOKUP(B685,'Tool Belts'!$F$13:$F$28,'Tool Belts'!$L$13:$L$28)","v":15.414999999999999}]
["Tool Belt",593839201,20240103,2401,{"$f":"_xlfn.XLOOKUP(B686,'Tool Belts'!$F$13:$F$28,'Tool Belts'!$N$13:$N$28)","v":0},20240201,2405,{"$f":"_xlfn.XLOOKUP(B686,'Tool Belts'!$F$13:$F$28,'Tool Belts'!$O$13:$O$28)","v":0},20240301,2409,{"$f":"_xlfn.XLOOKUP(B686,'Tool Belts'!$F$13:$F$28,'Tool Belts'!$P$13:$P$28)","v":0},20240402,2414,{"$f":"_xlfn.XLOOKUP(B686,'Tool Belts'!$F$13:$F$28,'Tool Belts'!$Q$13:$Q$28)","v":0},20240501,2418,{"$f":"_xlfn.XLOOKUP(B686,'Tool Belts'!$F$13:$F$28,'Tool Belts'!$R$13:$R$28)","v":0},20240603,2423,{"$f":"_xlfn.XLOOKUP(B686,'Tool Belts'!$F$13:$F$28,'Tool Belts'!$S$13:$S$28)","v":0},{"$f":"_xlfn.XLOOKUP(B686,'Tool Belts'!$F$13:$F$28,'Tool Belts'!$L$13:$L$28)","v":17.495000000000001}]
["Tool Belt",593839101,20240103,2401,{"$f":"_xlfn.XLOOKUP(B687,'Tool Belts'!$F$13:$F$28,'Tool Belts'!$N$13:$N$28)","v":0},20240201,2405,{"$f":"_xlfn.XLOOKUP(B687,'Tool Belts'!$F$13:$F$28,'Tool Belts'!$O$13:$O$28)","v":0},20240301,2409,{"$f":"_xlfn.XLOOKUP(B687,'Tool Belts'!$F$13:$F$28,'Tool Belts'!$P$13:$P$28)","v":0},20240402,2414,{"$f":"_xlfn.XLOOKUP(B687,'Tool Belts'!$F$13:$F$28,'Tool Belts'!$Q$13:$Q$28)","v":0},20240501,2418,{"$f":"_xlfn.XLOOKUP(B687,'Tool Belts'!$F$13:$F$28,'Tool Belts'!$R$13:$R$28)","v":0},20240603,2423,{"$f":"_xlfn.XLOOKUP(B687,'Tool Belts'!$F$13:$F$28,'Tool Belts'!$S$13:$S$28)","v":0},{"$f":"_xlfn.XLOOKUP(B687,'Tool Belts'!$F$13:$F$28,'Tool Belts'!$L$13:$L$28)","v":5.415}]
["Tool Belt",593838801,20240103,2401,{"$f":"_xlfn.XLOOKUP(B688,'Tool Belts'!$F$13:$F$28,'Tool Belts'!$N$13:$N$28)","v":0},20240201,2405,{"$f":"_xlfn.XLOOKUP(B688,'Tool Belts'!$F$13:$F$28,'Tool Belts'!$O$13:$O$28)","v":0},20240301,2409,{"$f":"_xlfn.XLOOKUP(B688,'Tool Belts'!$F$13:$F$28,'Tool Belts'!$P$13:$P$28)","v":0},20240402,2414,{"$f":"_xlfn.XLOOKUP(B688,'Tool Belts'!$F$13:$F$28,'Tool Belts'!$Q$13:$Q$28)","v":0},20240501,2418,{"$f":"_xlfn.XLOOKUP(B688,'Tool Belts'!$F$13:$F$28,'Tool Belts'!$R$13:$R$28)","v":0},20240603,2423,{"$f":"_xlfn.XLOOKUP(B688,'Tool Belts'!$F$13:$F$28,'Tool Belts'!$S$13:$S$28)","v":0},{"$f":"_xlfn.XLOOKUP(B688,'Tool Belts'!$F$13:$F$28,'Tool Belts'!$L$13:$L$28)","v":17.079999999999998}]
["Tool Belt",593838302,20240103,2401,{"$f":"_xlfn.XLOOKUP(B689,'Tool Belts'!$F$13:$F$28,'Tool Belts'!$N$13:$N$28)","v":0},20240201,2405,{"$f":"_xlfn.XLOOKUP(B689,'Tool Belts'!$F$13:$F$28,'Tool Belts'!$O$13:$O$28)","v":0},20240301,2409,{"$f":"_xlfn.XLOOKUP(B689,'Tool Belts'!$F$13:$F$28,'Tool Belts'!$P$13:$P$28)","v":0},20240402,2414,{"$f":"_xlfn.XLOOKUP(B689,'Tool Belts'!$F$13:$F$28,'Tool Belts'!$Q$13:$Q$28)","v":0},20240501,2418,{"$f":"_xlfn.XLOOKUP(B689,'Tool Belts'!$F$13:$F$28,'Tool Belts'!$R$13:$R$28)","v":0},20240603,2423,{"$f":"_xlfn.XLOOKUP(B689,'Tool Belts'!$F$13:$F$28,'Tool Belts'!$S$13:$S$28)","v":0},{"$f":"_xlfn.XLOOKUP(B689,'Tool Belts'!$F$13:$F$28,'Tool Belts'!$L$13:$L$28)","v":15.414999999999999}]
["Tool Belt",593838301,20240103,2401,{"$f":"_xlfn.XLOOKUP(B690,'Tool Belts'!$F$13:$F$28,'Tool Belts'!$N$13:$N$28)","v":0},20240201,2405,{"$f":"_xlfn.XLOOKUP(B690,'Tool Belts'!$F$13:$F$28,'Tool Belts'!$O$13:$O$28)","v":0},20240301,2409,{"$f":"_xlfn.XLOOKUP(B690,'Tool Belts'!$F$13:$F$28,'Tool Belts'!$P$13:$P$28)","v":0},20240402,2414,{"$f":"_xlfn.XLOOKUP(B690,'Tool Belts'!$F$13:$F$28,'Tool Belts'!$Q$13:$Q$28)","v":0},20240501,2418,{"$f":"_xlfn.XLOOKUP(B690,'Tool Belts'!$F$13:$F$28,'Tool Belts'!$R$13:$R$28)","v":0},20240603,2423,{"$f":"_xlfn.XLOOKUP(B690,'Tool Belts'!$F$13:$F$28,'Tool Belts'!$S$13:$S$28)","v":0},{"$f":"_xlfn.XLOOKUP(B690,'Tool Belts'!$F$13:$F$28,'Tool Belts'!$L$13:$L$28)","v":15.414999999999999}]
["Tool Belt",593837601,20240103,2401,{"$f":"_xlfn.XLOOKUP(B691,'Tool Belts'!$F$13:$F$28,'Tool Belts'!$N$13:$N$28)","v":0},20240201,2405,{"$f":"_xlfn.XLOOKUP(B691,'Tool Belts'!$F$13:$F$28,'Tool Belts'!$O$13:$O$28)","v":0},20240301,2409,{"$f":"_xlfn.XLOOKUP(B691,'Tool Belts'!$F$13:$F$28,'Tool Belts'!$P$13:$P$28)","v":0},20240402,2414,{"$f":"_xlfn.XLOOKUP(B691,'Tool Belts'!$F$13:$F$28,'Tool Belts'!$Q$13:$Q$28)","v":0},20240501,2418,{"$f":"_xlfn.XLOOKUP(B691,'Tool Belts'!$F$13:$F$28,'Tool Belts'!$R$13:$R$28)","v":0},20240603,2423,{"$f":"_xlfn.XLOOKUP(B691,'Tool Belts'!$F$13:$F$28,'Tool Belts'!$S$13:$S$28)","v":0},{"$f":"_xlfn.XLOOKUP(B691,'Tool Belts'!$F$13:$F$28,'Tool Belts'!$L$13:$L$28)","v":19.995000000000001}]
["Tool Belt",593837401,20240103,2401,{"$f":"_xlfn.XLOOKUP(B692,'Tool Belts'!$F$13:$F$28,'Tool Belts'!$N$13:$N$28)","v":0},20240201,2405,{"$f":"_xlfn.XLOOKUP(B692,'Tool Belts'!$F$13:$F$28,'Tool Belts'!$O$13:$O$28)","v":0},20240301,2409,{"$f":"_xlfn.XLOOKUP(B692,'Tool Belts'!$F$13:$F$28,'Tool Belts'!$P$13:$P$28)","v":0},20240402,2414,{"$f":"_xlfn.XLOOKUP(B692,'Tool Belts'!$F$13:$F$28,'Tool Belts'!$Q$13:$Q$28)","v":0},20240501,2418,{"$f":"_xlfn.XLOOKUP(B692,'Tool Belts'!$F$13:$F$28,'Tool Belts'!$R$13:$R$28)","v":0},20240603,2423,{"$f":"_xlfn.XLOOKUP(B692,'Tool Belts'!$F$13:$F$28,'Tool Belts'!$S$13:$S$28)","v":0},{"$f":"_xlfn.XLOOKUP(B692,'Tool Belts'!$F$13:$F$28,'Tool Belts'!$L$13:$L$28)","v":41.664999999999999}]
["Tool Belt",593837203,20240103,2401,{"$f":"_xlfn.XLOOKUP(B693,'Tool Belts'!$F$13:$F$28,'Tool Belts'!$N$13:$N$28)","v":0},20240201,2405,{"$f":"_xlfn.XLOOKUP(B693,'Tool Belts'!$F$13:$F$28,'Tool Belts'!$O$13:$O$28)","v":0},20240301,2409,{"$f":"_xlfn.XLOOKUP(B693,'Tool Belts'!$F$13:$F$28,'Tool Belts'!$P$13:$P$28)","v":0},20240402,2414,{"$f":"_xlfn.XLOOKUP(B693,'Tool Belts'!$F$13:$F$28,'Tool Belts'!$Q$13:$Q$28)","v":0},20240501,2418,{"$f":"_xlfn.XLOOKUP(B693,'Tool Belts'!$F$13:$F$28,'Tool Belts'!$R$13:$R$28)","v":0},20240603,2423,{"$f":"_xlfn.XLOOKUP(B693,'Tool Belts'!$F$13:$F$28,'Tool Belts'!$S$13:$S$28)","v":0},{"$f":"_xlfn.XLOOKUP(B693,'Tool Belts'!$F$13:$F$28,'Tool Belts'!$L$13:$L$28)","v":103.75}]
["Tool Belt",593837202,20240103,2401,{"$f":"_xlfn.XLOOKUP(B694,'Tool Belts'!$F$13:$F$28,'Tool Belts'!$N$13:$N$28)","v":2},20240201,2405,{"$f":"_xlfn.XLOOKUP(B694,'Tool Belts'!$F$13:$F$28,'Tool Belts'!$O$13:$O$28)","v":2},20240301,2409,{"$f":"_xlfn.XLOOKUP(B694,'Tool Belts'!$F$13:$F$28,'Tool Belts'!$P$13:$P$28)","v":2},20240402,2414,{"$f":"_xlfn.XLOOKUP(B694,'Tool Belts'!$F$13:$F$28,'Tool Belts'!$Q$13:$Q$28)","v":2},20240501,2418,{"$f":"_xlfn.XLOOKUP(B694,'Tool Belts'!$F$13:$F$28,'Tool Belts'!$R$13:$R$28)","v":0},20240603,2423,{"$f":"_xlfn.XLOOKUP(B694,'Tool Belts'!$F$13:$F$28,'Tool Belts'!$S$13:$S$28)","v":6},{"$f":"_xlfn.XLOOKUP(B694,'Tool Belts'!$F$13:$F$28,'Tool Belts'!$L$13:$L$28)","v":103.75}]
["Tool Belt",593837201,20240103,2401,{"$f":"_xlfn.XLOOKUP(B695,'Tool Belts'!$F$13:$F$28,'Tool Belts'!$N$13:$N$28)","v":2},20240201,2405,{"$f":"_xlfn.XLOOKUP(B695,'Tool Belts'!$F$13:$F$28,'Tool Belts'!$O$13:$O$28)","v":0},20240301,2409,{"$f":"_xlfn.XLOOKUP(B695,'Tool Belts'!$F$13:$F$28,'Tool Belts'!$P$13:$P$28)","v":2},20240402,2414,{"$f":"_xlfn.XLOOKUP(B695,'Tool Belts'!$F$13:$F$28,'Tool Belts'!$Q$13:$Q$28)","v":0},20240501,2418,{"$f":"_xlfn.XLOOKUP(B695,'Tool Belts'!$F$13:$F$28,'Tool Belts'!$R$13:$R$28)","v":0},20240603,2423,{"$f":"_xlfn.XLOOKUP(B695,'Tool Belts'!$F$13:$F$28,'Tool Belts'!$S$13:$S$28)","v":2},{"$f":"_xlfn.XLOOKUP(B695,'Tool Belts'!$F$13:$F$28,'Tool Belts'!$L$13:$L$28)","v":103.75}]
["Trimmer Head",594727001,20240103,2401,{"$f":"_xlfn.XLOOKUP(B696,'Trimmer Heads'!$F$13:$F$85,'Trimmer Heads'!$N$13:$N$85)","v":0},20240201,2405,{"$f":"_xlfn.XLOOKUP(B696,'Trimmer Heads'!$F$13:$F$85,'Trimmer Heads'!$O$13:$O$85)","v":0},20240301,2409,{"$f":"_xlfn.XLOOKUP(B696,'Trimmer Heads'!$F$13:$F$85,'Trimmer Heads'!$P$13:$P$85)","v":0},20240402,2414,{"$f":"_xlfn.XLOOKUP(B696,'Trimmer Heads'!$F$13:$F$85,'Trimmer Heads'!$Q$13:$Q$85)","v":0},20240501,2418,{"$f":"_xlfn.XLOOKUP(B696,'Trimmer Heads'!$F$13:$F$85,'Trimmer Heads'!$R$13:$R$85)","v":0},20240603,2423,{"$f":"_xlfn.XLOOKUP(B696,'Trimmer Heads'!$F$13:$F$85,'Trimmer Heads'!$S$13:$S$85)","v":0},{"$f":"_xlfn.XLOOKUP(B696,'Trimmer Heads'!$F$13:$F$85,'Trimmer Heads'!$L$13:$L$85)","v":12.645399999999999}]
["Trimmer Head",579294003,20240103,2401,{"$f":"_xlfn.XLOOKUP(B697,'Trimmer Heads'!$F$13:$F$85,'Trimmer Heads'!$N$13:$N$85)","v":0},20240201,2405,{"$f":"_xlfn.XLOOKUP(B697,'Trimmer Heads'!$F$13:$F$85,'Trimmer Heads'!$O$13:$O$85)","v":0},20240301,2409,{"$f":"_xlfn.XLOOKUP(B697,'Trimmer Heads'!$F$13:$F$85,'Trimmer Heads'!$P$13:$P$85)","v":0},20240402,2414,{"$f":"_xlfn.XLOOKUP(B697,'Trimmer Heads'!$F$13:$F$85,'Trimmer Heads'!$Q$13:$Q$85)","v":0},20240501,2418,{"$f":"_xlfn.XLOOKUP(B697,'Trimmer Heads'!$F$13:$F$85,'Trimmer Heads'!$R$13:$R$85)","v":0},20240603,2423,{"$f":"_xlfn.XLOOKUP(B697,'Trimmer Heads'!$F$13:$F$85,'Trimmer Heads'!$S$13:$S$85)","v":0},{"$f":"_xlfn.XLOOKUP(B697,'Trimmer Heads'!$F$13:$F$85,'Trimmer Heads'!$L$13:$L$85)","v":9.1953999999999994}]
["Trimmer Head",578449401,20240103,2401,{"$f":"_xlfn.XLOOKUP(B698,'Trimmer Heads'!$F$13:$F$85,'Trimmer Heads'!$N$13:$N$85)","v":0},20240201,2405,{"$f":"_xlfn.XLOOKUP(B698,'Trimmer Heads'!$F$13:$F$85,'Trimmer Heads'!$O$13:$O$85)","v":0},20240301,2409,{"$f":"_xlfn.XLOOKUP(B698,'Trimmer Heads'!$F$13:$F$85,'Trimmer Heads'!$P$13:$P$85)","v":0},20240402,2414,{"$f":"_xlfn.XLOOKUP(B698,'Trimmer Heads'!$F$13:$F$85,'Trimmer Heads'!$Q$13:$Q$85)","v":0},20240501,2418,{"$f":"_xlfn.XLOOKUP(B698,'Trimmer Heads'!$F$13:$F$85,'Trimmer Heads'!$R$13:$R$85)","v":0},20240603,2423,{"$f":"_xlfn.XLOOKUP(B698,'Trimmer Heads'!$F$13:$F$85,'Trimmer Heads'!$S$13:$S$85)","v":0},{"$f":"_xlfn.XLOOKUP(B698,'Trimmer Heads'!$F$13:$F$85,'Trimmer Heads'!$L$13:$L$85)","v":12.645399999999999}]
["Trimmer Head",578447001,20240103,2401,{"$f":"_xlfn.XLOOKUP(B699,'Trimmer Heads'!$F$13:$F$85,'Trimmer Heads'!$N$13:$N$85)","v":0},20240201,2405,{"$f":"_xlfn.XLOOKUP(B699,'Trimmer Heads'!$F$13:$F$85,'Trimmer Heads'!$O$13:$O$85)","v":0},20240301,2409,{"$f":"_xlfn.XLOOKUP(B699,'Trimmer Heads'!$F$13:$F$85,'Trimmer Heads'!$P$13:$P$85)","v":0},20240402,2414,{"$f":"_xlfn.XLOOKUP(B699,'Trimmer Heads'!$F$13:$F$85,'Trimmer Heads'!$Q$13:$Q$85)","v":0},20240501,2418,{"$f":"_xlfn.XLOOKUP(B699,'Trimmer Heads'!$F$13:$F$85,'Trimmer Heads'!$R$13:$R$85)","v":0},20240603,2423,{"$f":"_xlfn.XLOOKUP(B699,'Trimmer Heads'!$F$13:$F$85,'Trimmer Heads'!$S$13:$S$85)","v":0},{"$f":"_xlfn.XLOOKUP(B699,'Trimmer Heads'!$F$13:$F$85,'Trimmer Heads'!$L$13:$L$85)","v":24.913599999999995}]
["Trimmer Head",578446801,20240103,2401,{"$f":"_xlfn.XLOOKUP(B700,'Trimmer Heads'!$F$13:$F$85,'Trimmer Heads'!$N$13:$N$85)","v":0},20240201,2405,{"$f":"_xlfn.XLOOKUP(B700,'Trimmer Heads'!$F$13:$F$85,'Trimmer Heads'!$O$13:$O$85)","v":0},20240301,2409,{"$f":"_xlfn.XLOOKUP(B700,'Trimmer Heads'!$F$13:$F$85,'Trimmer Heads'!$P$13:$P$85)","v":0},20240402,2414,{"$f":"_xlfn.XLOOKUP(B700,'Trimmer Heads'!$F$13:$F$85,'Trimmer Heads'!$Q$13:$Q$85)","v":0},20240501,2418,{"$f":"_xlfn.XLOOKUP(B700,'Trimmer Heads'!$F$13:$F$85,'Trimmer Heads'!$R$13:$R$85)","v":0},20240603,2423,{"$f":"_xlfn.XLOOKUP(B700,'Trimmer Heads'!$F$13:$F$85,'Trimmer Heads'!$S$13:$S$85)","v":0},{"$f":"_xlfn.XLOOKUP(B700,'Trimmer Heads'!$F$13:$F$85,'Trimmer Heads'!$L$13:$L$85)","v":18.781799999999997}]
["Trimmer Head",578446601,20240103,2401,{"$f":"_xlfn.XLOOKUP(B701,'Trimmer Heads'!$F$13:$F$85,'Trimmer Heads'!$N$13:$N$85)","v":0},20240201,2405,{"$f":"_xlfn.XLOOKUP(B701,'Trimmer Heads'!$F$13:$F$85,'Trimmer Heads'!$O$13:$O$85)","v":0},20240301,2409,{"$f":"_xlfn.XLOOKUP(B701,'Trimmer Heads'!$F$13:$F$85,'Trimmer Heads'!$P$13:$P$85)","v":0},20240402,2414,{"$f":"_xlfn.XLOOKUP(B701,'Trimmer Heads'!$F$13:$F$85,'Trimmer Heads'!$Q$13:$Q$85)","v":0},20240501,2418,{"$f":"_xlfn.XLOOKUP(B701,'Trimmer Heads'!$F$13:$F$85,'Trimmer Heads'!$R$13:$R$85)","v":0},20240603,2423,{"$f":"_xlfn.XLOOKUP(B701,'Trimmer Heads'!$F$13:$F$85,'Trimmer Heads'!$S$13:$S$85)","v":0},{"$f":"_xlfn.XLOOKUP(B701,'Trimmer Heads'!$F$13:$F$85,'Trimmer Heads'!$L$13:$L$85)","v":14.563599999999997}]
["Trimmer Head",578446501,20240103,2401,{"$f":"_xlfn.XLOOKUP(B702,'Trimmer Heads'!$F$13:$F$85,'Trimmer Heads'!$N$13:$N$85)","v":0},20240201,2405,{"$f":"_xlfn.XLOOKUP(B702,'Trimmer Heads'!$F$13:$F$85,'Trimmer Heads'!$O$13:$O$85)","v":0},20240301,2409,{"$f":"_xlfn.XLOOKUP(B702,'Trimmer Heads'!$F$13:$F$85,'Trimmer Heads'!$P$13:$P$85)","v":0},20240402,2414,{"$f":"_xlfn.XLOOKUP(B702,'Trimmer Heads'!$F$13:$F$85,'Trimmer Heads'!$Q$13:$Q$85)","v":0},20240501,2418,{"$f":"_xlfn.XLOOKUP(B702,'Trimmer Heads'!$F$13:$F$85,'Trimmer Heads'!$R$13:$R$85)","v":0},20240603,2423,{"$f":"_xlfn.XLOOKUP(B702,'Trimmer Heads'!$F$13:$F$85,'Trimmer Heads'!$S$13:$S$85)","v":0},{"$f":"_xlfn.XLOOKUP(B702,'Trimmer Heads'!$F$13:$F$85,'Trimmer Heads'!$L$13:$L$85)","v":15.713599999999996}]
["Trimmer Head",578446401,20240103,2401,{"$f":"_xlfn.XLOOKUP(B703,'Trimmer Heads'!$F$13:$F$85,'Trimmer Heads'!$N$13:$N$85)","v":0},20240201,2405,{"$f":"_xlfn.XLOOKUP(B703,'Trimmer Heads'!$F$13:$F$85,'Trimmer Heads'!$O$13:$O$85)","v":0},20240301,2409,{"$f":"_xlfn.XLOOKUP(B703,'Trimmer Heads'!$F$13:$F$85,'Trimmer Heads'!$P$13:$P$85)","v":0},20240402,2414,{"$f":"_xlfn.XLOOKUP(B703,'Trimmer Heads'!$F$13:$F$85,'Trimmer Heads'!$Q$13:$Q$85)","v":0},20240501,2418,{"$f":"_xlfn.XLOOKUP(B703,'Trimmer Heads'!$F$13:$F$85,'Trimmer Heads'!$R$13:$R$85)","v":0},20240603,2423,{"$f":"_xlfn.XLOOKUP(B703,'Trimmer Heads'!$F$13:$F$85,'Trimmer Heads'!$S$13:$S$85)","v":0},{"$f":"_xlfn.XLOOKUP(B703,'Trimmer Heads'!$F$13:$F$85,'Trimmer Heads'!$L$13:$L$85)","v":11.1136}]
["Trimmer Head",578446301,20240103,2401,{"$f":"_xlfn.XLOOKUP(B704,'Trimmer Heads'!$F$13:$F$85,'Trimmer Heads'!$N$13:$N$85)","v":0},20240201,2405,{"$f":"_xlfn.XLOOKUP(B704,'Trimmer Heads'!$F$13:$F$85,'Trimmer Heads'!$O$13:$O$85)","v":0},20240301,2409,{"$f":"_xlfn.XLOOKUP(B704,'Trimmer Heads'!$F$13:$F$85,'Trimmer Heads'!$P$13:$P$85)","v":0},20240402,2414,{"$f":"_xlfn.XLOOKUP(B704,'Trimmer Heads'!$F$13:$F$85,'Trimmer Heads'!$Q$13:$Q$85)","v":0},20240501,2418,{"$f":"_xlfn.XLOOKUP(B704,'Trimmer Heads'!$F$13:$F$85,'Trimmer Heads'!$R$13:$R$85)","v":0},20240603,2423,{"$f":"_xlfn.XLOOKUP(B704,'Trimmer Heads'!$F$13:$F$85,'Trimmer Heads'!$S$13:$S$85)","v":0},{"$f":"_xlfn.XLOOKUP(B704,'Trimmer Heads'!$F$13:$F$85,'Trimmer Heads'!$L$13:$L$85)","v":11.1136}]
["Trimmer Head",578446101,20240103,2401,{"$f":"_xlfn.XLOOKUP(B705,'Trimmer Heads'!$F$13:$F$85,'Trimmer Heads'!$N$13:$N$85)","v":0},20240201,2405,{"$f":"_xlfn.XLOOKUP(B705,'Trimmer Heads'!$F$13:$F$85,'Trimmer Heads'!$O$13:$O$85)","v":0},20240301,2409,{"$f":"_xlfn.XLOOKUP(B705,'Trimmer Heads'!$F$13:$F$85,'Trimmer Heads'!$P$13:$P$85)","v":0},20240402,2414,{"$f":"_xlfn.XLOOKUP(B705,'Trimmer Heads'!$F$13:$F$85,'Trimmer Heads'!$Q$13:$Q$85)","v":0},20240501,2418,{"$f":"_xlfn.XLOOKUP(B705,'Trimmer Heads'!$F$13:$F$85,'Trimmer Heads'!$R$13:$R$85)","v":0},20240603,2423,{"$f":"_xlfn.XLOOKUP(B705,'Trimmer Heads'!$F$13:$F$85,'Trimmer Heads'!$S$13:$S$85)","v":0},{"$f":"_xlfn.XLOOKUP(B705,'Trimmer Heads'!$F$13:$F$85,'Trimmer Heads'!$L$13:$L$85)","v":9.1953999999999994}]
["Trimmer Head",578446001,20240103,2401,{"$f":"_xlfn.XLOOKUP(B706,'Trimmer Heads'!$F$13:$F$85,'Trimmer Heads'!$N$13:$N$85)","v":0},20240201,2405,{"$f":"_xlfn.XLOOKUP(B706,'Trimmer Heads'!$F$13:$F$85,'Trimmer Heads'!$O$13:$O$85)","v":0},20240301,2409,{"$f":"_xlfn.XLOOKUP(B706,'Trimmer Heads'!$F$13:$F$85,'Trimmer Heads'!$P$13:$P$85)","v":0},20240402,2414,{"$f":"_xlfn.XLOOKUP(B706,'Trimmer Heads'!$F$13:$F$85,'Trimmer Heads'!$Q$13:$Q$85)","v":0},20240501,2418,{"$f":"_xlfn.XLOOKUP(B706,'Trimmer Heads'!$F$13:$F$85,'Trimmer Heads'!$R$13:$R$85)","v":0},20240603,2423,{"$f":"_xlfn.XLOOKUP(B706,'Trimmer Heads'!$F$13:$F$85,'Trimmer Heads'!$S$13:$S$85)","v":0},{"$f":"_xlfn.XLOOKUP(B706,'Trimmer Heads'!$F$13:$F$85,'Trimmer Heads'!$L$13:$L$85)","v":9.1953999999999994}]
["Trimmer Line",597669251,20240103,2401,{"$f":"_xlfn.XLOOKUP(B707,'Trimmer Heads'!$F$13:$F$85,'Trimmer Heads'!$N$13:$N$85)","v":0},20240201,2405,{"$f":"_xlfn.XLOOKUP(B707,'Trimmer Heads'!$F$13:$F$85,'Trimmer Heads'!$O$13:$O$85)","v":0},20240301,2409,{"$f":"_xlfn.XLOOKUP(B707,'Trimmer Heads'!$F$13:$F$85,'Trimmer Heads'!$P$13:$P$85)","v":0},20240402,2414,{"$f":"_xlfn.XLOOKUP(B707,'Trimmer Heads'!$F$13:$F$85,'Trimmer Heads'!$Q$13:$Q$85)","v":0},20240501,2418,{"$f":"_xlfn.XLOOKUP(B707,'Trimmer Heads'!$F$13:$F$85,'Trimmer Heads'!$R$13:$R$85)","v":0},20240603,2423,{"$f":"_xlfn.XLOOKUP(B707,'Trimmer Heads'!$F$13:$F$85,'Trimmer Heads'!$S$13:$S$85)","v":0},{"$f":"_xlfn.XLOOKUP(B707,'Trimmer Heads'!$F$13:$F$85,'Trimmer Heads'!$L$13:$L$85)","v":34.495399999999997}]
["Trimmer Line",597669250,20240103,2401,{"$f":"_xlfn.XLOOKUP(B708,'Trimmer Heads'!$F$13:$F$85,'Trimmer Heads'!$N$13:$N$85)","v":0},20240201,2405,{"$f":"_xlfn.XLOOKUP(B708,'Trimmer Heads'!$F$13:$F$85,'Trimmer Heads'!$O$13:$O$85)","v":0},20240301,2409,{"$f":"_xlfn.XLOOKUP(B708,'Trimmer Heads'!$F$13:$F$85,'Trimmer Heads'!$P$13:$P$85)","v":0},20240402,2414,{"$f":"_xlfn.XLOOKUP(B708,'Trimmer Heads'!$F$13:$F$85,'Trimmer Heads'!$Q$13:$Q$85)","v":0},20240501,2418,{"$f":"_xlfn.XLOOKUP(B708,'Trimmer Heads'!$F$13:$F$85,'Trimmer Heads'!$R$13:$R$85)","v":0},20240603,2423,{"$f":"_xlfn.XLOOKUP(B708,'Trimmer Heads'!$F$13:$F$85,'Trimmer Heads'!$S$13:$S$85)","v":0},{"$f":"_xlfn.XLOOKUP(B708,'Trimmer Heads'!$F$13:$F$85,'Trimmer Heads'!$L$13:$L$85)","v":19.163599999999995}]
["Trimmer Line",597669241,20240103,2401,{"$f":"_xlfn.XLOOKUP(B709,'Trimmer Heads'!$F$13:$F$85,'Trimmer Heads'!$N$13:$N$85)","v":0},20240201,2405,{"$f":"_xlfn.XLOOKUP(B709,'Trimmer Heads'!$F$13:$F$85,'Trimmer Heads'!$O$13:$O$85)","v":0},20240301,2409,{"$f":"_xlfn.XLOOKUP(B709,'Trimmer Heads'!$F$13:$F$85,'Trimmer Heads'!$P$13:$P$85)","v":0},20240402,2414,{"$f":"_xlfn.XLOOKUP(B709,'Trimmer Heads'!$F$13:$F$85,'Trimmer Heads'!$Q$13:$Q$85)","v":0},20240501,2418,{"$f":"_xlfn.XLOOKUP(B709,'Trimmer Heads'!$F$13:$F$85,'Trimmer Heads'!$R$13:$R$85)","v":0},20240603,2423,{"$f":"_xlfn.XLOOKUP(B709,'Trimmer Heads'!$F$13:$F$85,'Trimmer Heads'!$S$13:$S$85)","v":0},{"$f":"_xlfn.XLOOKUP(B709,'Trimmer Heads'!$F$13:$F$85,'Trimmer Heads'!$L$13:$L$85)","v":41.781799999999997}]
["Trimmer Line",597669240,20240103,2401,{"$f":"_xlfn.XLOOKUP(B710,'Trimmer Heads'!$F$13:$F$85,'Trimmer Heads'!$N$13:$N$85)","v":0},20240201,2405,{"$f":"_xlfn.XLOOKUP(B710,'Trimmer Heads'!$F$13:$F$85,'Trimmer Heads'!$O$13:$O$85)","v":0},20240301,2409,{"$f":"_xlfn.XLOOKUP(B710,'Trimmer Heads'!$F$13:$F$85,'Trimmer Heads'!$P$13:$P$85)","v":0},20240402,2414,{"$f":"_xlfn.XLOOKUP(B710,'Trimmer Heads'!$F$13:$F$85,'Trimmer Heads'!$Q$13:$Q$85)","v":0},20240501,2418,{"$f":"_xlfn.XLOOKUP(B710,'Trimmer Heads'!$F$13:$F$85,'Trimmer Heads'!$R$13:$R$85)","v":0},20240603,2423,{"$f":"_xlfn.XLOOKUP(B710,'Trimmer Heads'!$F$13:$F$85,'Trimmer Heads'!$S$13:$S$85)","v":0},{"$f":"_xlfn.XLOOKUP(B710,'Trimmer Heads'!$F$13:$F$85,'Trimmer Heads'!$L$13:$L$85)","v":22.9954}]
["Trimmer Line",597669232,20240103,2401,{"$f":"_xlfn.XLOOKUP(B711,'Trimmer Heads'!$F$13:$F$85,'Trimmer Heads'!$N$13:$N$85)","v":0},20240201,2405,{"$f":"_xlfn.XLOOKUP(B711,'Trimmer Heads'!$F$13:$F$85,'Trimmer Heads'!$O$13:$O$85)","v":0},20240301,2409,{"$f":"_xlfn.XLOOKUP(B711,'Trimmer Heads'!$F$13:$F$85,'Trimmer Heads'!$P$13:$P$85)","v":0},20240402,2414,{"$f":"_xlfn.XLOOKUP(B711,'Trimmer Heads'!$F$13:$F$85,'Trimmer Heads'!$Q$13:$Q$85)","v":0},20240501,2418,{"$f":"_xlfn.XLOOKUP(B711,'Trimmer Heads'!$F$13:$F$85,'Trimmer Heads'!$R$13:$R$85)","v":0},20240603,2423,{"$f":"_xlfn.XLOOKUP(B711,'Trimmer Heads'!$F$13:$F$85,'Trimmer Heads'!$S$13:$S$85)","v":0},{"$f":"_xlfn.XLOOKUP(B711,'Trimmer Heads'!$F$13:$F$85,'Trimmer Heads'!$L$13:$L$85)","v":34.495399999999997}]
["Trimmer Line",597669231,20240103,2401,{"$f":"_xlfn.XLOOKUP(B712,'Trimmer Heads'!$F$13:$F$85,'Trimmer Heads'!$N$13:$N$85)","v":0},20240201,2405,{"$f":"_xlfn.XLOOKUP(B712,'Trimmer Heads'!$F$13:$F$85,'Trimmer Heads'!$O$13:$O$85)","v":0},20240301,2409,{"$f":"_xlfn.XLOOKUP(B712,'Trimmer Heads'!$F$13:$F$85,'Trimmer Heads'!$P$13:$P$85)","v":0},20240402,2414,{"$f":"_xlfn.XLOOKUP(B712,'Trimmer Heads'!$F$13:$F$85,'Trimmer Heads'!$Q$13:$Q$85)","v":0},20240501,2418,{"$f":"_xlfn.XLOOKUP(B712,'Trimmer Heads'!$F$13:$F$85,'Trimmer Heads'!$R$13:$R$85)","v":0},20240603,2423,{"$f":"_xlfn.XLOOKUP(B712,'Trimmer Heads'!$F$13:$F$85,'Trimmer Heads'!$S$13:$S$85)","v":0},{"$f":"_xlfn.XLOOKUP(B712,'Trimmer Heads'!$F$13:$F$85,'Trimmer Heads'!$L$13:$L$85)","v":9.5817999999999977}]
["Trimmer Line",597669230,20240103,2401,{"$f":"_xlfn.XLOOKUP(B713,'Trimmer Heads'!$F$13:$F$85,'Trimmer Heads'!$N$13:$N$85)","v":0},20240201,2405,{"$f":"_xlfn.XLOOKUP(B713,'Trimmer Heads'!$F$13:$F$85,'Trimmer Heads'!$O$13:$O$85)","v":0},20240301,2409,{"$f":"_xlfn.XLOOKUP(B713,'Trimmer Heads'!$F$13:$F$85,'Trimmer Heads'!$P$13:$P$85)","v":0},20240402,2414,{"$f":"_xlfn.XLOOKUP(B713,'Trimmer Heads'!$F$13:$F$85,'Trimmer Heads'!$Q$13:$Q$85)","v":0},20240501,2418,{"$f":"_xlfn.XLOOKUP(B713,'Trimmer Heads'!$F$13:$F$85,'Trimmer Heads'!$R$13:$R$85)","v":0},20240603,2423,{"$f":"_xlfn.XLOOKUP(B713,'Trimmer Heads'!$F$13:$F$85,'Trimmer Heads'!$S$13:$S$85)","v":0},{"$f":"_xlfn.XLOOKUP(B713,'Trimmer Heads'!$F$13:$F$85,'Trimmer Heads'!$L$13:$L$85)","v":3.0635999999999997}]
["Trimmer Line",597669222,20240103,2401,{"$f":"_xlfn.XLOOKUP(B714,'Trimmer Heads'!$F$13:$F$85,'Trimmer Heads'!$N$13:$N$85)","v":0},20240201,2405,{"$f":"_xlfn.XLOOKUP(B714,'Trimmer Heads'!$F$13:$F$85,'Trimmer Heads'!$O$13:$O$85)","v":0},20240301,2409,{"$f":"_xlfn.XLOOKUP(B714,'Trimmer Heads'!$F$13:$F$85,'Trimmer Heads'!$P$13:$P$85)","v":0},20240402,2414,{"$f":"_xlfn.XLOOKUP(B714,'Trimmer Heads'!$F$13:$F$85,'Trimmer Heads'!$Q$13:$Q$85)","v":0},20240501,2418,{"$f":"_xlfn.XLOOKUP(B714,'Trimmer Heads'!$F$13:$F$85,'Trimmer Heads'!$R$13:$R$85)","v":0},20240603,2423,{"$f":"_xlfn.XLOOKUP(B714,'Trimmer Heads'!$F$13:$F$85,'Trimmer Heads'!$S$13:$S$85)","v":0},{"$f":"_xlfn.XLOOKUP(B714,'Trimmer Heads'!$F$13:$F$85,'Trimmer Heads'!$L$13:$L$85)","v":26.831799999999998}]
["Trimmer Line",597669221,20240103,2401,{"$f":"_xlfn.XLOOKUP(B715,'Trimmer Heads'!$F$13:$F$85,'Trimmer Heads'!$N$13:$N$85)","v":0},20240201,2405,{"$f":"_xlfn.XLOOKUP(B715,'Trimmer Heads'!$F$13:$F$85,'Trimmer Heads'!$O$13:$O$85)","v":0},20240301,2409,{"$f":"_xlfn.XLOOKUP(B715,'Trimmer Heads'!$F$13:$F$85,'Trimmer Heads'!$P$13:$P$85)","v":0},20240402,2414,{"$f":"_xlfn.XLOOKUP(B715,'Trimmer Heads'!$F$13:$F$85,'Trimmer Heads'!$Q$13:$Q$85)","v":0},20240501,2418,{"$f":"_xlfn.XLOOKUP(B715,'Trimmer Heads'!$F$13:$F$85,'Trimmer Heads'!$R$13:$R$85)","v":0},20240603,2423,{"$f":"_xlfn.XLOOKUP(B715,'Trimmer Heads'!$F$13:$F$85,'Trimmer Heads'!$S$13:$S$85)","v":0},{"$f":"_xlfn.XLOOKUP(B715,'Trimmer Heads'!$F$13:$F$85,'Trimmer Heads'!$L$13:$L$85)","v":9.1953999999999994}]
["Trimmer Line",597669220,20240103,2401,{"$f":"_xlfn.XLOOKUP(B716,'Trimmer Heads'!$F$13:$F$85,'Trimmer Heads'!$N$13:$N$85)","v":0},20240201,2405,{"$f":"_xlfn.XLOOKUP(B716,'Trimmer Heads'!$F$13:$F$85,'Trimmer Heads'!$O$13:$O$85)","v":0},20240301,2409,{"$f":"_xlfn.XLOOKUP(B716,'Trimmer Heads'!$F$13:$F$85,'Trimmer Heads'!$P$13:$P$85)","v":0},20240402,2414,{"$f":"_xlfn.XLOOKUP(B716,'Trimmer Heads'!$F$13:$F$85,'Trimmer Heads'!$Q$13:$Q$85)","v":0},20240501,2418,{"$f":"_xlfn.XLOOKUP(B716,'Trimmer Heads'!$F$13:$F$85,'Trimmer Heads'!$R$13:$R$85)","v":0},20240603,2423,{"$f":"_xlfn.XLOOKUP(B716,'Trimmer Heads'!$F$13:$F$85,'Trimmer Heads'!$S$13:$S$85)","v":0},{"$f":"_xlfn.XLOOKUP(B716,'Trimmer Heads'!$F$13:$F$85,'Trimmer Heads'!$L$13:$L$85)","v":3.0635999999999997}]
["Trimmer Line",597669212,20240103,2401,{"$f":"_xlfn.XLOOKUP(B717,'Trimmer Heads'!$F$13:$F$85,'Trimmer Heads'!$N$13:$N$85)","v":0},20240201,2405,{"$f":"_xlfn.XLOOKUP(B717,'Trimmer Heads'!$F$13:$F$85,'Trimmer Heads'!$O$13:$O$85)","v":0},20240301,2409,{"$f":"_xlfn.XLOOKUP(B717,'Trimmer Heads'!$F$13:$F$85,'Trimmer Heads'!$P$13:$P$85)","v":0},20240402,2414,{"$f":"_xlfn.XLOOKUP(B717,'Trimmer Heads'!$F$13:$F$85,'Trimmer Heads'!$Q$13:$Q$85)","v":0},20240501,2418,{"$f":"_xlfn.XLOOKUP(B717,'Trimmer Heads'!$F$13:$F$85,'Trimmer Heads'!$R$13:$R$85)","v":0},20240603,2423,{"$f":"_xlfn.XLOOKUP(B717,'Trimmer Heads'!$F$13:$F$85,'Trimmer Heads'!$S$13:$S$85)","v":0},{"$f":"_xlfn.XLOOKUP(B717,'Trimmer Heads'!$F$13:$F$85,'Trimmer Heads'!$L$13:$L$85)","v":21.845399999999998}]
["Trimmer Line",597669211,20240103,2401,{"$f":"_xlfn.XLOOKUP(B718,'Trimmer Heads'!$F$13:$F$85,'Trimmer Heads'!$N$13:$N$85)","v":0},20240201,2405,{"$f":"_xlfn.XLOOKUP(B718,'Trimmer Heads'!$F$13:$F$85,'Trimmer Heads'!$O$13:$O$85)","v":0},20240301,2409,{"$f":"_xlfn.XLOOKUP(B718,'Trimmer Heads'!$F$13:$F$85,'Trimmer Heads'!$P$13:$P$85)","v":0},20240402,2414,{"$f":"_xlfn.XLOOKUP(B718,'Trimmer Heads'!$F$13:$F$85,'Trimmer Heads'!$Q$13:$Q$85)","v":0},20240501,2418,{"$f":"_xlfn.XLOOKUP(B718,'Trimmer Heads'!$F$13:$F$85,'Trimmer Heads'!$R$13:$R$85)","v":0},20240603,2423,{"$f":"_xlfn.XLOOKUP(B718,'Trimmer Heads'!$F$13:$F$85,'Trimmer Heads'!$S$13:$S$85)","v":0},{"$f":"_xlfn.XLOOKUP(B718,'Trimmer Heads'!$F$13:$F$85,'Trimmer Heads'!$L$13:$L$85)","v":9.5817999999999977}]
["Trimmer Line",597669210,20240103,2401,{"$f":"_xlfn.XLOOKUP(B719,'Trimmer Heads'!$F$13:$F$85,'Trimmer Heads'!$N$13:$N$85)","v":0},20240201,2405,{"$f":"_xlfn.XLOOKUP(B719,'Trimmer Heads'!$F$13:$F$85,'Trimmer Heads'!$O$13:$O$85)","v":0},20240301,2409,{"$f":"_xlfn.XLOOKUP(B719,'Trimmer Heads'!$F$13:$F$85,'Trimmer Heads'!$P$13:$P$85)","v":0},20240402,2414,{"$f":"_xlfn.XLOOKUP(B719,'Trimmer Heads'!$F$13:$F$85,'Trimmer Heads'!$Q$13:$Q$85)","v":0},20240501,2418,{"$f":"_xlfn.XLOOKUP(B719,'Trimmer Heads'!$F$13:$F$85,'Trimmer Heads'!$R$13:$R$85)","v":0},20240603,2423,{"$f":"_xlfn.XLOOKUP(B719,'Trimmer Heads'!$F$13:$F$85,'Trimmer Heads'!$S$13:$S$85)","v":0},{"$f":"_xlfn.XLOOKUP(B719,'Trimmer Heads'!$F$13:$F$85,'Trimmer Heads'!$L$13:$L$85)","v":3.0635999999999997}]
["Trimmer Line",597669202,20240103,2401,{"$f":"_xlfn.XLOOKUP(B720,'Trimmer Heads'!$F$13:$F$85,'Trimmer Heads'!$N$13:$N$85)","v":0},20240201,2405,{"$f":"_xlfn.XLOOKUP(B720,'Trimmer Heads'!$F$13:$F$85,'Trimmer Heads'!$O$13:$O$85)","v":0},20240301,2409,{"$f":"_xlfn.XLOOKUP(B720,'Trimmer Heads'!$F$13:$F$85,'Trimmer Heads'!$P$13:$P$85)","v":0},20240402,2414,{"$f":"_xlfn.XLOOKUP(B720,'Trimmer Heads'!$F$13:$F$85,'Trimmer Heads'!$Q$13:$Q$85)","v":0},20240501,2418,{"$f":"_xlfn.XLOOKUP(B720,'Trimmer Heads'!$F$13:$F$85,'Trimmer Heads'!$R$13:$R$85)","v":0},20240603,2423,{"$f":"_xlfn.XLOOKUP(B720,'Trimmer Heads'!$F$13:$F$85,'Trimmer Heads'!$S$13:$S$85)","v":0},{"$f":"_xlfn.XLOOKUP(B720,'Trimmer Heads'!$F$13:$F$85,'Trimmer Heads'!$L$13:$L$85)","v":9.1953999999999994}]
["Trimmer Line",597669201,20240103,2401,{"$f":"_xlfn.XLOOKUP(B721,'Trimmer Heads'!$F$13:$F$85,'Trimmer Heads'!$N$13:$N$85)","v":0},20240201,2405,{"$f":"_xlfn.XLOOKUP(B721,'Trimmer Heads'!$F$13:$F$85,'Trimmer Heads'!$O$13:$O$85)","v":0},20240301,2409,{"$f":"_xlfn.XLOOKUP(B721,'Trimmer Heads'!$F$13:$F$85,'Trimmer Heads'!$P$13:$P$85)","v":0},20240402,2414,{"$f":"_xlfn.XLOOKUP(B721,'Trimmer Heads'!$F$13:$F$85,'Trimmer Heads'!$Q$13:$Q$85)","v":0},20240501,2418,{"$f":"_xlfn.XLOOKUP(B721,'Trimmer Heads'!$F$13:$F$85,'Trimmer Heads'!$R$13:$R$85)","v":0},20240603,2423,{"$f":"_xlfn.XLOOKUP(B721,'Trimmer Heads'!$F$13:$F$85,'Trimmer Heads'!$S$13:$S$85)","v":0},{"$f":"_xlfn.XLOOKUP(B721,'Trimmer Heads'!$F$13:$F$85,'Trimmer Heads'!$L$13:$L$85)","v":2.6818}]
["Trimmer Line",597669142,20240103,2401,{"$f":"_xlfn.XLOOKUP(B722,'Trimmer Heads'!$F$13:$F$85,'Trimmer Heads'!$N$13:$N$85)","v":0},20240201,2405,{"$f":"_xlfn.XLOOKUP(B722,'Trimmer Heads'!$F$13:$F$85,'Trimmer Heads'!$O$13:$O$85)","v":0},20240301,2409,{"$f":"_xlfn.XLOOKUP(B722,'Trimmer Heads'!$F$13:$F$85,'Trimmer Heads'!$P$13:$P$85)","v":0},20240402,2414,{"$f":"_xlfn.XLOOKUP(B722,'Trimmer Heads'!$F$13:$F$85,'Trimmer Heads'!$Q$13:$Q$85)","v":0},20240501,2418,{"$f":"_xlfn.XLOOKUP(B722,'Trimmer Heads'!$F$13:$F$85,'Trimmer Heads'!$R$13:$R$85)","v":0},20240603,2423,{"$f":"_xlfn.XLOOKUP(B722,'Trimmer Heads'!$F$13:$F$85,'Trimmer Heads'!$S$13:$S$85)","v":0},{"$f":"_xlfn.XLOOKUP(B722,'Trimmer Heads'!$F$13:$F$85,'Trimmer Heads'!$L$13:$L$85)","v":30.663599999999995}]
["Trimmer Line",597669141,20240103,2401,{"$f":"_xlfn.XLOOKUP(B723,'Trimmer Heads'!$F$13:$F$85,'Trimmer Heads'!$N$13:$N$85)","v":0},20240201,2405,{"$f":"_xlfn.XLOOKUP(B723,'Trimmer Heads'!$F$13:$F$85,'Trimmer Heads'!$O$13:$O$85)","v":0},20240301,2409,{"$f":"_xlfn.XLOOKUP(B723,'Trimmer Heads'!$F$13:$F$85,'Trimmer Heads'!$P$13:$P$85)","v":0},20240402,2414,{"$f":"_xlfn.XLOOKUP(B723,'Trimmer Heads'!$F$13:$F$85,'Trimmer Heads'!$Q$13:$Q$85)","v":0},20240501,2418,{"$f":"_xlfn.XLOOKUP(B723,'Trimmer Heads'!$F$13:$F$85,'Trimmer Heads'!$R$13:$R$85)","v":0},20240603,2423,{"$f":"_xlfn.XLOOKUP(B723,'Trimmer Heads'!$F$13:$F$85,'Trimmer Heads'!$S$13:$S$85)","v":0},{"$f":"_xlfn.XLOOKUP(B723,'Trimmer Heads'!$F$13:$F$85,'Trimmer Heads'!$L$13:$L$85)","v":9.1953999999999994}]
["Trimmer Line",597669140,20240103,2401,{"$f":"_xlfn.XLOOKUP(B724,'Trimmer Heads'!$F$13:$F$85,'Trimmer Heads'!$N$13:$N$85)","v":0},20240201,2405,{"$f":"_xlfn.XLOOKUP(B724,'Trimmer Heads'!$F$13:$F$85,'Trimmer Heads'!$O$13:$O$85)","v":0},20240301,2409,{"$f":"_xlfn.XLOOKUP(B724,'Trimmer Heads'!$F$13:$F$85,'Trimmer Heads'!$P$13:$P$85)","v":0},20240402,2414,{"$f":"_xlfn.XLOOKUP(B724,'Trimmer Heads'!$F$13:$F$85,'Trimmer Heads'!$Q$13:$Q$85)","v":0},20240501,2418,{"$f":"_xlfn.XLOOKUP(B724,'Trimmer Heads'!$F$13:$F$85,'Trimmer Heads'!$R$13:$R$85)","v":0},20240603,2423,{"$f":"_xlfn.XLOOKUP(B724,'Trimmer Heads'!$F$13:$F$85,'Trimmer Heads'!$S$13:$S$85)","v":0},{"$f":"_xlfn.XLOOKUP(B724,'Trimmer Heads'!$F$13:$F$85,'Trimmer Heads'!$L$13:$L$85)","v":2.6818}]
["Trimmer Line",597669132,20240103,2401,{"$f":"_xlfn.XLOOKUP(B725,'Trimmer Heads'!$F$13:$F$85,'Trimmer Heads'!$N$13:$N$85)","v":0},20240201,2405,{"$f":"_xlfn.XLOOKUP(B725,'Trimmer Heads'!$F$13:$F$85,'Trimmer Heads'!$O$13:$O$85)","v":0},20240301,2409,{"$f":"_xlfn.XLOOKUP(B725,'Trimmer Heads'!$F$13:$F$85,'Trimmer Heads'!$P$13:$P$85)","v":0},20240402,2414,{"$f":"_xlfn.XLOOKUP(B725,'Trimmer Heads'!$F$13:$F$85,'Trimmer Heads'!$Q$13:$Q$85)","v":0},20240501,2418,{"$f":"_xlfn.XLOOKUP(B725,'Trimmer Heads'!$F$13:$F$85,'Trimmer Heads'!$R$13:$R$85)","v":0},20240603,2423,{"$f":"_xlfn.XLOOKUP(B725,'Trimmer Heads'!$F$13:$F$85,'Trimmer Heads'!$S$13:$S$85)","v":0},{"$f":"_xlfn.XLOOKUP(B725,'Trimmer Heads'!$F$13:$F$85,'Trimmer Heads'!$L$13:$L$85)","v":22.9954}]
["Trimmer Line",597669131,20240103,2401,{"$f":"_xlfn.XLOOKUP(B726,'Trimmer Heads'!$F$13:$F$85,'Trimmer Heads'!$N$13:$N$85)","v":0},20240201,2405,{"$f":"_xlfn.XLOOKUP(B726,'Trimmer Heads'!$F$13:$F$85,'Trimmer Heads'!$O$13:$O$85)","v":0},20240301,2409,{"$f":"_xlfn.XLOOKUP(B726,'Trimmer Heads'!$F$13:$F$85,'Trimmer Heads'!$P$13:$P$85)","v":0},20240402,2414,{"$f":"_xlfn.XLOOKUP(B726,'Trimmer Heads'!$F$13:$F$85,'Trimmer Heads'!$Q$13:$Q$85)","v":0},20240501,2418,{"$f":"_xlfn.XLOOKUP(B726,'Trimmer Heads'!$F$13:$F$85,'Trimmer Heads'!$R$13:$R$85)","v":0},20240603,2423,{"$f":"_xlfn.XLOOKUP(B726,'Trimmer Heads'!$F$13:$F$85,'Trimmer Heads'!$S$13:$S$85)","v":0},{"$f":"_xlfn.XLOOKUP(B726,'Trimmer Heads'!$F$13:$F$85,'Trimmer Heads'!$L$13:$L$85)","v":9.1953999999999994}]
["Trimmer Line",597669130,20240103,2401,{"$f":"_xlfn.XLOOKUP(B727,'Trimmer Heads'!$F$13:$F$85,'Trimmer Heads'!$N$13:$N$85)","v":0},20240201,2405,{"$f":"_xlfn.XLOOKUP(B727,'Trimmer Heads'!$F$13:$F$85,'Trimmer Heads'!$O$13:$O$85)","v":0},20240301,2409,{"$f":"_xlfn.XLOOKUP(B727,'Trimmer Heads'!$F$13:$F$85,'Trimmer Heads'!$P$13:$P$85)","v":0},20240402,2414,{"$f":"_xlfn.XLOOKUP(B727,'Trimmer Heads'!$F$13:$F$85,'Trimmer Heads'!$Q$13:$Q$85)","v":0},20240501,2418,{"$f":"_xlfn.XLOOKUP(B727,'Trimmer Heads'!$F$13:$F$85,'Trimmer Heads'!$R$13:$R$85)","v":0},20240603,2423,{"$f":"_xlfn.XLOOKUP(B727,'Trimmer Heads'!$F$13:$F$85,'Trimmer Heads'!$S$13:$S$85)","v":0},{"$f":"_xlfn.XLOOKUP(B727,'Trimmer Heads'!$F$13:$F$85,'Trimmer Heads'!$L$13:$L$85)","v":2.6818}]
["Trimmer Line",597669122,20240103,2401,{"$f":"_xlfn.XLOOKUP(B728,'Trimmer Heads'!$F$13:$F$85,'Trimmer Heads'!$N$13:$N$85)","v":0},20240201,2405,{"$f":"_xlfn.XLOOKUP(B728,'Trimmer Heads'!$F$13:$F$85,'Trimmer Heads'!$O$13:$O$85)","v":0},20240301,2409,{"$f":"_xlfn.XLOOKUP(B728,'Trimmer Heads'!$F$13:$F$85,'Trimmer Heads'!$P$13:$P$85)","v":0},20240402,2414,{"$f":"_xlfn.XLOOKUP(B728,'Trimmer Heads'!$F$13:$F$85,'Trimmer Heads'!$Q$13:$Q$85)","v":0},20240501,2418,{"$f":"_xlfn.XLOOKUP(B728,'Trimmer Heads'!$F$13:$F$85,'Trimmer Heads'!$R$13:$R$85)","v":0},20240603,2423,{"$f":"_xlfn.XLOOKUP(B728,'Trimmer Heads'!$F$13:$F$85,'Trimmer Heads'!$S$13:$S$85)","v":0},{"$f":"_xlfn.XLOOKUP(B728,'Trimmer Heads'!$F$13:$F$85,'Trimmer Heads'!$L$13:$L$85)","v":21.081799999999998}]
["Trimmer Line",597669121,20240103,2401,{"$f":"_xlfn.XLOOKUP(B729,'Trimmer Heads'!$F$13:$F$85,'Trimmer Heads'!$N$13:$N$85)","v":0},20240201,2405,{"$f":"_xlfn.XLOOKUP(B729,'Trimmer Heads'!$F$13:$F$85,'Trimmer Heads'!$O$13:$O$85)","v":0},20240301,2409,{"$f":"_xlfn.XLOOKUP(B729,'Trimmer Heads'!$F$13:$F$85,'Trimmer Heads'!$P$13:$P$85)","v":0},20240402,2414,{"$f":"_xlfn.XLOOKUP(B729,'Trimmer Heads'!$F$13:$F$85,'Trimmer Heads'!$Q$13:$Q$85)","v":0},20240501,2418,{"$f":"_xlfn.XLOOKUP(B729,'Trimmer Heads'!$F$13:$F$85,'Trimmer Heads'!$R$13:$R$85)","v":0},20240603,2423,{"$f":"_xlfn.XLOOKUP(B729,'Trimmer Heads'!$F$13:$F$85,'Trimmer Heads'!$S$13:$S$85)","v":0},{"$f":"_xlfn.XLOOKUP(B729,'Trimmer Heads'!$F$13:$F$85,'Trimmer Heads'!$L$13:$L$85)","v":9.1953999999999994}]
["Trimmer Line",597669120,20240103,2401,{"$f":"_xlfn.XLOOKUP(B730,'Trimmer Heads'!$F$13:$F$85,'Trimmer Heads'!$N$13:$N$85)","v":0},20240201,2405,{"$f":"_xlfn.XLOOKUP(B730,'Trimmer Heads'!$F$13:$F$85,'Trimmer Heads'!$O$13:$O$85)","v":0},20240301,2409,{"$f":"_xlfn.XLOOKUP(B730,'Trimmer Heads'!$F$13:$F$85,'Trimmer Heads'!$P$13:$P$85)","v":0},20240402,2414,{"$f":"_xlfn.XLOOKUP(B730,'Trimmer Heads'!$F$13:$F$85,'Trimmer Heads'!$Q$13:$Q$85)","v":0},20240501,2418,{"$f":"_xlfn.XLOOKUP(B730,'Trimmer Heads'!$F$13:$F$85,'Trimmer Heads'!$R$13:$R$85)","v":0},20240603,2423,{"$f":"_xlfn.XLOOKUP(B730,'Trimmer Heads'!$F$13:$F$85,'Trimmer Heads'!$S$13:$S$85)","v":0},{"$f":"_xlfn.XLOOKUP(B730,'Trimmer Heads'!$F$13:$F$85,'Trimmer Heads'!$L$13:$L$85)","v":2.6818}]
["Trimmer Line",597669111,20240103,2401,{"$f":"_xlfn.XLOOKUP(B731,'Trimmer Heads'!$F$13:$F$85,'Trimmer Heads'!$N$13:$N$85)","v":0},20240201,2405,{"$f":"_xlfn.XLOOKUP(B731,'Trimmer Heads'!$F$13:$F$85,'Trimmer Heads'!$O$13:$O$85)","v":0},20240301,2409,{"$f":"_xlfn.XLOOKUP(B731,'Trimmer Heads'!$F$13:$F$85,'Trimmer Heads'!$P$13:$P$85)","v":0},20240402,2414,{"$f":"_xlfn.XLOOKUP(B731,'Trimmer Heads'!$F$13:$F$85,'Trimmer Heads'!$Q$13:$Q$85)","v":0},20240501,2418,{"$f":"_xlfn.XLOOKUP(B731,'Trimmer Heads'!$F$13:$F$85,'Trimmer Heads'!$R$13:$R$85)","v":0},20240603,2423,{"$f":"_xlfn.XLOOKUP(B731,'Trimmer Heads'!$F$13:$F$85,'Trimmer Heads'!$S$13:$S$85)","v":0},{"$f":"_xlfn.XLOOKUP(B731,'Trimmer Heads'!$F$13:$F$85,'Trimmer Heads'!$L$13:$L$85)","v":8.8135999999999992}]
["Trimmer Line",597669110,20240103,2401,{"$f":"_xlfn.XLOOKUP(B732,'Trimmer Heads'!$F$13:$F$85,'Trimmer Heads'!$N$13:$N$85)","v":0},20240201,2405,{"$f":"_xlfn.XLOOKUP(B732,'Trimmer Heads'!$F$13:$F$85,'Trimmer Heads'!$O$13:$O$85)","v":0},20240301,2409,{"$f":"_xlfn.XLOOKUP(B732,'Trimmer Heads'!$F$13:$F$85,'Trimmer Heads'!$P$13:$P$85)","v":0},20240402,2414,{"$f":"_xlfn.XLOOKUP(B732,'Trimmer Heads'!$F$13:$F$85,'Trimmer Heads'!$Q$13:$Q$85)","v":0},20240501,2418,{"$f":"_xlfn.XLOOKUP(B732,'Trimmer Heads'!$F$13:$F$85,'Trimmer Heads'!$R$13:$R$85)","v":0},20240603,2423,{"$f":"_xlfn.XLOOKUP(B732,'Trimmer Heads'!$F$13:$F$85,'Trimmer Heads'!$S$13:$S$85)","v":0},{"$f":"_xlfn.XLOOKUP(B732,'Trimmer Heads'!$F$13:$F$85,'Trimmer Heads'!$L$13:$L$85)","v":2.2953999999999999}]
["Trimmer Line",597669101,20240103,2401,{"$f":"_xlfn.XLOOKUP(B733,'Trimmer Heads'!$F$13:$F$85,'Trimmer Heads'!$N$13:$N$85)","v":0},20240201,2405,{"$f":"_xlfn.XLOOKUP(B733,'Trimmer Heads'!$F$13:$F$85,'Trimmer Heads'!$O$13:$O$85)","v":0},20240301,2409,{"$f":"_xlfn.XLOOKUP(B733,'Trimmer Heads'!$F$13:$F$85,'Trimmer Heads'!$P$13:$P$85)","v":0},20240402,2414,{"$f":"_xlfn.XLOOKUP(B733,'Trimmer Heads'!$F$13:$F$85,'Trimmer Heads'!$Q$13:$Q$85)","v":0},20240501,2418,{"$f":"_xlfn.XLOOKUP(B733,'Trimmer Heads'!$F$13:$F$85,'Trimmer Heads'!$R$13:$R$85)","v":0},20240603,2423,{"$f":"_xlfn.XLOOKUP(B733,'Trimmer Heads'!$F$13:$F$85,'Trimmer Heads'!$S$13:$S$85)","v":0},{"$f":"_xlfn.XLOOKUP(B733,'Trimmer Heads'!$F$13:$F$85,'Trimmer Heads'!$L$13:$L$85)","v":2.2953999999999999}]
["Trimmer Line",597669030,20240103,2401,{"$f":"_xlfn.XLOOKUP(B734,'Trimmer Heads'!$F$13:$F$85,'Trimmer Heads'!$N$13:$N$85)","v":0},20240201,2405,{"$f":"_xlfn.XLOOKUP(B734,'Trimmer Heads'!$F$13:$F$85,'Trimmer Heads'!$O$13:$O$85)","v":0},20240301,2409,{"$f":"_xlfn.XLOOKUP(B734,'Trimmer Heads'!$F$13:$F$85,'Trimmer Heads'!$P$13:$P$85)","v":0},20240402,2414,{"$f":"_xlfn.XLOOKUP(B734,'Trimmer Heads'!$F$13:$F$85,'Trimmer Heads'!$Q$13:$Q$85)","v":0},20240501,2418,{"$f":"_xlfn.XLOOKUP(B734,'Trimmer Heads'!$F$13:$F$85,'Trimmer Heads'!$R$13:$R$85)","v":0},20240603,2423,{"$f":"_xlfn.XLOOKUP(B734,'Trimmer Heads'!$F$13:$F$85,'Trimmer Heads'!$S$13:$S$85)","v":0},{"$f":"_xlfn.XLOOKUP(B734,'Trimmer Heads'!$F$13:$F$85,'Trimmer Heads'!$L$13:$L$85)","v":9.5817999999999977}]
["Trimmer Line",597669021,20240103,2401,{"$f":"_xlfn.XLOOKUP(B735,'Trimmer Heads'!$F$13:$F$85,'Trimmer Heads'!$N$13:$N$85)","v":0},20240201,2405,{"$f":"_xlfn.XLOOKUP(B735,'Trimmer Heads'!$F$13:$F$85,'Trimmer Heads'!$O$13:$O$85)","v":0},20240301,2409,{"$f":"_xlfn.XLOOKUP(B735,'Trimmer Heads'!$F$13:$F$85,'Trimmer Heads'!$P$13:$P$85)","v":0},20240402,2414,{"$f":"_xlfn.XLOOKUP(B735,'Trimmer Heads'!$F$13:$F$85,'Trimmer Heads'!$Q$13:$Q$85)","v":0},20240501,2418,{"$f":"_xlfn.XLOOKUP(B735,'Trimmer Heads'!$F$13:$F$85,'Trimmer Heads'!$R$13:$R$85)","v":0},20240603,2423,{"$f":"_xlfn.XLOOKUP(B735,'Trimmer Heads'!$F$13:$F$85,'Trimmer Heads'!$S$13:$S$85)","v":0},{"$f":"_xlfn.XLOOKUP(B735,'Trimmer Heads'!$F$13:$F$85,'Trimmer Heads'!$L$13:$L$85)","v":21.081799999999998}]
["Trimmer Line",597669020,20240103,2401,{"$f":"_xlfn.XLOOKUP(B736,'Trimmer Heads'!$F$13:$F$85,'Trimmer Heads'!$N$13:$N$85)","v":0},20240201,2405,{"$f":"_xlfn.XLOOKUP(B736,'Trimmer Heads'!$F$13:$F$85,'Trimmer Heads'!$O$13:$O$85)","v":0},20240301,2409,{"$f":"_xlfn.XLOOKUP(B736,'Trimmer Heads'!$F$13:$F$85,'Trimmer Heads'!$P$13:$P$85)","v":0},20240402,2414,{"$f":"_xlfn.XLOOKUP(B736,'Trimmer Heads'!$F$13:$F$85,'Trimmer Heads'!$Q$13:$Q$85)","v":0},20240501,2418,{"$f":"_xlfn.XLOOKUP(B736,'Trimmer Heads'!$F$13:$F$85,'Trimmer Heads'!$R$13:$R$85)","v":0},20240603,2423,{"$f":"_xlfn.XLOOKUP(B736,'Trimmer Heads'!$F$13:$F$85,'Trimmer Heads'!$S$13:$S$85)","v":0},{"$f":"_xlfn.XLOOKUP(B736,'Trimmer Heads'!$F$13:$F$85,'Trimmer Heads'!$L$13:$L$85)","v":6.5135999999999994}]
["Trimmer Line",597669011,20240103,2401,{"$f":"_xlfn.XLOOKUP(B737,'Trimmer Heads'!$F$13:$F$85,'Trimmer Heads'!$N$13:$N$85)","v":0},20240201,2405,{"$f":"_xlfn.XLOOKUP(B737,'Trimmer Heads'!$F$13:$F$85,'Trimmer Heads'!$O$13:$O$85)","v":0},20240301,2409,{"$f":"_xlfn.XLOOKUP(B737,'Trimmer Heads'!$F$13:$F$85,'Trimmer Heads'!$P$13:$P$85)","v":0},20240402,2414,{"$f":"_xlfn.XLOOKUP(B737,'Trimmer Heads'!$F$13:$F$85,'Trimmer Heads'!$Q$13:$Q$85)","v":0},20240501,2418,{"$f":"_xlfn.XLOOKUP(B737,'Trimmer Heads'!$F$13:$F$85,'Trimmer Heads'!$R$13:$R$85)","v":0},20240603,2423,{"$f":"_xlfn.XLOOKUP(B737,'Trimmer Heads'!$F$13:$F$85,'Trimmer Heads'!$S$13:$S$85)","v":0},{"$f":"_xlfn.XLOOKUP(B737,'Trimmer Heads'!$F$13:$F$85,'Trimmer Heads'!$L$13:$L$85)","v":17.2454}]
["Trimmer Line",597669010,20240103,2401,{"$f":"_xlfn.XLOOKUP(B738,'Trimmer Heads'!$F$13:$F$85,'Trimmer Heads'!$N$13:$N$85)","v":0},20240201,2405,{"$f":"_xlfn.XLOOKUP(B738,'Trimmer Heads'!$F$13:$F$85,'Trimmer Heads'!$O$13:$O$85)","v":0},20240301,2409,{"$f":"_xlfn.XLOOKUP(B738,'Trimmer Heads'!$F$13:$F$85,'Trimmer Heads'!$P$13:$P$85)","v":0},20240402,2414,{"$f":"_xlfn.XLOOKUP(B738,'Trimmer Heads'!$F$13:$F$85,'Trimmer Heads'!$Q$13:$Q$85)","v":0},20240501,2418,{"$f":"_xlfn.XLOOKUP(B738,'Trimmer Heads'!$F$13:$F$85,'Trimmer Heads'!$R$13:$R$85)","v":0},20240603,2423,{"$f":"_xlfn.XLOOKUP(B738,'Trimmer Heads'!$F$13:$F$85,'Trimmer Heads'!$S$13:$S$85)","v":0},{"$f":"_xlfn.XLOOKUP(B738,'Trimmer Heads'!$F$13:$F$85,'Trimmer Heads'!$L$13:$L$85)","v":6.5135999999999994}]
["Trimmer Line",597669002,20240103,2401,{"$f":"_xlfn.XLOOKUP(B739,'Trimmer Heads'!$F$13:$F$85,'Trimmer Heads'!$N$13:$N$85)","v":0},20240201,2405,{"$f":"_xlfn.XLOOKUP(B739,'Trimmer Heads'!$F$13:$F$85,'Trimmer Heads'!$O$13:$O$85)","v":0},20240301,2409,{"$f":"_xlfn.XLOOKUP(B739,'Trimmer Heads'!$F$13:$F$85,'Trimmer Heads'!$P$13:$P$85)","v":0},20240402,2414,{"$f":"_xlfn.XLOOKUP(B739,'Trimmer Heads'!$F$13:$F$85,'Trimmer Heads'!$Q$13:$Q$85)","v":0},20240501,2418,{"$f":"_xlfn.XLOOKUP(B739,'Trimmer Heads'!$F$13:$F$85,'Trimmer Heads'!$R$13:$R$85)","v":0},20240603,2423,{"$f":"_xlfn.XLOOKUP(B739,'Trimmer Heads'!$F$13:$F$85,'Trimmer Heads'!$S$13:$S$85)","v":0},{"$f":"_xlfn.XLOOKUP(B739,'Trimmer Heads'!$F$13:$F$85,'Trimmer Heads'!$L$13:$L$85)","v":14.563599999999997}]
["Trimmer Line",597669001,20240103,2401,{"$f":"_xlfn.XLOOKUP(B740,'Trimmer Heads'!$F$13:$F$85,'Trimmer Heads'!$N$13:$N$85)","v":0},20240201,2405,{"$f":"_xlfn.XLOOKUP(B740,'Trimmer Heads'!$F$13:$F$85,'Trimmer Heads'!$O$13:$O$85)","v":0},20240301,2409,{"$f":"_xlfn.XLOOKUP(B740,'Trimmer Heads'!$F$13:$F$85,'Trimmer Heads'!$P$13:$P$85)","v":0},20240402,2414,{"$f":"_xlfn.XLOOKUP(B740,'Trimmer Heads'!$F$13:$F$85,'Trimmer Heads'!$Q$13:$Q$85)","v":0},20240501,2418,{"$f":"_xlfn.XLOOKUP(B740,'Trimmer Heads'!$F$13:$F$85,'Trimmer Heads'!$R$13:$R$85)","v":0},20240603,2423,{"$f":"_xlfn.XLOOKUP(B740,'Trimmer Heads'!$F$13:$F$85,'Trimmer Heads'!$S$13:$S$85)","v":0},{"$f":"_xlfn.XLOOKUP(B740,'Trimmer Heads'!$F$13:$F$85,'Trimmer Heads'!$L$13:$L$85)","v":6.5135999999999994}]
["Trimmer Line",597668932,20240103,2401,{"$f":"_xlfn.XLOOKUP(B741,'Trimmer Heads'!$F$13:$F$85,'Trimmer Heads'!$N$13:$N$85)","v":0},20240201,2405,{"$f":"_xlfn.XLOOKUP(B741,'Trimmer Heads'!$F$13:$F$85,'Trimmer Heads'!$O$13:$O$85)","v":0},20240301,2409,{"$f":"_xlfn.XLOOKUP(B741,'Trimmer Heads'!$F$13:$F$85,'Trimmer Heads'!$P$13:$P$85)","v":0},20240402,2414,{"$f":"_xlfn.XLOOKUP(B741,'Trimmer Heads'!$F$13:$F$85,'Trimmer Heads'!$Q$13:$Q$85)","v":0},20240501,2418,{"$f":"_xlfn.XLOOKUP(B741,'Trimmer Heads'!$F$13:$F$85,'Trimmer Heads'!$R$13:$R$85)","v":0},20240603,2423,{"$f":"_xlfn.XLOOKUP(B741,'Trimmer Heads'!$F$13:$F$85,'Trimmer Heads'!$S$13:$S$85)","v":0},{"$f":"_xlfn.XLOOKUP(B741,'Trimmer Heads'!$F$13:$F$85,'Trimmer Heads'!$L$13:$L$85)","v":47.913599999999995}]
["Trimmer Line",597668931,20240103,2401,{"$f":"_xlfn.XLOOKUP(B742,'Trimmer Heads'!$F$13:$F$85,'Trimmer Heads'!$N$13:$N$85)","v":0},20240201,2405,{"$f":"_xlfn.XLOOKUP(B742,'Trimmer Heads'!$F$13:$F$85,'Trimmer Heads'!$O$13:$O$85)","v":0},20240301,2409,{"$f":"_xlfn.XLOOKUP(B742,'Trimmer Heads'!$F$13:$F$85,'Trimmer Heads'!$P$13:$P$85)","v":0},20240402,2414,{"$f":"_xlfn.XLOOKUP(B742,'Trimmer Heads'!$F$13:$F$85,'Trimmer Heads'!$Q$13:$Q$85)","v":0},20240501,2418,{"$f":"_xlfn.XLOOKUP(B742,'Trimmer Heads'!$F$13:$F$85,'Trimmer Heads'!$R$13:$R$85)","v":0},20240603,2423,{"$f":"_xlfn.XLOOKUP(B742,'Trimmer Heads'!$F$13:$F$85,'Trimmer Heads'!$S$13:$S$85)","v":0},{"$f":"_xlfn.XLOOKUP(B742,'Trimmer Heads'!$F$13:$F$85,'Trimmer Heads'!$L$13:$L$85)","v":22.9954}]
["Trimmer Line",597668930,20240103,2401,{"$f":"_xlfn.XLOOKUP(B743,'Trimmer Heads'!$F$13:$F$85,'Trimmer Heads'!$N$13:$N$85)","v":0},20240201,2405,{"$f":"_xlfn.XLOOKUP(B743,'Trimmer Heads'!$F$13:$F$85,'Trimmer Heads'!$O$13:$O$85)","v":0},20240301,2409,{"$f":"_xlfn.XLOOKUP(B743,'Trimmer Heads'!$F$13:$F$85,'Trimmer Heads'!$P$13:$P$85)","v":0},20240402,2414,{"$f":"_xlfn.XLOOKUP(B743,'Trimmer Heads'!$F$13:$F$85,'Trimmer Heads'!$Q$13:$Q$85)","v":0},20240501,2418,{"$f":"_xlfn.XLOOKUP(B743,'Trimmer Heads'!$F$13:$F$85,'Trimmer Heads'!$R$13:$R$85)","v":0},20240603,2423,{"$f":"_xlfn.XLOOKUP(B743,'Trimmer Heads'!$F$13:$F$85,'Trimmer Heads'!$S$13:$S$85)","v":0},{"$f":"_xlfn.XLOOKUP(B743,'Trimmer Heads'!$F$13:$F$85,'Trimmer Heads'!$L$13:$L$85)","v":9.5817999999999977}]
["Trimmer Line",597668922,20240103,2401,{"$f":"_xlfn.XLOOKUP(B744,'Trimmer Heads'!$F$13:$F$85,'Trimmer Heads'!$N$13:$N$85)","v":0},20240201,2405,{"$f":"_xlfn.XLOOKUP(B744,'Trimmer Heads'!$F$13:$F$85,'Trimmer Heads'!$O$13:$O$85)","v":0},20240301,2409,{"$f":"_xlfn.XLOOKUP(B744,'Trimmer Heads'!$F$13:$F$85,'Trimmer Heads'!$P$13:$P$85)","v":0},20240402,2414,{"$f":"_xlfn.XLOOKUP(B744,'Trimmer Heads'!$F$13:$F$85,'Trimmer Heads'!$Q$13:$Q$85)","v":0},20240501,2418,{"$f":"_xlfn.XLOOKUP(B744,'Trimmer Heads'!$F$13:$F$85,'Trimmer Heads'!$R$13:$R$85)","v":0},20240603,2423,{"$f":"_xlfn.XLOOKUP(B744,'Trimmer Heads'!$F$13:$F$85,'Trimmer Heads'!$S$13:$S$85)","v":0},{"$f":"_xlfn.XLOOKUP(B744,'Trimmer Heads'!$F$13:$F$85,'Trimmer Heads'!$L$13:$L$85)","v":45.613599999999998}]
["Trimmer Line",597668921,20240103,2401,{"$f":"_xlfn.XLOOKUP(B745,'Trimmer Heads'!$F$13:$F$85,'Trimmer Heads'!$N$13:$N$85)","v":0},20240201,2405,{"$f":"_xlfn.XLOOKUP(B745,'Trimmer Heads'!$F$13:$F$85,'Trimmer Heads'!$O$13:$O$85)","v":0},20240301,2409,{"$f":"_xlfn.XLOOKUP(B745,'Trimmer Heads'!$F$13:$F$85,'Trimmer Heads'!$P$13:$P$85)","v":0},20240402,2414,{"$f":"_xlfn.XLOOKUP(B745,'Trimmer Heads'!$F$13:$F$85,'Trimmer Heads'!$Q$13:$Q$85)","v":0},20240501,2418,{"$f":"_xlfn.XLOOKUP(B745,'Trimmer Heads'!$F$13:$F$85,'Trimmer Heads'!$R$13:$R$85)","v":0},20240603,2423,{"$f":"_xlfn.XLOOKUP(B745,'Trimmer Heads'!$F$13:$F$85,'Trimmer Heads'!$S$13:$S$85)","v":0},{"$f":"_xlfn.XLOOKUP(B745,'Trimmer Heads'!$F$13:$F$85,'Trimmer Heads'!$L$13:$L$85)","v":24.913599999999995}]
["Trimmer Line",597668920,20240103,2401,{"$f":"_xlfn.XLOOKUP(B746,'Trimmer Heads'!$F$13:$F$85,'Trimmer Heads'!$N$13:$N$85)","v":0},20240201,2405,{"$f":"_xlfn.XLOOKUP(B746,'Trimmer Heads'!$F$13:$F$85,'Trimmer Heads'!$O$13:$O$85)","v":0},20240301,2409,{"$f":"_xlfn.XLOOKUP(B746,'Trimmer Heads'!$F$13:$F$85,'Trimmer Heads'!$P$13:$P$85)","v":0},20240402,2414,{"$f":"_xlfn.XLOOKUP(B746,'Trimmer Heads'!$F$13:$F$85,'Trimmer Heads'!$Q$13:$Q$85)","v":0},20240501,2418,{"$f":"_xlfn.XLOOKUP(B746,'Trimmer Heads'!$F$13:$F$85,'Trimmer Heads'!$R$13:$R$85)","v":0},20240603,2423,{"$f":"_xlfn.XLOOKUP(B746,'Trimmer Heads'!$F$13:$F$85,'Trimmer Heads'!$S$13:$S$85)","v":0},{"$f":"_xlfn.XLOOKUP(B746,'Trimmer Heads'!$F$13:$F$85,'Trimmer Heads'!$L$13:$L$85)","v":6.5135999999999994}]
["Trimmer Line",597668911,20240103,2401,{"$f":"_xlfn.XLOOKUP(B747,'Trimmer Heads'!$F$13:$F$85,'Trimmer Heads'!$N$13:$N$85)","v":0},20240201,2405,{"$f":"_xlfn.XLOOKUP(B747,'Trimmer Heads'!$F$13:$F$85,'Trimmer Heads'!$O$13:$O$85)","v":0},20240301,2409,{"$f":"_xlfn.XLOOKUP(B747,'Trimmer Heads'!$F$13:$F$85,'Trimmer Heads'!$P$13:$P$85)","v":0},20240402,2414,{"$f":"_xlfn.XLOOKUP(B747,'Trimmer Heads'!$F$13:$F$85,'Trimmer Heads'!$Q$13:$Q$85)","v":0},20240501,2418,{"$f":"_xlfn.XLOOKUP(B747,'Trimmer Heads'!$F$13:$F$85,'Trimmer Heads'!$R$13:$R$85)","v":0},20240603,2423,{"$f":"_xlfn.XLOOKUP(B747,'Trimmer Heads'!$F$13:$F$85,'Trimmer Heads'!$S$13:$S$85)","v":0},{"$f":"_xlfn.XLOOKUP(B747,'Trimmer Heads'!$F$13:$F$85,'Trimmer Heads'!$L$13:$L$85)","v":14.563599999999997}]
["Trimmer Line",597668910,20240103,2401,{"$f":"_xlfn.XLOOKUP(B748,'Trimmer Heads'!$F$13:$F$85,'Trimmer Heads'!$N$13:$N$85)","v":0},20240201,2405,{"$f":"_xlfn.XLOOKUP(B748,'Trimmer Heads'!$F$13:$F$85,'Trimmer Heads'!$O$13:$O$85)","v":0},20240301,2409,{"$f":"_xlfn.XLOOKUP(B748,'Trimmer Heads'!$F$13:$F$85,'Trimmer Heads'!$P$13:$P$85)","v":0},20240402,2414,{"$f":"_xlfn.XLOOKUP(B748,'Trimmer Heads'!$F$13:$F$85,'Trimmer Heads'!$Q$13:$Q$85)","v":0},20240501,2418,{"$f":"_xlfn.XLOOKUP(B748,'Trimmer Heads'!$F$13:$F$85,'Trimmer Heads'!$R$13:$R$85)","v":0},20240603,2423,{"$f":"_xlfn.XLOOKUP(B748,'Trimmer Heads'!$F$13:$F$85,'Trimmer Heads'!$S$13:$S$85)","v":0},{"$f":"_xlfn.XLOOKUP(B748,'Trimmer Heads'!$F$13:$F$85,'Trimmer Heads'!$L$13:$L$85)","v":6.5135999999999994}]
["Trimmer Line",597668902,20240103,2401,{"$f":"_xlfn.XLOOKUP(B749,'Trimmer Heads'!$F$13:$F$85,'Trimmer Heads'!$N$13:$N$85)","v":0},20240201,2405,{"$f":"_xlfn.XLOOKUP(B749,'Trimmer Heads'!$F$13:$F$85,'Trimmer Heads'!$O$13:$O$85)","v":0},20240301,2409,{"$f":"_xlfn.XLOOKUP(B749,'Trimmer Heads'!$F$13:$F$85,'Trimmer Heads'!$P$13:$P$85)","v":0},20240402,2414,{"$f":"_xlfn.XLOOKUP(B749,'Trimmer Heads'!$F$13:$F$85,'Trimmer Heads'!$Q$13:$Q$85)","v":0},20240501,2418,{"$f":"_xlfn.XLOOKUP(B749,'Trimmer Heads'!$F$13:$F$85,'Trimmer Heads'!$R$13:$R$85)","v":0},20240603,2423,{"$f":"_xlfn.XLOOKUP(B749,'Trimmer Heads'!$F$13:$F$85,'Trimmer Heads'!$S$13:$S$85)","v":0},{"$f":"_xlfn.XLOOKUP(B749,'Trimmer Heads'!$F$13:$F$85,'Trimmer Heads'!$L$13:$L$85)","v":14.563599999999997}]
["Trimmer Line",597668901,20240103,2401,{"$f":"_xlfn.XLOOKUP(B750,'Trimmer Heads'!$F$13:$F$85,'Trimmer Heads'!$N$13:$N$85)","v":0},20240201,2405,{"$f":"_xlfn.XLOOKUP(B750,'Trimmer Heads'!$F$13:$F$85,'Trimmer Heads'!$O$13:$O$85)","v":0},20240301,2409,{"$f":"_xlfn.XLOOKUP(B750,'Trimmer Heads'!$F$13:$F$85,'Trimmer Heads'!$P$13:$P$85)","v":0},20240402,2414,{"$f":"_xlfn.XLOOKUP(B750,'Trimmer Heads'!$F$13:$F$85,'Trimmer Heads'!$Q$13:$Q$85)","v":0},20240501,2418,{"$f":"_xlfn.XLOOKUP(B750,'Trimmer Heads'!$F$13:$F$85,'Trimmer Heads'!$R$13:$R$85)","v":0},20240603,2423,{"$f":"_xlfn.XLOOKUP(B750,'Trimmer Heads'!$F$13:$F$85,'Trimmer Heads'!$S$13:$S$85)","v":0},{"$f":"_xlfn.XLOOKUP(B750,'Trimmer Heads'!$F$13:$F$85,'Trimmer Heads'!$L$13:$L$85)","v":6.5135999999999994}]
["Trimmer Line",597668861,20240103,2401,{"$f":"_xlfn.XLOOKUP(B751,'Trimmer Heads'!$F$13:$F$85,'Trimmer Heads'!$N$13:$N$85)","v":0},20240201,2405,{"$f":"_xlfn.XLOOKUP(B751,'Trimmer Heads'!$F$13:$F$85,'Trimmer Heads'!$O$13:$O$85)","v":0},20240301,2409,{"$f":"_xlfn.XLOOKUP(B751,'Trimmer Heads'!$F$13:$F$85,'Trimmer Heads'!$P$13:$P$85)","v":0},20240402,2414,{"$f":"_xlfn.XLOOKUP(B751,'Trimmer Heads'!$F$13:$F$85,'Trimmer Heads'!$Q$13:$Q$85)","v":0},20240501,2418,{"$f":"_xlfn.XLOOKUP(B751,'Trimmer Heads'!$F$13:$F$85,'Trimmer Heads'!$R$13:$R$85)","v":0},20240603,2423,{"$f":"_xlfn.XLOOKUP(B751,'Trimmer Heads'!$F$13:$F$85,'Trimmer Heads'!$S$13:$S$85)","v":0},{"$f":"_xlfn.XLOOKUP(B751,'Trimmer Heads'!$F$13:$F$85,'Trimmer Heads'!$L$13:$L$85)","v":36.413599999999995}]
["Trimmer Line",597668860,20240103,2401,{"$f":"_xlfn.XLOOKUP(B752,'Trimmer Heads'!$F$13:$F$85,'Trimmer Heads'!$N$13:$N$85)","v":0},20240201,2405,{"$f":"_xlfn.XLOOKUP(B752,'Trimmer Heads'!$F$13:$F$85,'Trimmer Heads'!$O$13:$O$85)","v":0},20240301,2409,{"$f":"_xlfn.XLOOKUP(B752,'Trimmer Heads'!$F$13:$F$85,'Trimmer Heads'!$P$13:$P$85)","v":0},20240402,2414,{"$f":"_xlfn.XLOOKUP(B752,'Trimmer Heads'!$F$13:$F$85,'Trimmer Heads'!$Q$13:$Q$85)","v":0},20240501,2418,{"$f":"_xlfn.XLOOKUP(B752,'Trimmer Heads'!$F$13:$F$85,'Trimmer Heads'!$R$13:$R$85)","v":0},20240603,2423,{"$f":"_xlfn.XLOOKUP(B752,'Trimmer Heads'!$F$13:$F$85,'Trimmer Heads'!$S$13:$S$85)","v":0},{"$f":"_xlfn.XLOOKUP(B752,'Trimmer Heads'!$F$13:$F$85,'Trimmer Heads'!$L$13:$L$85)","v":13.413599999999999}]
["Trimmer Line",597668852,20240103,2401,{"$f":"_xlfn.XLOOKUP(B753,'Trimmer Heads'!$F$13:$F$85,'Trimmer Heads'!$N$13:$N$85)","v":0},20240201,2405,{"$f":"_xlfn.XLOOKUP(B753,'Trimmer Heads'!$F$13:$F$85,'Trimmer Heads'!$O$13:$O$85)","v":0},20240301,2409,{"$f":"_xlfn.XLOOKUP(B753,'Trimmer Heads'!$F$13:$F$85,'Trimmer Heads'!$P$13:$P$85)","v":0},20240402,2414,{"$f":"_xlfn.XLOOKUP(B753,'Trimmer Heads'!$F$13:$F$85,'Trimmer Heads'!$Q$13:$Q$85)","v":0},20240501,2418,{"$f":"_xlfn.XLOOKUP(B753,'Trimmer Heads'!$F$13:$F$85,'Trimmer Heads'!$R$13:$R$85)","v":0},20240603,2423,{"$f":"_xlfn.XLOOKUP(B753,'Trimmer Heads'!$F$13:$F$85,'Trimmer Heads'!$S$13:$S$85)","v":0},{"$f":"_xlfn.XLOOKUP(B753,'Trimmer Heads'!$F$13:$F$85,'Trimmer Heads'!$L$13:$L$85)","v":49.445399999999992}]
["Trimmer Line",597668851,20240103,2401,{"$f":"_xlfn.XLOOKUP(B754,'Trimmer Heads'!$F$13:$F$85,'Trimmer Heads'!$N$13:$N$85)","v":0},20240201,2405,{"$f":"_xlfn.XLOOKUP(B754,'Trimmer Heads'!$F$13:$F$85,'Trimmer Heads'!$O$13:$O$85)","v":0},20240301,2409,{"$f":"_xlfn.XLOOKUP(B754,'Trimmer Heads'!$F$13:$F$85,'Trimmer Heads'!$P$13:$P$85)","v":0},20240402,2414,{"$f":"_xlfn.XLOOKUP(B754,'Trimmer Heads'!$F$13:$F$85,'Trimmer Heads'!$Q$13:$Q$85)","v":0},20240501,2418,{"$f":"_xlfn.XLOOKUP(B754,'Trimmer Heads'!$F$13:$F$85,'Trimmer Heads'!$R$13:$R$85)","v":0},20240603,2423,{"$f":"_xlfn.XLOOKUP(B754,'Trimmer Heads'!$F$13:$F$85,'Trimmer Heads'!$S$13:$S$85)","v":0},{"$f":"_xlfn.XLOOKUP(B754,'Trimmer Heads'!$F$13:$F$85,'Trimmer Heads'!$L$13:$L$85)","v":24.913599999999995}]
["Trimmer Line",597668850,20240103,2401,{"$f":"_xlfn.XLOOKUP(B755,'Trimmer Heads'!$F$13:$F$85,'Trimmer Heads'!$N$13:$N$85)","v":0},20240201,2405,{"$f":"_xlfn.XLOOKUP(B755,'Trimmer Heads'!$F$13:$F$85,'Trimmer Heads'!$O$13:$O$85)","v":0},20240301,2409,{"$f":"_xlfn.XLOOKUP(B755,'Trimmer Heads'!$F$13:$F$85,'Trimmer Heads'!$P$13:$P$85)","v":0},20240402,2414,{"$f":"_xlfn.XLOOKUP(B755,'Trimmer Heads'!$F$13:$F$85,'Trimmer Heads'!$Q$13:$Q$85)","v":0},20240501,2418,{"$f":"_xlfn.XLOOKUP(B755,'Trimmer Heads'!$F$13:$F$85,'Trimmer Heads'!$R$13:$R$85)","v":0},20240603,2423,{"$f":"_xlfn.XLOOKUP(B755,'Trimmer Heads'!$F$13:$F$85,'Trimmer Heads'!$S$13:$S$85)","v":0},{"$f":"_xlfn.XLOOKUP(B755,'Trimmer Heads'!$F$13:$F$85,'Trimmer Heads'!$L$13:$L$85)","v":9.5817999999999977}]
["Trimmer Line",597668843,20240103,2401,{"$f":"_xlfn.XLOOKUP(B756,'Trimmer Heads'!$F$13:$F$85,'Trimmer Heads'!$N$13:$N$85)","v":0},20240201,2405,{"$f":"_xlfn.XLOOKUP(B756,'Trimmer Heads'!$F$13:$F$85,'Trimmer Heads'!$O$13:$O$85)","v":0},20240301,2409,{"$f":"_xlfn.XLOOKUP(B756,'Trimmer Heads'!$F$13:$F$85,'Trimmer Heads'!$P$13:$P$85)","v":0},20240402,2414,{"$f":"_xlfn.XLOOKUP(B756,'Trimmer Heads'!$F$13:$F$85,'Trimmer Heads'!$Q$13:$Q$85)","v":0},20240501,2418,{"$f":"_xlfn.XLOOKUP(B756,'Trimmer Heads'!$F$13:$F$85,'Trimmer Heads'!$R$13:$R$85)","v":0},20240603,2423,{"$f":"_xlfn.XLOOKUP(B756,'Trimmer Heads'!$F$13:$F$85,'Trimmer Heads'!$S$13:$S$85)","v":0},{"$f":"_xlfn.XLOOKUP(B756,'Trimmer Heads'!$F$13:$F$85,'Trimmer Heads'!$L$13:$L$85)","v":45.613599999999998}]
["Trimmer Line",597668842,20240103,2401,{"$f":"_xlfn.XLOOKUP(B757,'Trimmer Heads'!$F$13:$F$85,'Trimmer Heads'!$N$13:$N$85)","v":0},20240201,2405,{"$f":"_xlfn.XLOOKUP(B757,'Trimmer Heads'!$F$13:$F$85,'Trimmer Heads'!$O$13:$O$85)","v":0},20240301,2409,{"$f":"_xlfn.XLOOKUP(B757,'Trimmer Heads'!$F$13:$F$85,'Trimmer Heads'!$P$13:$P$85)","v":0},20240402,2414,{"$f":"_xlfn.XLOOKUP(B757,'Trimmer Heads'!$F$13:$F$85,'Trimmer Heads'!$Q$13:$Q$85)","v":0},20240501,2418,{"$f":"_xlfn.XLOOKUP(B757,'Trimmer Heads'!$F$13:$F$85,'Trimmer Heads'!$R$13:$R$85)","v":0},20240603,2423,{"$f":"_xlfn.XLOOKUP(B757,'Trimmer Heads'!$F$13:$F$85,'Trimmer Heads'!$S$13:$S$85)","v":0},{"$f":"_xlfn.XLOOKUP(B757,'Trimmer Heads'!$F$13:$F$85,'Trimmer Heads'!$L$13:$L$85)","v":21.081799999999998}]
["Trimmer Line",597668841,20240103,2401,{"$f":"_xlfn.XLOOKUP(B758,'Trimmer Heads'!$F$13:$F$85,'Trimmer Heads'!$N$13:$N$85)","v":0},20240201,2405,{"$f":"_xlfn.XLOOKUP(B758,'Trimmer Heads'!$F$13:$F$85,'Trimmer Heads'!$O$13:$O$85)","v":0},20240301,2409,{"$f":"_xlfn.XLOOKUP(B758,'Trimmer Heads'!$F$13:$F$85,'Trimmer Heads'!$P$13:$P$85)","v":0},20240402,2414,{"$f":"_xlfn.XLOOKUP(B758,'Trimmer Heads'!$F$13:$F$85,'Trimmer Heads'!$Q$13:$Q$85)","v":0},20240501,2418,{"$f":"_xlfn.XLOOKUP(B758,'Trimmer Heads'!$F$13:$F$85,'Trimmer Heads'!$R$13:$R$85)","v":0},20240603,2423,{"$f":"_xlfn.XLOOKUP(B758,'Trimmer Heads'!$F$13:$F$85,'Trimmer Heads'!$S$13:$S$85)","v":0},{"$f":"_xlfn.XLOOKUP(B758,'Trimmer Heads'!$F$13:$F$85,'Trimmer Heads'!$L$13:$L$85)","v":6.5135999999999994}]
["Trimmer Line",597668840,20240103,2401,{"$f":"_xlfn.XLOOKUP(B759,'Trimmer Heads'!$F$13:$F$85,'Trimmer Heads'!$N$13:$N$85)","v":0},20240201,2405,{"$f":"_xlfn.XLOOKUP(B759,'Trimmer Heads'!$F$13:$F$85,'Trimmer Heads'!$O$13:$O$85)","v":0},20240301,2409,{"$f":"_xlfn.XLOOKUP(B759,'Trimmer Heads'!$F$13:$F$85,'Trimmer Heads'!$P$13:$P$85)","v":0},20240402,2414,{"$f":"_xlfn.XLOOKUP(B759,'Trimmer Heads'!$F$13:$F$85,'Trimmer Heads'!$Q$13:$Q$85)","v":0},20240501,2418,{"$f":"_xlfn.XLOOKUP(B759,'Trimmer Heads'!$F$13:$F$85,'Trimmer Heads'!$R$13:$R$85)","v":0},20240603,2423,{"$f":"_xlfn.XLOOKUP(B759,'Trimmer Heads'!$F$13:$F$85,'Trimmer Heads'!$S$13:$S$85)","v":0},{"$f":"_xlfn.XLOOKUP(B759,'Trimmer Heads'!$F$13:$F$85,'Trimmer Heads'!$L$13:$L$85)","v":1.9135999999999997}]
["Trimmer Line",597668832,20240103,2401,{"$f":"_xlfn.XLOOKUP(B760,'Trimmer Heads'!$F$13:$F$85,'Trimmer Heads'!$N$13:$N$85)","v":0},20240201,2405,{"$f":"_xlfn.XLOOKUP(B760,'Trimmer Heads'!$F$13:$F$85,'Trimmer Heads'!$O$13:$O$85)","v":0},20240301,2409,{"$f":"_xlfn.XLOOKUP(B760,'Trimmer Heads'!$F$13:$F$85,'Trimmer Heads'!$P$13:$P$85)","v":0},20240402,2414,{"$f":"_xlfn.XLOOKUP(B760,'Trimmer Heads'!$F$13:$F$85,'Trimmer Heads'!$Q$13:$Q$85)","v":0},20240501,2418,{"$f":"_xlfn.XLOOKUP(B760,'Trimmer Heads'!$F$13:$F$85,'Trimmer Heads'!$R$13:$R$85)","v":0},20240603,2423,{"$f":"_xlfn.XLOOKUP(B760,'Trimmer Heads'!$F$13:$F$85,'Trimmer Heads'!$S$13:$S$85)","v":0},{"$f":"_xlfn.XLOOKUP(B760,'Trimmer Heads'!$F$13:$F$85,'Trimmer Heads'!$L$13:$L$85)","v":17.2454}]
["Trimmer Line",597668831,20240103,2401,{"$f":"_xlfn.XLOOKUP(B761,'Trimmer Heads'!$F$13:$F$85,'Trimmer Heads'!$N$13:$N$85)","v":0},20240201,2405,{"$f":"_xlfn.XLOOKUP(B761,'Trimmer Heads'!$F$13:$F$85,'Trimmer Heads'!$O$13:$O$85)","v":0},20240301,2409,{"$f":"_xlfn.XLOOKUP(B761,'Trimmer Heads'!$F$13:$F$85,'Trimmer Heads'!$P$13:$P$85)","v":0},20240402,2414,{"$f":"_xlfn.XLOOKUP(B761,'Trimmer Heads'!$F$13:$F$85,'Trimmer Heads'!$Q$13:$Q$85)","v":0},20240501,2418,{"$f":"_xlfn.XLOOKUP(B761,'Trimmer Heads'!$F$13:$F$85,'Trimmer Heads'!$R$13:$R$85)","v":0},20240603,2423,{"$f":"_xlfn.XLOOKUP(B761,'Trimmer Heads'!$F$13:$F$85,'Trimmer Heads'!$S$13:$S$85)","v":0},{"$f":"_xlfn.XLOOKUP(B761,'Trimmer Heads'!$F$13:$F$85,'Trimmer Heads'!$L$13:$L$85)","v":6.5135999999999994}]
["Trimmer Line",597668830,20240103,2401,{"$f":"_xlfn.XLOOKUP(B762,'Trimmer Heads'!$F$13:$F$85,'Trimmer Heads'!$N$13:$N$85)","v":0},20240201,2405,{"$f":"_xlfn.XLOOKUP(B762,'Trimmer Heads'!$F$13:$F$85,'Trimmer Heads'!$O$13:$O$85)","v":0},20240301,2409,{"$f":"_xlfn.XLOOKUP(B762,'Trimmer Heads'!$F$13:$F$85,'Trimmer Heads'!$P$13:$P$85)","v":0},20240402,2414,{"$f":"_xlfn.XLOOKUP(B762,'Trimmer Heads'!$F$13:$F$85,'Trimmer Heads'!$Q$13:$Q$85)","v":0},20240501,2418,{"$f":"_xlfn.XLOOKUP(B762,'Trimmer Heads'!$F$13:$F$85,'Trimmer Heads'!$R$13:$R$85)","v":0},20240603,2423,{"$f":"_xlfn.XLOOKUP(B762,'Trimmer Heads'!$F$13:$F$85,'Trimmer Heads'!$S$13:$S$85)","v":0},{"$f":"_xlfn.XLOOKUP(B762,'Trimmer Heads'!$F$13:$F$85,'Trimmer Heads'!$L$13:$L$85)","v":1.9135999999999997}]
["Trimmer Line",597668822,20240103,2401,{"$f":"_xlfn.XLOOKUP(B763,'Trimmer Heads'!$F$13:$F$85,'Trimmer Heads'!$N$13:$N$85)","v":0},20240201,2405,{"$f":"_xlfn.XLOOKUP(B763,'Trimmer Heads'!$F$13:$F$85,'Trimmer Heads'!$O$13:$O$85)","v":0},20240301,2409,{"$f":"_xlfn.XLOOKUP(B763,'Trimmer Heads'!$F$13:$F$85,'Trimmer Heads'!$P$13:$P$85)","v":0},20240402,2414,{"$f":"_xlfn.XLOOKUP(B763,'Trimmer Heads'!$F$13:$F$85,'Trimmer Heads'!$Q$13:$Q$85)","v":0},20240501,2418,{"$f":"_xlfn.XLOOKUP(B763,'Trimmer Heads'!$F$13:$F$85,'Trimmer Heads'!$R$13:$R$85)","v":0},20240603,2423,{"$f":"_xlfn.XLOOKUP(B763,'Trimmer Heads'!$F$13:$F$85,'Trimmer Heads'!$S$13:$S$85)","v":0},{"$f":"_xlfn.XLOOKUP(B763,'Trimmer Heads'!$F$13:$F$85,'Trimmer Heads'!$L$13:$L$85)","v":14.181799999999999}]
["Trimmer Line",597668821,20240103,2401,{"$f":"_xlfn.XLOOKUP(B764,'Trimmer Heads'!$F$13:$F$85,'Trimmer Heads'!$N$13:$N$85)","v":0},20240201,2405,{"$f":"_xlfn.XLOOKUP(B764,'Trimmer Heads'!$F$13:$F$85,'Trimmer Heads'!$O$13:$O$85)","v":0},20240301,2409,{"$f":"_xlfn.XLOOKUP(B764,'Trimmer Heads'!$F$13:$F$85,'Trimmer Heads'!$P$13:$P$85)","v":0},20240402,2414,{"$f":"_xlfn.XLOOKUP(B764,'Trimmer Heads'!$F$13:$F$85,'Trimmer Heads'!$Q$13:$Q$85)","v":0},20240501,2418,{"$f":"_xlfn.XLOOKUP(B764,'Trimmer Heads'!$F$13:$F$85,'Trimmer Heads'!$R$13:$R$85)","v":0},20240603,2423,{"$f":"_xlfn.XLOOKUP(B764,'Trimmer Heads'!$F$13:$F$85,'Trimmer Heads'!$S$13:$S$85)","v":0},{"$f":"_xlfn.XLOOKUP(B764,'Trimmer Heads'!$F$13:$F$85,'Trimmer Heads'!$L$13:$L$85)","v":6.5135999999999994}]
["Trimmer Line",597668820,20240103,2401,{"$f":"_xlfn.XLOOKUP(B765,'Trimmer Heads'!$F$13:$F$85,'Trimmer Heads'!$N$13:$N$85)","v":0},20240201,2405,{"$f":"_xlfn.XLOOKUP(B765,'Trimmer Heads'!$F$13:$F$85,'Trimmer Heads'!$O$13:$O$85)","v":0},20240301,2409,{"$f":"_xlfn.XLOOKUP(B765,'Trimmer Heads'!$F$13:$F$85,'Trimmer Heads'!$P$13:$P$85)","v":0},20240402,2414,{"$f":"_xlfn.XLOOKUP(B765,'Trimmer Heads'!$F$13:$F$85,'Trimmer Heads'!$Q$13:$Q$85)","v":0},20240501,2418,{"$f":"_xlfn.XLOOKUP(B765,'Trimmer Heads'!$F$13:$F$85,'Trimmer Heads'!$R$13:$R$85)","v":0},20240603,2423,{"$f":"_xlfn.XLOOKUP(B765,'Trimmer Heads'!$F$13:$F$85,'Trimmer Heads'!$S$13:$S$85)","v":0},{"$f":"_xlfn.XLOOKUP(B765,'Trimmer Heads'!$F$13:$F$85,'Trimmer Heads'!$L$13:$L$85)","v":1.9135999999999997}]
["Trimmer Line",597668811,20240103,2401,{"$f":"_xlfn.XLOOKUP(B766,'Trimmer Heads'!$F$13:$F$85,'Trimmer Heads'!$N$13:$N$85)","v":0},20240201,2405,{"$f":"_xlfn.XLOOKUP(B766,'Trimmer Heads'!$F$13:$F$85,'Trimmer Heads'!$O$13:$O$85)","v":0},20240301,2409,{"$f":"_xlfn.XLOOKUP(B766,'Trimmer Heads'!$F$13:$F$85,'Trimmer Heads'!$P$13:$P$85)","v":0},20240402,2414,{"$f":"_xlfn.XLOOKUP(B766,'Trimmer Heads'!$F$13:$F$85,'Trimmer Heads'!$Q$13:$Q$85)","v":0},20240501,2418,{"$f":"_xlfn.XLOOKUP(B766,'Trimmer Heads'!$F$13:$F$85,'Trimmer Heads'!$R$13:$R$85)","v":0},20240603,2423,{"$f":"_xlfn.XLOOKUP(B766,'Trimmer Heads'!$F$13:$F$85,'Trimmer Heads'!$S$13:$S$85)","v":0},{"$f":"_xlfn.XLOOKUP(B766,'Trimmer Heads'!$F$13:$F$85,'Trimmer Heads'!$L$13:$L$85)","v":6.5135999999999994}]
["Trimmer Line",597668810,20240103,2401,{"$f":"_xlfn.XLOOKUP(B767,'Trimmer Heads'!$F$13:$F$85,'Trimmer Heads'!$N$13:$N$85)","v":0},20240201,2405,{"$f":"_xlfn.XLOOKUP(B767,'Trimmer Heads'!$F$13:$F$85,'Trimmer Heads'!$O$13:$O$85)","v":0},20240301,2409,{"$f":"_xlfn.XLOOKUP(B767,'Trimmer Heads'!$F$13:$F$85,'Trimmer Heads'!$P$13:$P$85)","v":0},20240402,2414,{"$f":"_xlfn.XLOOKUP(B767,'Trimmer Heads'!$F$13:$F$85,'Trimmer Heads'!$Q$13:$Q$85)","v":0},20240501,2418,{"$f":"_xlfn.XLOOKUP(B767,'Trimmer Heads'!$F$13:$F$85,'Trimmer Heads'!$R$13:$R$85)","v":0},20240603,2423,{"$f":"_xlfn.XLOOKUP(B767,'Trimmer Heads'!$F$13:$F$85,'Trimmer Heads'!$S$13:$S$85)","v":0},{"$f":"_xlfn.XLOOKUP(B767,'Trimmer Heads'!$F$13:$F$85,'Trimmer Heads'!$L$13:$L$85)","v":1.9135999999999997}]
["Trimmer Line",597668801,20240103,2401,{"$f":"_xlfn.XLOOKUP(B768,'Trimmer Heads'!$F$13:$F$85,'Trimmer Heads'!$N$13:$N$85)","v":0},20240201,2405,{"$f":"_xlfn.XLOOKUP(B768,'Trimmer Heads'!$F$13:$F$85,'Trimmer Heads'!$O$13:$O$85)","v":0},20240301,2409,{"$f":"_xlfn.XLOOKUP(B768,'Trimmer Heads'!$F$13:$F$85,'Trimmer Heads'!$P$13:$P$85)","v":0},20240402,2414,{"$f":"_xlfn.XLOOKUP(B768,'Trimmer Heads'!$F$13:$F$85,'Trimmer Heads'!$Q$13:$Q$85)","v":0},20240501,2418,{"$f":"_xlfn.XLOOKUP(B768,'Trimmer Heads'!$F$13:$F$85,'Trimmer Heads'!$R$13:$R$85)","v":0},20240603,2423,{"$f":"_xlfn.XLOOKUP(B768,'Trimmer Heads'!$F$13:$F$85,'Trimmer Heads'!$S$13:$S$85)","v":0},{"$f":"_xlfn.XLOOKUP(B768,'Trimmer Heads'!$F$13:$F$85,'Trimmer Heads'!$L$13:$L$85)","v":1.5317999999999998}]

{"sheet":"CSV","index":5,"n_rows":6,"n_cols":10,"rows_kept":6,"cut":false,"hidden":false,"merged":[]}
["record type CUS","Customer id","Customers order number","Delivery code/number","Customer reference","Default warehouse","Order type","Payment condition","Project number","Delivery mode"]
["record type LIN","Line number","Part number","Quantity","Delivery date","Delivery week","Price"]
["CUS",{"$f":"Summary!F4","v":28400505},{"$f":"Summary!F5","v":0},{"$f":"Summary!H3","v":1},null,null,10,"H93","PSO2024",888]
["LIN",1]
["LIN",2]
["LIN",3]

{"sheet":"Automower®","index":6,"n_rows":39,"n_cols":35,"rows_kept":39,"cut":false,"hidden":false,"merged":[[7,4,7,8],[6,4,6,8],[5,4,5,8],[4,4,4,8],[1,4,1,8],[2,4,2,8],[3,4,3,8],[12,1,25,1],[19,3,19,4],[18,3,18,4],[11,3,11,4],[16,3,16,4],[15,3,15,4],[14,3,14,4],[13,3,13,4],[12,3,12,4],[17,3,17,4],[25,3,25,4],[20,3,20,4],[27,3,27,4],[8,3,8,5],[8,6,8,8],[10,2,10,11],[10,28,10,34],[10,20,10,26],[27,1,38,1],[24,3,24,4],[23,3,23,4],[22,3,22,4],[21,3,21,4],[37,3,37,4],[35,3,35,4],[36,3,36,4],[34,3,34,4],[33,3,33,4],[32,3,32,4],[31,3,31,4],[38,3,38,4],[30,3,30,4],[29,3,29,4],[28,3,28,4]]}
[]
[null,null,null,"Dealer Name",{"$f":"Summary!F2","v":"Winchester Garden Machinery Ltd - Arb"}]
[null,null,null,"Dealer Postcode",{"$f":"Summary!F3","v":"SO21 1HF"}]
[null,null,null,"Account Number",{"$f":"Summary!F4","v":28400505}]
[null,null,null,"Order Number",{"$f":"Summary!F5","v":0}]
[null,null,null,"Project Code",{"$f":"Summary!F6","v":"PSO2024"}]
[null,null,null,"Order Date",{"$f":"Summary!F7","v":"00:00:00"}]
[null,null,null,"ABM",{"$f":"Summary!F8","v":"Francesca_Bosley"}]
[null,null,null,"PSO minimum 40% of turnover = Additional 2% terms",null,null,{"$f":"Summary!I9","v":0.02}]
[]
[null,null,"Automower®",null,null,null,null,null,null,null,null,null,null,null,null,null,null,null,null,null,"Order Quantity",null,null,null,null,null,null,null,"Order Value"]
[null,null,"Product Type","Model Description",null,"PNC","Size","Replaces","Pallet Qty","List Price 2024 Ex VAT","Discount","Dealer Net Price",null,null,null,null,null,null,null,null,"January","February","March","April","May","June","Total Qty",null,"January","February","March","April","May","June","Total Value"]
[null,"Residential","Automower","Automower® 105",null,967645403,"600m²",967622303,12,{"$f":"_xlfn.XLOOKUP(F13,Pricing!A:A,Pricing!B:B)","v":665.83},{"$f":"Summary!$L$13","v":0.21},{"$f":"IF(AA13>9,(J13-(J13*K13))*0.96,(J13-(J13*K13)))","v":526.00570000000005},null,{"$f":"IFERROR(U13/I13,\"\")","v":0},{"$f":"IFERROR(V13/I13,\"\")","v":0},{"$f":"IFERROR(W13/I13,\"\")","v":0},{"$f":"IFERROR(X13/I13,\"\")","v":0},{"$f":"IFERROR(Y13/I13,\"\")","v":0},{"$f":"IFERROR(Z13/I13,\"\")","v":0},null,null,null,null,null,null,null,{"$f":"SUM(U13:Z13)","v":0},null,{"$f":"L13*U13","v":0},{"$f":"L13*V13","v":0},{"$f":"L13*W13","v":0},{"$f":"L13*X13","v":0},{"$f":"$L13*Y13","v":0},{"$f":"$L13*Z13","v":0},{"$f":"SUM(AC13:AH13)","v":0}]
[null,null,"Automower","Automower® 305",null,967974003,"600m²",null,{"$f":"IFERROR(_xlfn.XLOOKUP(F14,'Direct shipment'!D:D,'Direct shipment'!W:W),\"\")","v":12},{"$f":"_xlfn.XLOOKUP(F14,Pricing!A:A,Pricing!B:B)","v":1082.5},{"$f":"Summary!$L$13","v":0.21},{"$f":"J14-(J14*K14)","v":855.17499999999995},null,0,0,8.3333333333333329E-2,8.3333333333333329E-2,0,0,null,null,null,1,1,null,null,{"$f":"SUM(U14:Z14)","v":2},null,{"$f":"L14*U14","v":0},{"$f":"L14*V14","v":0},{"$f":"L14*W14","v":855.17499999999995},{"$f":"L14*X14","v":855.17499999999995},0,0,{"$f":"SUM(AC14:AH14)","v":1710.35}]
[null,null,"Automower","Automower® 310 Mark II",null,970526703,"1000m²",967672903,{"$f":"IFERROR(_xlfn.XLOOKUP(F15,'Direct shipment'!D:D,'Direct shipment'!W:W),\"\")","v":12},{"$f":"_xlfn.XLOOKUP(F15,Pricing!A:A,Pricing!B:B)","v":1415.83},{"$f":"Summary!$L$13","v":0.21},{"$f":"IF(AA15>9,(J15-(J15*K15))*0.96,(J15-(J15*K15)))","v":1118.5056999999999},null,0,0,8.3333333333333329E-2,8.3333333333333329E-2,8.3333333333333329E-2,0,null,null,null,1,1,1,null,3,null,{"$f":"L15*U15","v":0},{"$f":"L15*V15","v":0},1118.5056999999999,1118.5056999999999,1118.5056999999999,0,3355.5171]
[null,null,"Automower","Automower® 315 Mark II",null,970526803,"1500m²",967673003,{"$f":"IFERROR(_xlfn.XLOOKUP(F16,'Direct shipment'!D:D,'Direct shipment'!W:W),\"\")","v":12},{"$f":"_xlfn.XLOOKUP(F16,Pricing!A:A,Pricing!B:B)","v":1582.5},{"$f":"Summary!$L$13","v":0.21},1250.175,null,0,0,8.3333333333333329E-2,0,0,0,null,null,null,1,null,null,null,1,null,{"$f":"L16*U16","v":0},{"$f":"L16*V16","v":0},1250.175,0,0,0,1250.175]
[null,null,"Automower","Automower® 320 NERA",null,970535103,"2200m²",null,{"$f":"IFERROR(_xlfn.XLOOKUP(F17,'Direct shipment'!D:D,'Direct shipment'!W:W),\"\")","v":10},{"$f":"_xlfn.XLOOKUP(F17,Pricing!A:A,Pricing!B:B)","v":2332.5},{"$f":"Summary!$L$13","v":0.21},1842.675,null,0,0,0.1,0.1,0,0,null,null,null,1,1,null,null,2,null,{"$f":"L17*U17","v":0},{"$f":"L17*V17","v":0},1842.675,1842.675,0,0,3685.35]
[null,null,"Automower","Automower® 405X ",null,970456203,"600m²",null,{"$f":"IFERROR(_xlfn.XLOOKUP(F18,'Direct shipment'!D:D,'Direct shipment'!W:W),\"\")","v":12},{"$f":"_xlfn.XLOOKUP(F18,Pricing!A:A,Pricing!B:B)","v":1582.5},{"$f":"Summary!$L$13","v":0.21},1250.175,null,0,0,0.16666666666666666,0.16666666666666666,0,0,null,null,null,2,2,null,null,4,null,0,0,2500.35,2500.35,0,0,5000.7]
[null,null,"Automower","Automower® 415X ",null,970471703,"1500m²",null,{"$f":"IFERROR(_xlfn.XLOOKUP(F19,'Direct shipment'!D:D,'Direct shipment'!W:W),\"\")","v":12},{"$f":"_xlfn.XLOOKUP(F19,Pricing!A:A,Pricing!B:B)","v":1915.83},{"$f":"Summary!$L$13","v":0.21},1513.5056999999999,null,0,0,8.3333333333333329E-2,0.16666666666666666,0.16666666666666666,0,null,null,null,1,2,2,null,5,null,0,0,1513.5056999999999,3027.0113999999999,3027.0113999999999,0,7567.5285000000003]
[null,null,"Automower","Automower® 430X",null,967852803,"3200m²",967673203,10,{"$f":"_xlfn.XLOOKUP(F20,Pricing!A:A,Pricing!B:B)","v":2749.17},{"$f":"Summary!$L$13","v":0.21},2171.8443000000002,null,0,0,0,0,0,0,null,null,null,null,null,null,null,0,null,0,0,0,0,0,0,0]
[null,null,"Automower","Automower® 430X NERA",null,970535203,null,null,{"$f":"IFERROR(_xlfn.XLOOKUP(F21,'Direct shipment'!D:D,'Direct shipment'!W:W),\"\")","v":10},{"$f":"_xlfn.XLOOKUP(F21,Pricing!A:A,Pricing!B:B)","v":2915.83},{"$f":"Summary!$L$13","v":0.21},{"$f":"J21-(J21*K21)","v":2303.5056999999997},null,null,null,null,null,null,null,null,null,null,null,1,null,null,{"$f":"SUM(U21:Z21)","v":1},null,{"$f":"L21*U21","v":0},{"$f":"L21*V21","v":0},{"$f":"L21*W21","v":0},{"$f":"L21*X21","v":2303.5056999999997},{"$f":"$L21*Y21","v":0},{"$f":"$L21*Z21","v":0},{"$f":"SUM(AC21:AH21)","v":2303.5056999999997}]
[null,null,"Automower","Automower® 435X AWD",null,967853303,"3200m²",null,{"$f":"IFERROR(_xlfn.XLOOKUP(F22,'Direct shipment'!D:D,'Direct shipment'!W:W),\"\")","v":5},{"$f":"_xlfn.XLOOKUP(F22,Pricing!A:A,Pricing!B:B)","v":4165.83},{"$f":"Summary!$L$13","v":0.21},3291.0056999999997,null,0,0,0,0,0,0,null,null,null,null,null,null,null,0,null,0,0,0,0,0,0,0]
[null,null,"Automower","Automower® 450X",null,967853003,"5000m²",967673403,10,{"$f":"_xlfn.XLOOKUP(F23,Pricing!A:A,Pricing!B:B)","v":3415.83},{"$f":"Summary!$L$13","v":0.21},{"$f":"IF(AA23>9,(J23-(J23*K23))*0.94,(J23-(J23*K23)))","v":2698.5056999999997},null,0,0,0,0,0,0,null,null,null,null,null,null,null,0,null,0,0,0,0,0,0,0]
[null,null,"Automower","Automower® 450X NERA",null,970535303,"5000m²",null,{"$f":"IFERROR(_xlfn.XLOOKUP(F24,'Direct shipment'!D:D,'Direct shipment'!W:W),\"\")","v":10},{"$f":"_xlfn.XLOOKUP(F24,Pricing!A:A,Pricing!B:B)","v":3999.17},{"$f":"Summary!$L$13","v":0.21},3159.3443000000002,null,0,0,0.3,0.3,0.3,0.3,null,null,null,3,3,3,3,12,null,0,0,9478.0329000000002,9478.0329000000002,9478.0329000000002,9478.0329000000002,37912.131600000001]
[null,null,"Automower","EPOS Plug-In Module & Reference Station Kit",null,970663403,"N/A",null,{"$f":"IFERROR(_xlfn.XLOOKUP(F25,'Direct shipment'!D:D,'Direct shipment'!W:W),\"\")","v":18},{"$f":"_xlfn.XLOOKUP(F25,Pricing!A:A,Pricing!B:B)","v":1082.5},{"$f":"Summary!$L$13","v":0.21},855.17499999999995,null,0,0,0.16666666666666666,0.16666666666666666,0.16666666666666666,0,null,null,null,3,3,3,null,9,null,0,0,2565.5249999999996,2565.5249999999996,2565.5249999999996,0,7696.5749999999989]
[null,null,"Automower","EPOS Plug-In Module (non-kit) for 320/430X and 450X NERA ",null,535545301,"N/A",null,null,{"$f":"_xlfn.XLOOKUP(F26,Pricing!A:A,Pricing!B:B)","v":249.17},{"$f":"Summary!$L$13","v":0.21},196.84429999999998,null,"","","","","","",null,null,null,null,null,null,null,0,null,0,0,0,0,0,0,0]
[]
[null,"Pro","Automower","Automower® 520",null,970656303,"2400m²",967662103,{"$f":"IFERROR(_xlfn.XLOOKUP(F28,'Direct shipment'!D:D,'Direct shipment'!W:W),\"\")","v":12},{"$f":"_xlfn.XLOOKUP(F28,Pricing!A:A,Pricing!B:B)","v":2407.5},{"$f":"Summary!$L$14","v":0.21},1901.925,null,0,0,0,0,0,0,null,null,null,null,null,null,null,0,null,{"$f":"L28*U28","v":0},{"$f":"L28*V28","v":0},{"$f":"L28*W28","v":0},{"$f":"L28*X28","v":0},0,0,0]
[null,null,"Automower","Automower® 535 AWD",null,970651703,"5000m²",967853403,{"$f":"IFERROR(_xlfn.XLOOKUP(F29,'Direct shipment'!D:D,'Direct shipment'!W:W),\"\")","v":5},{"$f":"_xlfn.XLOOKUP(F29,Pricing!A:A,Pricing!B:B)","v":4465.83},{"$f":"Summary!$L$14","v":0.21},3528.0056999999997,null,0,0,0,0,0,0,null,null,null,null,null,null,null,0,null,0,0,0,0,0,0,0]
[null,null,"Automower","Automower® 550",null,970656503,"5000m²",967650203,{"$f":"IFERROR(_xlfn.XLOOKUP(F30,'Direct shipment'!D:D,'Direct shipment'!W:W),\"\")","v":12},{"$f":"_xlfn.XLOOKUP(F30,Pricing!A:A,Pricing!B:B)","v":3865.83},{"$f":"Summary!$L$14","v":0.21},3054.0056999999997,null,0,0,0,0,0,0,null,null,null,null,null,null,null,0,null,0,0,0,0,0,0,0]
[null,null,"Automower","Automower® 550 EPOS",null,970656703,"5000m²",970465303,{"$f":"IFERROR(_xlfn.XLOOKUP(F31,'Direct shipment'!D:D,'Direct shipment'!W:W),\"\")","v":10},{"$f":"_xlfn.XLOOKUP(F31,Pricing!A:A,Pricing!B:B)","v":4865.83},{"$f":"Summary!$L$14","v":0.21},3844.0056999999997,null,0,0.1,0,0.1,0,0,null,null,1,null,1,null,null,2,null,0,3844.0056999999997,0,3844.0056999999997,0,0,7688.0113999999994]
[null,null,"Automower","CEORA Charging Station CS4 GB",null,970468103,null,null,{"$f":"IFERROR(_xlfn.XLOOKUP(F32,'Direct shipment'!D:D,'Direct shipment'!W:W),\"\")","v":4},{"$f":"_xlfn.XLOOKUP(F32,Pricing!A:A,Pricing!B:B)","v":2249.17},{"$f":"Summary!$N$73","v":0.16999999999999998},{"$f":"J32-(J32*K32)","v":1866.8111000000001},null,{"$f":"IFERROR(U32/I32,\"\")","v":0},{"$f":"IFERROR(V32/I32,\"\")","v":0},{"$f":"IFERROR(W32/I32,\"\")","v":0},{"$f":"IFERROR(X32/I32,\"\")","v":0},{"$f":"IFERROR(Y32/I32,\"\")","v":0},{"$f":"IFERROR(Z32/I32,\"\")","v":0},null,null,null,null,null,null,null,{"$f":"SUM(U32:Z32)","v":0},null,{"$f":"L32*U32","v":0},{"$f":"L32*V32","v":0},{"$f":"L32*W32","v":0},{"$f":"L32*X32","v":0},{"$f":"$L32*Y32","v":0},{"$f":"$L32*Z32","v":0},{"$f":"SUM(AC32:AH32)","v":0}]
[null,null,"Automower","CEORA 544 EPOS",null,970549001,null,null,{"$f":"IFERROR(_xlfn.XLOOKUP(F33,'Direct shipment'!D:D,'Direct shipment'!W:W),\"\")","v":3},{"$f":"_xlfn.XLOOKUP(F33,Pricing!A:A,Pricing!B:B)","v":12874.17},{"$f":"Summary!$N$73","v":0.16999999999999998},10685.561100000001,null,0,0,0,0,0,0,null,null,null,null,null,null,null,0,null,0,0,0,0,0,0,0]
[null,null,"Automower","CEORA 546 EPOS",null,970467901,null,null,{"$f":"IFERROR(_xlfn.XLOOKUP(F34,'Direct shipment'!D:D,'Direct shipment'!W:W),\"\")","v":3},{"$f":"_xlfn.XLOOKUP(F34,Pricing!A:A,Pricing!B:B)","v":16249.17},{"$f":"Summary!$N$73","v":0.16999999999999998},13486.811100000001,null,0,0,0,0,0,0,null,null,null,null,null,null,null,0,null,0,0,0,0,0,0,0]
[null,null,"Automower","CEORA Razor 43M Cutting Deck",null,970468001,null,null,{"$f":"IFERROR(_xlfn.XLOOKUP(F35,'Direct shipment'!D:D,'Direct shipment'!W:W),\"\")","v":4},{"$f":"_xlfn.XLOOKUP(F35,Pricing!A:A,Pricing!B:B)","v":6915.83},{"$f":"Summary!$N$73","v":0.16999999999999998},5740.1388999999999,null,0,0,0,0,0,0,null,null,null,null,null,null,null,0,null,0,0,0,0,0,0,0]
[null,null,"Automower"," CEORA Razor 43L Cutting Deck",null,970614401,null,null,{"$f":"IFERROR(_xlfn.XLOOKUP(F36,'Direct shipment'!D:D,'Direct shipment'!W:W),\"\")","v":4},{"$f":"_xlfn.XLOOKUP(F36,Pricing!A:A,Pricing!B:B)","v":7499.17},{"$f":"Summary!$N$73","v":0.16999999999999998},{"$f":"J36-(J36*K36)","v":6224.3110999999999},null,{"$f":"IFERROR(U36/I36,\"\")","v":0},{"$f":"IFERROR(V36/I36,\"\")","v":0},{"$f":"IFERROR(W36/I36,\"\")","v":0},{"$f":"IFERROR(X36/I36,\"\")","v":0},{"$f":"IFERROR(Y36/I36,\"\")","v":0},{"$f":"IFERROR(Z36/I36,\"\")","v":0},null,null,null,null,null,null,null,{"$f":"SUM(U36:Z36)","v":0},null,{"$f":"L36*U36","v":0},{"$f":"L36*V36","v":0},{"$f":"L36*W36","v":0},{"$f":"L36*X36","v":0},{"$f":"$L36*Y36","v":0},{"$f":"$L36*Z36","v":0},{"$f":"SUM(AC36:AH36)","v":0}]
[null,null,"Automower","CEORA Wheel Brush Kit",null,529318901,null,null,{"$f":"IFERROR(_xlfn.XLOOKUP(F37,'Direct shipment'!D:D,'Direct shipment'!W:W),\"\")","v":""},{"$f":"_xlfn.XLOOKUP(F37,Pricing!A:A,Pricing!B:B)","v":1207.5},{"$f":"Summary!$L$34","v":0.57000000000000006},519.22499999999991,null,"","","","","","",null,null,null,null,null,null,null,0,null,0,0,0,0,0,0,0]
[null,null,"Automower","CEORA Charging Station Plate",null,535423101,null,null,{"$f":"IFERROR(_xlfn.XLOOKUP(F38,'Direct shipment'!D:D,'Direct shipment'!W:W),\"\")","v":""},{"$f":"_xlfn.XLOOKUP(F38,Pricing!A:A,Pricing!B:B)","v":365.83},{"$f":"Summary!$L$34","v":0.57000000000000006},157.30689999999996,null,"","","","","","",null,null,null,null,null,null,null,0,null,0,0,0,0,0,0,0]
[null,null,"Automower","Automower® EPOS Reference Station",null,970468203,"N/A",null,{"$f":"IFERROR(_xlfn.XLOOKUP(F39,'Direct shipment'!D:D,'Direct shipment'!W:W),\"\")","v":24},{"$f":"_xlfn.XLOOKUP(F39,Pricing!A:A,Pricing!B:B)","v":749.17},{"$f":"Summary!$L$14","v":0.21},591.84429999999998,null,0,0,0,0,0,0,null,null,null,null,null,null,null,0,null,0,0,0,0,0,0,0]

{"sheet":"Aspire","index":7,"n_rows":30,"n_cols":35,"rows_kept":30,"cut":false,"hidden":false,"merged":[[10,28,10,34],[10,20,10,26],[12,1,25,1],[12,3,12,4],[13,3,13,4],[14,3,14,4],[15,3,15,4],[16,3,16,4],[17,3,17,4],[18,3,18,4],[19,3,19,4],[11,3,11,4],[28,3,28,4],[29,3,29,4],[27,3,27,4],[27,1,29,1],[20,3,20,4],[21,3,21,4],[22,3,22,4],[23,3,23,4],[24,3,24,4],[25,3,25,4],[1,4,1,8],[2,4,2,8],[3,4,3,8],[4,4,4,8],[5,4,5,8],[6,4,6,8],[7,4,7,8],[8,3,8,5],[8,6,8,8],[10,2,10,11]]}
[]
[null,null,null,"Dealer Name",{"$f":"Summary!F2","v":"Winchester Garden Machinery Ltd - Arb"}]
[null,null,null,"Dealer Postcode",{"$f":"Summary!F3","v":"SO21 1HF"}]
[null,null,null,"Account Number",{"$f":"Summary!F4","v":28400505}]
[null,null,null,"Order Number",{"$f":"Summary!F5","v":0}]
[null,null,null,"Project Code",{"$f":"Summary!F6","v":"PSO2024"}]
[null,null,null,"Order Date",{"$f":"Summary!F7","v":"00:00:00"}]
[null,null,null,"ABM",{"$f":"Summary!F8","v":"Francesca_Bosley"}]
[null,null,null,"PSO minimum 40% of turnover = Additional 2% terms",null,null,{"$f":"Summary!I9","v":0.02}]
[]
[null,null,"Aspire",null,null,null,null,null,null,null,null,null,null,null,null,null,null,null,null,null,"Order Quantity",null,null,null,null,null,null,null,"Order Value"]
[null,null,"Product Type","Model Description",null,"PNC","Size","Replaces","Pallet Qty","List Price 2024 Ex VAT","Discount","Dealer Net Price",null,null,null,null,null,null,null,null,"January","February","March","April","May","June","Total Qty",null,"January","February","March","April","May","June","Total Value"]
[null,"Finished Goods","Automower","Automower® Aspire R4",null,970568503,null,967645403,{"$f":"IFERROR(_xlfn.XLOOKUP(F13,'Direct shipment'!D:D,'Direct shipment'!W:W),\"\")","v":12},{"$f":"_xlfn.XLOOKUP(F13,Pricing!A:A,Pricing!B:B)","v":815.83},{"$f":"Summary!$L$13","v":0.21},{"$f":"J13-(J13*K13)","v":644.50570000000005},null,{"$f":"IFERROR(U13/I13,\"\")","v":0},{"$f":"IFERROR(V13/I13,\"\")","v":0},{"$f":"IFERROR(W13/I13,\"\")","v":8.3333333333333329E-2},{"$f":"IFERROR(X13/I13,\"\")","v":0},{"$f":"IFERROR(Y13/I13,\"\")","v":8.3333333333333329E-2},{"$f":"IFERROR(Z13/I13,\"\")","v":0},null,null,null,1,null,1,null,{"$f":"SUM(U13:Z13)","v":2},null,{"$f":"L13*U13","v":0},{"$f":"L13*V13","v":0},{"$f":"L13*W13","v":644.50570000000005},{"$f":"$L13*X13","v":0},{"$f":"$L13*Y13","v":644.50570000000005},0,{"$f":"SUM(AC13:AH13)","v":1289.0114000000001}]
[null,null,"Battery - Ped Mower","Aspire LC34-P4A Unit Only",null,970648301,null,null,15,{"$f":"_xlfn.XLOOKUP(F14,Pricing!A:A,Pricing!B:B)","v":232.5},{"$f":"Summary!$L$16","v":0.30000000000000004},{"$f":"IF(AND(($AA$14+$AA$15)>8,($AA$16+$AA$17+$AA$18+$AA$19)>8,($AA$20+$AA$21)>8,($AA$22+$AA$23)>8,($AA$24+$AA$25+$AA$26)>8),(J14-(J14*K14))*1.02,(J14-(J14*K14)))","v":162.75},null,{"$f":"IFERROR(U14/I14,\"\")","v":0},{"$f":"IFERROR(V14/I14,\"\")","v":0},{"$f":"IFERROR(W14/I14,\"\")","v":0},{"$f":"IFERROR(X14/I14,\"\")","v":0},{"$f":"IFERROR(Y14/I14,\"\")","v":0},{"$f":"IFERROR(Z14/I14,\"\")","v":0},null,null,null,null,null,null,null,{"$f":"SUM(U14:Z14)","v":0},null,{"$f":"L14*U14","v":0},{"$f":"L14*V14","v":0},{"$f":"L14*W14","v":0},{"$f":"L14*X14","v":0},{"$f":"$L14*Y14","v":0},{"$f":"$L14*Z14","v":0},{"$f":"SUM(AC14:AH14)","v":0}]
[null,null,"Battery - Ped Mower","Aspire LC34-P4A Kit incl 18-C70 and 18-B72",null,970648305,null,null,{"$f":"IFERROR(_xlfn.XLOOKUP(F15,'Direct shipment'!D:D,'Direct shipment'!W:W),\"\")","v":15},{"$f":"_xlfn.XLOOKUP(F15,Pricing!A:A,Pricing!B:B)","v":290.83},{"$f":"Summary!$L$16","v":0.30000000000000004},{"$f":"IF(AND(($AA$14+$AA$15)>8,($AA$16+$AA$17+$AA$18+$AA$19)>8,($AA$20+$AA$21)>8,($AA$22+$AA$23)>8,($AA$24+$AA$25+$AA$26)>8),(J15-(J15*K15))*1.02,(J15-(J15*K15)))","v":203.58099999999996},null,0,0.26666666666666666,0.26666666666666666,0.26666666666666666,{"$f":"IFERROR(Y15/I15,\"\")","v":0.26666666666666666},{"$f":"IFERROR(Z15/I15,\"\")","v":0},null,null,4,4,4,4,null,{"$f":"SUM(U15:Z15)","v":16},null,0,814.32399999999984,814.32399999999984,{"$f":"L15*X15","v":814.32399999999984},{"$f":"$L15*Y15","v":814.32399999999984},{"$f":"$L15*Z15","v":0},{"$f":"SUM(AC15:AH15)","v":3257.2959999999994}]
[null,null,"Battery - Pole saw","Aspire P5-P4A Unit Only",null,970621302,null,null,{"$f":"IFERROR(_xlfn.XLOOKUP(F16,'Direct shipment'!D:D,'Direct shipment'!W:W),\"\")","v":60},{"$f":"_xlfn.XLOOKUP(F16,Pricing!A:A,Pricing!B:B)","v":99.99},{"$f":"Summary!$L$15","v":0.30000000000000004},69.992999999999995,null,{"$f":"IFERROR(U16/I16,\"\")","v":0},{"$f":"IFERROR(V16/I16,\"\")","v":0},{"$f":"IFERROR(W16/I16,\"\")","v":0},{"$f":"IFERROR(X16/I16,\"\")","v":0},{"$f":"IFERROR(Y16/I16,\"\")","v":0},{"$f":"IFERROR(Z16/I16,\"\")","v":0},null,null,null,null,null,null,null,{"$f":"SUM(U16:Z16)","v":0},null,{"$f":"L16*U16","v":0},{"$f":"L16*V16","v":0},{"$f":"L16*W16","v":0},{"$f":"L16*X16","v":0},{"$f":"$L16*Y16","v":0},{"$f":"$L16*Z16","v":0},{"$f":"SUM(AC16:AH16)","v":0}]
[null,null,"Battery - Pole saw","Aspire P5-P4A Pruner Kit with C70 Charger and B45 Battery",null,970621306,null,null,{"$f":"IFERROR(_xlfn.XLOOKUP(F17,'Direct shipment'!D:D,'Direct shipment'!W:W),\"\")","v":60},{"$f":"_xlfn.XLOOKUP(F17,Pricing!A:A,Pricing!B:B)","v":141.66},{"$f":"Summary!$L$15","v":0.30000000000000004},99.161999999999992,null,3.3333333333333333E-2,3.3333333333333333E-2,3.3333333333333333E-2,3.3333333333333333E-2,3.3333333333333333E-2,3.3333333333333333E-2,null,2,2,2,2,2,2,{"$f":"SUM(U17:Z17)","v":12},null,198.32399999999998,198.32399999999998,198.32399999999998,198.32399999999998,198.32399999999998,198.32399999999998,1189.944]
[null,null,"Battery - Pole saw","Aspire PE5-P4A Unit Only",null,970621402,null,null,{"$f":"IFERROR(_xlfn.XLOOKUP(F18,'Direct shipment'!D:D,'Direct shipment'!W:W),\"\")","v":30},{"$f":"_xlfn.XLOOKUP(F18,Pricing!A:A,Pricing!B:B)","v":149.99},{"$f":"Summary!$L$15","v":0.30000000000000004},104.99299999999999,null,{"$f":"IFERROR(U18/I18,\"\")","v":0},{"$f":"IFERROR(V18/I18,\"\")","v":0},{"$f":"IFERROR(W18/I18,\"\")","v":0},{"$f":"IFERROR(X18/I18,\"\")","v":0},{"$f":"IFERROR(Y18/I18,\"\")","v":0},{"$f":"IFERROR(Z18/I18,\"\")","v":0},null,null,null,null,null,null,null,{"$f":"SUM(U18:Z18)","v":0},null,{"$f":"L18*U18","v":0},{"$f":"L18*V18","v":0},{"$f":"L18*W18","v":0},{"$f":"L18*X18","v":0},{"$f":"$L18*Y18","v":0},{"$f":"$L18*Z18","v":0},{"$f":"SUM(AC18:AH18)","v":0}]
[null,null,"Battery - Pole saw"," PE5-P4A Pruner & Pole Kit with C70 Charger & B72 Battery",null,970621406,null,null,{"$f":"IFERROR(_xlfn.XLOOKUP(F19,'Direct shipment'!D:D,'Direct shipment'!W:W),\"\")","v":30},{"$f":"_xlfn.XLOOKUP(F19,Pricing!A:A,Pricing!B:B)","v":232.5},{"$f":"Summary!$L$15","v":0.30000000000000004},162.75,null,6.6666666666666666E-2,6.6666666666666666E-2,6.6666666666666666E-2,6.6666666666666666E-2,6.6666666666666666E-2,6.6666666666666666E-2,null,2,2,2,2,2,2,12,null,325.5,325.5,325.5,325.5,325.5,325.5,1953]
[null,null,"Battery - Blower","Aspire B8X-P4A",null,970620402,null,null,{"$f":"IFERROR(_xlfn.XLOOKUP(F20,'Direct shipment'!D:D,'Direct shipment'!W:W),\"\")","v":32},{"$f":"_xlfn.XLOOKUP(F20,Pricing!A:A,Pricing!B:B)","v":108.33},{"$f":"Summary!$L$15","v":0.30000000000000004},75.830999999999989,null,0,0,0,0,0,0,null,null,null,null,null,null,null,0,null,0,0,0,0,0,0,0]
[null,null,"Battery - Blower","Aspire B8X-P4A Kit with C70 Charger and B72 Battery",null,970620405,null,null,{"$f":"IFERROR(_xlfn.XLOOKUP(F21,'Direct shipment'!D:D,'Direct shipment'!W:W),\"\")","v":32},{"$f":"_xlfn.XLOOKUP(F21,Pricing!A:A,Pricing!B:B)","v":190.83},{"$f":"Summary!$L$15","v":0.30000000000000004},133.58100000000002,null,6.25E-2,0,6.25E-2,0,6.25E-2,6.25E-2,null,2,null,2,null,2,2,8,null,267.16200000000003,0,267.16200000000003,0,267.16200000000003,267.16200000000003,1068.6480000000001]
[null,null,"Battery - Hedge trimmer","Aspire H50-P4A Unit Only",null,970620302,null,null,20,{"$f":"_xlfn.XLOOKUP(F22,Pricing!A:A,Pricing!B:B)","v":116.66},{"$f":"Summary!$L$15","v":0.30000000000000004},81.661999999999992,null,{"$f":"IFERROR(U22/I22,\"\")","v":0},{"$f":"IFERROR(V22/I22,\"\")","v":0},{"$f":"IFERROR(W22/I22,\"\")","v":0},{"$f":"IFERROR(X22/I22,\"\")","v":0},{"$f":"IFERROR(Y22/I22,\"\")","v":0},{"$f":"IFERROR(Z22/I22,\"\")","v":0},null,null,null,null,null,null,null,{"$f":"SUM(U22:Z22)","v":0},null,{"$f":"L22*U22","v":0},{"$f":"L22*V22","v":0},{"$f":"L22*W22","v":0},{"$f":"L22*X22","v":0},{"$f":"$L22*Y22","v":0},{"$f":"$L22*Z22","v":0},{"$f":"SUM(AC22:AH22)","v":0}]
[null,null,"Battery - Hedge trimmer","Aspire H50-P4A Kit with C70 charger and B45 Battery",null,970620305,null,null,{"$f":"IFERROR(_xlfn.XLOOKUP(F23,'Direct shipment'!D:D,'Direct shipment'!W:W),\"\")","v":20},{"$f":"_xlfn.XLOOKUP(F23,Pricing!A:A,Pricing!B:B)","v":166.66},{"$f":"Summary!$L$15","v":0.30000000000000004},116.66199999999999,null,0,0,0.1,0.1,0.1,0.1,null,null,null,2,2,2,2,8,null,0,0,233.32399999999998,233.32399999999998,233.32399999999998,233.32399999999998,933.29599999999994]
[null,null,"Battery - Trimmer","Aspire T28-P4A Unit Only",null,970620202,null,null,{"$f":"IFERROR(_xlfn.XLOOKUP(F24,'Direct shipment'!D:D,'Direct shipment'!W:W),\"\")","v":25},{"$f":"_xlfn.XLOOKUP(F24,Pricing!A:A,Pricing!B:B)","v":108.33},{"$f":"Summary!$L$15","v":0.30000000000000004},75.830999999999989,null,{"$f":"IFERROR(U24/I24,\"\")","v":0},{"$f":"IFERROR(V24/I24,\"\")","v":0},{"$f":"IFERROR(W24/I24,\"\")","v":0},{"$f":"IFERROR(X24/I24,\"\")","v":0},{"$f":"IFERROR(Y24/I24,\"\")","v":0},{"$f":"IFERROR(Z24/I24,\"\")","v":0},null,null,null,null,null,null,null,{"$f":"SUM(U24:Z24)","v":0},null,{"$f":"L24*U24","v":0},{"$f":"L24*V24","v":0},{"$f":"L24*W24","v":0},{"$f":"L24*X24","v":0},{"$f":"$L24*Y24","v":0},{"$f":"$L24*Z24","v":0},{"$f":"SUM(AC24:AH24)","v":0}]
[null,null,"Battery - Trimmer","Aspire T28-P4A Trimmer Kit with C70 charger and B45 Battery",null,970620205,null,null,{"$f":"IFERROR(_xlfn.XLOOKUP(F25,'Direct shipment'!D:D,'Direct shipment'!W:W),\"\")","v":25},{"$f":"_xlfn.XLOOKUP(F25,Pricing!A:A,Pricing!B:B)","v":149.99},{"$f":"Summary!$L$15","v":0.30000000000000004},104.99299999999999,null,0.08,0.12,0.12,0.12,0.12,0.12,null,2,3,3,3,3,3,17,null,209.98599999999999,314.97899999999998,314.97899999999998,314.97899999999998,314.97899999999998,314.97899999999998,1784.8810000000001]
[null,null,"Battery - Trimmer","Aspire T28-P4A Trimmer Kit with C70 charger and B72 Battery",null,970620208,null,null,{"$f":"IFERROR(_xlfn.XLOOKUP(F26,'Direct shipment'!D:D,'Direct shipment'!W:W),\"\")","v":25},{"$f":"_xlfn.XLOOKUP(F26,Pricing!A:A,Pricing!B:B)","v":166.66},{"$f":"Summary!$L$15","v":0.30000000000000004},116.66199999999999,null,0,0.04,0.04,0.04,0.04,0.04,null,null,1,1,1,1,1,5,null,0,116.66199999999999,116.66199999999999,116.66199999999999,116.66199999999999,116.66199999999999,583.30999999999995]
[]
[null,"Acc","Aspire Accessory","Aspire Storage Rail",null,536655701,null,null,{"$f":"IFERROR(_xlfn.XLOOKUP(F28,'Direct shipment'!D:D,'Direct shipment'!W:W),\"\")","v":""},{"$f":"_xlfn.XLOOKUP(F28,Pricing!A:A,Pricing!B:B)","v":33.33},{"$f":"Summary!$L$31","v":0.54},{"$f":"J28-(J28*K28)","v":15.331799999999998},null,"","","","","","",null,null,null,null,null,null,null,{"$f":"SUM(U28:Z28)","v":0},null,{"$f":"L28*U28","v":0},{"$f":"L28*V28","v":0},{"$f":"L28*W28","v":0},{"$f":"L28*X28","v":0},0,0,0]
[null,null,"Aspire Accessory","Aspire R4 House",null,536661801,null,null,{"$f":"IFERROR(_xlfn.XLOOKUP(F29,'Direct shipment'!D:D,'Direct shipment'!W:W),\"\")","v":20},{"$f":"_xlfn.XLOOKUP(F29,Pricing!A:A,Pricing!B:B)","v":116.66},{"$f":"Summary!$L$31","v":0.54},53.663599999999995,null,0,0,0,0,0,0,null,null,null,null,null,null,null,{"$f":"SUM(U29:Z29)","v":0},null,{"$f":"L29*U29","v":0},{"$f":"L29*V29","v":0},{"$f":"L29*W29","v":0},{"$f":"L29*X29","v":0},0,0,0]
[null,null,"Aspire Accessory","Aspire Pruner Chain Oil",null,537657601,null,null,{"$f":"IFERROR(_xlfn.XLOOKUP(F30,'Direct shipment'!D:D,'Direct shipment'!W:W),\"\")","v":""},{"$f":"_xlfn.XLOOKUP(F30,Pricing!A:A,Pricing!B:B)","v":4.99},{"$f":"Summary!$L$31","v":0.54},2.2953999999999999,null,"","","","","","",null,null,null,null,null,null,null,{"$f":"SUM(U30:Z30)","v":0},null,{"$f":"L30*U30","v":0},{"$f":"L30*V30","v":0},{"$f":"L30*W30","v":0},{"$f":"L30*X30","v":0},0,0,0]

{"sheet":"Spring Promo","index":8,"n_rows":86,"n_cols":12,"rows_kept":86,"cut":false,"hidden":false,"merged":[[85,6,85,7],[71,8,85,16],[70,8,70,16],[81,4,81,5],[82,4,82,5],[83,4,83,5],[84,4,84,5],[85,4,85,5],[76,4,76,5],[77,4,77,5],[78,4,78,5],[79,4,79,5],[80,4,80,5],[72,4,72,5],[71,4,71,5],[73,4,73,5],[74,4,74,5],[70,4,70,5],[70,6,70,7],[80,6,80,7],[81,6,81,7],[76,6,76,7],[72,6,72,7],[63,6,63,7],[49,3,49,4],[50,3,50,4],[51,3,51,4],[75,4,75,5],[74,6,74,7],[84,6,84,7],[77,6,77,7],[78,6,78,7],[75,6,75,7],[82,6,82,7],[83,6,83,7],[58,3,58,5],[59,3,59,5],[60,3,60,5],[61,3,61,5],[62,3,62,5],[63,3,63,5],[64,3,64,5],[65,3,65,5],[66,3,66,5],[67,3,67,5],[69,2,69,16],[79,6,79,7],[59,6,59,7],[60,6,60,7],[71,6,71,7],[73,6,73,7],[61,6,61,7],[62,6,62,7],[1,4,1,8],[2,4,2,8],[3,4,3,8],[4,4,4,8],[5,4,5,8],[10,2,10,16],[6,4,6,8],[7,4,7,8],[8,3,8,5],[8,6,8,8],[11,3,11,4],[12,3,12,4],[13,3,13,4],[17,3,17,4],[17,6,17,10],[17,11,17,16],[19,3,19,4],[48,3,48,4],[58,6,58,7],[57,6,57,7],[56,6,56,7],[19,6,19,10],[19,11,19,16],[16,3,16,4],[11,6,11,10],[11,11,11,16],[12,11,12,16],[13,11,13,16],[14,11,14,16],[16,6,16,10],[16,11,16,16],[14,3,14,4],[14,6,14,10],[13,6,13,10],[12,6,12,10],[24,3,24,4],[21,3,21,4],[21,6,21,10],[21,11,21,16],[23,3,23,4],[26,3,26,4],[26,6,26,10],[26,11,26,16],[27,3,27,4],[27,6,27,10],[27,11,27,16],[23,6,24,10],[23,11,24,16],[29,3,29,4],[29,6,29,10],[29,11,29,16],[30,3,30,4],[30,6,30,10],[30,11,30,16],[32,3,32,4],[32,6,32,10],[32,11,32,16],[33,3,33,4],[33,6,33,10],[33,11,33,16],[35,3,35,4],[35,6,35,10],[35,11,35,16],[36,3,36,4],[38,3,38,4],[36,11,36,16],[38,11,38,16],[39,3,39,4],[40,3,40,4],[42,3,42,4],[43,3,43,4],[36,6,36,10],[38,6,38,10],[39,6,39,10],[43,6,43,10],[43,11,43,16],[39,11,39,16],[40,6,40,10],[40,11,40,16],[42,6,42,10],[42,11,42,16],[54,8,54,16],[55,8,67,16],[45,6,45,10],[46,6,46,10],[47,6,47,10],[48,6,48,10],[49,6,49,10],[50,6,50,10],[51,6,51,10],[53,2,53,16],[54,6,54,7],[54,3,54,5],[55,6,55,7],[55,3,55,5],[46,3,46,4],[47,3,47,4],[45,3,45,4],[45,11,51,16],[64,6,64,7],[65,6,65,7],[66,6,66,7],[67,6,67,7],[56,3,56,5],[57,3,57,5]]}
[]
[null,null,null,"Dealer Name",{"$f":"Summary!F2","v":"Winchester Garden Machinery Ltd - Arb"}]
[null,null,null,"Dealer Postcode",{"$f":"Summary!H3","v":1}]
[null,null,null,"Account Number",{"$f":"Summary!F4","v":28400505}]
[null,null,null,"Order Number",{"$f":"Summary!F5","v":0}]
[null,null,null,"Project Code",{"$f":"Summary!F6","v":"PSO2024"}]
[null,null,null,"Order Date",{"$f":"Summary!F7","v":"00:00:00"}]
[null,null,null,"ABM",{"$f":"Summary!F8","v":"Francesca_Bosley"}]
[null,null,null,"PSO minimum 40% of turnover = Additional 2% terms",null,null,{"$f":"Summary!G9","v":0.02}]
[]
[null,null,"Spring Promo"]
[null,null,"Product Type","Model Description",null,"PNC","Promotional Offer Details",null,null,null,null,"Terms and Conditions"]
[null,null,"Automower","Automower® 105",null,967645403,"Order a MOQ of 10 across PSO and receive an extra 4% discount"]
[null,null,"Automower","Automower® 310 Mark II",null,970526703,"Order a MOQ of 10 across PSO and receive an extra 4% discount"]
[null,null,"Automower","Automower® 450X",null,967853003,"Order a MOQ of 10 across PSO and receive an extra 6% discount"]
[]
[null,null,"Battery Trimmer","215iL - Kit (Inc. B70 & C80)",null,970536002,"Order a MOQ of 12 across PSO and receive an extra 10% discount"]
[null,null,"Battery Trimmer","215iL - KIT (Inc. B140 & C80) ",null,970536003,"Order a MOQ of 16 across PSO and receive an extra 9% discount"]
[]
[null,null,"Battery Hedge trimmer","215iHD45 Kit Inc. B70 & C80",null,970536502,"Order a MOQ of 12 across PSO and receive an extra 8% discount"]
[]
[null,null,"Battery Ped Mower","LC 142i - Kit Inc. B140 & C80 -EU",null,970541804,"Order a MOQ of 10 across PSO and receive an extra 4% discount"]
[]
[null,null,"Rider  ","R 216T AWD​",null,970542401,"Every order of the R 216T AWD recieves a free 103cm deck!",null,null,null,null,"When ordering this promotion, the price you pay for the rider will reduce by the value of the deck. Please make sure to add the deck to your order too!"]
[null,null,"Rider Cutting Deck","Combi 103cm ( 200-series mount)",null,967152301]
[]
[null,null,"Chainsaw","450 II  18\"",null,970559338,"Order a MOQ of 8 across PSO and receive an extra 4% discount"]
[null,null,"Chainsaw","550 XP® II 15\"",null,967690815,"Order a MOQ of 6 across PSO and receive an extra 4% discount"]
[]
[null,null,"Brush Cutter","525RXT",null,970446701,"Order a MOQ of 6 across PSO and receive an extra 4% discount"]
[null,null,"Brush Cutter","535RXT",null,966628902,"Order a MOQ of 10 across PSO and receive an extra 4% discount"]
[]
[null,null,"Hedgetrimmer","122HD60",null,966532401,"Order a MOQ of 12 across PSO and receive an extra 4% discount"]
[null,null,"Hedgetrimmer","522HDR75X",null,967658401,"Order a MOQ of 6 across PSO and receive an extra 4% discount"]
[]
[null,null,"Blower handheld","525BX",null,967284201,"Order a MOQ of 8 across PSO and receive an extra 4% discount"]
[null,null,"Blower backpack","570BTS",null,966629401,"Order a MOQ of 6 across PSO and receive an extra 4% discount"]
[]
[null,null,"Pressure Washer","PW 125",null,967676402,"Order a MOQ of 10 across PSO and receive an extra 13% discount"]
[null,null,"Pressure Washer","PW 235R",null,970457402,"Order a MOQ of 10 across PSO and receive an extra 12% discount"]
[null,null,"Pressure Washer","PW 350",null,967677702,"Order a MOQ of 10 across PSO and receive an extra 9% discount"]
[]
[null,null,"Ped Mower","LC 247S (HQV engine)",null,970541201,"Order a MOQ of 6 across PSO and receive an extra 4% discount"]
[null,null,"Ped Mower","  KLIPPO LB 553SQe",null,970609101,"Order a MOQ of 6 across PSO and receive an extra 4% discount"]
[]
[null,null,"Chain","C85 20/50",null,546606372,"Order 30 loops for the price of 24!",null,null,null,null,"Discount included in RRP"]
[null,null,"Chain","S35G 15/38",null,546606464,"Order 30 loops for the price of 24!"]
[null,null,"Chain","S35G 18/45",null,546606472,"Order 30 loops for the price of 24!"]
[null,null,"Chain","SP33G 13/33",null,546606556,"Order 60 loops for the price of 48!"]
[null,null,"Chain","SP33G 15/38",null,546606564,"Order 60 loops for the price of 48!"]
[null,null,"Chain","SP33G 18/45",null,546606572,"Order 30 loops for the price of 24!"]
[null,null,"Chain","C85 18/45",null,546606368,"Order 30 loops for the price of 24!"]
[]
[null,null,"Aspire"]
[null,null,"Product Type","Model Description",null,null,"PNC",null,"Promotional Offer Details"]
[null,null,"Battery - Ped Mower","Aspire LC34-P4A Unit Only",null,null,970648301,null,"Order a MOQ of 8 of each type of product and receive an extra 2% discount!\nTypes of product are: \"Battery - Ped Mower\", \"Battery - Pole Saw\", \"Battery - Blower\", \"Battery - Hedge Trimmer\", \"Battery - Trimmer\"."]
[null,null,"Battery - Ped Mower","Aspire LC34-P4A Kit incl 18-C70 and 18-B72",null,null,970648305]
[null,null,"Battery - Pole saw","Aspire P5-P4A Unit Only",null,null,970621302]
[null,null,"Battery - Pole saw","Aspire P5-P4A Pruner Kit with C70 Charger and B45 Battery",null,null,970621306]
[null,null,"Battery - Pole saw","Aspire PE5-P4A Unit Only",null,null,970621402]
[null,null,"Battery - Pole saw"," PE5-P4A Pruner & Pole Kit with C70 Charger & B72 Battery",null,null,970621406]
[null,null,"Battery - Blower","Aspire B8X-P4A",null,null,970620402]
[null,null,"Battery - Blower","Aspire B8X-P4A Kit with C70 Charger and B72 Battery",null,null,970620405]
[null,null,"Battery - Hedge trimmer","Aspire H50-P4A Unit Only",null,null,970620302]
[null,null,"Battery - Hedge trimmer","Aspire H50-P4A Kit with C70 charger and B45 Battery",null,null,970620305]
[null,null,"Battery - Trimmer","Aspire T28-P4A Unit Only",null,null,970620202]
[null,null,"Battery - Trimmer","Aspire T28-P4A Trimmer Kit with C70 charger and B45 Battery",null,null,970620205]
[null,null,"Battery - Trimmer","Aspire T28-P4A Trimmer Kit with C70 charger and B72 Battery",null,null,970620208]
[]
[null,null,"Buy Any Automower from the following list and recieve a free trimmer!"]
[null,null,"Automower","Automower PNC","Inluded Trimmer Name",null,"Trimmer PNC",null,"Terms and Conditions"]
[null,null,"Automower® 105",967645403,"110iL Kit incl B70 & C80",null,970531204,null,"This is purely a sell-out promotion. End customer purchases simultaneously an Automower and battery trimmer kit at the dealership. End customer requests via web form cash back for the trimmer kit. This process is handled by Husqvarna and an external agency."]
[null,null," Automower® Aspire R4",970568503,"110iL Kit incl B70 & C80",null,970531204]
[null,null,"Automower® 305",967974003,"215iL - KIT (Inc. B70 & C80)",null,970536002]
[null,null,"Automower® 310",967672903,"215iL - KIT (Inc. B70 & C80)",null,970536002]
[null,null,"Automower® 310 Mark II",970526703,"215iL - KIT (Inc. B70 & C80)",null,970536002]
[null,null,"Automower® 315",967673003,"215iL - KIT (Inc. B140 & C80)",null,970536003]
[null,null,"Automower® 315 Mark II",970526803,"215iL - KIT (Inc. B140 & C80)",null,970536003]
[null,null,"Automower® 405X ",970456203,"215iL - KIT (Inc. B70 & C80)",null,970536002]
[null,null,"Automower® 415X ",970471703,"215iL - KIT (Inc. B140 & C80)",null,970536003]
[null,null,"Automower® 320 NERA",970535103,"215iL - KIT (Inc. B140 & C80)",null,970536003]
[null,null,"Automower® 430X",967852803,"215iL - KIT (Inc. B140 & C80)",null,970536003]
[null,null,"Automower® 430X NERA",970535203,"215iL - KIT (Inc. B140 & C80)",null,970536003]
[null,null,"Automower® 450X",967853003,"215iL - KIT (Inc. B140 & C80)",null,970536003]
[null,null,"Automower® 450X NERA",970535303,"215iL - KIT (Inc. B140 & C80)",null,970536003]
[null,null,"Automower® 435X AWD",967853303,"215iL - KIT (Inc. B140 & C80)",null,970536003]

{"sheet":"Battery - Hand Held","index":9,"n_rows":83,"n_cols":35,"rows_kept":83,"cut":false,"hidden":false,"merged":[[42,1,58,1],[58,3,58,4],[74,3,74,4],[76,3,76,4],[77,3,77,4],[75,3,75,4],[47,3,47,4],[54,3,54,4],[56,3,56,4],[57,3,57,4],[48,3,48,4],[49,3,49,4],[42,3,42,4],[46,3,46,4],[43,3,43,4],[44,3,44,4],[45,3,45,4],[60,3,60,4],[68,3,68,4],[69,3,69,4],[61,3,61,4],[62,3,62,4],[63,3,63,4],[64,3,64,4],[65,3,65,4],[50,3,50,4],[51,3,51,4],[52,3,52,4],[53,3,53,4],[74,1,82,1],[71,1,72,1],[71,3,71,4],[72,3,72,4],[66,3,66,4],[67,3,67,4],[82,3,82,4],[60,1,69,1],[81,3,81,4],[79,3,79,4],[80,3,80,4],[78,3,78,4],[22,1,40,1],[28,3,28,4],[29,3,29,4],[27,3,27,4],[22,3,22,4],[23,3,23,4],[24,3,24,4],[25,3,25,4],[26,3,26,4],[38,3,38,4],[36,3,36,4],[37,3,37,4],[32,3,32,4],[34,3,34,4],[10,20,10,26],[10,28,10,34],[19,3,19,4],[20,3,20,4],[10,2,10,11],[11,3,11,4],[12,1,20,1],[12,3,12,4],[13,3,13,4],[14,3,14,4],[15,3,15,4],[16,3,16,4],[17,3,17,4],[18,3,18,4],[4,4,4,8],[3,4,3,8],[2,4,2,8],[1,4,1,8],[55,3,55,4],[8,3,8,5],[8,6,8,8],[7,4,7,8],[6,4,6,8],[5,4,5,8],[39,3,39,4],[40,3,40,4],[33,3,33,4],[35,3,35,4],[30,3,30,4],[31,3,31,4]]}
[]
[null,null,null,"Dealer Name",{"$f":"Summary!F2","v":"Winchester Garden Machinery Ltd - Arb"}]
[null,null,null,"Dealer Postcode",{"$f":"Summary!F3","v":"SO21 1HF"}]
[null,null,null,"Account Number",{"$f":"Summary!F4","v":28400505}]
[null,null,null,"Order Number",{"$f":"Summary!F5","v":0}]
[null,null,null,"Project Code",{"$f":"Summary!F6","v":"PSO2024"}]
[null,null,null,"Order Date",{"$f":"Summary!F7","v":"00:00:00"}]
[null,null,null,"ABM",{"$f":"Summary!F8","v":"Francesca_Bosley"}]
[null,null,null,"PSO minimum 40% of turnover = Additional 2% terms",null,null,{"$f":"Summary!I9","v":0.02}]
[]
[null,null,"Battery - Hand Held",null,null,null,null,null,null,null,null,null,null,null,null,null,null,null,null,null,"Order Quantity",null,null,null,null,null,null,null,"Order Value"]
[null,null,"Product Type","Model Description",null,"PNC","Size","Replaces","Pallet Qty","List Price 2024 Ex VAT","Discount","Dealer Net Price",null,null,null,null,null,null,null,null,"January","February","March","April","May","June","Total Qty",null,"January","February","March","April","May","June","Total Value"]
[null,"Blowers","Blower","120iB",null,967976101,null,null,{"$f":"IFERROR(_xlfn.XLOOKUP(F13,'Direct shipment'!D:D,'Direct shipment'!W:W),\"\")","v":24},{"$f":"_xlfn.XLOOKUP(F13,Pricing!A:A,Pricing!B:B)","v":124.99},{"$f":"Summary!$L$15","v":0.30000000000000004},{"$f":"J13-(J13*K13)","v":87.492999999999995},null,{"$f":"IFERROR(U13/I13,\"\")","v":0},{"$f":"IFERROR(V13/I13,\"\")","v":0},{"$f":"IFERROR(W13/I13,\"\")","v":0},{"$f":"IFERROR(X13/$I13,\"\")","v":0},{"$f":"IFERROR(Y13/$I13,\"\")","v":0},0,null,null,null,null,null,null,null,{"$f":"SUM(U13:Z13)","v":0},null,{"$f":"L13*U13","v":0},{"$f":"L13*V13","v":0},{"$f":"L13*W13","v":0},{"$f":"L13*X13","v":0},{"$f":"L13*Y13","v":0},{"$f":"L13*Z13","v":0},{"$f":"IFERROR(SUM(AC13:AH13),\"\")","v":0}]
[null,null,"Blower","120iB Kit with B140 & C80",null,967976103,null,null,{"$f":"IFERROR(_xlfn.XLOOKUP(F14,'Direct shipment'!D:D,'Direct shipment'!W:W),\"\")","v":24},{"$f":"_xlfn.XLOOKUP(F14,Pricing!A:A,Pricing!B:B)","v":249.17},{"$f":"Summary!$L$15","v":0.30000000000000004},{"$f":"J14-(J14*K14)","v":174.41899999999998},null,{"$f":"IFERROR(U14/I14,\"\")","v":0},{"$f":"IFERROR(V14/I14,\"\")","v":0},{"$f":"IFERROR(W14/I14,\"\")","v":0},{"$f":"IFERROR(X14/I14,\"\")","v":0},{"$f":"IFERROR(Y14/$I14,\"\")","v":0},{"$f":"IFERROR(Z14/$I14,\"\")","v":0},null,null,null,null,null,null,null,{"$f":"SUM(U14:Z14)","v":0},null,0,0,0,0,{"$f":"L14*Y14","v":0},{"$f":"L14*Z14","v":0},{"$f":"IFERROR(SUM(AC14:AH14),\"\")","v":0}]
[null,null,"Blower","120iBV",null,970649802,null,null,{"$f":"IFERROR(_xlfn.XLOOKUP(F15,'Direct shipment'!D:D,'Direct shipment'!W:W),\"\")","v":12},{"$f":"_xlfn.XLOOKUP(F15,Pricing!A:A,Pricing!B:B)","v":182.5},{"$f":"Summary!$L$15","v":0.30000000000000004},127.75,null,0,0,0,0,0,0,null,null,null,null,null,null,null,0,null,0,0,0,0,0,0,0]
[null,null,"Blower","120iBV Kit with B140 & C80",null,970649805,null,null,{"$f":"IFERROR(_xlfn.XLOOKUP(F16,'Direct shipment'!D:D,'Direct shipment'!W:W),\"\")","v":12},{"$f":"_xlfn.XLOOKUP(F16,Pricing!A:A,Pricing!B:B)","v":265.83},{"$f":"Summary!$L$15","v":0.30000000000000004},186.08099999999996,null,0,0,0,0,0,0,null,null,null,null,null,null,null,0,null,0,0,0,0,0,0,0]
[null,null,"Blower","325iB",null,967991001,null,null,{"$f":"IFERROR(_xlfn.XLOOKUP(F17,'Direct shipment'!D:D,'Direct shipment'!W:W),\"\")","v":30},{"$f":"_xlfn.XLOOKUP(F17,Pricing!A:A,Pricing!B:B)","v":274.17},{"$f":"Summary!$L$15","v":0.30000000000000004},191.91899999999998,null,0,0,0,0,0,0,null,null,null,null,null,null,null,0,null,0,0,0,0,0,0,0]
[null,null,"Blower","340iBT",null,967796203,null,null,{"$f":"IFERROR(_xlfn.XLOOKUP(F18,'Direct shipment'!D:D,'Direct shipment'!W:W),\"\")","v":6},{"$f":"_xlfn.XLOOKUP(F18,Pricing!A:A,Pricing!B:B)","v":499.17},{"$f":"Summary!$L$15","v":0.30000000000000004},349.41899999999998,null,0,0,0,0,0,0,null,null,null,null,null,null,null,0,null,0,0,0,0,0,0,0]
[null,null,"Blower","525iB Mark II",null,967915503,null,null,{"$f":"IFERROR(_xlfn.XLOOKUP(F19,'Direct shipment'!D:D,'Direct shipment'!W:W),\"\")","v":30},{"$f":"_xlfn.XLOOKUP(F19,Pricing!A:A,Pricing!B:B)","v":415.83},{"$f":"Summary!$L$15","v":0.30000000000000004},291.08099999999996,null,0,0,0,0,0,0,null,null,null,null,null,null,null,0,null,0,0,0,0,0,0,0]
[null,null,"Blower","530iBX",null,967941406,null,null,{"$f":"IFERROR(_xlfn.XLOOKUP(F20,'Direct shipment'!D:D,'Direct shipment'!W:W),\"\")","v":24},{"$f":"_xlfn.XLOOKUP(F20,Pricing!A:A,Pricing!B:B)","v":415.83},{"$f":"Summary!$L$15","v":0.30000000000000004},291.08099999999996,null,0,0,0,0,0,0,null,null,null,null,null,null,null,0,null,0,0,0,0,0,0,0]
[null,null,"Blower","550iBTX",null,967681103,null,null,{"$f":"IFERROR(_xlfn.XLOOKUP(F21,'Direct shipment'!D:D,'Direct shipment'!W:W),\"\")","v":6},{"$f":"_xlfn.XLOOKUP(F21,Pricing!A:A,Pricing!B:B)","v":582.5},{"$f":"Summary!$L$15","v":0.30000000000000004},{"$f":"IFERROR(J21-(J21*K21),\"0\")","v":407.75},null,0,0,0,0,0,0,null,null,null,null,null,null,null,0,null,0,0,0,0,0,0,0]
[]
[null,"Chainsaw","Chainsaw","225i 12\"",null,970547502,null,967098201,{"$f":"IFERROR(_xlfn.XLOOKUP(F23,'Direct shipment'!D:D,'Direct shipment'!W:W),\"\")","v":36},{"$f":"_xlfn.XLOOKUP(F23,Pricing!A:A,Pricing!B:B)","v":207.5},{"$f":"Summary!$L$15","v":0.30000000000000004},{"$f":"IFERROR(J23-(J23*K23),\"0\")","v":145.25},null,0,0,0,0,0,0,null,null,null,null,null,null,null,0,null,{"$f":"L23*U23","v":0},{"$f":"L23*V23","v":0},{"$f":"L23*W23","v":0},{"$f":"L23*X23","v":0},0,0,0]
[null,null,"Chainsaw","225i 12\" Kit Inc B140 & C80",null,970547512,null,null,{"$f":"IFERROR(_xlfn.XLOOKUP(F24,'Direct shipment'!D:D,'Direct shipment'!W:W),\"\")","v":44},{"$f":"_xlfn.XLOOKUP(F24,Pricing!A:A,Pricing!B:B)","v":332.5},{"$f":"Summary!$L$15","v":0.30000000000000004},{"$f":"IFERROR(J24-(J24*K24),\"0\")","v":232.75},null,{"$f":"IFERROR(U24/I24,\"\")","v":0},{"$f":"IFERROR(V24/I24,\"\")","v":0},{"$f":"IFERROR(W24/I24,\"\")","v":0},{"$f":"IFERROR(X24/I24,\"\")","v":0},{"$f":"IFERROR(Y24/$I24,\"\")","v":0},0,null,null,null,null,null,null,null,{"$f":"SUM(U24:Z24)","v":0},null,{"$f":"L24*U24","v":0},{"$f":"L24*V24","v":0},{"$f":"L24*W24","v":0},{"$f":"L24*X24","v":0},{"$f":"L24*Y24","v":0},{"$f":"L24*Z24","v":0},{"$f":"IFERROR(SUM(AC24:AH24),\"\")","v":0}]
[null,null,"Chainsaw","225i 14\"",null,970547503,null,null,{"$f":"IFERROR(_xlfn.XLOOKUP(F25,'Direct shipment'!D:D,'Direct shipment'!W:W),\"\")","v":36},{"$f":"_xlfn.XLOOKUP(F25,Pricing!A:A,Pricing!B:B)","v":215.83},{"$f":"Summary!$L$15","v":0.30000000000000004},{"$f":"IFERROR(J25-(J25*K25),\"0\")","v":151.08100000000002},null,{"$f":"IFERROR(U25/I25,\"\")","v":0},{"$f":"IFERROR(V25/I25,\"\")","v":0},{"$f":"IFERROR(W25/I25,\"\")","v":0},{"$f":"IFERROR(X25/I25,\"\")","v":0},0,0,null,null,null,null,null,null,null,{"$f":"SUM(U25:Z25)","v":0},null,{"$f":"L25*U25","v":0},{"$f":"L25*V25","v":0},{"$f":"L25*W25","v":0},{"$f":"L25*X25","v":0},{"$f":"L25*Y25","v":0},{"$f":"L25*Z25","v":0},{"$f":"IFERROR(SUM(AC25:AH25),\"\")","v":0}]
[null,null,"Chainsaw","225i 14\" Kit Inc B140 & C80",null,970547513,null,null,44,{"$f":"_xlfn.XLOOKUP(F26,Pricing!A:A,Pricing!B:B)","v":340.83},{"$f":"Summary!$L$15","v":0.30000000000000004},{"$f":"IFERROR(J26-(J26*K26),\"0\")","v":238.58099999999996},null,{"$f":"IFERROR(U26/I26,\"\")","v":0},{"$f":"IFERROR(V26/I26,\"\")","v":0},{"$f":"IFERROR(W26/I26,\"\")","v":0},{"$f":"IFERROR(X26/I26,\"\")","v":0},0,0,null,null,null,null,null,null,null,{"$f":"SUM(U26:Z26)","v":0},null,{"$f":"L26*U26","v":0},{"$f":"L26*V26","v":0},{"$f":"L26*W26","v":0},{"$f":"L26*X26","v":0},{"$f":"L26*Y26","v":0},{"$f":"L26*Z26","v":0},{"$f":"IFERROR(SUM(AC26:AH26),\"\")","v":0}]
[null,null,"Chainsaw","240i 16\"",null,970601101,null,null,{"$f":"IFERROR(_xlfn.XLOOKUP(F27,'Direct shipment'!D:D,'Direct shipment'!W:W),\"\")","v":36},{"$f":"_xlfn.XLOOKUP(F27,Pricing!A:A,Pricing!B:B)","v":290.83},{"$f":"Summary!$L$15","v":0.30000000000000004},{"$f":"IFERROR(J27-(J27*K27),\"0\")","v":203.58099999999996},null,{"$f":"IFERROR(U27/I27,\"\")","v":0},{"$f":"IFERROR(V27/I27,\"\")","v":0},{"$f":"IFERROR(W27/I27,\"\")","v":0},{"$f":"IFERROR(X27/I27,\"\")","v":0},0,0,null,null,null,null,null,null,null,{"$f":"SUM(U27:Z27)","v":0},null,{"$f":"L27*U27","v":0},{"$f":"L27*V27","v":0},{"$f":"L27*W27","v":0},{"$f":"L27*X27","v":0},{"$f":"L27*Y27","v":0},{"$f":"L27*Z27","v":0},{"$f":"IFERROR(SUM(AC27:AH27),\"\")","v":0}]
[null,null,"Chainsaw","240i  16\" Kit Incl Bli30 & C80",null,970601108,null,null,36,{"$f":"_xlfn.XLOOKUP(F28,Pricing!A:A,Pricing!B:B)","v":499.17},{"$f":"Summary!$L$15","v":0.30000000000000004},349.41899999999998,null,0,0,0,0,0,0,null,null,null,null,null,null,null,0,null,0,0,0,0,0,0,0]
[null,null,"Chainsaw","540iXP 16\" S93G",null,970572516,null,967864116,{"$f":"IFERROR(_xlfn.XLOOKUP(F29,'Direct shipment'!D:D,'Direct shipment'!W:W),\"\")","v":96},{"$f":"_xlfn.XLOOKUP(F29,Pricing!A:A,Pricing!B:B)","v":624.16999999999996},{"$f":"Summary!$L$15","v":0.30000000000000004},{"$f":"IFERROR(J29-(J29*K29),\"0\")","v":436.91899999999998},null,{"$f":"IFERROR(U29/I29,\"\")","v":0},{"$f":"IFERROR(V29/I29,\"\")","v":0},{"$f":"IFERROR(W29/I29,\"\")","v":0},{"$f":"IFERROR(X29/I29,\"\")","v":0},{"$f":"IFERROR(Y29/$I29,\"\")","v":0},{"$f":"IFERROR(Z29/$I29,\"\")","v":0},null,null,null,null,null,null,null,{"$f":"SUM(U29:Z29)","v":0},null,{"$f":"L29*U29","v":0},{"$f":"L29*V29","v":0},{"$f":"L29*W29","v":0},{"$f":"L29*X29","v":0},{"$f":"L29*Y29","v":0},{"$f":"L29*Z29","v":0},{"$f":"IFERROR(SUM(AC29:AH29),\"\")","v":0}]
[null,null,"Chainsaw","T540iXP 12\" SP21G",null,970572312,null,967863712,{"$f":"IFERROR(_xlfn.XLOOKUP(F30,'Direct shipment'!D:D,'Direct shipment'!W:W),\"\")","v":96},{"$f":"_xlfn.XLOOKUP(F30,Pricing!A:A,Pricing!B:B)","v":624.16999999999996},{"$f":"Summary!$L$15","v":0.30000000000000004},436.91899999999998,null,2.0833333333333332E-2,0,2.0833333333333332E-2,0,2.0833333333333332E-2,0,null,2,null,2,null,2,null,6,null,873.83799999999997,0,873.83799999999997,0,873.83799999999997,0,2621.5140000000001]
[null,null,"Chainsaw","T540iXP 14\" SP21G",null,970572314,null,967863714,{"$f":"IFERROR(_xlfn.XLOOKUP(F31,'Direct shipment'!D:D,'Direct shipment'!W:W),\"\")","v":96},{"$f":"_xlfn.XLOOKUP(F31,Pricing!A:A,Pricing!B:B)","v":632.5},{"$f":"Summary!$L$15","v":0.30000000000000004},{"$f":"IFERROR(J31-(J31*K31),\"0\")","v":442.75},null,{"$f":"IFERROR(U31/I31,\"\")","v":0},{"$f":"IFERROR(V31/I31,\"\")","v":0},{"$f":"IFERROR(W31/I31,\"\")","v":0},{"$f":"IFERROR(X31/I31,\"\")","v":0},{"$f":"IFERROR(Y31/$I31,\"\")","v":0},0,null,null,null,null,null,null,null,{"$f":"SUM(U31:Z31)","v":0},null,{"$f":"L31*U31","v":0},{"$f":"L31*V31","v":0},{"$f":"L31*W31","v":0},{"$f":"L31*X31","v":0},{"$f":"L31*Y31","v":0},{"$f":"L31*Z31","v":0},{"$f":"IFERROR(SUM(AC31:AH31),\"\")","v":0}]
[null,null,"Chainsaw","T540iXP 16\" SP21G",null,970572316,null,967863716,{"$f":"IFERROR(_xlfn.XLOOKUP(F32,'Direct shipment'!D:D,'Direct shipment'!W:W),\"\")","v":96},{"$f":"_xlfn.XLOOKUP(F32,Pricing!A:A,Pricing!B:B)","v":640.83000000000004},{"$f":"Summary!$L$15","v":0.30000000000000004},448.58100000000002,null,0,0,0,0,0,0,null,null,null,null,null,null,null,0,null,0,0,0,0,0,0,0]
[null,null,"Chainsaw","T540i XPG  12\" SP21G",null,970568112,null,null,{"$f":"IFERROR(_xlfn.XLOOKUP(F33,'Direct shipment'!D:D,'Direct shipment'!W:W),\"\")","v":96},{"$f":"_xlfn.XLOOKUP(F33,Pricing!A:A,Pricing!B:B)","v":649.16999999999996},{"$f":"Summary!$L$15","v":0.30000000000000004},454.41899999999998,null,0,0,0,0,0,0,null,null,null,null,null,null,null,0,null,0,0,0,0,0,0,0]
[null,null,"Chainsaw","T540i XPG  14\" SP21G",null,970568114,null,null,{"$f":"IFERROR(_xlfn.XLOOKUP(F34,'Direct shipment'!D:D,'Direct shipment'!W:W),\"\")","v":96},{"$f":"_xlfn.XLOOKUP(F34,Pricing!A:A,Pricing!B:B)","v":657.5},{"$f":"Summary!$L$15","v":0.30000000000000004},460.25,null,0,0,0,0,0,0,null,null,null,null,null,null,null,0,null,0,0,0,0,0,0,0]
[null,null,"Chainsaw","T540i XPG  16\" SP21G",null,970568116,null,null,{"$f":"IFERROR(_xlfn.XLOOKUP(F35,'Direct shipment'!D:D,'Direct shipment'!W:W),\"\")","v":96},{"$f":"_xlfn.XLOOKUP(F35,Pricing!A:A,Pricing!B:B)","v":665.83},{"$f":"Summary!$L$15","v":0.30000000000000004},466.08100000000002,null,0,0,0,0,0,0,null,null,null,null,null,null,null,0,null,0,0,0,0,0,0,0]
[null,null,"Chainsaw","542iXP 13\"",null,970647013,null,null,{"$f":"IFERROR(_xlfn.XLOOKUP(F36,'Direct shipment'!D:D,'Direct shipment'!W:W),\"\")","v":96},{"$f":"_xlfn.XLOOKUP(F36,Pricing!A:A,Pricing!B:B)","v":649.16999999999996},{"$f":"Summary!$L$15","v":0.30000000000000004},454.41899999999998,null,0,0,0,0,0,0,null,null,null,null,null,null,null,0,null,0,0,0,0,0,0,0]
[null,null,"Chainsaw","542iXP 15\"",null,970647015,null,null,{"$f":"IFERROR(_xlfn.XLOOKUP(F37,'Direct shipment'!D:D,'Direct shipment'!W:W),\"\")","v":96},{"$f":"_xlfn.XLOOKUP(F37,Pricing!A:A,Pricing!B:B)","v":657.5},{"$f":"Summary!$L$15","v":0.30000000000000004},460.25,null,0,0,0,0,0,0,null,null,null,null,null,null,null,0,null,0,0,0,0,0,0,0]
[null,null,"Chainsaw","542i XPG 13\"",null,970647113,null,null,{"$f":"IFERROR(_xlfn.XLOOKUP(F38,'Direct shipment'!D:D,'Direct shipment'!W:W),\"\")","v":96},{"$f":"_xlfn.XLOOKUP(F38,Pricing!A:A,Pricing!B:B)","v":665.83},{"$f":"Summary!$L$15","v":0.30000000000000004},466.08100000000002,null,0,0,0,0,0,0,null,null,null,null,null,null,null,0,null,0,0,0,0,0,0,0]
[null,null,"Chainsaw","T542iXP 12\"",null,970646812,null,null,{"$f":"IFERROR(_xlfn.XLOOKUP(F39,'Direct shipment'!D:D,'Direct shipment'!W:W),\"\")","v":96},{"$f":"_xlfn.XLOOKUP(F39,Pricing!A:A,Pricing!B:B)","v":649.16999999999996},{"$f":"Summary!$L$15","v":0.30000000000000004},454.41899999999998,null,0,0,0,0,0,0,null,null,null,null,null,null,null,0,null,0,0,0,0,0,0,0]
[null,null,"Chainsaw","T542iXP 14\"",null,970646814,null,null,{"$f":"IFERROR(_xlfn.XLOOKUP(F40,'Direct shipment'!D:D,'Direct shipment'!W:W),\"\")","v":96},{"$f":"_xlfn.XLOOKUP(F40,Pricing!A:A,Pricing!B:B)","v":657.5},{"$f":"Summary!$L$15","v":0.30000000000000004},460.25,null,0,0,0,0,0,0,null,null,null,null,null,null,null,0,null,0,0,0,0,0,0,0]
[null,null,"Chainsaw","T542iXPG 14\"",null,970646914,null,null,{"$f":"IFERROR(_xlfn.XLOOKUP(F41,'Direct shipment'!D:D,'Direct shipment'!W:W),\"\")","v":96},{"$f":"_xlfn.XLOOKUP(F41,Pricing!A:A,Pricing!B:B)","v":699.17},{"$f":"Summary!$L$15","v":0.30000000000000004},489.41899999999998,null,0,0,0,0,0,0,null,null,null,null,null,null,null,0,null,0,0,0,0,0,0,0]
[]
[null,"Trimmer","Trimmer","110iL",null,970531201,null,null,{"$f":"IFERROR(_xlfn.XLOOKUP(F43,'Direct shipment'!D:D,'Direct shipment'!W:W),\"\")","v":30},{"$f":"_xlfn.XLOOKUP(F43,Pricing!A:A,Pricing!B:B)","v":149.99},{"$f":"Summary!$L$15","v":0.30000000000000004},{"$f":"IFERROR(J43-(J43*K43),\"0\")","v":104.99299999999999},null,{"$f":"IFERROR(U43/I43,\"\")","v":0},{"$f":"IFERROR(V43/I43,\"\")","v":0},{"$f":"IFERROR(W43/I43,\"\")","v":0},{"$f":"IFERROR(X43/I43,\"\")","v":0},{"$f":"IFERROR(Y43/$I43,\"\")","v":0},{"$f":"IFERROR(Z43/$I43,\"\")","v":0},null,null,null,null,null,null,null,{"$f":"SUM(U43:Z43)","v":0},null,{"$f":"L43*U43","v":0},{"$f":"L43*V43","v":0},{"$f":"L43*W43","v":0},{"$f":"L43*X43","v":0},{"$f":"L43*Y43","v":0},{"$f":"L43*Z43","v":0},{"$f":"IFERROR(SUM(AC43:AH43),\"\")","v":0}]
[null,null,"Trimmer","110iL Kit (Inc. B70 & C80)",null,970531204,null,null,{"$f":"IFERROR(_xlfn.XLOOKUP(F44,'Direct shipment'!D:D,'Direct shipment'!W:W),\"\")","v":30},{"$f":"_xlfn.XLOOKUP(F44,Pricing!A:A,Pricing!B:B)","v":207.5},{"$f":"Summary!$L$15","v":0.30000000000000004},145.25,null,0,0,0,{"$f":"IFERROR(X44/I44,\"\")","v":0},0,0,null,null,null,null,null,null,null,0,null,{"$f":"L44*U44","v":0},{"$f":"L44*V44","v":0},{"$f":"L44*W44","v":0},{"$f":"L44*X44","v":0},0,0,0]
[null,null,"Trimmer","215iL - Unit only",null,970536001,null,967098801,{"$f":"IFERROR(_xlfn.XLOOKUP(F45,'Direct shipment'!D:D,'Direct shipment'!W:W),\"\")","v":35},{"$f":"_xlfn.XLOOKUP(F45,Pricing!A:A,Pricing!B:B)","v":190.83},{"$f":"Summary!$L$15","v":0.30000000000000004},{"$f":"J45-(J45*K45)","v":133.58100000000002},null,{"$f":"IFERROR(U45/I45,\"\")","v":0},{"$f":"IFERROR(V45/I45,\"\")","v":0},{"$f":"IFERROR(W45/I45,\"\")","v":0},{"$f":"IFERROR(X45/I45,\"\")","v":0},{"$f":"IFERROR(Y45/$I45,\"\")","v":0},0,null,null,null,null,null,null,null,{"$f":"SUM(U45:Z45)","v":0},null,{"$f":"L45*U45","v":0},{"$f":"L45*V45","v":0},{"$f":"L45*W45","v":0},{"$f":"L45*X45","v":0},{"$f":"L45*Y45","v":0},{"$f":"L45*Z45","v":0},{"$f":"IFERROR(SUM(AC45:AH45),\"\")","v":0}]
[null,null,"Trimmer","215iL - Kit (Inc. B70 & C80)",null,970536002,null,967098802,{"$f":"IFERROR(_xlfn.XLOOKUP(F46,'Direct shipment'!D:D,'Direct shipment'!W:W),\"\")","v":35},{"$f":"_xlfn.XLOOKUP(F46,Pricing!A:A,Pricing!B:B)","v":249.17},{"$f":"Summary!$L$15","v":0.30000000000000004},{"$f":"IF(AA46>11,(J46-(J46*K46))*0.9,(J46-(J46*K46)))","v":174.41899999999998},null,{"$f":"IFERROR(U46/I46,\"\")","v":0},{"$f":"IFERROR(V46/I46,\"\")","v":0},{"$f":"IFERROR(W46/I46,\"\")","v":0},{"$f":"IFERROR(X46/I46,\"\")","v":0},0,0,null,null,null,null,null,null,null,{"$f":"SUM(U46:Z46)","v":0},null,{"$f":"L46*U46","v":0},{"$f":"L46*V46","v":0},{"$f":"L46*W46","v":0},{"$f":"L46*X46","v":0},{"$f":"L46*Y46","v":0},{"$f":"L46*Z46","v":0},{"$f":"IFERROR(SUM(AC46:AH46),\"\")","v":0}]
[null,null,"Trimmer","215iL - KIT (Inc. B140 & C80) ",null,970536003,null,967098804,{"$f":"IFERROR(_xlfn.XLOOKUP(F47,'Direct shipment'!D:D,'Direct shipment'!W:W),\"\")","v":35},{"$f":"_xlfn.XLOOKUP(F47,Pricing!A:A,Pricing!B:B)","v":274.17},{"$f":"Summary!$L$15","v":0.30000000000000004},{"$f":"IF(AA47>15,(J47-(J47*K47))*0.91,(J47-(J47*K47)))","v":191.91899999999998},null,0,0,0,0,0,0,null,null,null,null,null,null,null,0,null,0,0,0,0,0,0,0]
[null,null,"Trimmer","215iHD45 & 215iL Kit (Inc. 215iHD45, 215iL, B140, C80)",null,970536101,null,967957201,{"$f":"IFERROR(_xlfn.XLOOKUP(F48,'Direct shipment'!D:D,'Direct shipment'!W:W),\"\")","v":15},{"$f":"_xlfn.XLOOKUP(F48,Pricing!A:A,Pricing!B:B)","v":399.17},{"$f":"Summary!$L$15","v":0.30000000000000004},{"$f":"IFERROR(J48-(J48*K48),\"0\")","v":279.41899999999998},null,{"$f":"IFERROR(U48/I48,\"\")","v":0},{"$f":"IFERROR(V48/I48,\"\")","v":0},{"$f":"IFERROR(W48/I48,\"\")","v":0},{"$f":"IFERROR(X48/I48,\"\")","v":0},{"$f":"IFERROR(Y48/$I48,\"\")","v":0},0,null,null,null,null,null,null,null,{"$f":"SUM(U48:Z48)","v":0},null,{"$f":"L48*U48","v":0},{"$f":"L48*V48","v":0},{"$f":"L48*W48","v":0},{"$f":"L48*X48","v":0},{"$f":"L48*Y48","v":0},{"$f":"L48*Z48","v":0},{"$f":"IFERROR(SUM(AC48:AH48),\"\")","v":0}]
[null,null,"Trimmer","325iL",null,970566801,null,null,{"$f":"IFERROR(_xlfn.XLOOKUP(F49,'Direct shipment'!D:D,'Direct shipment'!W:W),\"\")","v":15},{"$f":"_xlfn.XLOOKUP(F49,Pricing!A:A,Pricing!B:B)","v":290.83},{"$f":"Summary!$L$15","v":0.30000000000000004},{"$f":"IFERROR(J49-(J49*K49),\"0\")","v":203.58099999999996},null,{"$f":"IFERROR(U49/I49,\"\")","v":0},{"$f":"IFERROR(V49/I49,\"\")","v":0},{"$f":"IFERROR(W49/I49,\"\")","v":0},{"$f":"IFERROR(X49/I49,\"\")","v":0},0,0,null,null,null,null,null,null,null,{"$f":"SUM(U49:Z49)","v":0},null,{"$f":"L49*U49","v":0},{"$f":"L49*V49","v":0},{"$f":"L49*W49","v":0},{"$f":"L49*X49","v":0},{"$f":"L49*Y49","v":0},{"$f":"L49*Z49","v":0},{"$f":"IFERROR(SUM(AC49:AH49),\"\")","v":0}]
[null,null,"Trimmer / brush cutter","325iR",null,970566901,null,null,{"$f":"IFERROR(_xlfn.XLOOKUP(F50,'Direct shipment'!D:D,'Direct shipment'!W:W),\"\")","v":15},{"$f":"_xlfn.XLOOKUP(F50,Pricing!A:A,Pricing!B:B)","v":332.5},{"$f":"Summary!$L$15","v":0.30000000000000004},{"$f":"J50-(J50*K50)","v":232.75},null,{"$f":"IFERROR(U50/I50,\"\")","v":0},{"$f":"IFERROR(V50/I50,\"\")","v":0},{"$f":"IFERROR(W50/I50,\"\")","v":0},0,{"$f":"IFERROR(Y50/$I50,\"\")","v":0},{"$f":"IFERROR(Z50/$I50,\"\")","v":0},null,null,null,null,null,null,null,{"$f":"SUM(U50:Z50)","v":0},null,0,0,0,0,{"$f":"L50*Y50","v":0},{"$f":"L50*Z50","v":0},{"$f":"IFERROR(SUM(AC50:AH50),\"\")","v":0}]
[null,null,"Trimmer / brush cutter","325iRj",null,970567001,null,null,{"$f":"IFERROR(_xlfn.XLOOKUP(F51,'Direct shipment'!D:D,'Direct shipment'!W:W),\"\")","v":15},{"$f":"_xlfn.XLOOKUP(F51,Pricing!A:A,Pricing!B:B)","v":332.5},{"$f":"Summary!$L$15","v":0.30000000000000004},232.75,null,0,0,0,0,0,0,null,null,null,null,null,null,null,0,null,0,0,0,0,0,0,0]
[null,null,"Trimmer / brush cutter","520iLX",null,967916113,null,967916111,{"$f":"IFERROR(_xlfn.XLOOKUP(F52,'Direct shipment'!D:D,'Direct shipment'!W:W),\"\")","v":20},{"$f":"_xlfn.XLOOKUP(F52,Pricing!A:A,Pricing!B:B)","v":340.83},{"$f":"Summary!$L$15","v":0.30000000000000004},238.58099999999996,null,0,0,0.1,0,0,0,null,null,null,2,null,null,null,2,null,0,0,477.16199999999992,0,0,0,477.16199999999992]
[null,null,"Trimmer / brush cutter","520iRX",null,967916203,null,967916202,{"$f":"IFERROR(_xlfn.XLOOKUP(F53,'Direct shipment'!D:D,'Direct shipment'!W:W),\"\")","v":20},{"$f":"_xlfn.XLOOKUP(F53,Pricing!A:A,Pricing!B:B)","v":374.17},{"$f":"Summary!$L$15","v":0.30000000000000004},261.91899999999998,null,0.05,0,0.1,0,0,0,null,1,null,2,null,null,null,3,null,261.91899999999998,0,523.83799999999997,0,0,0,785.75699999999995]
[null,null,"Trimmer","525iLK",null,970551602,null,null,{"$f":"IFERROR(_xlfn.XLOOKUP(F54,'Direct shipment'!D:D,'Direct shipment'!W:W),\"\")","v":42},{"$f":"_xlfn.XLOOKUP(F54,Pricing!A:A,Pricing!B:B)","v":390.83},{"$f":"Summary!$L$15","v":0.30000000000000004},{"$f":"IFERROR(J54-(J54*K54),\"0\")","v":273.58099999999996},null,{"$f":"IFERROR(U54/I54,\"\")","v":0},{"$f":"IFERROR(V54/I54,\"\")","v":0},{"$f":"IFERROR(W54/I54,\"\")","v":0},{"$f":"IFERROR(X54/I54,\"\")","v":0},{"$f":"IFERROR(Y54/$I54,\"\")","v":0},0,null,null,null,null,null,null,null,{"$f":"SUM(U54:Z54)","v":0},null,{"$f":"L54*U54","v":0},{"$f":"L54*V54","v":0},{"$f":"L54*W54","v":0},{"$f":"L54*X54","v":0},{"$f":"L54*Y54","v":0},{"$f":"L54*Z54","v":0},{"$f":"IFERROR(SUM(AC54:AH54),\"\")","v":0}]
[null,null,"Trimmer","525iLXT",null,970551501,null,null,{"$f":"IFERROR(_xlfn.XLOOKUP(F55,'Direct shipment'!D:D,'Direct shipment'!W:W),\"\")","v":15},{"$f":"_xlfn.XLOOKUP(F55,Pricing!A:A,Pricing!B:B)","v":374.17},{"$f":"Summary!$L$15","v":0.30000000000000004},{"$f":"IFERROR(J55-(J55*K55),\"0\")","v":261.91899999999998},null,{"$f":"IFERROR(U55/I55,\"\")","v":0},{"$f":"IFERROR(V55/I55,\"\")","v":0},{"$f":"IFERROR(W55/I55,\"\")","v":0},{"$f":"IFERROR(X55/I55,\"\")","v":0},0,0,null,null,null,null,null,null,null,{"$f":"SUM(U55:Z55)","v":0},null,{"$f":"L55*U55","v":0},{"$f":"L55*V55","v":0},{"$f":"L55*W55","v":0},{"$f":"L55*X55","v":0},{"$f":"L55*Y55","v":0},{"$f":"L55*Z55","v":0},{"$f":"IFERROR(SUM(AC55:AH55),\"\")","v":0}]
[null,null,"Trimmer / brush cutter","525iRXT",null,970551401,null,null,{"$f":"IFERROR(_xlfn.XLOOKUP(F56,'Direct shipment'!D:D,'Direct shipment'!W:W),\"\")","v":15},{"$f":"_xlfn.XLOOKUP(F56,Pricing!A:A,Pricing!B:B)","v":432.5},{"$f":"Summary!$L$15","v":0.30000000000000004},{"$f":"J56-(J56*K56)","v":302.75},null,{"$f":"IFERROR(U56/I56,\"\")","v":0},{"$f":"IFERROR(V56/I56,\"\")","v":0},{"$f":"IFERROR(W56/I56,\"\")","v":0},{"$f":"IFERROR(X56/I56,\"\")","v":0},0,0,null,null,null,null,null,null,null,{"$f":"SUM(U56:Z56)","v":0},null,{"$f":"L56*U56","v":0},{"$f":"L56*V56","v":0},{"$f":"L56*W56","v":0},{"$f":"L56*X56","v":0},{"$f":"L56*Y56","v":0},{"$f":"L56*Z56","v":0},{"$f":"IFERROR(SUM(AC56:AH56),\"\")","v":0}]
[null,null,"Trimmer / brush cutter","535iFR",null,967850504,null,967850501,{"$f":"IFERROR(_xlfn.XLOOKUP(F57,'Direct shipment'!D:D,'Direct shipment'!W:W),\"\")","v":12},{"$f":"_xlfn.XLOOKUP(F57,Pricing!A:A,Pricing!B:B)","v":582.5},{"$f":"Summary!$L$15","v":0.30000000000000004},407.75,null,0,0,0,0,0,0,null,null,null,null,null,null,null,0,null,0,0,0,0,0,0,0]
[null,null,"Trimmer / brush cutter","535iRX",null,967850605,null,967850603,{"$f":"IFERROR(_xlfn.XLOOKUP(F58,'Direct shipment'!D:D,'Direct shipment'!W:W),\"\")","v":12},{"$f":"_xlfn.XLOOKUP(F58,Pricing!A:A,Pricing!B:B)","v":540.83000000000004},{"$f":"Summary!$L$15","v":0.30000000000000004},378.58100000000002,null,0,0,0,0,0,0,null,null,null,null,null,null,null,0,null,0,0,0,0,0,0,0]
[null,null,"Trimmer / brush cutter","535iRXT",null,967850607,null,967850601,{"$f":"IFERROR(_xlfn.XLOOKUP(F59,'Direct shipment'!D:D,'Direct shipment'!W:W),\"\")","v":12},{"$f":"_xlfn.XLOOKUP(F59,Pricing!A:A,Pricing!B:B)","v":624.16999999999996},{"$f":"Summary!$L$15","v":0.30000000000000004},436.91899999999998,null,0,0,8.3333333333333329E-2,0,0,0,null,null,null,1,null,null,null,1,null,0,0,436.91899999999998,0,0,0,436.91899999999998]
[]
[null,"Hedge Trimmer","Hedge trimmer","215iHD45",null,970536501,null,967098301,{"$f":"IFERROR(_xlfn.XLOOKUP(F61,'Direct shipment'!D:D,'Direct shipment'!W:W),\"\")","v":32},{"$f":"_xlfn.XLOOKUP(F61,Pricing!A:A,Pricing!B:B)","v":190.83},{"$f":"Summary!$L$15","v":0.30000000000000004},{"$f":"J61-(J61*K61)","v":133.58100000000002},null,{"$f":"IFERROR(U61/I61,\"\")","v":0},{"$f":"IFERROR(V61/I61,\"\")","v":0},{"$f":"IFERROR(W61/I61,\"\")","v":0},{"$f":"IFERROR(X61/I61,\"\")","v":0},{"$f":"IFERROR(Y61/$I61,\"\")","v":0},{"$f":"IFERROR(Z61/$I61,\"\")","v":0},null,null,null,null,null,null,null,{"$f":"SUM(U61:Z61)","v":0},null,{"$f":"L61*U61","v":0},{"$f":"L61*V61","v":0},{"$f":"L61*W61","v":0},{"$f":"L61*X61","v":0},{"$f":"L61*Y61","v":0},{"$f":"L61*Z61","v":0},{"$f":"IFERROR(SUM(AC61:AH61),\"\")","v":0}]
[null,null,"Hedge trimmer","215iHD45 Kit Inc. B70 & C80",null,970536502,null,967098302,{"$f":"IFERROR(_xlfn.XLOOKUP(F62,'Direct shipment'!D:D,'Direct shipment'!W:W),\"\")","v":32},{"$f":"_xlfn.XLOOKUP(F62,Pricing!A:A,Pricing!B:B)","v":249.17},{"$f":"Summary!$L$15","v":0.30000000000000004},{"$f":"IF(AA62>11,(J62-(J62*K62))*0.92,(J62-(J62*K62)))","v":174.41899999999998},null,0,0,0,{"$f":"IFERROR(X62/I62,\"\")","v":0},0,0,null,null,null,null,null,null,null,0,null,{"$f":"L62*U62","v":0},{"$f":"L62*V62","v":0},{"$f":"L62*W62","v":0},{"$f":"L62*X62","v":0},0,0,0]
[null,null,"Hedge trimmer","215iHD55",null,970536603,null,null,{"$f":"IFERROR(_xlfn.XLOOKUP(F63,'Direct shipment'!D:D,'Direct shipment'!W:W),\"\")","v":60},{"$f":"_xlfn.XLOOKUP(F63,Pricing!A:A,Pricing!B:B)","v":207.5},{"$f":"Summary!$L$15","v":0.30000000000000004},{"$f":"J63-(J63*K63)","v":145.25},null,{"$f":"IFERROR(U63/I63,\"\")","v":0},{"$f":"IFERROR(V63/I63,\"\")","v":0},{"$f":"IFERROR(W63/I63,\"\")","v":0},{"$f":"IFERROR(X63/I63,\"\")","v":0},{"$f":"IFERROR(Y63/$I63,\"\")","v":0},{"$f":"IFERROR(Z63/$I63,\"\")","v":0},null,null,null,null,null,null,null,{"$f":"SUM(U63:Z63)","v":0},null,{"$f":"L63*U63","v":0},{"$f":"L63*V63","v":0},{"$f":"L63*W63","v":0},{"$f":"L63*X63","v":0},{"$f":"L63*Y63","v":0},{"$f":"L63*Z63","v":0},{"$f":"IFERROR(SUM(AC63:AH63),\"\")","v":0}]
[null,null,"Hedge trimmer","215iHD55 Kit Incl B70 and C80",null,970536505,null,967098302,{"$f":"IFERROR(_xlfn.XLOOKUP(F64,'Direct shipment'!D:D,'Direct shipment'!W:W),\"\")","v":32},{"$f":"_xlfn.XLOOKUP(F64,Pricing!A:A,Pricing!B:B)","v":274.17},{"$f":"Summary!$L$15","v":0.30000000000000004},{"$f":"J64-(J64*K64)","v":191.91899999999998},null,0,0,0,0,0,0,null,null,null,null,null,null,null,0,null,0,0,0,0,0,0,0]
[null,null,"Hedge trimmer","322iHD60",null,970466401,null,null,{"$f":"IFERROR(_xlfn.XLOOKUP(F65,'Direct shipment'!D:D,'Direct shipment'!W:W),\"\")","v":15},{"$f":"_xlfn.XLOOKUP(F65,Pricing!A:A,Pricing!B:B)","v":315.83},{"$f":"Summary!$L$15","v":0.30000000000000004},221.08099999999996,null,0,0,0,0,0,0,null,null,null,null,null,null,null,0,null,0,0,0,0,0,0,0]
[null,null,"Hedge trimmer","520iHE3",null,967915813,null,967915811,{"$f":"IFERROR(_xlfn.XLOOKUP(F66,'Direct shipment'!D:D,'Direct shipment'!W:W),\"\")","v":20},{"$f":"_xlfn.XLOOKUP(F66,Pricing!A:A,Pricing!B:B)","v":399.17},{"$f":"Summary!$L$15","v":0.30000000000000004},279.41899999999998,null,0.15,0.1,0.1,0.1,0.1,0.1,null,3,2,2,2,2,2,13,null,838.25699999999995,558.83799999999997,558.83799999999997,558.83799999999997,558.83799999999997,558.83799999999997,3632.4469999999992]
[null,null,"Hedge trimmer","520iHT4",null,967971203,null,967971201,{"$f":"IFERROR(_xlfn.XLOOKUP(F67,'Direct shipment'!D:D,'Direct shipment'!W:W),\"\")","v":20},{"$f":"_xlfn.XLOOKUP(F67,Pricing!A:A,Pricing!B:B)","v":482.5},{"$f":"Summary!$L$15","v":0.30000000000000004},337.75,null,0.05,0,0.05,0,0.05,0,null,1,null,1,null,1,null,3,null,337.75,0,337.75,0,337.75,0,1013.25]
[null,null,"Hedge trimmer","522iHD60",null,970466002,null,967915605,{"$f":"IFERROR(_xlfn.XLOOKUP(F68,'Direct shipment'!D:D,'Direct shipment'!W:W),\"\")","v":15},{"$f":"_xlfn.XLOOKUP(F68,Pricing!A:A,Pricing!B:B)","v":482.5},{"$f":"Summary!$L$15","v":0.30000000000000004},337.75,null,0.13333333333333333,0,0.13333333333333333,0,0.13333333333333333,0,null,2,null,2,null,2,null,6,null,675.5,0,675.5,0,675.5,0,2026.5]
[null,null,"Hedge trimmer","522iHD75",null,970466102,null,967915703,{"$f":"IFERROR(_xlfn.XLOOKUP(F69,'Direct shipment'!D:D,'Direct shipment'!W:W),\"\")","v":15},{"$f":"_xlfn.XLOOKUP(F69,Pricing!A:A,Pricing!B:B)","v":524.16999999999996},{"$f":"Summary!$L$15","v":0.30000000000000004},366.91899999999998,null,6.6666666666666666E-2,0,6.6666666666666666E-2,0,6.6666666666666666E-2,0,null,1,null,1,null,1,null,3,null,366.91899999999998,0,366.91899999999998,0,366.91899999999998,0,1100.7570000000001]
[null,null,"Hedge trimmer","522iHDR60",null,970466202,null,null,{"$f":"IFERROR(_xlfn.XLOOKUP(F70,'Direct shipment'!D:D,'Direct shipment'!W:W),\"\")","v":15},{"$f":"_xlfn.XLOOKUP(F70,Pricing!A:A,Pricing!B:B)","v":482.5},{"$f":"Summary!$L$15","v":0.30000000000000004},337.75,null,0,0,0,0,0,0,null,null,null,null,null,null,null,0,null,0,0,0,0,0,0,0]
[]
[null,"PS","Pole saw","530iP4",null,967884711,null,967884710,{"$f":"IFERROR(_xlfn.XLOOKUP(F72,'Direct shipment'!D:D,'Direct shipment'!W:W),\"\")","v":16},{"$f":"_xlfn.XLOOKUP(F72,Pricing!A:A,Pricing!B:B)","v":499.17},{"$f":"Summary!$L$15","v":0.30000000000000004},{"$f":"J72-(J72*K72)","v":349.41899999999998},null,0,0,0,{"$f":"IFERROR(X72/I72,\"\")","v":0},0,0,null,null,null,null,null,null,null,0,null,{"$f":"L72*U72","v":0},{"$f":"L72*V72","v":0},{"$f":"L72*W72","v":0},{"$f":"L72*X72","v":0},0,0,0]
[null,null,"Pole saw","530iPT5",null,967884811,null,967884810,{"$f":"IFERROR(_xlfn.XLOOKUP(F73,'Direct shipment'!D:D,'Direct shipment'!W:W),\"\")","v":16},{"$f":"_xlfn.XLOOKUP(F73,Pricing!A:A,Pricing!B:B)","v":582.5},{"$f":"Summary!$L$15","v":0.30000000000000004},407.75,null,0,0,0,0,0,0,null,null,null,null,null,null,null,0,null,0,0,0,0,0,0,0]
[]
[null,"Combi Tools","Hedge Trimmer","120iTK4-H Inc. 120iTK4, HK4",null,970515902,null,null,null,{"$f":"_xlfn.XLOOKUP(F75,Pricing!A:A,Pricing!B:B)","v":190.83},{"$f":"Summary!$L$15","v":0.30000000000000004},{"$f":"J75-(J75*K75)","v":133.58100000000002},null,{"$f":"IFERROR(U75/I75,\"\")","v":""},{"$f":"IFERROR(V75/I75,\"\")","v":""},{"$f":"IFERROR(W75/I75,\"\")","v":""},{"$f":"IFERROR(X75/I75,\"\")","v":""},{"$f":"IFERROR(Y75/$I75,\"\")","v":""},{"$f":"IFERROR(Z75/$I75,\"\")","v":""},null,null,null,null,null,null,null,{"$f":"SUM(U75:Z75)","v":0},null,{"$f":"L75*U75","v":0},{"$f":"L75*V75","v":0},{"$f":"L75*W75","v":0},{"$f":"L75*X75","v":0},{"$f":"L75*Y75","v":0},{"$f":"L75*Z75","v":0},{"$f":"IFERROR(SUM(AC75:AH75),\"\")","v":0}]
[null,null,"Hedge Trimmer","120iTK4-H Kit Inc. 120iTK4, HK4, BLi10, QC80",null,970515907,null,null,null,{"$f":"_xlfn.XLOOKUP(F76,Pricing!A:A,Pricing!B:B)","v":274.17},{"$f":"Summary!$L$15","v":0.30000000000000004},{"$f":"J76-(J76*K76)","v":191.91899999999998},null,"","","",{"$f":"IFERROR(X76/I76,\"\")","v":""},"","",null,null,null,null,null,null,null,0,null,{"$f":"L76*U76","v":0},{"$f":"L76*V76","v":0},{"$f":"L76*W76","v":0},{"$f":"L76*X76","v":0},0,0,0]
[null,null,"Hedge Trimmer Attachment","HK4 Hedge Trimmer Attachment",null,529351902,null,null,null,{"$f":"_xlfn.XLOOKUP(F77,Pricing!A:A,Pricing!B:B)","v":99.99},{"$f":"Summary!$L$15","v":0.30000000000000004},69.992999999999995,null,"","","","","","",null,null,null,null,null,null,null,0,null,0,0,0,0,0,0,0]
[null,null,"Pole Saw","120iTK4-P unit (120iTK4, PK4)",null,970515901,null,null,null,{"$f":"_xlfn.XLOOKUP(F78,Pricing!A:A,Pricing!B:B)","v":190.83},{"$f":"Summary!$L$15","v":0.30000000000000004},{"$f":"J78-(J78*K78)","v":133.58100000000002},null,{"$f":"IFERROR(U78/I78,\"\")","v":""},{"$f":"IFERROR(V78/I78,\"\")","v":""},{"$f":"IFERROR(W78/I78,\"\")","v":""},{"$f":"IFERROR(X78/I78,\"\")","v":""},{"$f":"IFERROR(Y78/$I78,\"\")","v":""},{"$f":"IFERROR(Z78/$I78,\"\")","v":""},null,null,null,null,null,null,null,{"$f":"SUM(U78:Z78)","v":0},null,{"$f":"L78*U78","v":0},{"$f":"L78*V78","v":0},{"$f":"L78*W78","v":0},{"$f":"L78*X78","v":0},{"$f":"L78*Y78","v":0},{"$f":"L78*Z78","v":0},{"$f":"IFERROR(SUM(AC78:AH78),\"\")","v":0}]
[null,null,"Pole Saw","120iTK4-P Kit Inc. 120iTK4, PK4, BLi10, QC80",null,970515904,null,null,null,{"$f":"_xlfn.XLOOKUP(F79,Pricing!A:A,Pricing!B:B)","v":274.17},{"$f":"Summary!$L$15","v":0.30000000000000004},191.91899999999998,null,"","","","","","",null,null,null,null,null,null,null,0,null,0,0,0,0,0,0,0]
[null,null,"Pole Saw Attachment","PK4 Pole Saw Attachment",null,529351901,null,null,null,{"$f":"_xlfn.XLOOKUP(F80,Pricing!A:A,Pricing!B:B)","v":99.99},{"$f":"Summary!$L$15","v":0.30000000000000004},{"$f":"J80-(J80*K80)","v":69.992999999999995},null,{"$f":"IFERROR(U80/I80,\"\")","v":""},{"$f":"IFERROR(V80/I80,\"\")","v":""},{"$f":"IFERROR(W80/I80,\"\")","v":""},{"$f":"IFERROR(X80/I80,\"\")","v":""},{"$f":"IFERROR(Y80/$I80,\"\")","v":""},{"$f":"IFERROR(Z80/$I80,\"\")","v":""},null,null,null,null,null,null,null,{"$f":"SUM(U80:Z80)","v":0},null,{"$f":"L80*U80","v":0},{"$f":"L80*V80","v":0},{"$f":"L80*W80","v":0},{"$f":"L80*X80","v":0},{"$f":"L80*Y80","v":0},{"$f":"L80*Z80","v":0},{"$f":"IFERROR(SUM(AC80:AH80),\"\")","v":0}]
[null,null,"Pole Saw & Hedge Trimmer","120iTK4-PH Inc. 120iTK4, PK4, HK4",null,970515903,null,null,null,{"$f":"_xlfn.XLOOKUP(F81,Pricing!A:A,Pricing!B:B)","v":249.17},{"$f":"Summary!$L$15","v":0.30000000000000004},{"$f":"J81-(J81*K81)","v":174.41899999999998},null,{"$f":"IFERROR(U81/I81,\"\")","v":""},{"$f":"IFERROR(V81/I81,\"\")","v":""},{"$f":"IFERROR(W81/I81,\"\")","v":""},{"$f":"IFERROR(X81/I81,\"\")","v":""},{"$f":"IFERROR(Y81/$I81,\"\")","v":""},{"$f":"IFERROR(Z81/$I81,\"\")","v":""},null,null,null,null,null,null,null,{"$f":"SUM(U81:Z81)","v":0},null,{"$f":"L81*U81","v":0},{"$f":"L81*V81","v":0},{"$f":"L81*W81","v":0},{"$f":"L81*X81","v":0},{"$f":"L81*Y81","v":0},{"$f":"L81*Z81","v":0},{"$f":"IFERROR(SUM(AC81:AH81),\"\")","v":0}]
[null,null,"Pole Saw & Hedge Trimmer","120iTK4-PH Kit Inc. 120iTK4, PK4, HK4, BLi10, QC80 ",null,970515909,null,null,{"$f":"IFERROR(_xlfn.XLOOKUP(F82,'Direct shipment'!D:D,'Direct shipment'!W:W),\"\")","v":35},{"$f":"_xlfn.XLOOKUP(F82,Pricing!A:A,Pricing!B:B)","v":365.83},{"$f":"Summary!$L$15","v":0.30000000000000004},256.08099999999996,null,0,0,0,0,0,0,null,null,null,null,null,null,null,0,null,0,0,0,0,0,0,0]
[null,null,"Multi-tool","325iLK Inc trimmer attachment",null,967850103,null,967850101,{"$f":"IFERROR(_xlfn.XLOOKUP(F83,'Direct shipment'!D:D,'Direct shipment'!W:W),\"\")","v":42},{"$f":"_xlfn.XLOOKUP(F83,Pricing!A:A,Pricing!B:B)","v":357.5},{"$f":"Summary!$L$15","v":0.30000000000000004},250.25,null,0,0,0,0,0,0,null,null,null,null,null,null,null,0,null,0,0,0,0,0,0,0]

{"sheet":"Battery - Lawn","index":10,"n_rows":45,"n_cols":35,"rows_kept":45,"cut":false,"hidden":false,"merged":[[40,3,40,4],[12,1,34,1],[43,3,43,4],[44,3,44,4],[12,3,12,4],[14,3,14,4],[21,3,21,4],[22,3,22,4],[26,3,26,4],[41,3,41,4],[16,3,16,4],[17,3,17,4],[18,3,18,4],[29,3,29,4],[19,3,19,4],[20,3,20,4],[28,3,28,4],[23,3,23,4],[11,3,11,4],[36,1,41,1],[43,1,44,1],[13,3,13,4],[15,3,15,4],[30,3,30,4],[31,3,31,4],[32,3,32,4],[33,3,33,4],[34,3,34,4],[36,3,36,4],[37,3,37,4],[38,3,38,4],[39,3,39,4],[10,20,10,26],[10,28,10,34],[24,3,24,4],[25,3,25,4],[27,3,27,4],[1,4,1,8],[2,4,2,8],[3,4,3,8],[4,4,4,8],[5,4,5,8],[6,4,6,8],[7,4,7,8],[8,3,8,5],[8,6,8,8],[10,2,10,11]]}
[]
[null,null,null,"Dealer Name",{"$f":"Summary!F2","v":"Winchester Garden Machinery Ltd - Arb"}]
[null,null,null,"Dealer Postcode",{"$f":"Summary!F3","v":"SO21 1HF"}]
[null,null,null,"Account Number",{"$f":"Summary!F4","v":28400505}]
[null,null,null,"Order Number",{"$f":"Summary!F5","v":0}]
[null,null,null,"Project Code",{"$f":"Summary!F6","v":"PSO2024"}]
[null,null,null,"Order Date",{"$f":"Summary!F7","v":"00:00:00"}]
[null,null,null,"ABM",{"$f":"Summary!F8","v":"Francesca_Bosley"}]
[null,null,null,"PSO minimum 40% of turnover = Additional 2% terms",null,null,{"$f":"Summary!I9","v":0.02}]
[]
[null,null,"Battery - Lawn",null,null,null,null,null,null,null,null,null,null,null,null,null,null,null,null,null,"Order Quantity",null,null,null,null,null,null,null,"Order Value"]
[null,null,"Product Type","Model Description",null,"PNC","Size","Replaces","Pallet Qty","List Price 2024 Ex VAT","Discount","Dealer Net Price",null,null,null,null,null,null,null,null,"January","February","March","April","May","June","Total Qty",null,"January","February","March","April","May","June","Total Value"]
[null,"Mower","Pedestrian Mower","LC 137i",null,970500901,null,null,null,{"$f":"_xlfn.XLOOKUP(F13,Pricing!A:A,Pricing!B:B)","v":265.83},{"$f":"Summary!$L$16","v":0.30000000000000004},{"$f":"J13-(J13*K13)","v":186.08099999999996},null,{"$f":"IFERROR(U13/I13,\"\")","v":""},{"$f":"IFERROR(V13/I13,\"\")","v":""},{"$f":"IFERROR(W13/I13,\"\")","v":""},{"$f":"IFERROR(X13/I13,\"\")","v":""},{"$f":"IFERROR(Y13/$I13,\"\")","v":""},"",null,null,null,null,null,null,null,{"$f":"SUM(U13:Z13)","v":0},null,{"$f":"L13*U13","v":0},{"$f":"L13*V13","v":0},{"$f":"L13*W13","v":0},{"$f":"L13*X13","v":0},{"$f":"$L13*Y13","v":0},0,{"$f":"SUM(AC13:AH13)","v":0}]
[null,null,"Pedestrian Mower","LC 137i Kit Inc. B140 & C80",null,970500904,null,null,{"$f":"IFERROR(_xlfn.XLOOKUP(F14,'Direct shipment'!D:D,'Direct shipment'!W:W),\"\")","v":1},{"$f":"_xlfn.XLOOKUP(F14,Pricing!A:A,Pricing!B:B)","v":374.17},{"$f":"Summary!$L$16","v":0.30000000000000004},261.91899999999998,null,0,0,0,0,0,0,null,null,null,null,null,null,null,0,null,{"$f":"L14*U14","v":0},{"$f":"L14*V14","v":0},{"$f":"L14*W14","v":0},{"$f":"L14*X14","v":0},0,0,0]
[null,null,"Pedestrian Mower","LC 142i",null,970541801,null,null,null,{"$f":"_xlfn.XLOOKUP(F15,Pricing!A:A,Pricing!B:B)","v":357.5},{"$f":"Summary!$L$16","v":0.30000000000000004},250.25,null,"","","","","","",null,null,null,null,null,null,null,0,null,{"$f":"L15*U15","v":0},{"$f":"L15*V15","v":0},{"$f":"L15*W15","v":0},{"$f":"L15*X15","v":0},0,0,0]
[null,null,"Pedestrian Mower","LC 142i - Kit Inc. B140 & C80",null,970541804,null,null,null,{"$f":"_xlfn.XLOOKUP(F16,Pricing!A:A,Pricing!B:B)","v":457.5},{"$f":"Summary!$L$16","v":0.30000000000000004},{"$f":"IF(AA16>9,(J16-(J16*K16))*0.96,(J16-(J16*K16)))","v":320.25},null,"","","","","","",null,null,null,null,null,null,null,0,null,{"$f":"L16*U16","v":0},{"$f":"L16*V16","v":0},{"$f":"L16*W16","v":0},{"$f":"L16*X16","v":0},0,0,0]
[null,null,"Pedestrian Mower","LC 142iS",null,970541901,null,null,null,{"$f":"_xlfn.XLOOKUP(F17,Pricing!A:A,Pricing!B:B)","v":457.5},{"$f":"Summary!$L$16","v":0.30000000000000004},320.25,null,"","","","",{"$f":"IFERROR(Y17/$I17,\"\")","v":""},"",null,null,null,null,null,null,null,0,null,{"$f":"L17*U17","v":0},{"$f":"L17*V17","v":0},{"$f":"L17*W17","v":0},{"$f":"L17*X17","v":0},{"$f":"$L17*Y17","v":0},0,0]
[null,null,"Pedestrian Mower","LC 142iS - Kit Inc. B140 & C80",null,970541902,null,null,null,{"$f":"_xlfn.XLOOKUP(F18,Pricing!A:A,Pricing!B:B)","v":540.83000000000004},{"$f":"Summary!$L$16","v":0.30000000000000004},378.58100000000002,null,"","","","","","",null,null,null,null,null,null,null,0,null,{"$f":"L18*U18","v":0},{"$f":"L18*V18","v":0},{"$f":"L18*W18","v":0},{"$f":"L18*X18","v":0},0,0,0]
[null,null,"Pedestrian Mower","LB 144i",null,970648201,null,null,null,{"$f":"_xlfn.XLOOKUP(F19,Pricing!A:A,Pricing!B:B)","v":349.17},{"$f":"Summary!$L$16","v":0.30000000000000004},244.41899999999998,null,"","","","","","",null,null,null,null,null,null,null,0,null,{"$f":"L19*U19","v":0},{"$f":"L19*V19","v":0},{"$f":"L19*W19","v":0},{"$f":"L19*X19","v":0},0,0,0]
[null,null,"Pedestrian Mower","LB 144i Kit incl 40-C80 and 40-B140",null,970648203,null,null,null,{"$f":"_xlfn.XLOOKUP(F20,Pricing!A:A,Pricing!B:B)","v":457.5},{"$f":"Summary!$L$16","v":0.30000000000000004},320.25,null,"","","",{"$f":"IFERROR(X20/$I20,\"\")","v":""},"","",null,null,null,null,null,null,null,0,null,{"$f":"L20*U20","v":0},{"$f":"L20*V20","v":0},{"$f":"L20*W20","v":0},{"$f":"$L20*X20","v":0},0,0,0]
[null,null,"Pedestrian Mower","LC 247i",null,970542001,null,null,{"$f":"IFERROR(_xlfn.XLOOKUP(F21,'Direct shipment'!D:D,'Direct shipment'!W:W),\"\")","v":10},{"$f":"_xlfn.XLOOKUP(F21,Pricing!A:A,Pricing!B:B)","v":499.17},{"$f":"Summary!$L$16","v":0.30000000000000004},{"$f":"J21-(J21*K21)","v":349.41899999999998},null,{"$f":"IFERROR(U21/I21,\"\")","v":0},{"$f":"IFERROR(V21/I21,\"\")","v":0},{"$f":"IFERROR(W21/I21,\"\")","v":0},{"$f":"IFERROR(X21/I21,\"\")","v":0},{"$f":"IFERROR(Y21/$I21,\"\")","v":0},{"$f":"IFERROR(Z21/$I21,\"\")","v":0},null,null,null,null,null,null,null,{"$f":"SUM(U21:Z21)","v":0},null,{"$f":"L21*U21","v":0},{"$f":"L21*V21","v":0},{"$f":"L21*W21","v":0},{"$f":"L21*X21","v":0},{"$f":"$L21*Y21","v":0},{"$f":"$L21*Z21","v":0},{"$f":"SUM(AC21:AH21)","v":0}]
[null,null,"Pedestrian Mower","LC 347iVX",null,967862301,null,null,{"$f":"IFERROR(_xlfn.XLOOKUP(F22,'Direct shipment'!D:D,'Direct shipment'!W:W),\"\")","v":10},{"$f":"_xlfn.XLOOKUP(F22,Pricing!A:A,Pricing!B:B)","v":624.16999999999996},{"$f":"Summary!$L$16","v":0.30000000000000004},436.91899999999998,null,0,0,0,0,0,0,null,null,null,null,null,null,null,0,null,0,0,0,0,0,0,0]
[null,null,"Pedestrian Mower","LC 353iVX",null,967862001,null,null,{"$f":"IFERROR(_xlfn.XLOOKUP(F23,'Direct shipment'!D:D,'Direct shipment'!W:W),\"\")","v":10},{"$f":"_xlfn.XLOOKUP(F23,Pricing!A:A,Pricing!B:B)","v":665.83},{"$f":"Summary!$L$16","v":0.30000000000000004},466.08100000000002,null,0,0,0,0,0,0,null,null,null,null,null,null,null,0,null,0,0,0,0,0,0,0]
[null,null,"Pedestrian Mower","LB 442i - Battery Mulcher",null,970482301,null,null,{"$f":"IFERROR(_xlfn.XLOOKUP(F24,'Direct shipment'!D:D,'Direct shipment'!W:W),\"\")","v":8},{"$f":"_xlfn.XLOOKUP(F24,Pricing!A:A,Pricing!B:B)","v":582.5},{"$f":"Summary!$L$16","v":0.30000000000000004},{"$f":"J24-(J24*K24)","v":407.75},null,{"$f":"IFERROR(U24/I24,\"\")","v":0},{"$f":"IFERROR(V24/I24,\"\")","v":0},{"$f":"IFERROR(W24/I24,\"\")","v":0},{"$f":"IFERROR(X24/I24,\"\")","v":0},{"$f":"IFERROR(Y24/$I24,\"\")","v":0},0,null,null,null,null,null,null,null,{"$f":"SUM(U24:Z24)","v":0},null,{"$f":"L24*U24","v":0},{"$f":"L24*V24","v":0},{"$f":"L24*W24","v":0},{"$f":"L24*X24","v":0},{"$f":"$L24*Y24","v":0},0,{"$f":"SUM(AC24:AH24)","v":0}]
[null,null,"Pedestrian Mower","LB 448i - Battery Mulcher",null,970482401,null,null,{"$f":"IFERROR(_xlfn.XLOOKUP(F25,'Direct shipment'!D:D,'Direct shipment'!W:W),\"\")","v":8},{"$f":"_xlfn.XLOOKUP(F25,Pricing!A:A,Pricing!B:B)","v":790.83},{"$f":"Summary!$L$16","v":0.30000000000000004},{"$f":"J25-(J25*K25)","v":553.58100000000002},null,{"$f":"IFERROR(U25/I25,\"\")","v":0},{"$f":"IFERROR(V25/I25,\"\")","v":0},{"$f":"IFERROR(W25/I25,\"\")","v":0},{"$f":"IFERROR(X25/I25,\"\")","v":0},0,0,null,null,null,null,null,null,null,{"$f":"SUM(U25:Z25)","v":0},null,{"$f":"L25*U25","v":0},{"$f":"L25*V25","v":0},{"$f":"L25*W25","v":0},{"$f":"L25*X25","v":0},0,0,{"$f":"SUM(AC25:AH25)","v":0}]
[null,null,"Pedestrian Mower","LB 548i - Battery Mulcher",null,967977301,null,null,{"$f":"IFERROR(_xlfn.XLOOKUP(F26,'Direct shipment'!D:D,'Direct shipment'!W:W),\"\")","v":8},{"$f":"_xlfn.XLOOKUP(F26,Pricing!A:A,Pricing!B:B)","v":949.17},{"$f":"Summary!$L$16","v":0.30000000000000004},{"$f":"J26-(J26*K26)","v":664.41899999999987},null,{"$f":"IFERROR(U26/I26,\"\")","v":0},{"$f":"IFERROR(V26/I26,\"\")","v":0},{"$f":"IFERROR(W26/I26,\"\")","v":0},{"$f":"IFERROR(X26/I26,\"\")","v":0},0,0,null,null,null,null,null,null,null,{"$f":"SUM(U26:Z26)","v":0},null,{"$f":"L26*U26","v":0},{"$f":"L26*V26","v":0},{"$f":"L26*W26","v":0},{"$f":"L26*X26","v":0},0,0,{"$f":"SUM(AC26:AH26)","v":0}]
[null,null,"Pedestrian Mower","LC 551iV",null,970626001,null,null,{"$f":"IFERROR(_xlfn.XLOOKUP(F27,'Direct shipment'!D:D,'Direct shipment'!W:W),\"\")","v":10},{"$f":"_xlfn.XLOOKUP(F27,Pricing!A:A,Pricing!B:B)","v":1182.5},{"$f":"Summary!$L$16","v":0.30000000000000004},{"$f":"J27-(J27*K27)","v":827.75},null,{"$f":"IFERROR(U27/I27,\"\")","v":0},{"$f":"IFERROR(V27/I27,\"\")","v":0},{"$f":"IFERROR(W27/I27,\"\")","v":0},{"$f":"IFERROR(X27/I27,\"\")","v":0},{"$f":"IFERROR(Y27/$I27,\"\")","v":0},{"$f":"IFERROR(Z27/$I27,\"\")","v":0},null,null,null,null,null,null,null,{"$f":"SUM(U27:Z27)","v":0},null,{"$f":"L27*U27","v":0},{"$f":"L27*V27","v":0},{"$f":"L27*W27","v":0},{"$f":"L27*X27","v":0},{"$f":"$L27*Y27","v":0},{"$f":"$L27*Z27","v":0},{"$f":"SUM(AC27:AH27)","v":0}]
[null,null,"Pedestrian Mower","LB 553iV - Battery Mulcher",null,970525701,null,null,{"$f":"IFERROR(_xlfn.XLOOKUP(F28,'Direct shipment'!D:D,'Direct shipment'!W:W),\"\")","v":8},{"$f":"_xlfn.XLOOKUP(F28,Pricing!A:A,Pricing!B:B)","v":1249.17},{"$f":"Summary!$L$16","v":0.30000000000000004},{"$f":"J28-(J28*K28)","v":874.41899999999998},null,{"$f":"IFERROR(U28/I28,\"\")","v":0},{"$f":"IFERROR(V28/I28,\"\")","v":0},{"$f":"IFERROR(W28/I28,\"\")","v":0},{"$f":"IFERROR(X28/I28,\"\")","v":0},0,0,null,null,null,null,null,null,null,{"$f":"SUM(U28:Z28)","v":0},null,{"$f":"L28*U28","v":0},{"$f":"L28*V28","v":0},{"$f":"L28*W28","v":0},{"$f":"L28*X28","v":0},0,0,{"$f":"SUM(AC28:AH28)","v":0}]
[null,null,"Pedestrian Mower Accessory","BLi backpack carrier (LC 551iV / LB 548i)",null,597848701,null,null,{"$f":"IFERROR(_xlfn.XLOOKUP(F29,'Direct shipment'!D:D,'Direct shipment'!W:W),\"\")","v":""},{"$f":"_xlfn.XLOOKUP(F29,Pricing!A:A,Pricing!B:B)","v":47.49},{"$f":"Summary!$L$16","v":0.30000000000000004},33.242999999999995,null,"","","","","","",null,null,null,null,null,null,null,0,null,0,0,0,0,0,0,0]
[null,null,"Pedestrian Mower Accessory","Mulch Kit LC 137i (includes blade & mulch plug)",null,599831201,null,null,{"$f":"IFERROR(_xlfn.XLOOKUP(F30,'Direct shipment'!D:D,'Direct shipment'!W:W),\"\")","v":""},{"$f":"_xlfn.XLOOKUP(F30,Pricing!A:A,Pricing!B:B)","v":29.16},{"$f":"Summary!$L$16","v":0.30000000000000004},20.411999999999999,null,"","","","","","",null,null,null,null,null,null,null,0,null,0,0,0,0,0,0,0]
[null,null,"Pedestrian Mower Accessory","Mulch Kit LC 141i (includes blade & mulch plug)",null,589222701,null,null,{"$f":"IFERROR(_xlfn.XLOOKUP(F31,'Direct shipment'!D:D,'Direct shipment'!W:W),\"\")","v":""},{"$f":"_xlfn.XLOOKUP(F31,Pricing!A:A,Pricing!B:B)","v":29.16},{"$f":"Summary!$L$16","v":0.30000000000000004},20.411999999999999,null,"","","","","","",null,null,null,null,null,null,null,0,null,0,0,0,0,0,0,0]
[null,null,"Pedestrian Mower Accessory","Mulch Kit LC 142i/iS (includes blade & mulch plug)",null,531223201,null,null,{"$f":"IFERROR(_xlfn.XLOOKUP(F32,'Direct shipment'!D:D,'Direct shipment'!W:W),\"\")","v":""},{"$f":"_xlfn.XLOOKUP(F32,Pricing!A:A,Pricing!B:B)","v":37.49},{"$f":"Summary!$L$16","v":0.30000000000000004},{"$f":"J32-(J32*K32)","v":26.243000000000002},null,{"$f":"IFERROR(U32/I32,\"\")","v":""},{"$f":"IFERROR(V32/I32,\"\")","v":""},{"$f":"IFERROR(W32/I32,\"\")","v":""},{"$f":"IFERROR(X32/I32,\"\")","v":""},{"$f":"IFERROR(Y32/$I32,\"\")","v":""},{"$f":"IFERROR(Z32/$I32,\"\")","v":""},null,null,null,null,null,null,null,{"$f":"SUM(U32:Z32)","v":0},null,{"$f":"L32*U32","v":0},{"$f":"L32*V32","v":0},{"$f":"L32*W32","v":0},{"$f":"L32*X32","v":0},{"$f":"$L32*Y32","v":0},{"$f":"$L32*Z32","v":0},{"$f":"SUM(AC32:AH32)","v":0}]
[null,null,"Pedestrian Mower Accessory","Mulch Kit LC 247iX / 347iVX (includes blade & mulch plug)",null,590790901,null,null,{"$f":"IFERROR(_xlfn.XLOOKUP(F33,'Direct shipment'!D:D,'Direct shipment'!W:W),\"\")","v":""},{"$f":"_xlfn.XLOOKUP(F33,Pricing!A:A,Pricing!B:B)","v":41.66},{"$f":"Summary!$L$16","v":0.30000000000000004},29.161999999999995,null,"","","","","","",null,null,null,null,null,null,null,0,null,0,0,0,0,0,0,0]
[null,null,"Pedestrian Mower Accessory","Mulch Kit LC 353iVX (includes blade & mulch plug)",null,595001101,null,null,{"$f":"IFERROR(_xlfn.XLOOKUP(F34,'Direct shipment'!D:D,'Direct shipment'!W:W),\"\")","v":""},{"$f":"_xlfn.XLOOKUP(F34,Pricing!A:A,Pricing!B:B)","v":41.66},{"$f":"Summary!$L$16","v":0.30000000000000004},29.161999999999995,null,"","","","","","",null,null,null,null,null,null,null,0,null,0,0,0,0,0,0,0]
[null,null,"Pedestrian Mower Accessory","Mulch Kit LC 551iV (includes blade & mulch plug)",null,597413701,null,null,{"$f":"IFERROR(_xlfn.XLOOKUP(F35,'Direct shipment'!D:D,'Direct shipment'!W:W),\"\")","v":""},{"$f":"_xlfn.XLOOKUP(F35,Pricing!A:A,Pricing!B:B)","v":47.49},{"$f":"Summary!$L$16","v":0.30000000000000004},33.242999999999995,null,"","","","","","",null,null,null,null,null,null,null,0,null,0,0,0,0,0,0,0]
[]
[null,"Ride-On","Ride-On Mower","R 112iC (Includes charger)",null,967848201,null,null,{"$f":"IFERROR(_xlfn.XLOOKUP(F37,'Direct shipment'!D:D,'Direct shipment'!W:W),\"\")","v":""},{"$f":"_xlfn.XLOOKUP(F37,Pricing!A:A,Pricing!B:B)","v":4832.5},{"$f":"Summary!$L$16","v":0.30000000000000004},{"$f":"J37-(J37*K37)","v":3382.75},null,"","","","","","",null,null,null,null,null,null,null,{"$f":"SUM(U37:Z37)","v":0},null,{"$f":"L37*U37","v":0},{"$f":"L37*V37","v":0},{"$f":"L37*W37","v":0},{"$f":"L37*X37","v":0},{"$f":"$L37*Y37","v":0},{"$f":"$L37*Z37","v":0},0]
[null,null,"Ride-On Mower","PS300T Charger - For R 112iC",null,595308601,null,null,{"$f":"IFERROR(_xlfn.XLOOKUP(F38,'Direct shipment'!D:D,'Direct shipment'!W:W),\"\")","v":""},{"$f":"_xlfn.XLOOKUP(F38,Pricing!A:A,Pricing!B:B)","v":190.83},{"$f":"Summary!$L$16","v":0.30000000000000004},133.58100000000002,null,"","","","","","",null,null,null,null,null,null,null,0,null,0,0,0,0,0,0,0]
[null,null,"Ride-On Mower","R 200iX (Charger not included)",null,970649901,null,null,{"$f":"IFERROR(_xlfn.XLOOKUP(F39,'Direct shipment'!D:D,'Direct shipment'!W:W),\"\")","v":1},{"$f":"_xlfn.XLOOKUP(F39,Pricing!A:A,Pricing!B:B)","v":5624.17},{"$f":"Summary!$L$16","v":0.30000000000000004},{"$f":"J39-(J39*K39)","v":3936.9189999999999},null,{"$f":"IFERROR(U39/I39,\"\")","v":0},{"$f":"IFERROR(V39/I39,\"\")","v":0},{"$f":"IFERROR(W39/I39,\"\")","v":0},{"$f":"IFERROR(X39/I39,\"\")","v":0},{"$f":"IFERROR(Y39/$I39,\"\")","v":0},0,null,null,null,null,null,null,null,{"$f":"SUM(U39:Z39)","v":0},null,{"$f":"L39*U39","v":0},{"$f":"L39*V39","v":0},{"$f":"L39*W39","v":0},{"$f":"L39*X39","v":0},{"$f":"$L39*Y39","v":0},0,{"$f":"SUM(AC39:AH39)","v":0}]
[null,null,"Ride-On Mower","PS300C Charger - For R 200iX",null,537548002,null,null,{"$f":"IFERROR(_xlfn.XLOOKUP(F40,'Direct shipment'!D:D,'Direct shipment'!W:W),\"\")","v":""},{"$f":"_xlfn.XLOOKUP(F40,Pricing!A:A,Pricing!B:B)","v":224.17},{"$f":"Summary!$L$16","v":0.30000000000000004},{"$f":"J40-(J40*K40)","v":156.91899999999998},null,{"$f":"IFERROR(U40/I40,\"\")","v":""},{"$f":"IFERROR(V40/I40,\"\")","v":""},{"$f":"IFERROR(W40/I40,\"\")","v":""},{"$f":"IFERROR(X40/I40,\"\")","v":""},"","",null,null,null,null,null,null,null,{"$f":"SUM(U40:Z40)","v":0},null,{"$f":"L40*U40","v":0},{"$f":"L40*V40","v":0},{"$f":"L40*W40","v":0},{"$f":"L40*X40","v":0},0,0,{"$f":"SUM(AC40:AH40)","v":0}]
[null,null,"Ride-On Mower","C94i Cutting Deck - For R 200iX",null,970650001,null,null,{"$f":"IFERROR(_xlfn.XLOOKUP(F41,'Direct shipment'!D:D,'Direct shipment'!W:W),\"\")","v":3},{"$f":"_xlfn.XLOOKUP(F41,Pricing!A:A,Pricing!B:B)","v":1082.5},{"$f":"Summary!$L$16","v":0.30000000000000004},{"$f":"J41-(J41*K41)","v":757.75},null,{"$f":"IFERROR(U41/I41,\"\")","v":0},{"$f":"IFERROR(V41/I41,\"\")","v":0},{"$f":"IFERROR(W41/I41,\"\")","v":0},{"$f":"IFERROR(X41/I41,\"\")","v":0},0,0,null,null,null,null,null,null,null,{"$f":"SUM(U41:Z41)","v":0},null,{"$f":"L41*U41","v":0},{"$f":"L41*V41","v":0},{"$f":"L41*W41","v":0},{"$f":"L41*X41","v":0},0,0,{"$f":"SUM(AC41:AH41)","v":0}]
[null,null,"Ride-On Mower","C103i Cutting Deck - For R 200iX",null,970650101,null,null,{"$f":"IFERROR(_xlfn.XLOOKUP(F42,'Direct shipment'!D:D,'Direct shipment'!W:W),\"\")","v":3},{"$f":"_xlfn.XLOOKUP(F42,Pricing!A:A,Pricing!B:B)","v":1165.83},{"$f":"Summary!$L$16","v":0.30000000000000004},816.0809999999999,null,0,0,0,0,0,0,null,null,null,null,null,null,null,0,null,{"$f":"L42*U42","v":0},{"$f":"L42*V42","v":0},{"$f":"L42*W42","v":0},{"$f":"L42*X42","v":0},0,0,0]
[]
[null,"Scarifier","Scarifier","S 138i",null,967922201,null,null,null,{"$f":"_xlfn.XLOOKUP(F44,Pricing!A:A,Pricing!B:B)","v":332.5},{"$f":"Summary!$L$16","v":0.30000000000000004},{"$f":"J44-(J44*K44)","v":232.75},null,"","","","","","",null,null,null,null,null,null,null,0,null,{"$f":"L44*U44","v":0},{"$f":"L44*V44","v":0},{"$f":"L44*W44","v":0},{"$f":"L44*X44","v":0},0,0,0]
[null,null,"Scarifier","S 138i Kit incl 40-C80 and 40-B140",null,967922203,null,null,null,{"$f":"_xlfn.XLOOKUP(F45,Pricing!A:A,Pricing!B:B)","v":415.83},{"$f":"Summary!$L$16","v":0.30000000000000004},{"$f":"J45-(J45*K45)","v":291.08099999999996},null,"","","","","","",null,null,null,null,null,null,null,0,null,{"$f":"L45*U45","v":0},{"$f":"L45*V45","v":0},{"$f":"L45*W45","v":0},{"$f":"L45*X45","v":0},0,0,0]

{"sheet":"Tractor Rider & Zero Turn","index":11,"n_rows":120,"n_cols":35,"rows_kept":120,"cut":false,"hidden":false,"merged":[[117,1,119,1],[117,3,117,4],[118,3,118,4],[119,3,119,4],[113,3,113,4],[103,3,103,4],[104,3,104,4],[105,3,105,4],[106,3,106,4],[107,3,107,4],[108,3,108,4],[109,3,109,4],[110,3,110,4],[111,3,111,4],[112,3,112,4],[90,1,115,1],[114,3,114,4],[115,3,115,4],[90,3,90,4],[102,3,102,4],[100,3,100,4],[101,3,101,4],[97,3,97,4],[98,3,98,4],[99,3,99,4],[52,3,52,4],[53,3,53,4],[54,3,54,4],[64,3,64,4],[65,3,65,4],[66,3,66,4],[67,3,67,4],[68,3,68,4],[59,3,59,4],[60,3,60,4],[61,3,61,4],[62,3,62,4],[63,3,63,4],[55,3,55,4],[56,3,56,4],[91,3,91,4],[92,3,92,4],[95,3,95,4],[96,3,96,4],[10,20,10,26],[10,28,10,34],[25,3,25,4],[39,3,39,4],[40,3,40,4],[11,3,11,4],[10,2,10,11],[73,3,73,4],[88,3,88,4],[28,3,28,4],[29,3,29,4],[87,3,87,4],[78,3,78,4],[41,3,41,4],[30,3,30,4],[31,3,31,4],[32,3,32,4],[33,3,33,4],[35,3,35,4],[81,3,81,4],[82,3,82,4],[57,3,57,4],[58,3,58,4],[74,3,74,4],[24,3,24,4],[34,3,34,4],[26,3,26,4],[27,3,27,4],[93,3,93,4],[94,3,94,4],[37,3,37,4],[38,3,38,4],[79,3,79,4],[80,3,80,4],[75,3,75,4],[76,3,76,4],[77,3,77,4],[69,3,69,4],[70,3,70,4],[71,3,71,4],[72,3,72,4],[83,3,83,4],[84,3,84,4],[85,3,85,4],[86,3,86,4],[15,3,15,4],[16,3,16,4],[17,3,17,4],[18,3,18,4],[19,3,19,4],[20,3,20,4],[21,3,21,4],[22,3,22,4],[23,3,23,4],[37,1,88,1],[1,4,1,8],[2,4,2,8],[3,4,3,8],[4,4,4,8],[5,4,5,8],[6,4,6,8],[7,4,7,8],[8,3,8,5],[8,6,8,8],[42,3,42,4],[43,3,43,4],[44,3,44,4],[45,3,45,4],[46,3,46,4],[47,3,47,4],[48,3,48,4],[49,3,49,4],[50,3,50,4],[51,3,51,4],[12,1,35,1],[12,3,12,4],[13,3,13,4],[14,3,14,4]]}
[]
[null,null,null,"Dealer Name",{"$f":"Summary!F2","v":"Winchester Garden Machinery Ltd - Arb"}]
[null,null,null,"Dealer Postcode",{"$f":"Summary!F3","v":"SO21 1HF"}]
[null,null,null,"Account Number",{"$f":"Summary!F4","v":28400505}]
[null,null,null,"Order Number",{"$f":"Summary!F5","v":0}]
[null,null,null,"Project Code",{"$f":"Summary!F6","v":"PSO2024"}]
[null,null,null,"Order Date",{"$f":"Summary!F7","v":"00:00:00"}]
[null,null,null,"ABM",{"$f":"Summary!F8","v":"Francesca_Bosley"}]
[null,null,null,"PSO minimum 40% of turnover = Additional 2% terms",null,null,{"$f":"Summary!I9","v":0.02}]
[]
[null,null,"Tractor, Rider & Zero Turn",null,null,null,null,null,null,null,null,null,null,null,null,null,null,null,null,null,"Order Quantity",null,null,null,null,null,null,null,"Order Value"]
[null,null,"Product Type","Model Description",null,"PNC","Size","Replaces","Pallet Qty","List Price 2024 Ex VAT","Discount","Dealer Net Price",null,null,null,null,null,null,null,null,"January","February","March","April","May","June","Total Qty",null,"January","February","March","April","May","June","Total Value"]
[null,"Tractor","Tractor","TS 112",null,970622401,null,null,null,{"$f":"_xlfn.XLOOKUP(F13,Pricing!A:A,Pricing!B:B)","v":2082.5},{"$f":"Summary!$L$18","v":0.30000000000000004},{"$f":"J13-(J13*K13)","v":1457.75},null,{"$f":"IFERROR(U13/I13,\"\")","v":""},{"$f":"IFERROR(V13/I13,\"\")","v":""},{"$f":"IFERROR(W13/I13,\"\")","v":""},{"$f":"IFERROR(X13/$I13,\"\")","v":""},{"$f":"IFERROR(Y13/$I13,\"\")","v":""},"",null,null,null,null,null,null,null,{"$f":"SUM(U13:Z13)","v":0},null,{"$f":"L13*U13","v":0},{"$f":"L13*V13","v":0},{"$f":"L13*W13","v":0},{"$f":"$L13*X13","v":0},{"$f":"$L13*Y13","v":0},0,{"$f":"SUM(AC13:AH13)","v":0}]
[null,null,"Tractor","TS 114",null,970622501,null,null,null,{"$f":"_xlfn.XLOOKUP(F14,Pricing!A:A,Pricing!B:B)","v":2499.17},{"$f":"Summary!$L$18","v":0.30000000000000004},{"$f":"J14-(J14*K14)","v":1749.4189999999999},null,{"$f":"IFERROR(U14/I14,\"\")","v":""},{"$f":"IFERROR(V14/I14,\"\")","v":""},{"$f":"IFERROR(W14/I14,\"\")","v":""},{"$f":"IFERROR(X14/I14,\"\")","v":""},{"$f":"IFERROR(Y14/$I14,\"\")","v":""},{"$f":"IFERROR(Z14/$I14,\"\")","v":""},null,null,null,null,null,null,null,0,null,{"$f":"L14*U14","v":0},{"$f":"L14*V14","v":0},{"$f":"L14*W14","v":0},{"$f":"L14*X14","v":0},{"$f":"$L14*Y14","v":0},{"$f":"$L14*Z14","v":0},{"$f":"SUM(AC14:AH14)","v":0}]
[null,null,"Tractor","TC 112",null,970622201,null,null,null,{"$f":"_xlfn.XLOOKUP(F15,Pricing!A:A,Pricing!B:B)","v":2332.5},{"$f":"Summary!$L$18","v":0.30000000000000004},{"$f":"J15-(J15*K15)","v":1632.75},null,{"$f":"IFERROR(U15/I15,\"\")","v":""},{"$f":"IFERROR(V15/I15,\"\")","v":""},{"$f":"IFERROR(W15/I15,\"\")","v":""},{"$f":"IFERROR(X15/I15,\"\")","v":""},{"$f":"IFERROR(Y15/$I15,\"\")","v":""},"",null,null,null,null,null,null,null,0,null,{"$f":"L15*U15","v":0},{"$f":"L15*V15","v":0},{"$f":"L15*W15","v":0},{"$f":"L15*X15","v":0},{"$f":"$L15*Y15","v":0},0,{"$f":"SUM(AC15:AH15)","v":0}]
[null,null,"Tractor","TC 114",null,970622301,null,null,null,{"$f":"_xlfn.XLOOKUP(F16,Pricing!A:A,Pricing!B:B)","v":2749.17},{"$f":"Summary!$L$18","v":0.30000000000000004},{"$f":"J16-(J16*K16)","v":1924.4189999999999},null,{"$f":"IFERROR(U16/I16,\"\")","v":""},{"$f":"IFERROR(V16/I16,\"\")","v":""},{"$f":"IFERROR(W16/I16,\"\")","v":""},{"$f":"IFERROR(X16/I16,\"\")","v":""},"","",null,null,null,null,null,null,null,0,null,{"$f":"L16*U16","v":0},{"$f":"L16*V16","v":0},{"$f":"L16*W16","v":0},{"$f":"L16*X16","v":0},0,0,{"$f":"SUM(AC16:AH16)","v":0}]
[null,null,"Tractor","TS 142T",null,960410457,null,null,{"$f":"IFERROR(_xlfn.XLOOKUP(F17,'Direct shipment'!D:D,'Direct shipment'!W:W),\"\")","v":6},{"$f":"_xlfn.XLOOKUP(F17,Pricing!A:A,Pricing!B:B)","v":3165.83},{"$f":"Summary!$L$18","v":0.30000000000000004},{"$f":"J17-(J17*K17)","v":2216.0809999999997},null,{"$f":"IFERROR(U17/I17,\"\")","v":0},{"$f":"IFERROR(V17/I17,\"\")","v":0},{"$f":"IFERROR(W17/I17,\"\")","v":0},{"$f":"IFERROR(X17/I17,\"\")","v":0},0,0,null,null,null,null,null,null,null,0,null,{"$f":"L17*U17","v":0},{"$f":"L17*V17","v":0},{"$f":"L17*W17","v":0},{"$f":"L17*X17","v":0},0,0,{"$f":"SUM(AC17:AH17)","v":0}]
[null,null,"Tractor","TC 238T",null,960510201,null,null,{"$f":"IFERROR(_xlfn.XLOOKUP(F18,'Direct shipment'!D:D,'Direct shipment'!W:W),\"\")","v":1},{"$f":"_xlfn.XLOOKUP(F18,Pricing!A:A,Pricing!B:B)","v":3165.83},{"$f":"Summary!$L$18","v":0.30000000000000004},2216.0809999999997,null,0,0,0,0,0,0,null,null,null,null,null,null,null,{"$f":"SUM(U18:Z18)","v":0},null,0,0,0,0,0,0,0]
[null,null,"Tractor","TC 238TX",null,960510192,null,null,{"$f":"IFERROR(_xlfn.XLOOKUP(F19,'Direct shipment'!D:D,'Direct shipment'!W:W),\"\")","v":1},{"$f":"_xlfn.XLOOKUP(F19,Pricing!A:A,Pricing!B:B)","v":4165.83},{"$f":"Summary!$L$18","v":0.30000000000000004},2916.0809999999997,null,0,0,0,0,0,0,null,null,null,null,null,null,null,0,null,0,0,0,0,0,0,0]
[null,null,"Tractor","TC 242T",null,960510202,null,null,{"$f":"IFERROR(_xlfn.XLOOKUP(F20,'Direct shipment'!D:D,'Direct shipment'!W:W),\"\")","v":1},{"$f":"_xlfn.XLOOKUP(F20,Pricing!A:A,Pricing!B:B)","v":3749.17},{"$f":"Summary!$L$18","v":0.30000000000000004},2624.4189999999999,null,0,0,0,0,0,0,null,null,null,null,null,null,null,0,null,0,0,0,0,0,0,0]
[null,null,"Tractor","TC 242T",null,960510191,null,null,{"$f":"IFERROR(_xlfn.XLOOKUP(F21,'Direct shipment'!D:D,'Direct shipment'!W:W),\"\")","v":1},{"$f":"_xlfn.XLOOKUP(F21,Pricing!A:A,Pricing!B:B)","v":3749.17},{"$f":"Summary!$L$18","v":0.30000000000000004},2624.4189999999999,null,0,0,0,0,0,0,null,null,null,null,null,null,null,0,null,0,0,0,0,0,0,0]
[null,null,"Tractor","TC 242TX",null,960510193,null,null,{"$f":"IFERROR(_xlfn.XLOOKUP(F22,'Direct shipment'!D:D,'Direct shipment'!W:W),\"\")","v":1},{"$f":"_xlfn.XLOOKUP(F22,Pricing!A:A,Pricing!B:B)","v":4582.5},{"$f":"Summary!$L$18","v":0.30000000000000004},3207.75,null,0,0,0,0,0,0,null,null,null,null,null,null,null,0,null,0,0,0,0,0,0,0]
[null,null,"Tractor acc.","Brush Guard",null,505568813,null,null,{"$f":"IFERROR(_xlfn.XLOOKUP(F23,'Direct shipment'!D:D,'Direct shipment'!W:W),\"\")","v":""},{"$f":"_xlfn.XLOOKUP(F23,Pricing!A:A,Pricing!B:B)","v":73.33},{"$f":"Summary!$L$18","v":0.30000000000000004},51.330999999999996,null,"","","","","","",null,null,null,null,null,null,null,0,null,0,0,0,0,0,0,0]
[null,null,"Tractor acc.","Cover  (all models)",null,505630882,null,null,{"$f":"IFERROR(_xlfn.XLOOKUP(F24,'Direct shipment'!D:D,'Direct shipment'!W:W),\"\")","v":""},{"$f":"_xlfn.XLOOKUP(F24,Pricing!A:A,Pricing!B:B)","v":83.33},{"$f":"Summary!$L$18","v":0.30000000000000004},58.330999999999996,null,"","","","","","",null,null,null,null,null,null,null,0,null,0,0,0,0,0,0,0]
[null,null,"Tractor acc.","Cover  (TC 130, TS 38 & TS 138))",null,505630880,null,null,{"$f":"IFERROR(_xlfn.XLOOKUP(F25,'Direct shipment'!D:D,'Direct shipment'!W:W),\"\")","v":""},{"$f":"_xlfn.XLOOKUP(F25,Pricing!A:A,Pricing!B:B)","v":66.66},{"$f":"Summary!$L$18","v":0.30000000000000004},46.661999999999992,null,"","","","","","",null,null,null,null,null,null,null,0,null,0,0,0,0,0,0,0]
[null,null,"Tractor acc.","2 Bag Collector - For TS 112 & TS 114",null,538899201,null,null,{"$f":"IFERROR(_xlfn.XLOOKUP(F26,'Direct shipment'!D:D,'Direct shipment'!W:W),\"\")","v":""},{"$f":"_xlfn.XLOOKUP(F26,Pricing!A:A,Pricing!B:B)","v":274.17},{"$f":"Summary!$L$18","v":0.30000000000000004},{"$f":"J26-(J26*K26)","v":191.91899999999998},null,"","","","","","",null,null,null,null,null,null,null,0,null,0,0,0,0,0,0,0]
[null,null,"Tractor acc.","Bumper - For TS/TC 112 & TS/TC 114",null,538899401,null,null,{"$f":"IFERROR(_xlfn.XLOOKUP(F27,'Direct shipment'!D:D,'Direct shipment'!W:W),\"\")","v":""},{"$f":"_xlfn.XLOOKUP(F27,Pricing!A:A,Pricing!B:B)","v":49.99},{"$f":"Summary!$L$18","v":0.30000000000000004},{"$f":"J27-(J27*K27)","v":34.992999999999995},null,"","","","","","",null,null,null,null,null,null,null,0,null,0,0,0,0,0,0,0]
[null,null,"Tractor acc.","Grass Collector 2 Bin 97cm Deck",null,960730022,null,null,{"$f":"IFERROR(_xlfn.XLOOKUP(F28,'Direct shipment'!D:D,'Direct shipment'!W:W),\"\")","v":1},{"$f":"_xlfn.XLOOKUP(F28,Pricing!A:A,Pricing!B:B)","v":207.5},{"$f":"Summary!$L$18","v":0.30000000000000004},145.25,null,0,0,0,0,0,0,null,null,null,null,null,null,null,0,null,0,0,0,0,0,0,0]
[null,null,"Tractor acc.","Grass Collector 3 Bin 107cm Deck",null,960730038,null,null,{"$f":"IFERROR(_xlfn.XLOOKUP(F29,'Direct shipment'!D:D,'Direct shipment'!W:W),\"\")","v":1},{"$f":"_xlfn.XLOOKUP(F29,Pricing!A:A,Pricing!B:B)","v":332.5},{"$f":"Summary!$L$18","v":0.30000000000000004},232.75,null,0,0,0,0,0,0,null,null,null,null,null,null,null,0,null,0,0,0,0,0,0,0]
[null,null,"Tractor acc.","Grass Collector 3 Bin 117cm Deck",null,960730037,null,null,{"$f":"IFERROR(_xlfn.XLOOKUP(F30,'Direct shipment'!D:D,'Direct shipment'!W:W),\"\")","v":1},{"$f":"_xlfn.XLOOKUP(F30,Pricing!A:A,Pricing!B:B)","v":374.17},{"$f":"Summary!$L$18","v":0.30000000000000004},261.91899999999998,null,0,0,0,0,0,0,null,null,null,null,null,null,null,0,null,0,0,0,0,0,0,0]
[null,null,"Tractor acc.","Grass Collector 3 Bin 122cm Deck",null,582559601,null,null,{"$f":"IFERROR(_xlfn.XLOOKUP(F31,'Direct shipment'!D:D,'Direct shipment'!W:W),\"\")","v":1},{"$f":"_xlfn.XLOOKUP(F31,Pricing!A:A,Pricing!B:B)","v":457.5},{"$f":"Summary!$L$18","v":0.30000000000000004},320.25,null,0,0,0,0,0,0,null,null,null,null,null,null,null,0,null,0,0,0,0,0,0,0]
[null,null,"Tractor acc.","Mulch Plate - For TS 112 & TS 114",null,538898801,null,null,{"$f":"IFERROR(_xlfn.XLOOKUP(F32,'Direct shipment'!D:D,'Direct shipment'!W:W),\"\")","v":""},{"$f":"_xlfn.XLOOKUP(F32,Pricing!A:A,Pricing!B:B)","v":37.49},{"$f":"Summary!$L$18","v":0.30000000000000004},26.243000000000002,null,"","","","","","",null,null,null,null,null,null,null,0,null,0,0,0,0,0,0,0]
[null,null,"Tractor acc.","Mulch Plug - For TC 112 & TC 114",null,538898901,null,null,{"$f":"IFERROR(_xlfn.XLOOKUP(F33,'Direct shipment'!D:D,'Direct shipment'!W:W),\"\")","v":""},{"$f":"_xlfn.XLOOKUP(F33,Pricing!A:A,Pricing!B:B)","v":99.99},{"$f":"Summary!$L$18","v":0.30000000000000004},69.992999999999995,null,"","","","","","",null,null,null,null,null,null,null,0,null,0,0,0,0,0,0,0]
[null,null,"Tractor/Rider Accessory ","Loading Ramps (20cm X 150cm)",null,505699041,null,null,{"$f":"IFERROR(_xlfn.XLOOKUP(F34,'Direct shipment'!D:D,'Direct shipment'!W:W),\"\")","v":""},{"$f":"_xlfn.XLOOKUP(F34,Pricing!A:A,Pricing!B:B)","v":141.66},{"$f":"Summary!$L$18","v":0.30000000000000004},99.161999999999992,null,"","","","","","",null,null,null,null,null,null,null,0,null,0,0,0,0,0,0,0]
[null,null,"Tractor/Rider Accessory ","Loading Ramps (20cm X 200cm)",null,505699043,null,null,{"$f":"IFERROR(_xlfn.XLOOKUP(F35,'Direct shipment'!D:D,'Direct shipment'!W:W),\"\")","v":""},{"$f":"_xlfn.XLOOKUP(F35,Pricing!A:A,Pricing!B:B)","v":232.5},{"$f":"Summary!$L$18","v":0.30000000000000004},162.75,null,"","","","","","",null,null,null,null,null,null,null,0,null,0,0,0,0,0,0,0]
[null,null,"Tractor/Rider Accessory ","Attachment Kit for Blade Attachment",null,587375003,null,null,{"$f":"IFERROR(_xlfn.XLOOKUP(F36,'Direct shipment'!D:D,'Direct shipment'!W:W),\"\")","v":40},{"$f":"_xlfn.XLOOKUP(F36,Pricing!A:A,Pricing!B:B)","v":20.83},{"$f":"Summary!$L$18","v":0.30000000000000004},14.580999999999998,null,0,0,0,0,0,0,null,null,null,null,null,null,null,0,null,0,0,0,0,0,0,0]
[]
[null,"Rider","Rider  ","R 112C",null,967178402,null,967178401,{"$f":"IFERROR(_xlfn.XLOOKUP(F38,'Direct shipment'!D:D,'Direct shipment'!W:W),\"\")","v":1},{"$f":"_xlfn.XLOOKUP(F38,Pricing!A:A,Pricing!B:B)","v":2749.17},{"$f":"Summary!$L$19","v":0.30000000000000004},{"$f":"J38-(J38*K38)","v":1924.4189999999999},null,{"$f":"IFERROR(U38/I38,\"\")","v":0},{"$f":"IFERROR(V38/I38,\"\")","v":0},{"$f":"IFERROR(W38/I38,\"\")","v":0},{"$f":"IFERROR(X38/I38,\"\")","v":0},{"$f":"IFERROR(Y38/$I38,\"\")","v":0},0,null,null,null,null,null,null,null,{"$f":"SUM(U38:Z38)","v":0},null,{"$f":"L38*U38","v":0},{"$f":"L38*V38","v":0},{"$f":"L38*W38","v":0},{"$f":"L38*X38","v":0},{"$f":"$L38*Y38","v":0},0,{"$f":"SUM(AC38:AH38)","v":0}]
[null,null,"Rider  ","R 214​",null,970542101,null,null,{"$f":"IFERROR(_xlfn.XLOOKUP(F39,'Direct shipment'!D:D,'Direct shipment'!W:W),\"\")","v":1},{"$f":"_xlfn.XLOOKUP(F39,Pricing!A:A,Pricing!B:B)","v":3124.17},{"$f":"Summary!$L$19","v":0.30000000000000004},2186.9189999999999,null,0,0,0,0,0,0,null,null,null,null,null,null,null,0,null,0,0,0,0,0,0,0]
[null,null,"Rider  ","R 214C Inc. Bio Clip 94cm",null,970519401,null,null,{"$f":"IFERROR(_xlfn.XLOOKUP(F40,'Direct shipment'!D:D,'Direct shipment'!W:W),\"\")","v":1},{"$f":"_xlfn.XLOOKUP(F40,Pricing!A:A,Pricing!B:B)","v":3499.17},{"$f":"Summary!$L$19","v":0.30000000000000004},2449.4189999999999,null,0,0,0,0,0,0,null,null,null,null,null,null,null,0,null,0,0,0,0,0,0,0]
[null,null,"Rider  ","R 214T",null,970542201,null,967847001,{"$f":"IFERROR(_xlfn.XLOOKUP(F41,'Direct shipment'!D:D,'Direct shipment'!W:W),\"\")","v":1},{"$f":"_xlfn.XLOOKUP(F41,Pricing!A:A,Pricing!B:B)","v":3165.83},{"$f":"Summary!$L$19","v":0.30000000000000004},2216.0809999999997,null,0,0,0,0,0,0,null,null,null,null,null,null,null,0,null,0,0,0,0,0,0,0]
[null,null,"Rider  ","R 214TC​ Inc. Bio Clip 94cm",null,970542301,null,967846901,{"$f":"IFERROR(_xlfn.XLOOKUP(F42,'Direct shipment'!D:D,'Direct shipment'!W:W),\"\")","v":1},{"$f":"_xlfn.XLOOKUP(F42,Pricing!A:A,Pricing!B:B)","v":3749.17},{"$f":"Summary!$L$19","v":0.30000000000000004},2624.4189999999999,null,6,4,4,2,2,2,null,6,4,4,2,2,2,20,null,15746.513999999999,10497.675999999999,10497.675999999999,5248.8379999999997,5248.8379999999997,5248.8379999999997,52488.380000000005]
[null,null,"Rider  ","R 216T AWD​",null,970542401,null,967847101,{"$f":"IFERROR(_xlfn.XLOOKUP(F43,'Direct shipment'!D:D,'Direct shipment'!W:W),\"\")","v":1},{"$f":"_xlfn.XLOOKUP(F43,Pricing!A:A,Pricing!B:B)","v":4832.5},{"$f":"Summary!$L$19","v":0.30000000000000004},{"$f":"IF(AA43>0, IF(AA49>0, (J43-(J43*K43))-L49, (J43-(J43*K43))), (J43-(J43*K43)))","v":2741.6689999999999},null,0,1,1,1,0,0,null,null,1,1,1,null,null,3,null,0,2741.6689999999999,2741.6689999999999,2741.6689999999999,0,0,8225.0069999999996]
[null,null,"Rider  ","R 316TX",null,970542701,null,967847401,{"$f":"IFERROR(_xlfn.XLOOKUP(F44,'Direct shipment'!D:D,'Direct shipment'!W:W),\"\")","v":1},{"$f":"_xlfn.XLOOKUP(F44,Pricing!A:A,Pricing!B:B)","v":5249.17},{"$f":"Summary!$L$19","v":0.30000000000000004},3674.4189999999999,null,0,0,0,0,0,0,null,null,null,null,null,null,null,0,null,0,0,0,0,0,0,0]
[null,null,"Rider  ","R 316TsXAWD​",null,970542901,null,967847501,{"$f":"IFERROR(_xlfn.XLOOKUP(F45,'Direct shipment'!D:D,'Direct shipment'!W:W),\"\")","v":1},{"$f":"_xlfn.XLOOKUP(F45,Pricing!A:A,Pricing!B:B)","v":7082.5},{"$f":"Summary!$L$19","v":0.30000000000000004},4957.75,null,0,0,0,0,0,0,null,null,null,null,null,null,null,0,null,0,0,0,0,0,0,0]
[null,null,"Rider  ","R 320XAWD​",null,970542601,null,970545301,{"$f":"IFERROR(_xlfn.XLOOKUP(F46,'Direct shipment'!D:D,'Direct shipment'!W:W),\"\")","v":1},{"$f":"_xlfn.XLOOKUP(F46,Pricing!A:A,Pricing!B:B)","v":6165.83},{"$f":"Summary!$L$19","v":0.30000000000000004},{"$f":"J46-(J46*K46)","v":4316.0810000000001},null,{"$f":"IFERROR(U46/I46,\"\")","v":0},{"$f":"IFERROR(V46/I46,\"\")","v":0},{"$f":"IFERROR(W46/I46,\"\")","v":0},{"$f":"IFERROR(X46/I46,\"\")","v":0},0,0,null,null,null,null,null,null,null,0,null,{"$f":"L46*U46","v":0},{"$f":"L46*V46","v":0},{"$f":"L46*W46","v":0},{"$f":"L46*X46","v":0},0,0,0]
[null,null,"Rider  ","R 420TsX AWD",null,967648401,null,967292101,{"$f":"IFERROR(_xlfn.XLOOKUP(F47,'Direct shipment'!D:D,'Direct shipment'!W:W),\"\")","v":1},{"$f":"_xlfn.XLOOKUP(F47,Pricing!A:A,Pricing!B:B)","v":11499.17},{"$f":"Summary!$L$19","v":0.30000000000000004},8049.4189999999999,null,0,1,0,0,0,0,null,null,1,null,null,null,null,1,null,0,8049.4189999999999,0,0,0,0,8049.4189999999999]
[null,null,"Rider Cutting Deck","Combi 94cm ( 200-series mount)",null,967152201,null,null,{"$f":"IFERROR(_xlfn.XLOOKUP(F48,'Direct shipment'!D:D,'Direct shipment'!W:W),\"\")","v":3},{"$f":"_xlfn.XLOOKUP(F48,Pricing!A:A,Pricing!B:B)","v":832.5},{"$f":"Summary!$L$19","v":0.30000000000000004},{"$f":"J48-(J48*K48)","v":582.75},null,{"$f":"IFERROR(U48/I48,\"\")","v":0},{"$f":"IFERROR(V48/I48,\"\")","v":0},{"$f":"IFERROR(W48/I48,\"\")","v":0},{"$f":"IFERROR(X48/I48,\"\")","v":0},{"$f":"IFERROR(Y48/$I48,\"\")","v":0},0,null,null,null,null,null,null,null,0,null,{"$f":"L48*U48","v":0},{"$f":"L48*V48","v":0},{"$f":"L48*W48","v":0},{"$f":"L48*X48","v":0},{"$f":"$L48*Y48","v":0},0,{"$f":"SUM(AC48:AH48)","v":0}]
[null,null,"Rider Cutting Deck","Combi 103cm ( 200-series mount)",null,967152301,null,null,{"$f":"IFERROR(_xlfn.XLOOKUP(F49,'Direct shipment'!D:D,'Direct shipment'!W:W),\"\")","v":3},{"$f":"_xlfn.XLOOKUP(F49,Pricing!A:A,Pricing!B:B)","v":915.83},{"$f":"Summary!$L$19","v":0.30000000000000004},641.0809999999999,null,0,0.33333333333333331,0.33333333333333331,0.33333333333333331,0,0,null,null,1,1,1,null,null,3,null,0,641.0809999999999,641.0809999999999,641.0809999999999,0,0,1923.2429999999997]
[null,null,"Rider Cutting Deck","Combi 94cm ( 300 series mount )",null,967152601,null,null,{"$f":"IFERROR(_xlfn.XLOOKUP(F50,'Direct shipment'!D:D,'Direct shipment'!W:W),\"\")","v":3},{"$f":"_xlfn.XLOOKUP(F50,Pricing!A:A,Pricing!B:B)","v":1040.83},{"$f":"Summary!$L$19","v":0.30000000000000004},728.5809999999999,null,0,0,0,0,0,0,null,null,null,null,null,null,null,0,null,0,0,0,0,0,0,0]
[null,null,"Rider Cutting Deck","Combi 103cm ( 300 series mount )",null,967152401,null,null,{"$f":"IFERROR(_xlfn.XLOOKUP(F51,'Direct shipment'!D:D,'Direct shipment'!W:W),\"\")","v":3},{"$f":"_xlfn.XLOOKUP(F51,Pricing!A:A,Pricing!B:B)","v":1082.5},{"$f":"Summary!$L$19","v":0.30000000000000004},757.75,null,0,0,0,0,0,0,null,null,null,null,null,null,null,{"$f":"SUM(U51:Z51)","v":0},null,0,0,0,0,0,0,0]
[null,null,"Rider Cutting Deck","Combi 112cm (300 series mount )",null,967188501,null,null,{"$f":"IFERROR(_xlfn.XLOOKUP(F52,'Direct shipment'!D:D,'Direct shipment'!W:W),\"\")","v":3},{"$f":"_xlfn.XLOOKUP(F52,Pricing!A:A,Pricing!B:B)","v":1165.83},{"$f":"Summary!$L$19","v":0.30000000000000004},816.0809999999999,null,0,0,0,0,0,0,null,null,null,null,null,null,null,0,null,0,0,0,0,0,0,0]
[null,null,"Rider Cutting Deck","Combi 103cm  (2019 4 series mount)",null,967648901,null,null,{"$f":"IFERROR(_xlfn.XLOOKUP(F53,'Direct shipment'!D:D,'Direct shipment'!W:W),\"\")","v":3},{"$f":"_xlfn.XLOOKUP(F53,Pricing!A:A,Pricing!B:B)","v":1749.17},{"$f":"Summary!$L$19","v":0.30000000000000004},1224.4189999999999,null,0,0,0,0,0,0,null,null,null,null,null,null,null,0,null,0,0,0,0,0,0,0]
[null,null,"Rider Cutting Deck","Combi 112cm (2019 4 series mount)",null,967649001,null,null,{"$f":"IFERROR(_xlfn.XLOOKUP(F54,'Direct shipment'!D:D,'Direct shipment'!W:W),\"\")","v":3},{"$f":"_xlfn.XLOOKUP(F54,Pricing!A:A,Pricing!B:B)","v":1765.83},{"$f":"Summary!$L$19","v":0.30000000000000004},1236.0809999999999,null,0,0,0,0,0,0,null,null,null,null,null,null,null,0,null,0,0,0,0,0,0,0]
[null,null,"Rider Cutting Deck","Combi Turf 122 (2019 4 series mount)",null,967649101,null,null,{"$f":"IFERROR(_xlfn.XLOOKUP(F55,'Direct shipment'!D:D,'Direct shipment'!W:W),\"\")","v":3},{"$f":"_xlfn.XLOOKUP(F55,Pricing!A:A,Pricing!B:B)","v":1932.5},{"$f":"Summary!$L$19","v":0.30000000000000004},1352.75,null,0,0,0,0,0,0,null,null,null,null,null,null,null,0,null,0,0,0,0,0,0,0]
[null,null,"Rider acc. ","Cargo Holder Fits Rider 400 series 2019>",null,594988301,null,null,{"$f":"IFERROR(_xlfn.XLOOKUP(F56,'Direct shipment'!D:D,'Direct shipment'!W:W),\"\")","v":""},{"$f":"_xlfn.XLOOKUP(F56,Pricing!A:A,Pricing!B:B)","v":124.99},{"$f":"Summary!$L$19","v":0.30000000000000004},87.492999999999995,null,"","","","","","",null,null,null,null,null,null,null,0,null,0,0,0,0,0,0,0]
[null,null,"Rider acc. ","Flail Mower Fits Rider 400 series 2019> ",null,596289201,null,null,{"$f":"IFERROR(_xlfn.XLOOKUP(F57,'Direct shipment'!D:D,'Direct shipment'!W:W),\"\")","v":""},{"$f":"_xlfn.XLOOKUP(F57,Pricing!A:A,Pricing!B:B)","v":1932.5},{"$f":"Summary!$L$19","v":0.30000000000000004},1352.75,null,"","","","","","",null,null,null,null,null,null,null,0,null,0,0,0,0,0,0,0]
[null,null,"Rider acc. ","Spreader 400 series 2019> ",null,596293001,null,null,{"$f":"IFERROR(_xlfn.XLOOKUP(F58,'Direct shipment'!D:D,'Direct shipment'!W:W),\"\")","v":""},{"$f":"_xlfn.XLOOKUP(F58,Pricing!A:A,Pricing!B:B)","v":1290.83},{"$f":"Summary!$L$19","v":0.30000000000000004},903.5809999999999,null,"","","","","","",null,null,null,null,null,null,null,0,null,0,0,0,0,0,0,0]
[null,null,"Rider acc. ","Broom Fits Rider 400 series 2019>",null,596288701,null,null,{"$f":"IFERROR(_xlfn.XLOOKUP(F59,'Direct shipment'!D:D,'Direct shipment'!W:W),\"\")","v":""},{"$f":"_xlfn.XLOOKUP(F59,Pricing!A:A,Pricing!B:B)","v":2065.83},{"$f":"Summary!$L$19","v":0.30000000000000004},1446.0809999999999,null,"","","","","","",null,null,null,null,null,null,null,0,null,0,0,0,0,0,0,0]
[null,null,"Rider acc. ","Flail Mower Rider Collection",null,596289801,null,null,{"$f":"IFERROR(_xlfn.XLOOKUP(F60,'Direct shipment'!D:D,'Direct shipment'!W:W),\"\")","v":""},{"$f":"_xlfn.XLOOKUP(F60,Pricing!A:A,Pricing!B:B)","v":1499.17},{"$f":"Summary!$L$19","v":0.30000000000000004},1049.4189999999999,null,"","","","","","",null,null,null,null,null,null,null,0,null,0,0,0,0,0,0,0]
[null,null,"Rider acc. ","Broom Fits RC Rider Collect",null,593024301,null,null,{"$f":"IFERROR(_xlfn.XLOOKUP(F61,'Direct shipment'!D:D,'Direct shipment'!W:W),\"\")","v":""},{"$f":"_xlfn.XLOOKUP(F61,Pricing!A:A,Pricing!B:B)","v":1540.83},{"$f":"Summary!$L$19","v":0.30000000000000004},1078.5809999999999,null,"","","","","","",null,null,null,null,null,null,null,0,null,0,0,0,0,0,0,0]
[null,null,"Rider acc. ","Gravel Harrow 400 series & P524",null,587932001,null,null,{"$f":"IFERROR(_xlfn.XLOOKUP(F62,'Direct shipment'!D:D,'Direct shipment'!W:W),\"\")","v":""},{"$f":"_xlfn.XLOOKUP(F62,Pricing!A:A,Pricing!B:B)","v":1665.83},{"$f":"Summary!$L$19","v":0.30000000000000004},1166.0809999999999,null,"","","","","","",null,null,null,null,null,null,null,0,null,0,0,0,0,0,0,0]
[null,null,"Rider acc. ","Rake 400 series & P524 (Electric lift)",null,587932501,null,null,{"$f":"IFERROR(_xlfn.XLOOKUP(F63,'Direct shipment'!D:D,'Direct shipment'!W:W),\"\")","v":""},{"$f":"_xlfn.XLOOKUP(F63,Pricing!A:A,Pricing!B:B)","v":1415.83},{"$f":"Summary!$L$19","v":0.30000000000000004},991.0809999999999,null,"","","","","","",null,null,null,null,null,null,null,0,null,0,0,0,0,0,0,0]
[null,null,"Rider acc. ","Broom Fits 200 series",null,587024701,null,null,{"$f":"IFERROR(_xlfn.XLOOKUP(F64,'Direct shipment'!D:D,'Direct shipment'!W:W),\"\")","v":""},{"$f":"_xlfn.XLOOKUP(F64,Pricing!A:A,Pricing!B:B)","v":1499.17},{"$f":"Summary!$L$19","v":0.30000000000000004},1049.4189999999999,null,"","","","","","",null,null,null,null,null,null,null,0,null,0,0,0,0,0,0,0]
[null,null,"Rider acc. ","Broom Fits 300 series",null,587024601,null,null,{"$f":"IFERROR(_xlfn.XLOOKUP(F65,'Direct shipment'!D:D,'Direct shipment'!W:W),\"\")","v":""},{"$f":"_xlfn.XLOOKUP(F65,Pricing!A:A,Pricing!B:B)","v":1499.17},{"$f":"Summary!$L$19","v":0.30000000000000004},1049.4189999999999,null,"","","","","","",null,null,null,null,null,null,null,0,null,0,0,0,0,0,0,0]
[null,null,"Rider acc. ","Snow Thrower Fits 300 series AWD only",null,967276701,null,null,{"$f":"IFERROR(_xlfn.XLOOKUP(F66,'Direct shipment'!D:D,'Direct shipment'!W:W),\"\")","v":""},{"$f":"_xlfn.XLOOKUP(F66,Pricing!A:A,Pricing!B:B)","v":1499.17},{"$f":"Summary!$L$19","v":0.30000000000000004},1049.4189999999999,null,"","","","","","",null,null,null,null,null,null,null,0,null,0,0,0,0,0,0,0]
[null,null,"Rider acc. ","Flail Mower Fits Rider 300 series",null,966416101,null,null,{"$f":"IFERROR(_xlfn.XLOOKUP(F67,'Direct shipment'!D:D,'Direct shipment'!W:W),\"\")","v":""},{"$f":"_xlfn.XLOOKUP(F67,Pricing!A:A,Pricing!B:B)","v":1499.17},{"$f":"Summary!$L$19","v":0.30000000000000004},1049.4189999999999,null,"","","","","","",null,null,null,null,null,null,null,0,null,0,0,0,0,0,0,0]
[null,null,"Rider acc. ","Snow Blade Fits 300 Series ",null,966415901,null,null,{"$f":"IFERROR(_xlfn.XLOOKUP(F68,'Direct shipment'!D:D,'Direct shipment'!W:W),\"\")","v":""},{"$f":"_xlfn.XLOOKUP(F68,Pricing!A:A,Pricing!B:B)","v":540.83000000000004},{"$f":"Summary!$L$19","v":0.30000000000000004},378.58100000000002,null,"","","","","","",null,null,null,null,null,null,null,0,null,0,0,0,0,0,0,0]
[null,null,"Rider acc. ","Snow Blade Fits 200 Series",null,965070901,null,null,{"$f":"IFERROR(_xlfn.XLOOKUP(F69,'Direct shipment'!D:D,'Direct shipment'!W:W),\"\")","v":""},{"$f":"_xlfn.XLOOKUP(F69,Pricing!A:A,Pricing!B:B)","v":457.5},{"$f":"Summary!$L$19","v":0.30000000000000004},320.25,null,"","","","","","",null,null,null,null,null,null,null,0,null,0,0,0,0,0,0,0]
[null,null,"Rider acc. ","Counterweight Fits Rider 200/300 series NOT 216AWD",null,953534901,null,null,{"$f":"IFERROR(_xlfn.XLOOKUP(F70,'Direct shipment'!D:D,'Direct shipment'!W:W),\"\")","v":""},{"$f":"_xlfn.XLOOKUP(F70,Pricing!A:A,Pricing!B:B)","v":77.489999999999995},{"$f":"Summary!$L$19","v":0.30000000000000004},54.242999999999995,null,"","","","","","",null,null,null,null,null,null,null,0,null,0,0,0,0,0,0,0]
[null,null,"Rider acc. ","Rubber Blade Fits all snow blades",null,531021240,null,null,{"$f":"IFERROR(_xlfn.XLOOKUP(F71,'Direct shipment'!D:D,'Direct shipment'!W:W),\"\")","v":""},{"$f":"_xlfn.XLOOKUP(F71,Pricing!A:A,Pricing!B:B)","v":66.66},{"$f":"Summary!$L$19","v":0.30000000000000004},46.661999999999992,null,"","","","","","",null,null,null,null,null,null,null,0,null,0,0,0,0,0,0,0]
[null,null,"Rider acc. ","Rider Cover",null,505630870,null,null,{"$f":"IFERROR(_xlfn.XLOOKUP(F72,'Direct shipment'!D:D,'Direct shipment'!W:W),\"\")","v":""},{"$f":"_xlfn.XLOOKUP(F72,Pricing!A:A,Pricing!B:B)","v":77.489999999999995},{"$f":"Summary!$L$19","v":0.30000000000000004},54.242999999999995,null,"","","","","","",null,null,null,null,null,null,null,0,null,0,0,0,0,0,0,0]
[null,null,"Rider Collect","RC 318T",null,970621101,null,967628702,{"$f":"IFERROR(_xlfn.XLOOKUP(F73,'Direct shipment'!D:D,'Direct shipment'!W:W),\"\")","v":1},{"$f":"_xlfn.XLOOKUP(F73,Pricing!A:A,Pricing!B:B)","v":6249.17},{"$f":"Summary!$L$19","v":0.30000000000000004},4374.4189999999999,null,0,0,0,0,0,0,null,null,null,null,null,null,null,0,null,0,0,0,0,0,0,0]
[null,null,"Rider Collect","RC 320Ts AWD",null,970621201,null,967628802,{"$f":"IFERROR(_xlfn.XLOOKUP(F74,'Direct shipment'!D:D,'Direct shipment'!W:W),\"\")","v":1},{"$f":"_xlfn.XLOOKUP(F74,Pricing!A:A,Pricing!B:B)","v":8249.17},{"$f":"Summary!$L$19","v":0.30000000000000004},5774.4189999999999,null,0,0,0,0,0,0,null,null,null,null,null,null,null,0,null,0,0,0,0,0,0,0]
[null,null,"Rider Collect Cutting Deck","Collection 103 (collection deck)",null,967978101,null,967628901,{"$f":"IFERROR(_xlfn.XLOOKUP(F75,'Direct shipment'!D:D,'Direct shipment'!W:W),\"\")","v":3},{"$f":"_xlfn.XLOOKUP(F75,Pricing!A:A,Pricing!B:B)","v":1082.5},{"$f":"Summary!$L$19","v":0.30000000000000004},757.75,null,0,0,0,0,0,0,null,null,null,null,null,null,null,0,null,0,0,0,0,0,0,0]
[null,null,"Rider Collect Cutting Deck","Collection 112 (collection deck)",null,967978201,null,967693701,{"$f":"IFERROR(_xlfn.XLOOKUP(F76,'Direct shipment'!D:D,'Direct shipment'!W:W),\"\")","v":3},{"$f":"_xlfn.XLOOKUP(F76,Pricing!A:A,Pricing!B:B)","v":1165.83},{"$f":"Summary!$L$19","v":0.30000000000000004},816.0809999999999,null,0,0,0,0,0,0,null,null,null,null,null,null,null,0,null,0,0,0,0,0,0,0]
[null,null,"Tractor / Rider acc. ","Scarifier",null,586636702,null,586636701,{"$f":"IFERROR(_xlfn.XLOOKUP(F77,'Direct shipment'!D:D,'Direct shipment'!W:W),\"\")","v":""},{"$f":"_xlfn.XLOOKUP(F77,Pricing!A:A,Pricing!B:B)","v":190.83},{"$f":"Summary!$L$19","v":0.30000000000000004},133.58100000000002,null,"","","","",{"$f":"IFERROR(Y77/$I77,\"\")","v":""},{"$f":"IFERROR(Z77/$I77,\"\")","v":""},null,null,null,null,null,null,null,{"$f":"SUM(U77:Z77)","v":0},null,0,0,0,0,{"$f":"$L77*Y77","v":0},{"$f":"$L77*Z77","v":0},{"$f":"SUM(AC77:AH77)","v":0}]
[null,null,"Tractor / Rider acc. ","Plug Aerator For Frame",null,588212701,null,null,{"$f":"IFERROR(_xlfn.XLOOKUP(F78,'Direct shipment'!D:D,'Direct shipment'!W:W),\"\")","v":""},{"$f":"_xlfn.XLOOKUP(F78,Pricing!A:A,Pricing!B:B)","v":99.16},{"$f":"Summary!$L$19","v":0.30000000000000004},69.411999999999992,null,"","","","","","",null,null,null,null,null,null,null,0,null,0,0,0,0,0,0,0]
[null,null,"Tractor / Rider acc. ","112cm Sweeper 44\"",null,586636501,null,null,{"$f":"IFERROR(_xlfn.XLOOKUP(F79,'Direct shipment'!D:D,'Direct shipment'!W:W),\"\")","v":""},{"$f":"_xlfn.XLOOKUP(F79,Pricing!A:A,Pricing!B:B)","v":457.5},{"$f":"Summary!$L$19","v":0.30000000000000004},{"$f":"J79-(J79*K79)","v":320.25},null,{"$f":"IFERROR(U79/I79,\"\")","v":""},{"$f":"IFERROR(V79/I79,\"\")","v":""},{"$f":"IFERROR(W79/I79,\"\")","v":""},{"$f":"IFERROR(X79/I79,\"\")","v":""},"","",null,null,null,null,null,null,null,0,null,0,0,0,0,0,0,0]
[null,null,"Tractor / Rider acc. ","Moss Rake",null,586636601,null,null,{"$f":"IFERROR(_xlfn.XLOOKUP(F80,'Direct shipment'!D:D,'Direct shipment'!W:W),\"\")","v":""},{"$f":"_xlfn.XLOOKUP(F80,Pricing!A:A,Pricing!B:B)","v":112.49},{"$f":"Summary!$L$19","v":0.30000000000000004},78.742999999999995,null,"","","","","","",null,null,null,null,null,null,null,0,null,0,0,0,0,0,0,0]
[null,null,"Tractor / Rider acc. ","Aerator Tool For Frame",null,586636901,null,null,{"$f":"IFERROR(_xlfn.XLOOKUP(F81,'Direct shipment'!D:D,'Direct shipment'!W:W),\"\")","v":""},{"$f":"_xlfn.XLOOKUP(F81,Pricing!A:A,Pricing!B:B)","v":99.99},{"$f":"Summary!$L$19","v":0.30000000000000004},69.992999999999995,null,"","","","","","",null,null,null,null,null,null,null,0,null,0,0,0,0,0,0,0]
[null,null,"Tractor / Rider acc. ","Dethatcher Tool For Frame",null,586636801,null,null,{"$f":"IFERROR(_xlfn.XLOOKUP(F82,'Direct shipment'!D:D,'Direct shipment'!W:W),\"\")","v":""},{"$f":"_xlfn.XLOOKUP(F82,Pricing!A:A,Pricing!B:B)","v":87.49},{"$f":"Summary!$L$19","v":0.30000000000000004},61.242999999999995,null,"","","","","","",null,null,null,null,null,null,null,0,null,{"$f":"L82*U82","v":0},{"$f":"L82*V82","v":0},{"$f":"L82*W82","v":0},{"$f":"L82*X82","v":0},0,0,0]
[null,null,"Tractor / Rider acc. ","Wheel Weight Fits Rider 300 series NOT AWD (2 required)",null,953515902,null,null,{"$f":"IFERROR(_xlfn.XLOOKUP(F83,'Direct shipment'!D:D,'Direct shipment'!W:W),\"\")","v":""},{"$f":"_xlfn.XLOOKUP(F83,Pricing!A:A,Pricing!B:B)","v":116.66},{"$f":"Summary!$L$19","v":0.30000000000000004},81.661999999999992,null,"","","","","","",null,null,null,null,null,null,null,0,null,0,0,0,0,0,0,0]
[null,null,"Tractor / Rider acc. ","Trailer 275",null,501008201,null,null,{"$f":"IFERROR(_xlfn.XLOOKUP(F84,'Direct shipment'!D:D,'Direct shipment'!W:W),\"\")","v":""},{"$f":"_xlfn.XLOOKUP(F84,Pricing!A:A,Pricing!B:B)","v":249.17},{"$f":"Summary!$L$19","v":0.30000000000000004},174.41899999999998,null,"","","","","","",null,null,null,null,null,null,null,0,null,0,0,0,0,0,0,0]
[null,null,"Tractor / Rider acc. ","Gravel Harrow",null,953512401,null,null,{"$f":"IFERROR(_xlfn.XLOOKUP(F85,'Direct shipment'!D:D,'Direct shipment'!W:W),\"\")","v":""},{"$f":"_xlfn.XLOOKUP(F85,Pricing!A:A,Pricing!B:B)","v":599.16999999999996},{"$f":"Summary!$L$19","v":0.30000000000000004},419.41899999999998,null,"","","","","","",null,null,null,null,null,null,null,0,null,0,0,0,0,0,0,0]
[null,null,"Tractor / Rider acc. ","XS800 Charger",null,579450103,null,null,{"$f":"IFERROR(_xlfn.XLOOKUP(F86,'Direct shipment'!D:D,'Direct shipment'!W:W),\"\")","v":""},{"$f":"_xlfn.XLOOKUP(F86,Pricing!A:A,Pricing!B:B)","v":64.989999999999995},{"$f":"Summary!$L$19","v":0.30000000000000004},45.492999999999995,null,"","","","","","",null,null,null,null,null,null,null,0,null,0,0,0,0,0,0,0]
[null,null,"Tractor / Rider acc. ","Straight Rider Loading Ramps 260X2000 1000kgs",null,505699045,null,null,{"$f":"IFERROR(_xlfn.XLOOKUP(F87,'Direct shipment'!D:D,'Direct shipment'!W:W),\"\")","v":""},{"$f":"_xlfn.XLOOKUP(F87,Pricing!A:A,Pricing!B:B)","v":190.83},{"$f":"Summary!$L$19","v":0.30000000000000004},133.58100000000002,null,"","","","","","",null,null,null,null,null,null,null,0,null,0,0,0,0,0,0,0]
[null,null,"Tractor / Rider acc. ","Straight Rider Loading Ramps 200X1500 450kgs",null,505699040,null,null,{"$f":"IFERROR(_xlfn.XLOOKUP(F88,'Direct shipment'!D:D,'Direct shipment'!W:W),\"\")","v":""},{"$f":"_xlfn.XLOOKUP(F88,Pricing!A:A,Pricing!B:B)","v":124.16},{"$f":"Summary!$L$19","v":0.30000000000000004},86.911999999999992,null,"","","","","","",null,null,null,null,null,null,null,0,null,0,0,0,0,0,0,0]
[null,null,"Tractor / Rider acc. ","Straight Rider Loading Ramps 200X2000 450kgs",null,505699042,null,null,{"$f":"IFERROR(_xlfn.XLOOKUP(F89,'Direct shipment'!D:D,'Direct shipment'!W:W),\"\")","v":""},{"$f":"_xlfn.XLOOKUP(F89,Pricing!A:A,Pricing!B:B)","v":174.17},{"$f":"Summary!$L$19","v":0.30000000000000004},121.91899999999998,null,"","","","","","",null,null,null,null,null,null,null,0,null,0,0,0,0,0,0,0]
[]
[null,"Pro Rider","P 500 Series Rider  ","P524XR EFI (Remote Control)",null,970601701,null,null,{"$f":"IFERROR(_xlfn.XLOOKUP(F91,'Direct shipment'!D:D,'Direct shipment'!W:W),\"\")","v":1},{"$f":"_xlfn.XLOOKUP(F91,Pricing!A:A,Pricing!B:B)","v":18332.5},{"$f":"Summary!$L$20","v":0.32},12466.099999999999,null,0,0,0,0,0,0,null,null,null,null,null,null,null,0,null,0,0,0,0,0,0,0]
[null,null,"P 500 Series Rider  ","P524X",null,970601501,null,null,{"$f":"IFERROR(_xlfn.XLOOKUP(F92,'Direct shipment'!D:D,'Direct shipment'!W:W),\"\")","v":1},{"$f":"_xlfn.XLOOKUP(F92,Pricing!A:A,Pricing!B:B)","v":13065.83},{"$f":"Summary!$L$20","v":0.32},8884.7644,null,0,0,0,0,0,0,null,null,null,null,null,null,null,0,null,0,0,0,0,0,0,0]
[null,null,"P 500 Series Rider  ","P524X EFI",null,970601601,null,null,{"$f":"IFERROR(_xlfn.XLOOKUP(F93,'Direct shipment'!D:D,'Direct shipment'!W:W),\"\")","v":1},{"$f":"_xlfn.XLOOKUP(F93,Pricing!A:A,Pricing!B:B)","v":13749.17},{"$f":"Summary!$L$20","v":0.32},9349.4356000000007,null,0,0,0,0,0,0,null,null,null,null,null,null,null,0,null,0,0,0,0,0,0,0]
[null,null,"P 500 Series Rider  ","P 520DX Unit Only",null,967985201,null,null,{"$f":"IFERROR(_xlfn.XLOOKUP(F94,'Direct shipment'!D:D,'Direct shipment'!W:W),\"\")","v":1},{"$f":"_xlfn.XLOOKUP(F94,Pricing!A:A,Pricing!B:B)","v":17499.169999999998},{"$f":"Summary!$L$20","v":0.32},11899.435599999999,null,0,0,0,0,0,0,null,null,null,null,null,null,null,0,null,0,0,0,0,0,0,0]
[null,null,"P 500 Series Rider  ","P 535HX Unit Only",null,967985503,null,null,{"$f":"IFERROR(_xlfn.XLOOKUP(F95,'Direct shipment'!D:D,'Direct shipment'!W:W),\"\")","v":1},{"$f":"_xlfn.XLOOKUP(F95,Pricing!A:A,Pricing!B:B)","v":31665.83},{"$f":"Summary!$L$20","v":0.32},21532.7644,null,0,0,0,0,0,0,null,null,null,null,null,null,null,0,null,0,0,0,0,0,0,0]
[null,null,"P 500 Series Rider  ","P 525DX Unit Only",null,967985301,null,null,{"$f":"IFERROR(_xlfn.XLOOKUP(F96,'Direct shipment'!D:D,'Direct shipment'!W:W),\"\")","v":1},{"$f":"_xlfn.XLOOKUP(F96,Pricing!A:A,Pricing!B:B)","v":19999.169999999998},{"$f":"Summary!$L$20","v":0.32},13599.435599999999,null,0,0,0,0,0,0,null,null,null,null,null,null,null,0,null,0,0,0,0,0,0,0]
[null,null,"P 500 Series Rider  ","P 525DX Cabin Unit Only",null,967985401,null,null,{"$f":"IFERROR(_xlfn.XLOOKUP(F97,'Direct shipment'!D:D,'Direct shipment'!W:W),\"\")","v":1},{"$f":"_xlfn.XLOOKUP(F97,Pricing!A:A,Pricing!B:B)","v":27915.83},{"$f":"Summary!$L$20","v":0.32},18982.7644,null,0,0,0,0,0,0,null,null,null,null,null,null,null,0,null,0,0,0,0,0,0,0]
[null,null,"P 500 Series Cutting Deck","112X Combi Cutting Deck for P524X",null,970727001,null,null,{"$f":"IFERROR(_xlfn.XLOOKUP(F98,'Direct shipment'!D:D,'Direct shipment'!W:W),\"\")","v":3},{"$f":"_xlfn.XLOOKUP(F98,Pricing!A:A,Pricing!B:B)","v":2499.17},{"$f":"Summary!$L$20","v":0.32},{"$f":"J98-(J98*K98)","v":1699.4356},null,0,0,0,0,0,0,null,null,null,null,null,null,null,0,null,{"$f":"L98*U98","v":0},{"$f":"L98*V98","v":0},{"$f":"L98*W98","v":0},{"$f":"L98*X98","v":0},0,0,0]
[null,null,"P 500 Series Cutting Deck","122X Combi Cutting Deck for P524X",null,970727101,null,null,{"$f":"IFERROR(_xlfn.XLOOKUP(F99,'Direct shipment'!D:D,'Direct shipment'!W:W),\"\")","v":3},{"$f":"_xlfn.XLOOKUP(F99,Pricing!A:A,Pricing!B:B)","v":2665.83},{"$f":"Summary!$L$20","v":0.32},1812.7644,null,0,0,0,0,0,0,null,null,null,null,null,null,null,0,null,0,0,0,0,0,0,0]
[null,null,"P 500 Series Cutting Deck","137X Combi Cutting Deck for P524X",null,970727201,null,null,{"$f":"IFERROR(_xlfn.XLOOKUP(F100,'Direct shipment'!D:D,'Direct shipment'!W:W),\"\")","v":1},{"$f":"_xlfn.XLOOKUP(F100,Pricing!A:A,Pricing!B:B)","v":3165.83},{"$f":"Summary!$L$20","v":0.32},2152.7644,null,0,0,0,0,0,0,null,null,null,null,null,null,null,0,null,0,0,0,0,0,0,0]
[null,null,"P 500 Series Cutting Deck","R137 (P524X EFI & XR)",null,970612001,null,null,{"$f":"IFERROR(_xlfn.XLOOKUP(F101,'Direct shipment'!D:D,'Direct shipment'!W:W),\"\")","v":3},{"$f":"_xlfn.XLOOKUP(F101,Pricing!A:A,Pricing!B:B)","v":2740.83},{"$f":"Summary!$L$20","v":0.32},1863.7644,null,0,0,0,0,0,0,null,null,null,null,null,null,null,0,null,0,0,0,0,0,0,0]
[null,null,"P 500 Series Cutting Deck","Combi 112, P 524X-series",null,970626201,null,null,{"$f":"IFERROR(_xlfn.XLOOKUP(F102,'Direct shipment'!D:D,'Direct shipment'!W:W),\"\")","v":3},{"$f":"_xlfn.XLOOKUP(F102,Pricing!A:A,Pricing!B:B)","v":2124.17},{"$f":"Summary!$L$20","v":0.32},1444.4356,null,0,0,0,0,0,0,null,null,null,null,null,null,null,0,null,0,0,0,0,0,0,0]
[null,null,"P 500 Series Cutting Deck","Combi 122, P 524X-series",null,970626301,null,null,{"$f":"IFERROR(_xlfn.XLOOKUP(F103,'Direct shipment'!D:D,'Direct shipment'!W:W),\"\")","v":3},{"$f":"_xlfn.XLOOKUP(F103,Pricing!A:A,Pricing!B:B)","v":2182.5},{"$f":"Summary!$L$20","v":0.32},1484.1,null,0,0,0,0,0,0,null,null,null,null,null,null,null,0,null,0,0,0,0,0,0,0]
[null,null,"P 500 Series Cutting Deck","R180 for P535HX",null,967985601,null,null,{"$f":"IFERROR(_xlfn.XLOOKUP(F104,'Direct shipment'!D:D,'Direct shipment'!W:W),\"\")","v":3},{"$f":"_xlfn.XLOOKUP(F104,Pricing!A:A,Pricing!B:B)","v":6499.17},{"$f":"Summary!$L$20","v":0.32},4419.4355999999998,null,0,0,0,0,0,0,null,null,null,null,null,null,null,0,null,0,0,0,0,0,0,0]
[null,null,"P 500 Series Cutting Deck","Combi 155X  for P525D/520D with hydraulic lift",null,967978601,null,null,{"$f":"IFERROR(_xlfn.XLOOKUP(F105,'Direct shipment'!D:D,'Direct shipment'!W:W),\"\")","v":3},{"$f":"_xlfn.XLOOKUP(F105,Pricing!A:A,Pricing!B:B)","v":4165.83},{"$f":"Summary!$L$20","v":0.32},2832.7644,null,0,0,0,0,0,0,null,null,null,null,null,null,null,0,null,0,0,0,0,0,0,0]
[null,null,"P 500 Series Cutting Deck","Combi 132X for P525D/520D with hydraulic lift",null,967978501,null,null,{"$f":"IFERROR(_xlfn.XLOOKUP(F106,'Direct shipment'!D:D,'Direct shipment'!W:W),\"\")","v":3},{"$f":"_xlfn.XLOOKUP(F106,Pricing!A:A,Pricing!B:B)","v":4074.17},{"$f":"Summary!$L$20","v":0.32},2770.4355999999998,null,0,0,0,0,0,0,null,null,null,null,null,null,null,0,null,0,0,0,0,0,0,0]
[null,null,"P 500 Series acc. ","P 524 Spreader",null,536903301,null,null,{"$f":"IFERROR(_xlfn.XLOOKUP(F107,'Direct shipment'!D:D,'Direct shipment'!W:W),\"\")","v":""},{"$f":"_xlfn.XLOOKUP(F107,Pricing!A:A,Pricing!B:B)","v":1374.17},{"$f":"Summary!$L$20","v":0.32},934.43560000000002,null,"","","","","","",null,null,null,null,null,null,null,0,null,0,0,0,0,0,0,0]
[null,null,"P 500 Series acc. ","Trailer for P524X Series",null,953511703,null,null,{"$f":"IFERROR(_xlfn.XLOOKUP(F108,'Direct shipment'!D:D,'Direct shipment'!W:W),\"\")","v":""},{"$f":"_xlfn.XLOOKUP(F108,Pricing!A:A,Pricing!B:B)","v":637.5},{"$f":"Summary!$L$20","v":0.32},433.5,null,"","","","","","",null,null,null,null,null,null,null,0,null,0,0,0,0,0,0,0]
[null,null,"P 500 Series acc. ","Flail Mower P524",null,536900001,null,null,{"$f":"IFERROR(_xlfn.XLOOKUP(F109,'Direct shipment'!D:D,'Direct shipment'!W:W),\"\")","v":""},{"$f":"_xlfn.XLOOKUP(F109,Pricing!A:A,Pricing!B:B)","v":2332.5},{"$f":"Summary!$L$20","v":0.32},1586.1,null,"","","","","","",null,null,null,null,null,null,null,0,null,0,0,0,0,0,0,0]
[null,null,"P 500 Series acc. ","P520DX Hydraulic Kit",null,529958001,null,null,{"$f":"IFERROR(_xlfn.XLOOKUP(F110,'Direct shipment'!D:D,'Direct shipment'!W:W),\"\")","v":""},{"$f":"_xlfn.XLOOKUP(F110,Pricing!A:A,Pricing!B:B)","v":390.83},{"$f":"Summary!$L$20","v":0.32},265.76439999999997,null,"","","","","","",null,null,null,null,null,null,null,0,null,0,0,0,0,0,0,0]
[null,null,"P 500 Series acc. ","Control Unit Kit P 500DX/HX",null,531039902,null,null,{"$f":"IFERROR(_xlfn.XLOOKUP(F111,'Direct shipment'!D:D,'Direct shipment'!W:W),\"\")","v":""},{"$f":"_xlfn.XLOOKUP(F111,Pricing!A:A,Pricing!B:B)","v":590.83000000000004},{"$f":"Summary!$L$20","v":0.32},401.76440000000002,null,"","","","","","",null,null,null,null,null,null,null,0,null,0,0,0,0,0,0,0]
[null,null,"P 500 Series acc. ","P500 counterweight kit",null,529957901,null,null,{"$f":"IFERROR(_xlfn.XLOOKUP(F112,'Direct shipment'!D:D,'Direct shipment'!W:W),\"\")","v":""},{"$f":"_xlfn.XLOOKUP(F112,Pricing!A:A,Pricing!B:B)","v":624.16999999999996},{"$f":"Summary!$L$20","v":0.32},424.43559999999997,null,"","","","","","",null,null,null,null,null,null,null,0,null,0,0,0,0,0,0,0]
[null,null,"P 500 Series acc. ","P525D Flail Mower requires counterweight 966754901 ",null,596867501,null,null,{"$f":"IFERROR(_xlfn.XLOOKUP(F113,'Direct shipment'!D:D,'Direct shipment'!W:W),\"\")","v":""},{"$f":"_xlfn.XLOOKUP(F113,Pricing!A:A,Pricing!B:B)","v":6082.5},{"$f":"Summary!$L$20","v":0.32},4136.1000000000004,null,"","","","","","",null,null,null,null,null,null,null,0,null,0,0,0,0,0,0,0]
[null,null,"P 500 Series acc. ","P520/5D Broom requires hyd kit 966754501 & counterwieght 966754901",null,590450001,null,null,{"$f":"IFERROR(_xlfn.XLOOKUP(F114,'Direct shipment'!D:D,'Direct shipment'!W:W),\"\")","v":""},{"$f":"_xlfn.XLOOKUP(F114,Pricing!A:A,Pricing!B:B)","v":4982.5},{"$f":"Summary!$L$20","v":0.32},3388.1,null,"","","","","","",null,null,null,null,null,null,null,0,null,0,0,0,0,0,0,0]
[null,null,"P 500 Series acc. ","Blower",null,587932901,null,null,{"$f":"IFERROR(_xlfn.XLOOKUP(F115,'Direct shipment'!D:D,'Direct shipment'!W:W),\"\")","v":""},{"$f":"_xlfn.XLOOKUP(F115,Pricing!A:A,Pricing!B:B)","v":4290.83},{"$f":"Summary!$L$20","v":0.32},2917.7644,null,"","","","","","",null,null,null,null,null,null,null,0,null,0,0,0,0,0,0,0]
[null,null,"P 500 Series acc. ","Baseplate for Trailer hook kit, P 500D",null,538828601,null,null,{"$f":"IFERROR(_xlfn.XLOOKUP(F116,'Direct shipment'!D:D,'Direct shipment'!W:W),\"\")","v":""},{"$f":"_xlfn.XLOOKUP(F116,Pricing!A:A,Pricing!B:B)","v":20.83},{"$f":"Summary!$L$20","v":0.32},14.164399999999999,null,"","","","","","",null,null,null,null,null,null,null,0,null,0,0,0,0,0,0,0]
[]
[null,"ZRT","Zero Turn","Z560X",null,970640901,null,null,null,{"$f":"_xlfn.XLOOKUP(F118,Pricing!A:A,Pricing!B:B)","v":13332.5},{"$f":"Summary!$L$20","v":0.32},{"$f":"J118-(J118*K118)","v":9066.1},null,"","","","","","",null,null,null,null,null,null,null,{"$f":"SUM(U118:Z118)","v":0},null,{"$f":"L118*U118","v":0},{"$f":"L118*V118","v":0},{"$f":"L118*W118","v":0},{"$f":"L118*X118","v":0},0,0,0]
[null,null,"Zero Turn acc.","152cm Mulch kit",null,966444701,null,null,{"$f":"IFERROR(_xlfn.XLOOKUP(F119,'Direct shipment'!D:D,'Direct shipment'!W:W),\"\")","v":""},{"$f":"_xlfn.XLOOKUP(F119,Pricing!A:A,Pricing!B:B)","v":257.5},{"$f":"Summary!$L$20","v":0.32},175.1,null,"","","","","","",null,null,null,null,null,null,null,{"$f":"SUM(U119:Z119)","v":0},null,0,0,0,0,0,0,0]
[null,null,"Zero Turn acc.","152cm collector kit 3 bin with blower",null,967322601,null,null,{"$f":"IFERROR(_xlfn.XLOOKUP(F120,'Direct shipment'!D:D,'Direct shipment'!W:W),\"\")","v":""},{"$f":"_xlfn.XLOOKUP(F120,Pricing!A:A,Pricing!B:B)","v":2149.17},{"$f":"Summary!$L$20","v":0.32},1461.4356,null,"","","","","","",null,null,null,null,null,null,null,0,null,0,0,0,0,0,0,0]

{"sheet":"Tillers","index":12,"n_rows":16,"n_cols":35,"rows_kept":16,"cut":false,"hidden":false,"merged":[[12,1,15,1],[13,3,13,4],[14,3,14,4],[15,3,15,4],[12,3,12,4],[10,20,10,26],[10,28,10,34],[11,3,11,4],[1,4,1,8],[2,4,2,8],[3,4,3,8],[4,4,4,8],[5,4,5,8],[6,4,6,8],[7,4,7,8],[8,6,8,8],[10,2,10,11],[8,3,8,5]]}
[]
[null,null,null,"Dealer Name",{"$f":"Summary!F2","v":"Winchester Garden Machinery Ltd - Arb"}]
[null,null,null,"Dealer Postcode",{"$f":"Summary!F3","v":"SO21 1HF"}]
[null,null,null,"Account Number",{"$f":"Summary!F4","v":28400505}]
[null,null,null,"Order Number",{"$f":"Summary!F5","v":0}]
[null,null,null,"Project Code",{"$f":"Summary!F6","v":"PSO2024"}]
[null,null,null,"Order Date",{"$f":"Summary!F7","v":"00:00:00"}]
[null,null,null,"ABM",{"$f":"Summary!F8","v":"Francesca_Bosley"}]
[null,null,null,"PSO minimum 40% of turnover = Additional 2% terms",null,null,{"$f":"Summary!I9","v":0.02}]
[]
[null,null,"Tillers",null,null,null,null,null,null,null,null,null,null,null,null,null,null,null,null,null,"Order Quantity",null,null,null,null,null,null,null,"Order Value"]
[null,null,"Product Type","Model Description",null,"PNC","Size","Replaces","Pallet Qty","List Price 2024 Ex VAT","Discount","Dealer Net Price",null,null,null,null,null,null,null,null,"January","February","March","April","May","June","Total Qty",null,"January","February","March","April","May","June","Total Value"]
[null,"Tiller","Tiller","T300RH Compact Pro",null,967330101,null,null,{"$f":"IFERROR(_xlfn.XLOOKUP(F13,'Direct shipment'!D:D,'Direct shipment'!W:W),\"\")","v":24},{"$f":"_xlfn.XLOOKUP(F13,Pricing!A:A,Pricing!B:B)","v":499.17},{"$f":"Summary!$L$21","v":0.35000000000000003},{"$f":"J13-(J13*K13)","v":324.46050000000002},null,{"$f":"IFERROR(U13/I13,\"\")","v":0},{"$f":"IFERROR(V13/I13,\"\")","v":0},{"$f":"IFERROR(W13/I13,\"\")","v":0},{"$f":"IFERROR(X13/I13,\"\")","v":0},{"$f":"IFERROR(Y13/$I13,\"\")","v":0},{"$f":"IFERROR(Z13/$I13,\"\")","v":0},null,null,null,null,null,null,null,{"$f":"SUM(U13:Z13)","v":0},null,{"$f":"L13*U13","v":0},{"$f":"L13*V13","v":0},{"$f":"L13*W13","v":0},{"$f":"L13*X13","v":0},{"$f":"$L13*Y13","v":0},{"$f":"$L13*Z13","v":0},{"$f":"SUM(AC13:AH13)","v":0}]
[null,null,"Tiller","TF 325",null,970652601,null,null,{"$f":"IFERROR(_xlfn.XLOOKUP(F14,'Direct shipment'!D:D,'Direct shipment'!W:W),\"\")","v":12},{"$f":"_xlfn.XLOOKUP(F14,Pricing!A:A,Pricing!B:B)","v":665.83},{"$f":"Summary!$L$21","v":0.35000000000000003},{"$f":"J14-(J14*K14)","v":432.78949999999998},null,{"$f":"IFERROR(U14/I14,\"\")","v":0},{"$f":"IFERROR(V14/I14,\"\")","v":0},{"$f":"IFERROR(W14/I14,\"\")","v":0},{"$f":"IFERROR(X14/$I14,\"\")","v":0},{"$f":"IFERROR(Y14/$I14,\"\")","v":0},0,null,null,null,null,null,null,null,{"$f":"SUM(U14:Z14)","v":0},null,{"$f":"L14*U14","v":0},{"$f":"L14*V14","v":0},{"$f":"L14*W14","v":0},{"$f":"L14*X14","v":0},{"$f":"$L14*Y14","v":0},0,{"$f":"SUM(AC14:AH14)","v":0}]
[null,null,"Tiller","TR 348",null,970652801,null,null,{"$f":"IFERROR(_xlfn.XLOOKUP(F15,'Direct shipment'!D:D,'Direct shipment'!W:W),\"\")","v":6},{"$f":"_xlfn.XLOOKUP(F15,Pricing!A:A,Pricing!B:B)","v":1290.83},{"$f":"Summary!$L$21","v":0.35000000000000003},839.03949999999986,null,{"$f":"IFERROR(U15/I15,\"\")","v":0},{"$f":"IFERROR(V15/I15,\"\")","v":0},{"$f":"IFERROR(W15/I15,\"\")","v":0},{"$f":"IFERROR(X15/I15,\"\")","v":0},{"$f":"IFERROR(Y15/$I15,\"\")","v":0},{"$f":"IFERROR(Z15/$I15,\"\")","v":0},null,null,null,null,null,null,null,{"$f":"SUM(U15:Z15)","v":0},null,0,0,0,{"$f":"L15*X15","v":0},{"$f":"$L15*Y15","v":0},{"$f":"$L15*Z15","v":0},{"$f":"SUM(AC15:AH15)","v":0}]
[null,null,"Tiller acc.","TF 324 / 325 Ridger Kit ",null,966545201,null,null,{"$f":"IFERROR(_xlfn.XLOOKUP(F16,'Direct shipment'!D:D,'Direct shipment'!W:W),\"\")","v":""},{"$f":"_xlfn.XLOOKUP(F16,Pricing!A:A,Pricing!B:B)","v":190.83},{"$f":"Summary!$L$21","v":0.35000000000000003},124.0395,null,"","","","","","",null,null,1,null,null,null,null,{"$f":"SUM(U16:Z16)","v":1},null,0,124.0395,0,0,0,0,124.0395]

{"sheet":"Chainsaws & Polesaws","index":13,"n_rows":59,"n_cols":35,"rows_kept":59,"cut":false,"hidden":false,"merged":[[22,3,22,4],[23,3,23,4],[6,4,6,8],[1,4,1,8],[2,4,2,8],[3,4,3,8],[4,4,4,8],[5,4,5,8],[41,3,41,4],[43,3,43,4],[46,3,46,4],[39,3,39,4],[20,3,20,4],[42,3,42,4],[45,3,45,4],[37,3,37,4],[38,3,38,4],[27,3,27,4],[28,3,28,4],[29,3,29,4],[30,3,30,4],[31,3,31,4],[32,3,32,4],[21,3,21,4],[33,3,33,4],[34,3,34,4],[35,3,35,4],[36,3,36,4],[40,3,40,4],[57,1,58,1],[47,3,47,4],[48,3,48,4],[49,3,49,4],[50,3,50,4],[51,3,51,4],[52,3,52,4],[58,3,58,4],[57,3,57,4],[53,3,53,4],[12,1,55,1],[25,3,25,4],[26,3,26,4],[54,3,54,4],[55,3,55,4],[44,3,44,4],[10,20,10,26],[10,28,10,34],[7,4,7,8],[24,3,24,4],[13,3,13,4],[12,3,12,4],[14,3,14,4],[15,3,15,4],[16,3,16,4],[17,3,17,4],[11,3,11,4],[10,2,10,11],[8,3,8,5],[18,3,18,4],[19,3,19,4],[8,6,8,8]]}
[]
[null,null,null,"Dealer Name",{"$f":"Summary!F2","v":"Winchester Garden Machinery Ltd - Arb"}]
[null,null,null,"Dealer Postcode",{"$f":"Summary!F3","v":"SO21 1HF"}]
[null,null,null,"Account Number",{"$f":"Summary!F4","v":28400505}]
[null,null,null,"Order Number",{"$f":"Summary!F5","v":0}]
[null,null,null,"Project Code",{"$f":"Summary!F6","v":"PSO2024"}]
[null,null,null,"Order Date",{"$f":"Summary!F7","v":"00:00:00"}]
[null,null,null,"ABM",{"$f":"Summary!F8","v":"Francesca_Bosley"}]
[null,null,null,"PSO minimum 40% of turnover = Additional 2% terms",null,null,{"$f":"Summary!I9","v":0.02}]
[]
[null,null,"Chainsaws & Polesaws",null,null,null,null,null,null,null,null,null,null,null,null,null,null,null,null,null,"Order Quantity",null,null,null,null,null,null,null,"Order Value"]
[null,null,"Product Type","Model Description",null,"PNC","Size","Replaces","Pallet Qty","List Price 2024 Ex VAT","Discount","Dealer Net Price",null,null,null,null,null,null,null,null,"January","February","March","April","May","June","Total Qty",null,"January","February","March","April","May","June","Total Value"]
[null,"Chainsaws","Chainsaw","130 14\"",null,967108401,null,null,{"$f":"IFERROR(_xlfn.XLOOKUP(F13,'Direct shipment'!D:D,'Direct shipment'!W:W),\"\")","v":36},{"$f":"_xlfn.XLOOKUP(F13,Pricing!A:A,Pricing!B:B)","v":207.5},{"$f":"Summary!$L$22","v":0.35000000000000003},{"$f":"J13-(J13*K13)","v":134.875},null,{"$f":"IFERROR(U13/I13,\"\")","v":0.27777777777777779},{"$f":"IFERROR(V13/I13,\"\")","v":0.27777777777777779},{"$f":"IFERROR(W13/I13,\"\")","v":0},{"$f":"IFERROR(X13/I13,\"\")","v":0.27777777777777779},{"$f":"IFERROR(Y13/$I13,\"\")","v":0},0,null,10,10,null,10,null,null,{"$f":"SUM(U13:Z13)","v":30},null,{"$f":"L13*U13","v":1348.75},{"$f":"L13*V13","v":1348.75},{"$f":"L13*W13","v":0},{"$f":"L13*X13","v":1348.75},{"$f":"$L13*Y13","v":0},0,{"$f":"SUM(AC13:AH13)","v":4046.25}]
[null,null,"Chainsaw","135 II 14\"",null,967861814,null,null,{"$f":"IFERROR(_xlfn.XLOOKUP(F14,'Direct shipment'!D:D,'Direct shipment'!W:W),\"\")","v":36},{"$f":"_xlfn.XLOOKUP(F14,Pricing!A:A,Pricing!B:B)","v":274.17},{"$f":"Summary!$L$22","v":0.35000000000000003},178.2105,null,0.55555555555555558,0,0.27777777777777779,0,0,0,null,20,null,10,null,null,null,30,null,3564.21,0,1782.105,0,0,0,5346.3150000000005]
[null,null,"Chainsaw","120 II 14\"",null,967861903,null,967326401,{"$f":"IFERROR(_xlfn.XLOOKUP(F15,'Direct shipment'!D:D,'Direct shipment'!W:W),\"\")","v":36},{"$f":"_xlfn.XLOOKUP(F15,Pricing!A:A,Pricing!B:B)","v":166.66},{"$f":"Summary!$L$22","v":0.35000000000000003},108.32899999999999,null,0.83333333333333337,0.55555555555555558,0.55555555555555558,0.27777777777777779,0,0,null,30,20,20,10,null,null,80,null,3249.87,2166.58,2166.58,1083.29,0,0,8666.32]
[null,null,"Chainsaw","420EL 16\"",null,967256516,null,967547374,{"$f":"IFERROR(_xlfn.XLOOKUP(F16,'Direct shipment'!D:D,'Direct shipment'!W:W),\"\")","v":42},{"$f":"_xlfn.XLOOKUP(F16,Pricing!A:A,Pricing!B:B)","v":232.5},{"$f":"Summary!$L$22","v":0.35000000000000003},151.125,null,0,0,0,0,0,0,null,null,null,null,null,null,null,0,null,0,0,0,0,0,0,0]
[null,null,"Chainsaw","435 II  15\"",null,970559735,null,967675835,{"$f":"IFERROR(_xlfn.XLOOKUP(F17,'Direct shipment'!D:D,'Direct shipment'!W:W),\"\")","v":72},{"$f":"_xlfn.XLOOKUP(F17,Pricing!A:A,Pricing!B:B)","v":415.83},{"$f":"Summary!$L$22","v":0.35000000000000003},270.28949999999998,null,0.1388888888888889,0,0.1388888888888889,2.7777777777777776E-2,2.7777777777777776E-2,2.7777777777777776E-2,null,10,null,10,2,2,2,26,null,2702.8949999999995,0,2702.8949999999995,540.57899999999995,540.57899999999995,540.57899999999995,7027.5269999999982]
[null,null,"Chainsaw","440 II  15\"",null,970560035,null,967788535,{"$f":"IFERROR(_xlfn.XLOOKUP(F18,'Direct shipment'!D:D,'Direct shipment'!W:W),\"\")","v":72},{"$f":"_xlfn.XLOOKUP(F18,Pricing!A:A,Pricing!B:B)","v":457.5},{"$f":"Summary!$L$22","v":0.35000000000000003},297.375,null,5.5555555555555552E-2,5.5555555555555552E-2,2.7777777777777776E-2,0,0,0,null,4,4,2,null,null,null,10,null,1189.5,1189.5,594.75,0,0,0,2973.75]
[null,null,"Chainsaw","445 II  18\"",null,970558738,null,967156438,{"$f":"IFERROR(_xlfn.XLOOKUP(F19,'Direct shipment'!D:D,'Direct shipment'!W:W),\"\")","v":72},{"$f":"_xlfn.XLOOKUP(F19,Pricing!A:A,Pricing!B:B)","v":499.17},{"$f":"Summary!$L$22","v":0.35000000000000003},324.46050000000002,null,8.3333333333333329E-2,2.7777777777777776E-2,2.7777777777777776E-2,0,0,0,null,6,2,2,null,null,null,10,null,1946.7630000000001,648.92100000000005,648.92100000000005,0,0,0,3244.6050000000005]
[null,null,"Chainsaw","450 II  18\"",null,970559338,null,967187838,{"$f":"IFERROR(_xlfn.XLOOKUP(F20,'Direct shipment'!D:D,'Direct shipment'!W:W),\"\")","v":72},{"$f":"_xlfn.XLOOKUP(F20,Pricing!A:A,Pricing!B:B)","v":540.83000000000004},{"$f":"Summary!$L$22","v":0.35000000000000003},{"$f":"IF(AA20>7,(J20-(J20*K20))*0.96,(J20-(J20*K20)))","v":337.47791999999998},null,5.5555555555555552E-2,5.5555555555555552E-2,0,0,0,0,null,4,4,null,null,null,null,8,null,1349.9116799999999,1349.9116799999999,0,0,0,0,2699.8233599999999]
[null,null,"Chainsaw","455 Rancher 18\"",null,970613718,null,970549918,{"$f":"IFERROR(_xlfn.XLOOKUP(F21,'Direct shipment'!D:D,'Direct shipment'!W:W),\"\")","v":12},{"$f":"_xlfn.XLOOKUP(F21,Pricing!A:A,Pricing!B:B)","v":582.5},{"$f":"Summary!$L$22","v":0.35000000000000003},{"$f":"J21-(J21*K21)","v":378.625},null,{"$f":"IFERROR(U21/I21,\"\")","v":0},{"$f":"IFERROR(V21/I21,\"\")","v":0},{"$f":"IFERROR(W21/I21,\"\")","v":0},{"$f":"IFERROR(X21/I21,\"\")","v":0},{"$f":"IFERROR(Y21/$I21,\"\")","v":0},{"$f":"IFERROR(Z21/$I21,\"\")","v":0},null,null,null,null,null,null,null,{"$f":"SUM(U21:Z21)","v":0},null,{"$f":"L21*U21","v":0},{"$f":"L21*V21","v":0},{"$f":"L21*W21","v":0},{"$f":"L21*X21","v":0},{"$f":"$L21*Y21","v":0},{"$f":"$L21*Z21","v":0},{"$f":"SUM(AC21:AH21)","v":0}]
[null,null,"Chainsaw","540 XP® III 12\"",null,970518212,null,null,{"$f":"IFERROR(_xlfn.XLOOKUP(F22,'Direct shipment'!D:D,'Direct shipment'!W:W),\"\")","v":60},{"$f":"_xlfn.XLOOKUP(F22,Pricing!A:A,Pricing!B:B)","v":690.83},{"$f":"Summary!$L$22","v":0.35000000000000003},{"$f":"J22-(J22*K22)","v":449.03949999999998},null,{"$f":"IFERROR(U22/I22,\"\")","v":0},{"$f":"IFERROR(V22/I22,\"\")","v":0},{"$f":"IFERROR(W22/I22,\"\")","v":0},{"$f":"IFERROR(X22/$I22,\"\")","v":0},{"$f":"IFERROR(Y22/$I22,\"\")","v":0},{"$f":"IFERROR(Z22/$I22,\"\")","v":0},null,null,null,null,null,null,null,{"$f":"SUM(U22:Z22)","v":0},null,{"$f":"L22*U22","v":0},{"$f":"L22*V22","v":0},{"$f":"L22*W22","v":0},{"$f":"$L22*X22","v":0},{"$f":"$L22*Y22","v":0},{"$f":"$L22*Z22","v":0},{"$f":"SUM(AC22:AH22)","v":0}]
[null,null,"Chainsaw","540 XP® III 14\"",null,970518214,null,null,{"$f":"IFERROR(_xlfn.XLOOKUP(F23,'Direct shipment'!D:D,'Direct shipment'!W:W),\"\")","v":60},{"$f":"_xlfn.XLOOKUP(F23,Pricing!A:A,Pricing!B:B)","v":699.17},{"$f":"Summary!$L$22","v":0.35000000000000003},{"$f":"J23-(J23*K23)","v":454.46049999999991},null,0,0,0,{"$f":"IFERROR(X23/I23,\"\")","v":0},{"$f":"IFERROR(Y23/$I23,\"\")","v":0},{"$f":"IFERROR(Z23/$I23,\"\")","v":0},null,null,null,null,null,null,null,0,null,0,0,0,{"$f":"L23*X23","v":0},{"$f":"$L23*Y23","v":0},{"$f":"$L23*Z23","v":0},0]
[null,null,"Chainsaw","540 XP® III 16\"",null,970518216,null,null,{"$f":"IFERROR(_xlfn.XLOOKUP(F24,'Direct shipment'!D:D,'Direct shipment'!W:W),\"\")","v":60},{"$f":"_xlfn.XLOOKUP(F24,Pricing!A:A,Pricing!B:B)","v":707.5},{"$f":"Summary!$L$22","v":0.35000000000000003},459.875,null,0,0,0,0,0,0,null,null,null,null,null,null,null,0,null,0,0,0,0,0,0,0]
[null,null,"Chainsaw","545 II 15\"",null,967690615,null,966648515,{"$f":"IFERROR(_xlfn.XLOOKUP(F25,'Direct shipment'!D:D,'Direct shipment'!W:W),\"\")","v":72},{"$f":"_xlfn.XLOOKUP(F25,Pricing!A:A,Pricing!B:B)","v":724.17},{"$f":"Summary!$L$22","v":0.35000000000000003},{"$f":"J25-(J25*K25)","v":470.71049999999991},null,0,0,0,0,0,0,null,null,null,null,null,null,null,0,null,0,0,0,0,0,0,0]
[null,null,"Chainsaw","550 XP® II 15\"",null,967690815,null,966648115,{"$f":"IFERROR(_xlfn.XLOOKUP(F26,'Direct shipment'!D:D,'Direct shipment'!W:W),\"\")","v":72},{"$f":"_xlfn.XLOOKUP(F26,Pricing!A:A,Pricing!B:B)","v":799.17},{"$f":"Summary!$L$22","v":0.35000000000000003},{"$f":"IF(AA26>5,(J26-(J26*K26))*0.96,(J26-(J26*K26)))","v":498.68207999999987},null,0.41666666666666669,0.41666666666666669,0.27777777777777779,0.27777777777777779,0.27777777777777779,0.27777777777777779,null,30,30,20,20,20,20,140,null,14960.462399999997,14960.462399999997,9973.6415999999972,9973.6415999999972,9973.6415999999972,9973.6415999999972,69815.491199999975]
[null,null,"Chainsaw","550 XP® II 18\"",null,967690818,null,966648118,{"$f":"IFERROR(_xlfn.XLOOKUP(F27,'Direct shipment'!D:D,'Direct shipment'!W:W),\"\")","v":72},{"$f":"_xlfn.XLOOKUP(F27,Pricing!A:A,Pricing!B:B)","v":807.5},{"$f":"Summary!$L$22","v":0.35000000000000003},524.875,null,0,0,0,0,0,0,null,null,null,null,null,null,null,0,null,0,0,0,0,0,0,0]
[null,null,"Chainsaw","550 XP® G II 15\"",null,967690915,null,966648315,{"$f":"IFERROR(_xlfn.XLOOKUP(F28,'Direct shipment'!D:D,'Direct shipment'!W:W),\"\")","v":72},{"$f":"_xlfn.XLOOKUP(F28,Pricing!A:A,Pricing!B:B)","v":857.5},{"$f":"Summary!$L$22","v":0.35000000000000003},557.375,null,2.7777777777777776E-2,5.5555555555555552E-2,2.7777777777777776E-2,2.7777777777777776E-2,0,0,null,2,4,2,2,null,null,10,null,1114.75,2229.5,1114.75,1114.75,0,0,5573.75]
[null,null,"Chainsaw","550 XP® G II 18\"",null,967690918,null,966648318,{"$f":"IFERROR(_xlfn.XLOOKUP(F29,'Direct shipment'!D:D,'Direct shipment'!W:W),\"\")","v":72},{"$f":"_xlfn.XLOOKUP(F29,Pricing!A:A,Pricing!B:B)","v":865.83},{"$f":"Summary!$L$22","v":0.35000000000000003},562.78949999999998,null,0,0,0,0,0,0,null,null,null,null,null,null,null,0,null,0,0,0,0,0,0,0]
[null,null,"Chainsaw","555 18\"",null,970501218,null,966010918,{"$f":"IFERROR(_xlfn.XLOOKUP(F30,'Direct shipment'!D:D,'Direct shipment'!W:W),\"\")","v":72},{"$f":"_xlfn.XLOOKUP(F30,Pricing!A:A,Pricing!B:B)","v":882.5},{"$f":"Summary!$L$22","v":0.35000000000000003},573.625,null,0,0,0,0,0,0,null,null,null,null,null,null,null,0,null,0,0,0,0,0,0,0]
[null,null,"Chainsaw","560 XP® Mark II",null,970657015,null,970501715,{"$f":"IFERROR(_xlfn.XLOOKUP(F31,'Direct shipment'!D:D,'Direct shipment'!W:W),\"\")","v":72},{"$f":"_xlfn.XLOOKUP(F31,Pricing!A:A,Pricing!B:B)","v":915.83},{"$f":"Summary!$L$22","v":0.35000000000000003},595.28949999999998,null,0,0,0,0,0,0,null,null,null,null,null,null,null,0,null,0,0,0,0,0,0,0]
[null,null,"Chainsaw","560 XP® Mark II",null,970657018,null,970501718,{"$f":"IFERROR(_xlfn.XLOOKUP(F32,'Direct shipment'!D:D,'Direct shipment'!W:W),\"\")","v":72},{"$f":"_xlfn.XLOOKUP(F32,Pricing!A:A,Pricing!B:B)","v":924.17},{"$f":"Summary!$L$22","v":0.35000000000000003},600.71049999999991,null,0,0,0,0,0,0,null,null,null,null,null,null,null,0,null,0,0,0,0,0,0,0]
[null,null,"Chainsaw","560 XP® G Mark II",null,970656915,null,970501915,{"$f":"IFERROR(_xlfn.XLOOKUP(F33,'Direct shipment'!D:D,'Direct shipment'!W:W),\"\")","v":72},{"$f":"_xlfn.XLOOKUP(F33,Pricing!A:A,Pricing!B:B)","v":957.5},{"$f":"Summary!$L$22","v":0.35000000000000003},622.375,null,0,0,0,0,0,0,null,null,null,null,null,null,null,0,null,0,0,0,0,0,0,0]
[null,null,"Chainsaw","560 XP® G Mark II",null,970656918,null,970501918,{"$f":"IFERROR(_xlfn.XLOOKUP(F34,'Direct shipment'!D:D,'Direct shipment'!W:W),\"\")","v":72},{"$f":"_xlfn.XLOOKUP(F34,Pricing!A:A,Pricing!B:B)","v":965.83},{"$f":"Summary!$L$22","v":0.35000000000000003},627.78949999999998,null,0,0,0,0,0,0,null,null,null,null,null,null,null,0,null,0,0,0,0,0,0,0]
[null,null,"Chainsaw","562 XP® Mark II",null,970663518,null,970502018,{"$f":"IFERROR(_xlfn.XLOOKUP(F35,'Direct shipment'!D:D,'Direct shipment'!W:W),\"\")","v":72},{"$f":"_xlfn.XLOOKUP(F35,Pricing!A:A,Pricing!B:B)","v":965.83},{"$f":"Summary!$L$22","v":0.35000000000000003},{"$f":"J35-(J35*K35)","v":627.78949999999998},null,2.7777777777777776E-2,2.7777777777777776E-2,2.7777777777777776E-2,0,0,0,null,2,2,2,null,null,null,6,null,1255.579,1255.579,1255.579,0,0,0,3766.7370000000001]
[null,null,"Chainsaw","562 XP® G Mark II",null,970663618,null,970502218,{"$f":"IFERROR(_xlfn.XLOOKUP(F36,'Direct shipment'!D:D,'Direct shipment'!W:W),\"\")","v":72},{"$f":"_xlfn.XLOOKUP(F36,Pricing!A:A,Pricing!B:B)","v":1007.5},{"$f":"Summary!$L$22","v":0.35000000000000003},654.875,null,0,0,0,0,0,0,null,null,null,null,null,null,null,0,null,0,0,0,0,0,0,0]
[null,null,"Chainsaw","565 18\"",null,966733918,null,null,{"$f":"IFERROR(_xlfn.XLOOKUP(F37,'Direct shipment'!D:D,'Direct shipment'!W:W),\"\")","v":60},{"$f":"_xlfn.XLOOKUP(F37,Pricing!A:A,Pricing!B:B)","v":965.83},{"$f":"Summary!$L$22","v":0.35000000000000003},627.78949999999998,null,0,0,0,0,0,0,null,null,null,null,null,null,null,0,null,0,0,0,0,0,0,0]
[null,null,"Chainsaw","565 20\"",null,966733920,null,null,{"$f":"IFERROR(_xlfn.XLOOKUP(F38,'Direct shipment'!D:D,'Direct shipment'!W:W),\"\")","v":60},{"$f":"_xlfn.XLOOKUP(F38,Pricing!A:A,Pricing!B:B)","v":974.17},{"$f":"Summary!$L$22","v":0.35000000000000003},633.21049999999991,null,0,0,0,0,0,0,null,null,null,null,null,null,null,0,null,0,0,0,0,0,0,0]
[null,null,"Chainsaw","572 XP® 18\"",null,966733118,null,null,{"$f":"IFERROR(_xlfn.XLOOKUP(F39,'Direct shipment'!D:D,'Direct shipment'!W:W),\"\")","v":60},{"$f":"_xlfn.XLOOKUP(F39,Pricing!A:A,Pricing!B:B)","v":1157.5},{"$f":"Summary!$L$22","v":0.35000000000000003},752.375,null,0,0,0,0,0,0,null,null,null,null,null,null,null,0,null,0,0,0,0,0,0,0]
[null,null,"Chainsaw","572 XP® 20\"",null,966733120,null,null,{"$f":"IFERROR(_xlfn.XLOOKUP(F40,'Direct shipment'!D:D,'Direct shipment'!W:W),\"\")","v":60},{"$f":"_xlfn.XLOOKUP(F40,Pricing!A:A,Pricing!B:B)","v":1165.83},{"$f":"Summary!$L$22","v":0.35000000000000003},757.78949999999986,null,1.6666666666666666E-2,0,1.6666666666666666E-2,0,1.6666666666666666E-2,0,null,1,null,1,null,1,null,3,null,757.78949999999986,0,757.78949999999986,0,757.78949999999986,0,2273.3684999999996]
[null,null,"Chainsaw","572 XP® 24\"",null,966733144,null,null,{"$f":"IFERROR(_xlfn.XLOOKUP(F41,'Direct shipment'!D:D,'Direct shipment'!W:W),\"\")","v":60},{"$f":"_xlfn.XLOOKUP(F41,Pricing!A:A,Pricing!B:B)","v":1182.5},{"$f":"Summary!$L$22","v":0.35000000000000003},768.625,null,1.6666666666666666E-2,0,0,0,0,0,null,1,null,null,null,null,null,1,null,768.625,0,0,0,0,0,768.625]
[null,null,"Chainsaw","572 XP® 28\"",null,966733148,null,null,{"$f":"IFERROR(_xlfn.XLOOKUP(F42,'Direct shipment'!D:D,'Direct shipment'!W:W),\"\")","v":60},{"$f":"_xlfn.XLOOKUP(F42,Pricing!A:A,Pricing!B:B)","v":1199.17},{"$f":"Summary!$L$22","v":0.35000000000000003},779.46050000000002,null,0,0,0,0,0,0,null,null,null,null,null,null,null,0,null,0,0,0,0,0,0,0]
[null,null,"Chainsaw","572 XP® G 18\"",null,966733418,null,null,{"$f":"IFERROR(_xlfn.XLOOKUP(F43,'Direct shipment'!D:D,'Direct shipment'!W:W),\"\")","v":60},{"$f":"_xlfn.XLOOKUP(F43,Pricing!A:A,Pricing!B:B)","v":1215.83},{"$f":"Summary!$L$22","v":0.35000000000000003},790.28949999999986,null,0,0,0,0,0,0,null,null,null,null,null,null,null,0,null,0,0,0,0,0,0,0]
[null,null,"Chainsaw","572 XP® G 20\"",null,966733420,null,null,{"$f":"IFERROR(_xlfn.XLOOKUP(F44,'Direct shipment'!D:D,'Direct shipment'!W:W),\"\")","v":60},{"$f":"_xlfn.XLOOKUP(F44,Pricing!A:A,Pricing!B:B)","v":1224.17},{"$f":"Summary!$L$22","v":0.35000000000000003},795.71050000000002,null,0,0,0,0,0,0,null,null,null,null,null,null,null,0,null,0,0,0,0,0,0,0]
[null,null,"Chainsaw","572 XP® G 24\"",null,966733444,null,null,{"$f":"IFERROR(_xlfn.XLOOKUP(F45,'Direct shipment'!D:D,'Direct shipment'!W:W),\"\")","v":60},{"$f":"_xlfn.XLOOKUP(F45,Pricing!A:A,Pricing!B:B)","v":1240.83},{"$f":"Summary!$L$22","v":0.35000000000000003},806.53949999999986,null,0,0,0,0,0,0,null,null,null,null,null,null,null,0,null,0,0,0,0,0,0,0]
[null,null,"Chainsaw","585 20\"",null,970493020,null,null,{"$f":"IFERROR(_xlfn.XLOOKUP(F46,'Direct shipment'!D:D,'Direct shipment'!W:W),\"\")","v":48},{"$f":"_xlfn.XLOOKUP(F46,Pricing!A:A,Pricing!B:B)","v":1174.17},{"$f":"Summary!$L$22","v":0.35000000000000003},763.21050000000002,null,0,0,0,0,0,0,null,null,null,null,null,null,null,0,null,0,0,0,0,0,0,0]
[null,null,"Chainsaw","585 24\"",null,970493024,null,null,{"$f":"IFERROR(_xlfn.XLOOKUP(F47,'Direct shipment'!D:D,'Direct shipment'!W:W),\"\")","v":48},{"$f":"_xlfn.XLOOKUP(F47,Pricing!A:A,Pricing!B:B)","v":1190.83},{"$f":"Summary!$L$22","v":0.35000000000000003},774.03949999999986,null,0,0,0,0,0,0,null,null,null,null,null,null,null,0,null,0,0,0,0,0,0,0]
[null,null,"Chainsaw","585 28\"",null,970493028,null,null,{"$f":"IFERROR(_xlfn.XLOOKUP(F48,'Direct shipment'!D:D,'Direct shipment'!W:W),\"\")","v":48},{"$f":"_xlfn.XLOOKUP(F48,Pricing!A:A,Pricing!B:B)","v":1207.5},{"$f":"Summary!$L$22","v":0.35000000000000003},784.875,null,0,0,0,0,0,0,null,null,null,null,null,null,null,0,null,0,0,0,0,0,0,0]
[null,null,"Chainsaw","585 32\"",null,970493032,null,null,{"$f":"IFERROR(_xlfn.XLOOKUP(F49,'Direct shipment'!D:D,'Direct shipment'!W:W),\"\")","v":48},{"$f":"_xlfn.XLOOKUP(F49,Pricing!A:A,Pricing!B:B)","v":1224.17},{"$f":"Summary!$L$22","v":0.35000000000000003},795.71050000000002,null,0,0,0,0,0,0,null,null,null,null,null,null,null,0,null,0,0,0,0,0,0,0]
[null,null,"Chainsaw","592XP  20\"",null,970493130,null,null,{"$f":"IFERROR(_xlfn.XLOOKUP(F50,'Direct shipment'!D:D,'Direct shipment'!W:W),\"\")","v":48},{"$f":"_xlfn.XLOOKUP(F50,Pricing!A:A,Pricing!B:B)","v":1332.5},{"$f":"Summary!$L$22","v":0.35000000000000003},866.125,null,0,0,0,0,0,0,null,null,null,null,null,null,null,0,null,0,0,0,0,0,0,0]
[null,null,"Chainsaw","592XP  24\" ",null,970493124,null,null,{"$f":"IFERROR(_xlfn.XLOOKUP(F51,'Direct shipment'!D:D,'Direct shipment'!W:W),\"\")","v":48},{"$f":"_xlfn.XLOOKUP(F51,Pricing!A:A,Pricing!B:B)","v":1349.17},{"$f":"Summary!$L$22","v":0.35000000000000003},876.96050000000002,null,4.1666666666666664E-2,2.0833333333333332E-2,2.0833333333333332E-2,0,2.0833333333333332E-2,0,null,2,1,1,null,1,null,5,null,1753.921,876.96050000000002,876.96050000000002,0,876.96050000000002,0,4384.8024999999998]
[null,null,"Chainsaw","592XP  28\" ",null,970493128,null,null,{"$f":"IFERROR(_xlfn.XLOOKUP(F52,'Direct shipment'!D:D,'Direct shipment'!W:W),\"\")","v":48},{"$f":"_xlfn.XLOOKUP(F52,Pricing!A:A,Pricing!B:B)","v":1357.5},{"$f":"Summary!$L$22","v":0.35000000000000003},882.375,null,2.0833333333333332E-2,0,2.0833333333333332E-2,2.0833333333333332E-2,0,0,null,1,null,1,1,null,null,3,null,882.375,0,882.375,882.375,0,0,2647.125]
[null,null,"Chainsaw","592XP® G 28\"",null,970493458,null,null,{"$f":"IFERROR(_xlfn.XLOOKUP(F53,'Direct shipment'!D:D,'Direct shipment'!W:W),\"\")","v":48},{"$f":"_xlfn.XLOOKUP(F53,Pricing!A:A,Pricing!B:B)","v":1415.83},{"$f":"Summary!$L$22","v":0.35000000000000003},920.28949999999986,null,0,0,0,0,0,0,null,null,null,null,null,null,null,0,null,0,0,0,0,0,0,0]
[null,null,"Top handle chainsaw","T540 XP® III 16\"",null,970517916,null,null,{"$f":"IFERROR(_xlfn.XLOOKUP(F54,'Direct shipment'!D:D,'Direct shipment'!W:W),\"\")","v":60},{"$f":"_xlfn.XLOOKUP(F54,Pricing!A:A,Pricing!B:B)","v":682.5},{"$f":"Summary!$L$22","v":0.35000000000000003},{"$f":"J54-(J54*K54)","v":443.625},null,0,0,0,0,0,0,null,null,null,null,null,null,null,0,null,0,0,0,0,0,0,0]
[null,null,"Top handle chainsaw","T540 XP® III 12\"",null,970517912,null,970483912,{"$f":"IFERROR(_xlfn.XLOOKUP(F55,'Direct shipment'!D:D,'Direct shipment'!W:W),\"\")","v":60},{"$f":"_xlfn.XLOOKUP(F55,Pricing!A:A,Pricing!B:B)","v":665.83},{"$f":"Summary!$L$22","v":0.35000000000000003},432.78949999999998,null,1.6666666666666666E-2,1.6666666666666666E-2,1.6666666666666666E-2,0,1.6666666666666666E-2,0,null,1,1,1,null,1,null,4,null,432.78949999999998,432.78949999999998,432.78949999999998,0,432.78949999999998,0,1731.1579999999999]
[null,null,"Top handle chainsaw","T540 XP® III 14\"",null,970517914,null,970483914,{"$f":"IFERROR(_xlfn.XLOOKUP(F56,'Direct shipment'!D:D,'Direct shipment'!W:W),\"\")","v":60},{"$f":"_xlfn.XLOOKUP(F56,Pricing!A:A,Pricing!B:B)","v":674.17},{"$f":"Summary!$L$22","v":0.35000000000000003},438.21049999999991,null,1.6666666666666666E-2,1.6666666666666666E-2,1.6666666666666666E-2,0,0,0,null,1,1,1,null,null,null,3,null,438.21049999999991,438.21049999999991,438.21049999999991,0,0,0,1314.6314999999997]
[]
[null,"PS","Pole saw","525P4S ",null,967329401,null,965195001,{"$f":"IFERROR(_xlfn.XLOOKUP(F58,'Direct shipment'!D:D,'Direct shipment'!W:W),\"\")","v":24},{"$f":"_xlfn.XLOOKUP(F58,Pricing!A:A,Pricing!B:B)","v":707.5},{"$f":"Summary!$L$22","v":0.35000000000000003},{"$f":"J58-(J58*K58)","v":459.875},null,0,0,0,0,0,0,null,null,null,null,null,null,null,0,null,{"$f":"L58*U58","v":0},{"$f":"L58*V58","v":0},{"$f":"L58*W58","v":0},{"$f":"L58*X58","v":0},0,0,0]
[null,null,"Pole saw","525PT5S ",null,967329601,null,966963101,{"$f":"IFERROR(_xlfn.XLOOKUP(F59,'Direct shipment'!D:D,'Direct shipment'!W:W),\"\")","v":24},{"$f":"_xlfn.XLOOKUP(F59,Pricing!A:A,Pricing!B:B)","v":832.5},{"$f":"Summary!$L$22","v":0.35000000000000003},541.125,null,0,0,0,0,0,0,null,null,null,null,null,null,null,0,null,{"$f":"L59*U59","v":0},{"$f":"L59*V59","v":0},{"$f":"L59*W59","v":0},{"$f":"L59*X59","v":0},0,0,0]

{"sheet":"Trimmers & Brush Cutters","index":14,"n_rows":28,"n_cols":35,"rows_kept":28,"cut":false,"hidden":false,"merged":[[10,20,10,26],[10,28,10,34],[18,3,18,4],[19,3,19,4],[20,3,20,4],[26,1,27,1],[12,3,12,4],[13,3,13,4],[14,3,14,4],[15,3,15,4],[16,3,16,4],[17,3,17,4],[21,3,21,4],[22,3,22,4],[23,3,23,4],[24,3,24,4],[12,1,24,1],[27,3,27,4],[26,3,26,4],[1,4,1,8],[2,4,2,8],[3,4,3,8],[4,4,4,8],[5,4,5,8],[6,4,6,8],[7,4,7,8],[8,3,8,5],[8,6,8,8],[11,3,11,4],[10,2,10,11]]}
[]
[null,null,null,"Dealer Name",{"$f":"Summary!F2","v":"Winchester Garden Machinery Ltd - Arb"}]
[null,null,null,"Dealer Postcode",{"$f":"Summary!F3","v":"SO21 1HF"}]
[null,null,null,"Account Number",{"$f":"Summary!F4","v":28400505}]
[null,null,null,"Order Number",{"$f":"Summary!F5","v":0}]
[null,null,null,"Project Code",{"$f":"Summary!F6","v":"PSO2024"}]
[null,null,null,"Order Date",{"$f":"Summary!F7","v":"00:00:00"}]
[null,null,null,"ABM",{"$f":"Summary!F8","v":"Francesca_Bosley"}]
[null,null,null,"PSO minimum 40% of turnover = Additional 2% terms",null,null,{"$f":"Summary!I9","v":0.02}]
[]
[null,null,"Trimmers & Brush Cutters",null,null,null,null,null,null,null,null,null,null,null,null,null,null,null,null,null,"Order Quantity",null,null,null,null,null,null,null,"Order Value"]
[null,null,"Product Type","Model Description",null,"PNC","Size","Replaces","Pallet Qty","List Price 2024 Ex VAT","Discount","Dealer Net Price",null,null,null,null,null,null,null,null,"January","February","March","April","May","June","Total Qty",null,"January","February","March","April","May","June","Total Value"]
[null,"Brush Cutters","Brush Cutter","129R",null,967193305,null,967193301,{"$f":"IFERROR(_xlfn.XLOOKUP(F13,'Direct shipment'!D:D,'Direct shipment'!W:W),\"\")","v":16},{"$f":"_xlfn.XLOOKUP(F13,Pricing!A:A,Pricing!B:B)","v":257.5},{"$f":"Summary!$L$23","v":0.35000000000000003},{"$f":"J13-(J13*K13)","v":167.375},null,{"$f":"IFERROR(U13/I13,\"\")","v":0},{"$f":"IFERROR(V13/I13,\"\")","v":0},{"$f":"IFERROR(W13/I13,\"\")","v":0},{"$f":"IFERROR(X13/I13,\"\")","v":0},{"$f":"IFERROR(Y13/$I13,\"\")","v":0},{"$f":"IFERROR(Z13/$I13,\"\")","v":0},null,null,null,null,null,null,null,{"$f":"SUM(U13:Z13)","v":0},null,{"$f":"L13*U13","v":0},{"$f":"L13*V13","v":0},{"$f":"L13*W13","v":0},{"$f":"L13*X13","v":0},{"$f":"$L13*Y13","v":0},{"$f":"$L13*Z13","v":0},{"$f":"SUM(AC13:AH13)","v":0}]
[null,null,"Brush Cutter","129RJ",null,967193402,null,967193401,{"$f":"IFERROR(_xlfn.XLOOKUP(F14,'Direct shipment'!D:D,'Direct shipment'!W:W),\"\")","v":16},{"$f":"_xlfn.XLOOKUP(F14,Pricing!A:A,Pricing!B:B)","v":290.83},{"$f":"Summary!$L$23","v":0.35000000000000003},{"$f":"J14-(J14*K14)","v":189.03949999999998},null,{"$f":"IFERROR(U14/I14,\"\")","v":0},{"$f":"IFERROR(V14/I14,\"\")","v":0},{"$f":"IFERROR(W14/I14,\"\")","v":0},{"$f":"IFERROR(X14/I14,\"\")","v":0},{"$f":"IFERROR(Y14/$I14,\"\")","v":0},{"$f":"IFERROR(Z14/$I14,\"\")","v":0},null,null,null,null,null,null,null,{"$f":"SUM(U14:Z14)","v":0},null,{"$f":"L14*U14","v":0},{"$f":"L14*V14","v":0},{"$f":"L14*W14","v":0},{"$f":"L14*X14","v":0},{"$f":"$L14*Y14","v":0},{"$f":"$L14*Z14","v":0},{"$f":"SUM(AC14:AH14)","v":0}]
[null,null,"Brush Cutter","135R",null,966604802,null,966604801,{"$f":"IFERROR(_xlfn.XLOOKUP(F15,'Direct shipment'!D:D,'Direct shipment'!W:W),\"\")","v":18},{"$f":"_xlfn.XLOOKUP(F15,Pricing!A:A,Pricing!B:B)","v":499.17},{"$f":"Summary!$L$23","v":0.35000000000000003},324.46050000000002,null,0,0,0,0,0,0,null,null,null,null,null,null,null,0,null,0,0,0,0,0,0,0]
[null,null,"Brush Cutter","525RX",null,970446601,null,966776801,{"$f":"IFERROR(_xlfn.XLOOKUP(F16,'Direct shipment'!D:D,'Direct shipment'!W:W),\"\")","v":24},{"$f":"_xlfn.XLOOKUP(F16,Pricing!A:A,Pricing!B:B)","v":432.5},{"$f":"Summary!$L$23","v":0.35000000000000003},{"$f":"J16-(J16*K16)","v":281.125},null,{"$f":"IFERROR(U16/I16,\"\")","v":0},{"$f":"IFERROR(V16/I16,\"\")","v":0.16666666666666666},{"$f":"IFERROR(W16/I16,\"\")","v":0},{"$f":"IFERROR(X16/$I16,\"\")","v":0.16666666666666666},{"$f":"IFERROR(Y16/$I16,\"\")","v":0},{"$f":"IFERROR(Z16/$I16,\"\")","v":0},null,null,4,null,4,null,null,{"$f":"SUM(U16:Z16)","v":8},null,{"$f":"L16*U16","v":0},{"$f":"L16*V16","v":1124.5},{"$f":"L16*W16","v":0},{"$f":"$L16*X16","v":1124.5},{"$f":"$L16*Y16","v":0},{"$f":"$L16*Z16","v":0},{"$f":"SUM(AC16:AH16)","v":2249}]
[null,null,"Brush Cutter"," 525RXT",null,970446701,null,966776901,{"$f":"IFERROR(_xlfn.XLOOKUP(F17,'Direct shipment'!D:D,'Direct shipment'!W:W),\"\")","v":24},{"$f":"_xlfn.XLOOKUP(F17,Pricing!A:A,Pricing!B:B)","v":499.17},{"$f":"Summary!$L$23","v":0.35000000000000003},{"$f":"IF(AA17>5,(J17-(J17*K17))*0.96,(J17-(J17*K17)))","v":311.48208},null,{"$f":"IFERROR(U17/I17,\"\")","v":0},{"$f":"IFERROR(V17/I17,\"\")","v":0.16666666666666666},{"$f":"IFERROR(W17/I17,\"\")","v":0.16666666666666666},{"$f":"IFERROR(X17/I17,\"\")","v":8.3333333333333329E-2},{"$f":"IFERROR(Y17/$I17,\"\")","v":8.3333333333333329E-2},{"$f":"IFERROR(Z17/$I17,\"\")","v":8.3333333333333329E-2},null,null,4,4,2,2,2,{"$f":"SUM(U17:Z17)","v":14},null,{"$f":"L17*U17","v":0},{"$f":"L17*V17","v":1245.92832},{"$f":"L17*W17","v":1245.92832},{"$f":"L17*X17","v":622.96415999999999},{"$f":"$L17*Y17","v":622.96415999999999},{"$f":"$L17*Z17","v":622.96415999999999},{"$f":"SUM(AC17:AH17)","v":4360.7491200000004}]
[null,null,"Brush Cutter","525RJX",null,966777101,null,null,{"$f":"IFERROR(_xlfn.XLOOKUP(F18,'Direct shipment'!D:D,'Direct shipment'!W:W),\"\")","v":24},{"$f":"_xlfn.XLOOKUP(F18,Pricing!A:A,Pricing!B:B)","v":374.17},{"$f":"Summary!$L$23","v":0.35000000000000003},243.2105,null,0,0,0,0,0,0,null,null,null,null,null,null,null,0,null,0,0,0,0,0,0,0]
[null,null,"Brush Cutter","535RXT",null,966628902,null,966628901,{"$f":"IFERROR(_xlfn.XLOOKUP(F19,'Direct shipment'!D:D,'Direct shipment'!W:W),\"\")","v":18},{"$f":"_xlfn.XLOOKUP(F19,Pricing!A:A,Pricing!B:B)","v":749.17},{"$f":"Summary!$L$23","v":0.35000000000000003},{"$f":"IF(AA19>9,(J19-(J19*K19))*0.96,(J19-(J19*K19)))","v":467.48207999999994},null,{"$f":"IFERROR(U19/I19,\"\")","v":0.1111111111111111},{"$f":"IFERROR(V19/I19,\"\")","v":0.1111111111111111},{"$f":"IFERROR(W19/I19,\"\")","v":0.1111111111111111},{"$f":"IFERROR(X19/I19,\"\")","v":0.1111111111111111},{"$f":"IFERROR(Y19/$I19,\"\")","v":0.1111111111111111},{"$f":"IFERROR(Z19/$I19,\"\")","v":0},null,2,2,2,2,2,null,{"$f":"SUM(U19:Z19)","v":10},null,{"$f":"L19*U19","v":934.96415999999988},{"$f":"L19*V19","v":934.96415999999988},{"$f":"L19*W19","v":934.96415999999988},{"$f":"L19*X19","v":934.96415999999988},{"$f":"$L19*Y19","v":934.96415999999988},{"$f":"$L19*Z19","v":0},{"$f":"SUM(AC19:AH19)","v":4674.8207999999995}]
[null,null,"Brush Cutter","543RS",null,966779901,null,966779902,{"$f":"IFERROR(_xlfn.XLOOKUP(F20,'Direct shipment'!D:D,'Direct shipment'!W:W),\"\")","v":20},{"$f":"_xlfn.XLOOKUP(F20,Pricing!A:A,Pricing!B:B)","v":557.5},{"$f":"Summary!$L$23","v":0.35000000000000003},362.375,null,0,0,0,0,0,0,null,null,null,null,null,null,null,0,null,0,0,0,0,0,0,0]
[null,null,"Brush Cutter","545RX",null,966015902,null,966015901,{"$f":"IFERROR(_xlfn.XLOOKUP(F21,'Direct shipment'!D:D,'Direct shipment'!W:W),\"\")","v":18},{"$f":"_xlfn.XLOOKUP(F21,Pricing!A:A,Pricing!B:B)","v":832.5},{"$f":"Summary!$L$23","v":0.35000000000000003},{"$f":"J21-(J21*K21)","v":541.125},null,{"$f":"IFERROR(U21/I21,\"\")","v":0},{"$f":"IFERROR(V21/I21,\"\")","v":0},{"$f":"IFERROR(W21/I21,\"\")","v":0},{"$f":"IFERROR(X21/I21,\"\")","v":0},{"$f":"IFERROR(Y21/$I21,\"\")","v":0},0,null,null,null,null,null,null,null,{"$f":"SUM(U21:Z21)","v":0},null,{"$f":"L21*U21","v":0},{"$f":"L21*V21","v":0},{"$f":"L21*W21","v":0},{"$f":"L21*X21","v":0},{"$f":"$L21*Y21","v":0},0,{"$f":"SUM(AC21:AH21)","v":0}]
[null,null,"Brush Cutter","545RXT",null,967176704,null,967176701,{"$f":"IFERROR(_xlfn.XLOOKUP(F22,'Direct shipment'!D:D,'Direct shipment'!W:W),\"\")","v":18},{"$f":"_xlfn.XLOOKUP(F22,Pricing!A:A,Pricing!B:B)","v":915.83},{"$f":"Summary!$L$23","v":0.35000000000000003},{"$f":"J22-(J22*K22)","v":595.28949999999998},null,{"$f":"IFERROR(U22/I22,\"\")","v":0},{"$f":"IFERROR(V22/I22,\"\")","v":0},{"$f":"IFERROR(W22/I22,\"\")","v":0},{"$f":"IFERROR(X22/I22,\"\")","v":0},0,0,null,null,null,null,null,null,null,{"$f":"SUM(U22:Z22)","v":0},null,{"$f":"L22*U22","v":0},{"$f":"L22*V22","v":0},{"$f":"L22*W22","v":0},{"$f":"L22*X22","v":0},0,0,{"$f":"SUM(AC22:AH22)","v":0}]
[null,null,"Brush Cutter","553RBX",null,966780202,null,966780201,{"$f":"IFERROR(_xlfn.XLOOKUP(F23,'Direct shipment'!D:D,'Direct shipment'!W:W),\"\")","v":"24"},{"$f":"_xlfn.XLOOKUP(F23,Pricing!A:A,Pricing!B:B)","v":915.83},{"$f":"Summary!$L$23","v":0.35000000000000003},{"$f":"J23-(J23*K23)","v":595.28949999999998},null,{"$f":"IFERROR(U23/I23,\"\")","v":0},{"$f":"IFERROR(V23/I23,\"\")","v":0},{"$f":"IFERROR(W23/I23,\"\")","v":0},{"$f":"IFERROR(X23/I23,\"\")","v":0},0,0,null,null,null,null,null,null,null,{"$f":"SUM(U23:Z23)","v":0},null,{"$f":"L23*U23","v":0},{"$f":"L23*V23","v":0},{"$f":"L23*W23","v":0},{"$f":"L23*X23","v":0},0,0,{"$f":"SUM(AC23:AH23)","v":0}]
[null,null,"Brush Cutter","555RXT",null,966629004,null,966629001,{"$f":"IFERROR(_xlfn.XLOOKUP(F24,'Direct shipment'!D:D,'Direct shipment'!W:W),\"\")","v":18},{"$f":"_xlfn.XLOOKUP(F24,Pricing!A:A,Pricing!B:B)","v":1032.5},{"$f":"Summary!$L$23","v":0.35000000000000003},{"$f":"J24-(J24*K24)","v":671.125},null,{"$f":"IFERROR(U24/I24,\"\")","v":0},{"$f":"IFERROR(V24/I24,\"\")","v":0},{"$f":"IFERROR(W24/I24,\"\")","v":0},{"$f":"IFERROR(X24/I24,\"\")","v":0},0,0,null,null,null,null,null,null,null,{"$f":"SUM(U24:Z24)","v":0},null,{"$f":"L24*U24","v":0},{"$f":"L24*V24","v":0},{"$f":"L24*W24","v":0},{"$f":"L24*X24","v":0},0,0,{"$f":"SUM(AC24:AH24)","v":0}]
[null,null,"BC Mulching Heavy Duty","555FRM",null,966629301,null,null,{"$f":"IFERROR(_xlfn.XLOOKUP(F25,'Direct shipment'!D:D,'Direct shipment'!W:W),\"\")","v":""},{"$f":"_xlfn.XLOOKUP(F25,Pricing!A:A,Pricing!B:B)","v":1165.83},{"$f":"Summary!$L$23","v":0.35000000000000003},757.78949999999986,null,"","","","","","",null,null,null,null,null,null,null,0,null,0,0,0,0,0,0,0]
[]
[null,"Trim","Trimmer","122C ",null,966779701,null,null,{"$f":"IFERROR(_xlfn.XLOOKUP(F27,'Direct shipment'!D:D,'Direct shipment'!W:W),\"\")","v":16},{"$f":"_xlfn.XLOOKUP(F27,Pricing!A:A,Pricing!B:B)","v":166.66},{"$f":"Summary!$L$23","v":0.35000000000000003},108.32899999999999,null,0,0,0,0,0,0,null,null,null,null,null,null,null,{"$f":"SUM(U27:Z27)","v":0},null,{"$f":"L27*U27","v":0},{"$f":"L27*V27","v":0},{"$f":"L27*W27","v":0},{"$f":"L27*X27","v":0},0,0,0]
[null,null,"Trimmer","129C",null,967193202,null,967193201,{"$f":"IFERROR(_xlfn.XLOOKUP(F28,'Direct shipment'!D:D,'Direct shipment'!W:W),\"\")","v":16},{"$f":"_xlfn.XLOOKUP(F28,Pricing!A:A,Pricing!B:B)","v":207.5},{"$f":"Summary!$L$23","v":0.35000000000000003},{"$f":"J28-(J28*K28)","v":134.875},null,{"$f":"IFERROR(U28/I28,\"\")","v":0},{"$f":"IFERROR(V28/I28,\"\")","v":0},{"$f":"IFERROR(W28/I28,\"\")","v":0},{"$f":"IFERROR(X28/I28,\"\")","v":0},{"$f":"IFERROR(Y28/$I28,\"\")","v":0},{"$f":"IFERROR(Z28/$I28,\"\")","v":0},null,null,null,null,null,null,null,{"$f":"SUM(U28:Z28)","v":0},null,{"$f":"L28*U28","v":0},{"$f":"L28*V28","v":0},{"$f":"L28*W28","v":0},{"$f":"L28*X28","v":0},{"$f":"$L28*Y28","v":0},{"$f":"$L28*Z28","v":0},{"$f":"SUM(AC28:AH28)","v":0}]

{"sheet":"Combi Tools","index":15,"n_rows":31,"n_cols":35,"rows_kept":31,"cut":false,"hidden":false,"merged":[[12,1,30,1],[15,3,15,4],[13,3,13,4],[27,3,27,4],[28,3,28,4],[29,3,29,4],[30,3,30,4],[12,3,12,4],[14,3,14,4],[16,3,16,4],[17,3,17,4],[18,3,18,4],[19,3,19,4],[20,3,20,4],[21,3,21,4],[24,3,24,4],[1,4,1,8],[2,4,2,8],[3,4,3,8],[4,4,4,8],[5,4,5,8],[25,3,25,4],[26,3,26,4],[8,3,8,5],[22,3,22,4],[23,3,23,4],[6,4,6,8],[10,20,10,26],[10,28,10,34],[11,3,11,4],[7,4,7,8],[8,6,8,8],[10,2,10,11]]}
[]
[null,null,null,"Dealer Name",{"$f":"Summary!F2","v":"Winchester Garden Machinery Ltd - Arb"}]
[null,null,null,"Dealer Postcode",{"$f":"Summary!F3","v":"SO21 1HF"}]
[null,null,null,"Account Number",{"$f":"Summary!F4","v":28400505}]
[null,null,null,"Order Number",{"$f":"Summary!F5","v":0}]
[null,null,null,"Project Code",{"$f":"Summary!F6","v":"PSO2024"}]
[null,null,null,"Order Date",{"$f":"Summary!F7","v":"00:00:00"}]
[null,null,null,"ABM",{"$f":"Summary!F8","v":"Francesca_Bosley"}]
[null,null,null,"PSO minimum 40% of turnover = Additional 2% terms",null,null,{"$f":"Summary!I9","v":0.02}]
[]
[null,null,"Combi Tools",null,null,null,null,null,null,null,null,null,null,null,null,null,null,null,null,null,"Order Quantity",null,null,null,null,null,null,null,"Order Value"]
[null,null,"Product Type","Model Description",null,"PNC","Size","Replaces","Pallet Qty","List Price 2024 Ex VAT","Discount","Dealer Net Price",null,null,null,null,null,null,null,null,"January","February","March","April","May","June","Total Qty",null,"January","February","March","April","May","June","Total Value"]
[null,"Combi","Combi trimmer","129LK  - Inc Trimmer Attachment",null,967193603,null,967193601,{"$f":"IFERROR(_xlfn.XLOOKUP(F13,'Direct shipment'!D:D,'Direct shipment'!W:W),\"\")","v":16},{"$f":"_xlfn.XLOOKUP(F13,Pricing!A:A,Pricing!B:B)","v":249.17},{"$f":"Summary!$L$24","v":0.35000000000000003},{"$f":"J13-(J13*K13)","v":161.96049999999997},null,{"$f":"IFERROR(U13/I13,\"\")","v":0},{"$f":"IFERROR(V13/I13,\"\")","v":0},{"$f":"IFERROR(W13/I13,\"\")","v":0},{"$f":"IFERROR(X13/I13,\"\")","v":0},{"$f":"IFERROR(Y13/$I13,\"\")","v":0},0,null,null,null,null,null,null,null,{"$f":"SUM(U13:Z13)","v":0},null,{"$f":"L13*U13","v":0},{"$f":"L13*V13","v":0},{"$f":"L13*W13","v":0},{"$f":"L13*X13","v":0},{"$f":"$L13*Y13","v":0},0,{"$f":"SUM(AC13:AH13)","v":0}]
[null,null,"Combi Trimmer acc.","J Handle Kit 129LK",null,952715616,null,null,{"$f":"IFERROR(_xlfn.XLOOKUP(F14,'Direct shipment'!D:D,'Direct shipment'!W:W),\"\")","v":""},{"$f":"_xlfn.XLOOKUP(F14,Pricing!A:A,Pricing!B:B)","v":55.83},{"$f":"Summary!$L$24","v":0.35000000000000003},{"$f":"J14-(J14*K14)","v":36.289499999999997},null,{"$f":"IFERROR(U14/I14,\"\")","v":""},{"$f":"IFERROR(V14/I14,\"\")","v":""},{"$f":"IFERROR(W14/I14,\"\")","v":""},{"$f":"IFERROR(X14/I14,\"\")","v":""},"","",null,null,null,null,null,null,null,0,null,{"$f":"L14*U14","v":0},{"$f":"L14*V14","v":0},{"$f":"L14*W14","v":0},{"$f":"L14*X14","v":0},0,0,{"$f":"SUM(AC14:AH14)","v":0}]
[null,null,"Combi trimmer","525LK - Engine unit only",null,967148301,null,null,{"$f":"IFERROR(_xlfn.XLOOKUP(F15,'Direct shipment'!D:D,'Direct shipment'!W:W),\"\")","v":16},{"$f":"_xlfn.XLOOKUP(F15,Pricing!A:A,Pricing!B:B)","v":415.83},{"$f":"Summary!$L$24","v":0.35000000000000003},{"$f":"J15-(J15*K15)","v":270.28949999999998},null,{"$f":"IFERROR(U15/I15,\"\")","v":0},{"$f":"IFERROR(V15/I15,\"\")","v":0},{"$f":"IFERROR(W15/I15,\"\")","v":0},{"$f":"IFERROR(X15/I15,\"\")","v":0},0,0,null,null,null,null,null,null,null,0,null,{"$f":"L15*U15","v":0},{"$f":"L15*V15","v":0},{"$f":"L15*W15","v":0},{"$f":"L15*X15","v":0},0,0,{"$f":"SUM(AC15:AH15)","v":0}]
[null,null,"Combi trimmer","535LK - Engine unit only",null,967688103,null,967688101,{"$f":"IFERROR(_xlfn.XLOOKUP(F16,'Direct shipment'!D:D,'Direct shipment'!W:W),\"\")","v":18},{"$f":"_xlfn.XLOOKUP(F16,Pricing!A:A,Pricing!B:B)","v":624.16999999999996},{"$f":"Summary!$L$24","v":0.35000000000000003},{"$f":"J16-(J16*K16)","v":405.71049999999991},null,{"$f":"IFERROR(U16/I16,\"\")","v":0},{"$f":"IFERROR(V16/I16,\"\")","v":0},{"$f":"IFERROR(W16/I16,\"\")","v":0},{"$f":"IFERROR(X16/I16,\"\")","v":0},0,0,null,null,null,null,null,null,null,0,null,{"$f":"L16*U16","v":0},{"$f":"L16*V16","v":0},{"$f":"L16*W16","v":0},{"$f":"L16*X16","v":0},0,0,{"$f":"SUM(AC16:AH16)","v":0}]
[null,null,"Combi attachment","BCA850 Attachment (Inc J-Handle & Harness)",null,967185902,null,967185901,{"$f":"IFERROR(_xlfn.XLOOKUP(F17,'Direct shipment'!D:D,'Direct shipment'!W:W),\"\")","v":21},{"$f":"_xlfn.XLOOKUP(F17,Pricing!A:A,Pricing!B:B)","v":115.83},{"$f":"Summary!$L$24","v":0.35000000000000003},{"$f":"J17-(J17*K17)","v":75.289500000000004},null,{"$f":"IFERROR(U17/I17,\"\")","v":0},{"$f":"IFERROR(V17/I17,\"\")","v":0},{"$f":"IFERROR(W17/I17,\"\")","v":0},{"$f":"IFERROR(X17/$I17,\"\")","v":0},{"$f":"IFERROR(Y17/$I17,\"\")","v":0},0,null,null,null,null,null,null,null,0,null,{"$f":"L17*U17","v":0},{"$f":"L17*V17","v":0},{"$f":"L17*W17","v":0},{"$f":"L17*X17","v":0},{"$f":"$L17*Y17","v":0},0,{"$f":"SUM(AC17:AH17)","v":0}]
[null,null,"Combi attachment","TA850 Trimmer Attachment",null,537353503,null,537353501,{"$f":"IFERROR(_xlfn.XLOOKUP(F18,'Direct shipment'!D:D,'Direct shipment'!W:W),\"\")","v":28},{"$f":"_xlfn.XLOOKUP(F18,Pricing!A:A,Pricing!B:B)","v":115.83},{"$f":"Summary!$L$24","v":0.35000000000000003},{"$f":"J18-(J18*K18)","v":75.289500000000004},null,{"$f":"IFERROR(U18/I18,\"\")","v":0},{"$f":"IFERROR(V18/I18,\"\")","v":0},{"$f":"IFERROR(W18/I18,\"\")","v":0},{"$f":"IFERROR(X18/I18,\"\")","v":0},{"$f":"IFERROR(Y18/$I18,\"\")","v":0},{"$f":"IFERROR(Z18/$I18,\"\")","v":0},null,null,null,null,null,null,null,0,null,{"$f":"L18*U18","v":0},{"$f":"L18*V18","v":0},{"$f":"L18*W18","v":0},{"$f":"L18*X18","v":0},{"$f":"$L18*Y18","v":0},{"$f":"$L18*Z18","v":0},{"$f":"SUM(AC18:AH18)","v":0}]
[null,null,"Combi attachment","HA200 Short Hedge Trimmer ",null,596316503,null,596316501,{"$f":"IFERROR(_xlfn.XLOOKUP(F19,'Direct shipment'!D:D,'Direct shipment'!W:W),\"\")","v":36},{"$f":"_xlfn.XLOOKUP(F19,Pricing!A:A,Pricing!B:B)","v":365.83},{"$f":"Summary!$L$24","v":0.35000000000000003},237.78949999999998,null,0,0,0,0,0,0,null,null,null,null,null,null,null,{"$f":"SUM(U19:Z19)","v":0},null,0,0,0,0,0,0,0]
[null,null,"Combi attachment","HA860 Long Hedge Trimmer ",null,596316603,null,596316601,{"$f":"IFERROR(_xlfn.XLOOKUP(F20,'Direct shipment'!D:D,'Direct shipment'!W:W),\"\")","v":36},{"$f":"_xlfn.XLOOKUP(F20,Pricing!A:A,Pricing!B:B)","v":374.17},{"$f":"Summary!$L$24","v":0.35000000000000003},243.2105,null,0,0,0,0,0,0,null,null,null,null,null,null,null,0,null,0,0,0,0,0,0,0]
[null,null,"Combi attachment","PA1100 Pole Saw ",null,537183327,null,537183323,{"$f":"IFERROR(_xlfn.XLOOKUP(F21,'Direct shipment'!D:D,'Direct shipment'!W:W),\"\")","v":28},{"$f":"_xlfn.XLOOKUP(F21,Pricing!A:A,Pricing!B:B)","v":315.83},{"$f":"Summary!$L$24","v":0.35000000000000003},205.28949999999998,null,0,0,0,0,0,0,null,null,null,null,null,null,null,0,null,0,0,0,0,0,0,0]
[null,null,"Combi attachment","ECA850 Edger attachment - curved shaft",null,967925504,null,null,{"$f":"IFERROR(_xlfn.XLOOKUP(F22,'Direct shipment'!D:D,'Direct shipment'!W:W),\"\")","v":18},{"$f":"_xlfn.XLOOKUP(F22,Pricing!A:A,Pricing!B:B)","v":149.16},{"$f":"Summary!$L$24","v":0.35000000000000003},{"$f":"J22-(J22*K22)","v":96.953999999999994},null,0,0,0,0,0,0,null,null,null,null,null,null,null,0,null,{"$f":"L22*U22","v":0},{"$f":"L22*V22","v":0},{"$f":"L22*W22","v":0},{"$f":"L22*X22","v":0},0,0,0]
[null,null,"Combi attachment","ESA850 Edger attachment - straight shaft",null,967925604,null,null,null,{"$f":"_xlfn.XLOOKUP(F23,Pricing!A:A,Pricing!B:B)","v":157.49},{"$f":"Summary!$L$24","v":0.35000000000000003},102.3685,null,"","","","","","",null,null,null,null,null,null,null,0,null,0,0,0,0,0,0,0]
[null,null,"Combi attachment","RA850 Weed scissors attachment",null,967908501,null,null,{"$f":"IFERROR(_xlfn.XLOOKUP(F24,'Direct shipment'!D:D,'Direct shipment'!W:W),\"\")","v":24},{"$f":"_xlfn.XLOOKUP(F24,Pricing!A:A,Pricing!B:B)","v":399.17},{"$f":"Summary!$L$24","v":0.35000000000000003},259.46050000000002,null,0,0,0,0,0,0,null,null,null,null,null,null,null,0,null,0,0,0,0,0,0,0]
[null,null,"Combi attachment","RA-V Weed scissor gear attachment",null,967908601,null,null,{"$f":"IFERROR(_xlfn.XLOOKUP(F25,'Direct shipment'!D:D,'Direct shipment'!W:W),\"\")","v":72},{"$f":"_xlfn.XLOOKUP(F25,Pricing!A:A,Pricing!B:B)","v":357.5},{"$f":"Summary!$L$24","v":0.35000000000000003},232.375,null,0,0,0,0,0,0,null,null,null,null,null,null,null,0,null,0,0,0,0,0,0,0]
[null,null,"Combi attachment","CA230 Cultivator attachment",null,967294201,null,537425401,null,{"$f":"_xlfn.XLOOKUP(F26,Pricing!A:A,Pricing!B:B)","v":240.83},{"$f":"Summary!$L$24","v":0.35000000000000003},156.5395,null,"","","","","","",null,null,null,null,null,null,null,0,null,0,0,0,0,0,0,0]
[null,null,"Combi attachment","SR 600-2 Sweeper attachment (rubber)",null,967294401,null,537196701,null,{"$f":"_xlfn.XLOOKUP(F27,Pricing!A:A,Pricing!B:B)","v":399.17},{"$f":"Summary!$L$24","v":0.35000000000000003},259.46050000000002,null,"","","","","","",null,null,null,null,null,null,null,0,null,0,0,0,0,0,0,0]
[null,null,"Combi attachment","BR 600 Sweeper attachment (bristle)",null,967296701,null,null,null,{"$f":"_xlfn.XLOOKUP(F28,Pricing!A:A,Pricing!B:B)","v":415.83},{"$f":"Summary!$L$24","v":0.35000000000000003},270.28949999999998,null,"","","","","","",null,null,null,null,null,null,null,0,null,0,0,0,0,0,0,0]
[null,null,"Combi attachment","DT600 Scarifier attachment",null,967296901,null,null,null,{"$f":"_xlfn.XLOOKUP(F29,Pricing!A:A,Pricing!B:B)","v":415.83},{"$f":"Summary!$L$24","v":0.35000000000000003},270.28949999999998,null,"","","","","","",null,null,null,null,null,null,null,0,null,0,0,0,0,0,0,0]
[null,null,"Combi attachment","Extension EX780",null,967297101,null,null,{"$f":"IFERROR(_xlfn.XLOOKUP(F30,'Direct shipment'!D:D,'Direct shipment'!W:W),\"\")","v":256},{"$f":"_xlfn.XLOOKUP(F30,Pricing!A:A,Pricing!B:B)","v":73.33},{"$f":"Summary!$L$24","v":0.35000000000000003},47.664499999999997,null,0,0,0,0,0,0,null,null,null,null,null,null,null,0,null,0,0,0,0,0,0,0]
[null,null,"Combi attachment","BA101 Blower attachment",null,967286401,null,null,null,{"$f":"_xlfn.XLOOKUP(F31,Pricing!A:A,Pricing!B:B)","v":154.99},{"$f":"Summary!$L$24","v":0.35000000000000003},100.7435,null,"","","","","","",null,null,null,null,null,null,null,0,null,0,0,0,0,0,0,0]

{"sheet":"Hedge Trimmers","index":16,"n_rows":22,"n_cols":35,"rows_kept":22,"cut":false,"hidden":false,"merged":[[6,4,6,8],[7,4,7,8],[8,6,8,8],[19,3,19,4],[18,3,18,4],[1,4,1,8],[2,4,2,8],[3,4,3,8],[4,4,4,8],[5,4,5,8],[12,1,21,1],[8,3,8,5],[10,20,10,26],[17,3,17,4],[12,3,12,4],[14,3,14,4],[20,3,20,4],[21,3,21,4],[15,3,15,4],[10,28,10,34],[11,3,11,4],[10,2,10,11],[16,3,16,4],[13,3,13,4]]}
[]
[null,null,null,"Dealer Name",{"$f":"Summary!F2","v":"Winchester Garden Machinery Ltd - Arb"}]
[null,null,null,"Dealer Postcode",{"$f":"Summary!F3","v":"SO21 1HF"}]
[null,null,null,"Account Number",{"$f":"Summary!F4","v":28400505}]
[null,null,null,"Order Number",{"$f":"Summary!F5","v":0}]
[null,null,null,"Project Code",{"$f":"Summary!F6","v":"PSO2024"}]
[null,null,null,"Order Date",{"$f":"Summary!F7","v":"00:00:00"}]
[null,null,null,"ABM",{"$f":"Summary!F8","v":"Francesca_Bosley"}]
[null,null,null,"PSO minimum 40% of turnover = Additional 2% terms",null,null,{"$f":"Summary!I9","v":0.02}]
[]
[null,null,"Hedge Trimmers",null,null,null,null,null,null,null,null,null,null,null,null,null,null,null,null,null,"Order Quantity",null,null,null,null,null,null,null,"Order Value"]
[null,null,"Product Type","Model Description",null,"PNC","Size","Replaces","Pallet Qty","List Price 2024 Ex VAT","Discount","Dealer Net Price",null,null,null,null,null,null,null,null,"January","February","March","April","May","June","Total Qty",null,"January","February","March","April","May","June","Total Value"]
[null,"Hedgetrimmer","Hedgetrimmer","122HD45",null,966532301,null,null,{"$f":"IFERROR(_xlfn.XLOOKUP(F13,'Direct shipment'!D:D,'Direct shipment'!W:W),\"\")","v":18},{"$f":"_xlfn.XLOOKUP(F13,Pricing!A:A,Pricing!B:B)","v":274.17},{"$f":"Summary!$L$25","v":0.35000000000000003},{"$f":"J13-(J13*K13)","v":178.2105},null,{"$f":"IFERROR(U13/I13,\"\")","v":0},{"$f":"IFERROR(V13/I13,\"\")","v":0},{"$f":"IFERROR(W13/I13,\"\")","v":0},{"$f":"IFERROR(X13/I13,\"\")","v":0},{"$f":"IFERROR(Y13/$I13,\"\")","v":0},0,null,null,null,null,null,null,null,{"$f":"SUM(U13:Z13)","v":0},null,{"$f":"L13*U13","v":0},{"$f":"L13*V13","v":0},{"$f":"L13*W13","v":0},{"$f":"L13*X13","v":0},{"$f":"$L13*Y13","v":0},0,{"$f":"SUM(AC13:AH13)","v":0}]
[null,null,"Hedgetrimmer","122HD60",null,966532401,null,null,{"$f":"IFERROR(_xlfn.XLOOKUP(F14,'Direct shipment'!D:D,'Direct shipment'!W:W),\"\")","v":18},{"$f":"_xlfn.XLOOKUP(F14,Pricing!A:A,Pricing!B:B)","v":307.5},{"$f":"Summary!$L$25","v":0.35000000000000003},{"$f":"IF(AA14>11,(J14-(J14*K14))*0.96,(J14-(J14*K14)))","v":191.88},null,0,0,0.1111111111111111,0.22222222222222221,0.22222222222222221,0.22222222222222221,null,null,null,2,4,4,4,14,null,0,0,383.76,767.52,767.52,767.52,2686.3199999999997]
[null,null,"Hedgetrimmer","322HD60",null,967658902,null,null,{"$f":"IFERROR(_xlfn.XLOOKUP(F15,'Direct shipment'!D:D,'Direct shipment'!W:W),\"\")","v":30},{"$f":"_xlfn.XLOOKUP(F15,Pricing!A:A,Pricing!B:B)","v":415.83},{"$f":"Summary!$L$25","v":0.35000000000000003},270.28949999999998,null,0,0,0,0,0,0,null,null,null,null,null,null,null,0,null,0,0,0,0,0,0,0]
[null,null,"Hedgetrimmer","522HD60X",null,967658701,null,null,{"$f":"IFERROR(_xlfn.XLOOKUP(F16,'Direct shipment'!D:D,'Direct shipment'!W:W),\"\")","v":30},{"$f":"_xlfn.XLOOKUP(F16,Pricing!A:A,Pricing!B:B)","v":624.16999999999996},{"$f":"Summary!$L$25","v":0.35000000000000003},405.71049999999991,null,0,0,0,0,0,0,null,null,null,null,null,null,null,0,null,0,0,0,0,0,0,0]
[null,null,"Hedgetrimmer","522HDR60X",null,967658301,null,null,{"$f":"IFERROR(_xlfn.XLOOKUP(F17,'Direct shipment'!D:D,'Direct shipment'!W:W),\"\")","v":30},{"$f":"_xlfn.XLOOKUP(F17,Pricing!A:A,Pricing!B:B)","v":624.16999999999996},{"$f":"Summary!$L$25","v":0.35000000000000003},405.71049999999991,null,0,0,0,0,0,0,null,null,null,null,null,null,null,0,null,0,0,0,0,0,0,0]
[null,null,"Hedgetrimmer","522HDR75X",null,967658401,null,null,{"$f":"IFERROR(_xlfn.XLOOKUP(F18,'Direct shipment'!D:D,'Direct shipment'!W:W),\"\")","v":30},{"$f":"_xlfn.XLOOKUP(F18,Pricing!A:A,Pricing!B:B)","v":665.83},{"$f":"Summary!$L$25","v":0.35000000000000003},{"$f":"IF(AA18>5,(J18-(J18*K18))*0.96,(J18-(J18*K18)))","v":415.47791999999998},null,0,0,0,6.6666666666666666E-2,6.6666666666666666E-2,6.6666666666666666E-2,null,null,null,null,2,2,2,6,null,0,0,0,830.95583999999997,830.95583999999997,830.95583999999997,2492.8675199999998]
[null,null,"Hedgetrimmer","522HS75X",null,967659201,null,null,{"$f":"IFERROR(_xlfn.XLOOKUP(F19,'Direct shipment'!D:D,'Direct shipment'!W:W),\"\")","v":24},{"$f":"_xlfn.XLOOKUP(F19,Pricing!A:A,Pricing!B:B)","v":707.5},{"$f":"Summary!$L$25","v":0.35000000000000003},459.875,null,0,0,0,{"$f":"IFERROR(X19/$I19,\"\")","v":0},{"$f":"IFERROR(Y19/$I19,\"\")","v":0},0,null,null,null,null,null,null,null,0,null,0,0,0,0,{"$f":"$L19*Y19","v":0},0,0]
[null,null,"Hedgetrimmer","522HSR75X",null,967659001,null,null,{"$f":"IFERROR(_xlfn.XLOOKUP(F20,'Direct shipment'!D:D,'Direct shipment'!W:W),\"\")","v":24},{"$f":"_xlfn.XLOOKUP(F20,Pricing!A:A,Pricing!B:B)","v":707.5},{"$f":"Summary!$L$25","v":0.35000000000000003},{"$f":"J20-(J20*K20)","v":459.875},null,{"$f":"IFERROR(U20/I20,\"\")","v":0},{"$f":"IFERROR(V20/I20,\"\")","v":0},{"$f":"IFERROR(W20/I20,\"\")","v":0},{"$f":"IFERROR(X20/I20,\"\")","v":0},{"$f":"IFERROR(Y20/$I20,\"\")","v":0},{"$f":"IFERROR(Z20/$I20,\"\")","v":0},null,null,null,null,null,null,null,{"$f":"SUM(U20:Z20)","v":0},null,{"$f":"L20*U20","v":0},{"$f":"L20*V20","v":0},{"$f":"L20*W20","v":0},{"$f":"L20*X20","v":0},{"$f":"$L20*Y20","v":0},{"$f":"$L20*Z20","v":0},{"$f":"SUM(AC20:AH20)","v":0}]
[null,null,"Hedgetrimmer","525HE3",null,967944901,null,966787601,{"$f":"IFERROR(_xlfn.XLOOKUP(F21,'Direct shipment'!D:D,'Direct shipment'!W:W),\"\")","v":16},{"$f":"_xlfn.XLOOKUP(F21,Pricing!A:A,Pricing!B:B)","v":790.83},{"$f":"Summary!$L$25","v":0.35000000000000003},514.03949999999998,null,0,0,0,0,0,0,null,null,null,null,null,null,null,0,null,0,0,0,0,0,0,0]
[null,null,"Hedgetrimmer","525HE4",null,967945101,null,966787701,{"$f":"IFERROR(_xlfn.XLOOKUP(F22,'Direct shipment'!D:D,'Direct shipment'!W:W),\"\")","v":24},{"$f":"_xlfn.XLOOKUP(F22,Pricing!A:A,Pricing!B:B)","v":832.5},{"$f":"Summary!$L$25","v":0.35000000000000003},541.125,null,0,0,0,8.3333333333333329E-2,4.1666666666666664E-2,4.1666666666666664E-2,null,null,null,null,2,1,1,4,null,0,0,0,1082.25,541.125,541.125,2164.5]

{"sheet":"Blowers","index":17,"n_rows":19,"n_cols":35,"rows_kept":19,"cut":false,"hidden":false,"merged":[[6,4,6,8],[7,4,7,8],[8,6,8,8],[1,4,1,8],[2,4,2,8],[3,4,3,8],[4,4,4,8],[5,4,5,8],[12,1,18,1],[8,3,8,5],[10,20,10,26],[10,28,10,34],[11,3,11,4],[10,2,10,11],[13,3,13,4],[12,3,12,4],[14,3,14,4],[18,3,18,4],[17,3,17,4],[16,3,16,4],[15,3,15,4]]}
[]
[null,null,null,"Dealer Name",{"$f":"Summary!F2","v":"Winchester Garden Machinery Ltd - Arb"}]
[null,null,null,"Dealer Postcode",{"$f":"Summary!F3","v":"SO21 1HF"}]
[null,null,null,"Account Number",{"$f":"Summary!F4","v":28400505}]
[null,null,null,"Order Number",{"$f":"Summary!F5","v":0}]
[null,null,null,"Project Code",{"$f":"Summary!F6","v":"PSO2024"}]
[null,null,null,"Order Date",{"$f":"Summary!F7","v":"00:00:00"}]
[null,null,null,"ABM",{"$f":"Summary!F8","v":"Francesca_Bosley"}]
[null,null,null,"PSO minimum 40% of turnover = Additional 2% terms",null,null,{"$f":"Summary!I9","v":0.02}]
[]
[null,null,"Blowers",null,null,null,null,null,null,null,null,null,null,null,null,null,null,null,null,null,"Order Quantity",null,null,null,null,null,null,null,"Order Value"]
[null,null,"Product Type","Model Description",null,"PNC","Size","Replaces","Pallet Qty","List Price 2024 Ex VAT","Discount","Dealer Net Price",null,null,null,null,null,null,null,null,"January","February","March","April","May","June","Total Qty",null,"January","February","March","April","May","June","Total Value"]
[null,"Blowers","Blower handheld","125B",null,952715643,null,952715646,{"$f":"IFERROR(_xlfn.XLOOKUP(F13,'Direct shipment'!D:D,'Direct shipment'!W:W),\"\")","v":32},{"$f":"_xlfn.XLOOKUP(F13,Pricing!A:A,Pricing!B:B)","v":265.83},{"$f":"Summary!$L$26","v":0.35000000000000003},{"$f":"J13-(J13*K13)","v":172.78949999999998},null,{"$f":"IFERROR(U13/I13,\"\")","v":0},{"$f":"IFERROR(V13/I13,\"\")","v":0},{"$f":"IFERROR(W13/I13,\"\")","v":0},{"$f":"IFERROR(X13/I13,\"\")","v":0},{"$f":"IFERROR(Y13/$I13,\"\")","v":0},0,null,null,null,null,null,null,null,{"$f":"SUM(U13:Z13)","v":0},null,{"$f":"L13*U13","v":0},{"$f":"L13*V13","v":0},{"$f":"L13*W13","v":0},{"$f":"L13*X13","v":0},{"$f":"$L13*Y13","v":0},0,{"$f":"SUM(AC13:AH13)","v":0}]
[null,null,"Blower handheld","125BVX",null,952715645,null,952715648,{"$f":"IFERROR(_xlfn.XLOOKUP(F14,'Direct shipment'!D:D,'Direct shipment'!W:W),\"\")","v":16},{"$f":"_xlfn.XLOOKUP(F14,Pricing!A:A,Pricing!B:B)","v":332.5},{"$f":"Summary!$L$26","v":0.35000000000000003},{"$f":"J14-(J14*K14)","v":216.125},null,{"$f":"IFERROR(U14/I14,\"\")","v":0},{"$f":"IFERROR(V14/I14,\"\")","v":0},{"$f":"IFERROR(W14/I14,\"\")","v":0},{"$f":"IFERROR(X14/I14,\"\")","v":0},0,0,null,null,null,null,null,null,null,{"$f":"SUM(U14:Z14)","v":0},null,{"$f":"L14*U14","v":0},{"$f":"L14*V14","v":0},{"$f":"L14*W14","v":0},{"$f":"L14*X14","v":0},0,0,{"$f":"SUM(AC14:AH14)","v":0}]
[null,null,"Blower handheld","525BX",null,967284201,null,null,{"$f":"IFERROR(_xlfn.XLOOKUP(F15,'Direct shipment'!D:D,'Direct shipment'!W:W),\"\")","v":50},{"$f":"_xlfn.XLOOKUP(F15,Pricing!A:A,Pricing!B:B)","v":374.17},{"$f":"Summary!$L$26","v":0.35000000000000003},{"$f":"IF(AA15>7,(J15-(J15*K15))*0.96,(J15-(J15*K15)))","v":233.48208},null,{"$f":"IFERROR(U15/I15,\"\")","v":0},{"$f":"IFERROR(V15/I15,\"\")","v":0},{"$f":"IFERROR(W15/I15,\"\")","v":0},{"$f":"IFERROR(X15/I15,\"\")","v":0},0,0.32,null,null,null,null,null,null,16,{"$f":"SUM(U15:Z15)","v":16},null,{"$f":"L15*U15","v":0},{"$f":"L15*V15","v":0},{"$f":"L15*W15","v":0},{"$f":"L15*X15","v":0},0,3735.7132799999999,{"$f":"SUM(AC15:AH15)","v":3735.7132799999999}]
[null,null,"Blower backpack","345BT",null,970466903,null,965877501,{"$f":"IFERROR(_xlfn.XLOOKUP(F16,'Direct shipment'!D:D,'Direct shipment'!W:W),\"\")","v":8},{"$f":"_xlfn.XLOOKUP(F16,Pricing!A:A,Pricing!B:B)","v":332.5},{"$f":"Summary!$L$26","v":0.35000000000000003},{"$f":"J16-(J16*K16)","v":216.125},null,{"$f":"IFERROR(U16/I16,\"\")","v":0},{"$f":"IFERROR(V16/I16,\"\")","v":0},{"$f":"IFERROR(W16/I16,\"\")","v":0},{"$f":"IFERROR(X16/$I16,\"\")","v":0},{"$f":"IFERROR(Y16/$I16,\"\")","v":0},0,null,null,null,null,null,null,null,{"$f":"SUM(U16:Z16)","v":0},null,{"$f":"L16*U16","v":0},{"$f":"L16*V16","v":0},{"$f":"L16*W16","v":0},{"$f":"L16*X16","v":0},{"$f":"$L16*Y16","v":0},0,{"$f":"SUM(AC16:AH16)","v":0}]
[null,null,"Blower backpack","360BT",null,967144304,null,null,{"$f":"IFERROR(_xlfn.XLOOKUP(F17,'Direct shipment'!D:D,'Direct shipment'!W:W),\"\")","v":8},{"$f":"_xlfn.XLOOKUP(F17,Pricing!A:A,Pricing!B:B)","v":540.83000000000004},{"$f":"Summary!$L$26","v":0.35000000000000003},{"$f":"J17-(J17*K17)","v":351.53949999999998},null,{"$f":"IFERROR(U17/I17,\"\")","v":0},{"$f":"IFERROR(V17/I17,\"\")","v":0},{"$f":"IFERROR(W17/I17,\"\")","v":0},{"$f":"IFERROR(X17/I17,\"\")","v":0},{"$f":"IFERROR(Y17/$I17,\"\")","v":0},{"$f":"IFERROR(Z17/$I17,\"\")","v":0},null,null,null,null,null,null,null,{"$f":"SUM(U17:Z17)","v":0},null,{"$f":"L17*U17","v":0},{"$f":"L17*V17","v":0},{"$f":"L17*W17","v":0},{"$f":"L17*X17","v":0},{"$f":"$L17*Y17","v":0},{"$f":"$L17*Z17","v":0},{"$f":"SUM(AC17:AH17)","v":0}]
[null,null,"Blower backpack","570BTS",null,966629401,null,null,{"$f":"IFERROR(_xlfn.XLOOKUP(F18,'Direct shipment'!D:D,'Direct shipment'!W:W),\"\")","v":8},{"$f":"_xlfn.XLOOKUP(F18,Pricing!A:A,Pricing!B:B)","v":749.17},{"$f":"Summary!$L$26","v":0.35000000000000003},{"$f":"IF(AA18>5,(J18-(J18*K18))*0.96,(J18-(J18*K18)))","v":467.48207999999994},null,0,0,0,0,0,0.75,null,null,null,null,null,null,6,6,null,0,0,0,0,0,2804.8924799999995,2804.8924799999995]
[null,null,"Blower backpack","580BTS ",null,966629601,null,965878001,{"$f":"IFERROR(_xlfn.XLOOKUP(F19,'Direct shipment'!D:D,'Direct shipment'!W:W),\"\")","v":8},{"$f":"_xlfn.XLOOKUP(F19,Pricing!A:A,Pricing!B:B)","v":790.83},{"$f":"Summary!$L$26","v":0.35000000000000003},514.03949999999998,null,0,0,0,0,0,0,null,null,null,null,null,null,null,0,null,0,0,0,0,0,0,0]

{"sheet":"Pressure Washers","index":18,"n_rows":33,"n_cols":35,"rows_kept":33,"cut":false,"hidden":false,"merged":[[12,1,32,1],[13,3,13,4],[15,3,15,4],[17,3,17,4],[18,3,18,4],[19,3,19,4],[20,3,20,4],[21,3,21,4],[22,3,22,4],[29,3,29,4],[30,3,30,4],[31,3,31,4],[32,3,32,4],[23,3,23,4],[24,3,24,4],[25,3,25,4],[10,28,10,34],[10,20,10,26],[26,3,26,4],[27,3,27,4],[28,3,28,4],[11,3,11,4],[12,3,12,4],[14,3,14,4],[16,3,16,4],[1,4,1,8],[2,4,2,8],[3,4,3,8],[4,4,4,8],[5,4,5,8],[6,4,6,8],[7,4,7,8],[8,3,8,5],[8,6,8,8],[10,2,10,11]]}
[]
[null,null,null,"Dealer Name",{"$f":"Summary!F2","v":"Winchester Garden Machinery Ltd - Arb"}]
[null,null,null,"Dealer Postcode",{"$f":"Summary!F3","v":"SO21 1HF"}]
[null,null,null,"Account Number",{"$f":"Summary!F4","v":28400505}]
[null,null,null,"Order Number",{"$f":"Summary!F5","v":0}]
[null,null,null,"Project Code",{"$f":"Summary!F6","v":"PSO2024"}]
[null,null,null,"Order Date",{"$f":"Summary!F7","v":"00:00:00"}]
[null,null,null,"ABM",{"$f":"Summary!F8","v":"Francesca_Bosley"}]
[null,null,null,"PSO minimum 40% of turnover = Additional 2% terms",null,null,{"$f":"Summary!I9","v":0.02}]
[]
[null,null,"Pressure Washers",null,null,null,null,null,null,null,null,null,null,null,null,null,null,null,null,null,"Order Quantity",null,null,null,null,null,null,null,"Order Value"]
[null,null,"Product Type","Model Description",null,"PNC","Size","Replaces","Pallet Qty","List Price 2024 Ex VAT","Discount","Dealer Net Price",null,null,null,null,null,null,null,null,"January","February","March","April","May","June","Total Qty",null,"January","February","March","April","May","June","Total Value"]
[null,"Pressure Washers","Pressure Washer","PW 125",null,967676402,null,null,{"$f":"IFERROR(_xlfn.XLOOKUP(F13,'Direct shipment'!D:D,'Direct shipment'!W:W),\"\")","v":""},{"$f":"_xlfn.XLOOKUP(F13,Pricing!A:A,Pricing!B:B)","v":116.66},{"$f":"Summary!$L$27","v":0.35000000000000003},{"$f":"IF(AA13>9,(J13-(J13*K13))*0.87,(J13-(J13*K13)))","v":65.971229999999991},null,{"$f":"IFERROR(U13/I13,\"\")","v":""},{"$f":"IFERROR(V13/I13,\"\")","v":""},{"$f":"IFERROR(W13/I13,\"\")","v":""},{"$f":"IFERROR(X13/$I13,\"\")","v":""},{"$f":"IFERROR(Y13/$I13,\"\")","v":""},{"$f":"IFERROR(Z13/$I13,\"\")","v":""},null,10,null,null,null,null,null,{"$f":"SUM(U13:Z13)","v":10},null,{"$f":"L13*U13","v":659.71229999999991},{"$f":"L13*V13","v":0},{"$f":"L13*W13","v":0},{"$f":"$L13*X13","v":0},{"$f":"$L13*Y13","v":0},{"$f":"$L13*Z13","v":0},{"$f":"SUM(AC13:AH13)","v":659.71229999999991}]
[null,null,"Pressure Washer","PW 130 ",null,970648002,null,null,{"$f":"IFERROR(_xlfn.XLOOKUP(F14,'Direct shipment'!D:D,'Direct shipment'!W:W),\"\")","v":20},{"$f":"_xlfn.XLOOKUP(F14,Pricing!A:A,Pricing!B:B)","v":124.99},{"$f":"Summary!$L$27","v":0.35000000000000003},{"$f":"J14-(J14*K14)","v":81.243499999999983},null,{"$f":"IFERROR(U14/I14,\"\")","v":0},{"$f":"IFERROR(V14/I14,\"\")","v":0},{"$f":"IFERROR(W14/I14,\"\")","v":0},{"$f":"IFERROR(X14/$I14,\"\")","v":0},{"$f":"IFERROR(Y14/$I14,\"\")","v":0},0,null,null,null,null,null,null,null,{"$f":"SUM(U14:Z14)","v":0},null,{"$f":"L14*U14","v":0},{"$f":"L14*V14","v":0},{"$f":"L14*W14","v":0},{"$f":"$L14*X14","v":0},{"$f":"$L14*Y14","v":0},0,{"$f":"SUM(AC14:AH14)","v":0}]
[null,null,"Pressure Washer","PW 235R",null,970457402,null,null,{"$f":"IFERROR(_xlfn.XLOOKUP(F15,'Direct shipment'!D:D,'Direct shipment'!W:W),\"\")","v":""},{"$f":"_xlfn.XLOOKUP(F15,Pricing!A:A,Pricing!B:B)","v":207.5},{"$f":"Summary!$L$27","v":0.35000000000000003},{"$f":"IF(AA15>9,(J15-(J15*K15))*0.88,(J15-(J15*K15)))","v":134.875},null,{"$f":"IFERROR(U15/I15,\"\")","v":""},{"$f":"IFERROR(V15/I15,\"\")","v":""},{"$f":"IFERROR(W15/I15,\"\")","v":""},{"$f":"IFERROR(X15/$I15,\"\")","v":""},"","",null,null,null,null,null,null,null,{"$f":"SUM(U15:Z15)","v":0},null,0,0,0,{"$f":"$L15*X15","v":0},0,0,{"$f":"SUM(AC15:AH15)","v":0}]
[null,null,"Pressure Washer","PW 240",null,970648102,null,null,{"$f":"IFERROR(_xlfn.XLOOKUP(F16,'Direct shipment'!D:D,'Direct shipment'!W:W),\"\")","v":12},{"$f":"_xlfn.XLOOKUP(F16,Pricing!A:A,Pricing!B:B)","v":215.83},{"$f":"Summary!$L$27","v":0.35000000000000003},{"$f":"J16-(J16*K16)","v":140.2895},null,0,0,0,0,{"$f":"IFERROR(Y16/$I16,\"\")","v":0},{"$f":"IFERROR(Z16/$I16,\"\")","v":0},null,null,null,null,null,null,null,0,null,{"$f":"L16*U16","v":0},{"$f":"L16*V16","v":0},{"$f":"L16*W16","v":0},0,{"$f":"$L16*Y16","v":0},{"$f":"$L16*Z16","v":0},0]
[null,null,"Pressure Washer","PW 350",null,967677702,null,null,{"$f":"IFERROR(_xlfn.XLOOKUP(F17,'Direct shipment'!D:D,'Direct shipment'!W:W),\"\")","v":""},{"$f":"_xlfn.XLOOKUP(F17,Pricing!A:A,Pricing!B:B)","v":332.5},{"$f":"Summary!$L$27","v":0.35000000000000003},{"$f":"IF(AA17>9,(J17-(J17*K17))*0.91,(J17-(J17*K17)))","v":216.125},null,"","","","","","",null,null,null,null,null,null,null,0,null,0,0,0,0,0,0,0]
[null,null,"Pressure Washer","PW 480",null,970468302,null,967677902,{"$f":"IFERROR(_xlfn.XLOOKUP(F18,'Direct shipment'!D:D,'Direct shipment'!W:W),\"\")","v":6},{"$f":"_xlfn.XLOOKUP(F18,Pricing!A:A,Pricing!B:B)","v":457.5},{"$f":"Summary!$L$27","v":0.35000000000000003},{"$f":"J18-(J18*K18)","v":297.375},null,{"$f":"IFERROR(U18/I18,\"\")","v":0},{"$f":"IFERROR(V18/I18,\"\")","v":0},{"$f":"IFERROR(W18/I18,\"\")","v":0},{"$f":"IFERROR(X18/I18,\"\")","v":0},{"$f":"IFERROR(Y18/$I18,\"\")","v":0},{"$f":"IFERROR(Z18/$I18,\"\")","v":0},null,null,null,null,null,null,null,{"$f":"SUM(U18:Z18)","v":0},null,0,0,0,{"$f":"L18*X18","v":0},{"$f":"$L18*Y18","v":0},{"$f":"$L18*Z18","v":0},{"$f":"SUM(AC18:AH18)","v":0}]
[null,null,"Pressure Washer acc.","Surface Cleaner SC 300",null,590657901,null,null,{"$f":"IFERROR(_xlfn.XLOOKUP(F19,'Direct shipment'!D:D,'Direct shipment'!W:W),\"\")","v":""},{"$f":"_xlfn.XLOOKUP(F19,Pricing!A:A,Pricing!B:B)","v":37.49},{"$f":"Summary!$L$27","v":0.35000000000000003},24.368499999999997,null,"","","","","","",null,null,null,null,null,null,null,0,null,0,0,0,0,0,0,0]
[null,null,"Pressure Washer acc.","Surface Cleaner SC 400",null,590657801,null,null,{"$f":"IFERROR(_xlfn.XLOOKUP(F20,'Direct shipment'!D:D,'Direct shipment'!W:W),\"\")","v":""},{"$f":"_xlfn.XLOOKUP(F20,Pricing!A:A,Pricing!B:B)","v":83.33},{"$f":"Summary!$L$27","v":0.35000000000000003},54.164499999999997,null,"","","","","","",null,null,null,null,null,null,null,0,null,0,0,0,0,0,0,0]
[null,null,"Pressure Washer acc.","Vehicle Kit",null,590660701,null,null,{"$f":"IFERROR(_xlfn.XLOOKUP(F21,'Direct shipment'!D:D,'Direct shipment'!W:W),\"\")","v":""},{"$f":"_xlfn.XLOOKUP(F21,Pricing!A:A,Pricing!B:B)","v":54.16},{"$f":"Summary!$L$27","v":0.35000000000000003},35.203999999999994,null,"","","","","","",null,null,null,null,null,null,null,0,null,0,0,0,0,0,0,0]
[null,null,"Pressure Washer acc.","Rotating Brush Kit",null,590660601,null,null,{"$f":"IFERROR(_xlfn.XLOOKUP(F22,'Direct shipment'!D:D,'Direct shipment'!W:W),\"\")","v":""},{"$f":"_xlfn.XLOOKUP(F22,Pricing!A:A,Pricing!B:B)","v":54.16},{"$f":"Summary!$L$27","v":0.35000000000000003},35.203999999999994,null,"","","","","","",null,null,null,null,null,null,null,0,null,0,0,0,0,0,0,0]
[null,null,"Pressure Washer acc.","Foam Sprayer FS 300",null,590660401,null,null,{"$f":"IFERROR(_xlfn.XLOOKUP(F23,'Direct shipment'!D:D,'Direct shipment'!W:W),\"\")","v":""},{"$f":"_xlfn.XLOOKUP(F23,Pricing!A:A,Pricing!B:B)","v":29.16},{"$f":"Summary!$L$27","v":0.35000000000000003},18.954000000000001,null,"","","","","","",null,null,null,null,null,null,null,0,null,0,0,0,0,0,0,0]
[null,null,"Pressure Washer acc.","Angled spray lance",null,590661101,null,null,{"$f":"IFERROR(_xlfn.XLOOKUP(F24,'Direct shipment'!D:D,'Direct shipment'!W:W),\"\")","v":""},{"$f":"_xlfn.XLOOKUP(F24,Pricing!A:A,Pricing!B:B)","v":66.66},{"$f":"Summary!$L$27","v":0.35000000000000003},43.328999999999994,null,"","","","","","",null,null,null,null,null,null,null,0,null,0,0,0,0,0,0,0]
[null,null,"Pressure Washer acc.","Pipe Cleaning Hose - 15m",null,590661001,null,null,{"$f":"IFERROR(_xlfn.XLOOKUP(F25,'Direct shipment'!D:D,'Direct shipment'!W:W),\"\")","v":""},{"$f":"_xlfn.XLOOKUP(F25,Pricing!A:A,Pricing!B:B)","v":83.33},{"$f":"Summary!$L$27","v":0.35000000000000003},54.164499999999997,null,"","","","","","",null,null,null,null,null,null,null,0,null,0,0,0,0,0,0,0]
[null,null,"Pressure Washer acc.","Water Suction Nozzle",null,590660501,null,null,{"$f":"IFERROR(_xlfn.XLOOKUP(F26,'Direct shipment'!D:D,'Direct shipment'!W:W),\"\")","v":""},{"$f":"_xlfn.XLOOKUP(F26,Pricing!A:A,Pricing!B:B)","v":29.16},{"$f":"Summary!$L$27","v":0.35000000000000003},18.954000000000001,null,"","","","","","",null,null,null,null,null,null,null,0,null,0,0,0,0,0,0,0]
[null,null,"Pressure Washer acc.","Extension Hose 8m",null,590660801,null,null,{"$f":"IFERROR(_xlfn.XLOOKUP(F27,'Direct shipment'!D:D,'Direct shipment'!W:W),\"\")","v":""},{"$f":"_xlfn.XLOOKUP(F27,Pricing!A:A,Pricing!B:B)","v":54.16},{"$f":"Summary!$L$27","v":0.35000000000000003},35.203999999999994,null,"","","","","","",null,null,null,null,null,null,null,0,null,0,0,0,0,0,0,0]
[null,null,"Pressure Washer acc.","Extension Hose Steel Armed 10m",null,590660901,null,null,{"$f":"IFERROR(_xlfn.XLOOKUP(F28,'Direct shipment'!D:D,'Direct shipment'!W:W),\"\")","v":""},{"$f":"_xlfn.XLOOKUP(F28,Pricing!A:A,Pricing!B:B)","v":99.99},{"$f":"Summary!$L$27","v":0.35000000000000003},64.993499999999983,null,"","","","","","",null,null,null,null,null,null,null,0,null,0,0,0,0,0,0,0]
[null,null,"Pressure Washer acc.","Suction hose",null,590659701,null,null,{"$f":"IFERROR(_xlfn.XLOOKUP(F29,'Direct shipment'!D:D,'Direct shipment'!W:W),\"\")","v":""},{"$f":"_xlfn.XLOOKUP(F29,Pricing!A:A,Pricing!B:B)","v":45.83},{"$f":"Summary!$L$27","v":0.35000000000000003},29.789499999999997,null,"","","","","","",null,null,null,null,null,null,null,0,null,0,0,0,0,0,0,0]
[null,null,"Pressure Washer acc.","Backflow Preventer",null,590659501,null,null,{"$f":"IFERROR(_xlfn.XLOOKUP(F30,'Direct shipment'!D:D,'Direct shipment'!W:W),\"\")","v":""},{"$f":"_xlfn.XLOOKUP(F30,Pricing!A:A,Pricing!B:B)","v":54.16},{"$f":"Summary!$L$27","v":0.35000000000000003},35.203999999999994,null,"","","","","","",null,null,null,null,null,null,null,0,null,0,0,0,0,0,0,0]
[null,null,"Pressure Washer acc.","Water filter WF300",null,590659301,null,null,{"$f":"IFERROR(_xlfn.XLOOKUP(F31,'Direct shipment'!D:D,'Direct shipment'!W:W),\"\")","v":""},{"$f":"_xlfn.XLOOKUP(F31,Pricing!A:A,Pricing!B:B)","v":12.49},{"$f":"Summary!$L$27","v":0.35000000000000003},8.1185000000000009,null,"","","","","","",null,null,null,null,null,null,null,0,null,0,0,0,0,0,0,0]
[null,null,"Pressure Washer acc.","Stone and Wood Cleaner",null,590661201,null,null,{"$f":"IFERROR(_xlfn.XLOOKUP(F32,'Direct shipment'!D:D,'Direct shipment'!W:W),\"\")","v":""},{"$f":"_xlfn.XLOOKUP(F32,Pricing!A:A,Pricing!B:B)","v":16.66},{"$f":"Summary!$L$27","v":0.35000000000000003},10.829000000000001,null,"","","","","","",null,null,null,null,null,null,null,0,null,0,0,0,0,0,0,0]
[null,null,"Pressure Washer acc.","Car Combi Cleaner",null,590661301,null,null,{"$f":"IFERROR(_xlfn.XLOOKUP(F33,'Direct shipment'!D:D,'Direct shipment'!W:W),\"\")","v":""},{"$f":"_xlfn.XLOOKUP(F33,Pricing!A:A,Pricing!B:B)","v":16.66},{"$f":"Summary!$L$27","v":0.35000000000000003},10.829000000000001,null,"","","","","","",null,null,null,null,null,null,null,0,null,0,0,0,0,0,0,0]

{"sheet":"Walk Behinds","index":19,"n_rows":38,"n_cols":35,"rows_kept":38,"cut":false,"hidden":false,"merged":[[36,3,36,4],[37,3,37,4],[33,3,33,4],[35,3,35,4],[30,3,30,4],[31,3,31,4],[34,3,34,4],[25,3,25,4],[26,3,26,4],[28,3,28,4],[27,3,27,4],[29,3,29,4],[13,3,13,4],[14,3,14,4],[15,3,15,4],[23,3,23,4],[24,3,24,4],[16,3,16,4],[17,3,17,4],[18,3,18,4],[19,3,19,4],[20,3,20,4],[21,3,21,4],[22,3,22,4],[12,1,37,1],[10,28,10,34],[1,4,1,8],[2,4,2,8],[3,4,3,8],[4,4,4,8],[5,4,5,8],[6,4,6,8],[7,4,7,8],[8,3,8,5],[8,6,8,8],[10,2,10,11],[10,20,10,26],[32,3,32,4],[11,3,11,4],[12,3,12,4]]}
[]
[null,null,null,"Dealer Name",{"$f":"Summary!F2","v":"Winchester Garden Machinery Ltd - Arb"}]
[null,null,null,"Dealer Postcode",{"$f":"Summary!F3","v":"SO21 1HF"}]
[null,null,null,"Account Number",{"$f":"Summary!F4","v":28400505}]
[null,null,null,"Order Number",{"$f":"Summary!F5","v":0}]
[null,null,null,"Project Code",{"$f":"Summary!F6","v":"PSO2024"}]
[null,null,null,"Order Date",{"$f":"Summary!F7","v":"00:00:00"}]
[null,null,null,"ABM",{"$f":"Summary!F8","v":"Francesca_Bosley"}]
[null,null,null,"PSO minimum 40% of turnover = Additional 2% terms",null,null,{"$f":"Summary!I9","v":0.02}]
[]
[null,null,"Walk Behind Mowers",null,null,null,null,null,null,null,null,null,null,null,null,null,null,null,null,null,"Order Quantity",null,null,null,null,null,null,null,"Order Value"]
[null,null,"Product Type","Model Description",null,"PNC","Size","Replaces","Pallet Qty","List Price 2024 Ex VAT","Discount","Dealer Net Price",null,null,null,null,null,null,null,null,"January","February","March","April","May","June","Total Qty",null,"January","February","March","April","May","June","Total Value"]
[null,"Walk Behind Mowers","Cable Layer - Battery","CL400i",null,970549301,null,null,{"$f":"IFERROR(_xlfn.XLOOKUP(F13,'Direct shipment'!D:D,'Direct shipment'!W:W),\"\")","v":6},{"$f":"_xlfn.XLOOKUP(F13,Pricing!A:A,Pricing!B:B)","v":3165.83},{"$f":"Summary!$L$28","v":0.35000000000000003},{"$f":"J13-(J13*K13)","v":2057.7894999999999},null,{"$f":"IFERROR(U13/I13,\"\")","v":0},{"$f":"IFERROR(V13/I13,\"\")","v":0},{"$f":"IFERROR(W13/I13,\"\")","v":0},{"$f":"IFERROR(X13/$I13,\"\")","v":0},{"$f":"IFERROR(Y13/$I13,\"\")","v":0},0,null,null,null,null,null,null,null,{"$f":"SUM(U13:Z13)","v":0},null,{"$f":"L13*U13","v":0},{"$f":"L13*V13","v":0},{"$f":"L13*W13","v":0},{"$f":"$L13*X13","v":0},{"$f":"$L13*Y13","v":0},0,{"$f":"SUM(AC13:AH13)","v":0}]
[null,null,"Cable layer - Petrol","CL400",null,967963503,null,null,{"$f":"IFERROR(_xlfn.XLOOKUP(F14,'Direct shipment'!D:D,'Direct shipment'!W:W),\"\")","v":6},{"$f":"_xlfn.XLOOKUP(F14,Pricing!A:A,Pricing!B:B)","v":3082.5},{"$f":"Summary!$L$28","v":0.35000000000000003},{"$f":"J14-(J14*K14)","v":2003.625},null,{"$f":"IFERROR(U14/I14,\"\")","v":0},{"$f":"IFERROR(V14/I14,\"\")","v":0},{"$f":"IFERROR(W14/I14,\"\")","v":0},{"$f":"IFERROR(X14/I14,\"\")","v":0},{"$f":"IFERROR(Y14/$I14,\"\")","v":0},{"$f":"IFERROR(Z14/$I14,\"\")","v":0},null,null,null,null,null,null,null,{"$f":"SUM(U14:Z14)","v":0},null,0,0,0,{"$f":"L14*X14","v":0},{"$f":"$L14*Y14","v":0},{"$f":"$L14*Z14","v":0},{"$f":"SUM(AC14:AH14)","v":0}]
[null,null,"Manual Mower","64 Hi Cut",null,964954002,null,null,{"$f":"IFERROR(_xlfn.XLOOKUP(F15,'Direct shipment'!D:D,'Direct shipment'!W:W),\"\")","v":18},{"$f":"_xlfn.XLOOKUP(F15,Pricing!A:A,Pricing!B:B)","v":120.83},{"$f":"Summary!$L$28","v":0.35000000000000003},78.539500000000004,null,0,0,0,0,0,0,null,null,null,null,null,null,null,0,null,0,0,0,0,0,0,0]
[null,null,"Manual Mower acc.","Grass Collector",null,964901030,null,null,{"$f":"IFERROR(_xlfn.XLOOKUP(F16,'Direct shipment'!D:D,'Direct shipment'!W:W),\"\")","v":40},{"$f":"_xlfn.XLOOKUP(F16,Pricing!A:A,Pricing!B:B)","v":33.33},{"$f":"Summary!$L$28","v":0.35000000000000003},21.664499999999997,null,0,0,0,0,0,0,null,null,null,null,null,null,null,0,null,0,0,0,0,0,0,0]
[null,null,"Ped Mower","LC 140SP",null,970488201,null,null,null,{"$f":"_xlfn.XLOOKUP(F17,Pricing!A:A,Pricing!B:B)","v":332.5},{"$f":"Summary!$L$28","v":0.35000000000000003},{"$f":"J17-(J17*K17)","v":216.125},null,{"$f":"IFERROR(U17/I17,\"\")","v":""},{"$f":"IFERROR(V17/I17,\"\")","v":""},{"$f":"IFERROR(W17/I17,\"\")","v":""},{"$f":"IFERROR(X17/I17,\"\")","v":""},{"$f":"IFERROR(Y17/$I17,\"\")","v":""},"",null,null,null,null,null,null,null,{"$f":"SUM(U17:Z17)","v":0},null,{"$f":"L17*U17","v":0},{"$f":"L17*V17","v":0},{"$f":"L17*W17","v":0},{"$f":"L17*X17","v":0},{"$f":"$L17*Y17","v":0},0,{"$f":"SUM(AC17:AH17)","v":0}]
[null,null,"Ped Mower","LC 151S",null,970488401,null,null,{"$f":"IFERROR(_xlfn.XLOOKUP(F18,'Direct shipment'!D:D,'Direct shipment'!W:W),\"\")","v":"8 or 10"},{"$f":"_xlfn.XLOOKUP(F18,Pricing!A:A,Pricing!B:B)","v":457.5},{"$f":"Summary!$L$28","v":0.35000000000000003},297.375,null,"","","","","","",null,null,null,null,null,null,null,0,null,0,0,0,0,0,0,0]
[null,null,"Ped Mower","LC 247",null,970541101,null,null,{"$f":"IFERROR(_xlfn.XLOOKUP(F19,'Direct shipment'!D:D,'Direct shipment'!W:W),\"\")","v":10},{"$f":"_xlfn.XLOOKUP(F19,Pricing!A:A,Pricing!B:B)","v":432.5},{"$f":"Summary!$L$28","v":0.35000000000000003},281.125,null,0,0,0,0,0,0,null,null,null,null,null,null,null,0,null,0,0,0,0,0,0,0]
[null,null,"Ped Mower","LC 247S (HQV engine)",null,970541201,null,null,{"$f":"IFERROR(_xlfn.XLOOKUP(F20,'Direct shipment'!D:D,'Direct shipment'!W:W),\"\")","v":10},{"$f":"_xlfn.XLOOKUP(F20,Pricing!A:A,Pricing!B:B)","v":474.17},{"$f":"Summary!$L$28","v":0.35000000000000003},{"$f":"IF(AA20>5,(J20-(J20*K20))*0.96,J20-(J20*K20))","v":295.88208000000003},null,0.2,0.2,0.4,0.4,0,0,null,2,2,4,4,null,null,12,null,591.76416000000006,591.76416000000006,1183.5283200000001,1183.5283200000001,0,0,3550.5849600000001]
[null,null,"Ped Mower","LC 253S",null,970541501,null,null,{"$f":"IFERROR(_xlfn.XLOOKUP(F21,'Direct shipment'!D:D,'Direct shipment'!W:W),\"\")","v":10},{"$f":"_xlfn.XLOOKUP(F21,Pricing!A:A,Pricing!B:B)","v":582.5},{"$f":"Summary!$L$28","v":0.35000000000000003},378.625,null,0,0,0,0,0,0,null,null,null,null,null,null,null,0,null,0,0,0,0,0,0,0]
[null,null,"Ped Mower","LC 347V",null,970541301,null,null,{"$f":"IFERROR(_xlfn.XLOOKUP(F22,'Direct shipment'!D:D,'Direct shipment'!W:W),\"\")","v":10},{"$f":"_xlfn.XLOOKUP(F22,Pricing!A:A,Pricing!B:B)","v":624.16999999999996},{"$f":"Summary!$L$28","v":0.35000000000000003},405.71049999999991,null,0,0,0,0,0,0,null,null,null,null,null,null,null,0,null,0,0,0,0,0,0,0]
[null,null,"Ped Mower","LC 353V",null,970541601,null,null,{"$f":"IFERROR(_xlfn.XLOOKUP(F23,'Direct shipment'!D:D,'Direct shipment'!W:W),\"\")","v":10},{"$f":"_xlfn.XLOOKUP(F23,Pricing!A:A,Pricing!B:B)","v":665.83},{"$f":"Summary!$L$28","v":0.35000000000000003},432.78949999999998,null,0,0,0,0,0,0,null,null,null,null,null,null,null,0,null,0,0,0,0,0,0,0]
[null,null,"Ped Mower","KLIPPO LB 442Q",null,970608501,null,null,{"$f":"IFERROR(_xlfn.XLOOKUP(F24,'Direct shipment'!D:D,'Direct shipment'!W:W),\"\")","v":8},{"$f":"_xlfn.XLOOKUP(F24,Pricing!A:A,Pricing!B:B)","v":515.83000000000004},{"$f":"Summary!$L$28","v":0.35000000000000003},335.28949999999998,null,0,0,0,0,0,0,null,null,null,null,null,null,null,0,null,0,0,0,0,0,0,0]
[null,null,"Ped Mower","KLIPPO LB 448Q",null,970608701,null,null,{"$f":"IFERROR(_xlfn.XLOOKUP(F25,'Direct shipment'!D:D,'Direct shipment'!W:W),\"\")","v":8},{"$f":"_xlfn.XLOOKUP(F25,Pricing!A:A,Pricing!B:B)","v":649.16999999999996},{"$f":"Summary!$L$28","v":0.35000000000000003},421.96049999999991,null,0,0,0,0,0,0,null,null,null,null,null,null,null,0,null,0,0,0,0,0,0,0]
[null,null,"Ped Mower","  KLIPPO LB 448SQ",null,970608801,null,null,{"$f":"IFERROR(_xlfn.XLOOKUP(F26,'Direct shipment'!D:D,'Direct shipment'!W:W),\"\")","v":8},{"$f":"_xlfn.XLOOKUP(F26,Pricing!A:A,Pricing!B:B)","v":749.17},{"$f":"Summary!$L$28","v":0.35000000000000003},486.96049999999997,null,0,0,0,0,0,0,null,null,null,null,null,null,null,0,null,0,0,0,0,0,0,0]
[null,null,"Ped Mower","  KLIPPO LB 453SQ",null,970608901,null,null,{"$f":"IFERROR(_xlfn.XLOOKUP(F27,'Direct shipment'!D:D,'Direct shipment'!W:W),\"\")","v":8},{"$f":"_xlfn.XLOOKUP(F27,Pricing!A:A,Pricing!B:B)","v":832.5},{"$f":"Summary!$L$28","v":0.35000000000000003},541.125,null,0,0,0.125,0,0,0,null,null,null,1,null,null,null,1,null,0,0,541.125,0,0,0,541.125]
[null,null,"Ped Mower","  KLIPPO LB 548SQe",null,970609001,null,null,{"$f":"IFERROR(_xlfn.XLOOKUP(F28,'Direct shipment'!D:D,'Direct shipment'!W:W),\"\")","v":8},{"$f":"_xlfn.XLOOKUP(F28,Pricing!A:A,Pricing!B:B)","v":949.17},{"$f":"Summary!$L$28","v":0.35000000000000003},616.96049999999991,null,0,0,0,0,0,0,null,null,null,null,null,null,null,0,null,0,0,0,0,0,0,0]
[null,null,"Ped Mower","  LC 551VBP",null,970621801,null,null,{"$f":"IFERROR(_xlfn.XLOOKUP(F29,'Direct shipment'!D:D,'Direct shipment'!W:W),\"\")","v":10},{"$f":"_xlfn.XLOOKUP(F29,Pricing!A:A,Pricing!B:B)","v":1207.5},{"$f":"Summary!$L$28","v":0.35000000000000003},{"$f":"J29-(J29*K29)","v":784.875},null,{"$f":"IFERROR(U29/I29,\"\")","v":0},{"$f":"IFERROR(V29/I29,\"\")","v":0},{"$f":"IFERROR(W29/I29,\"\")","v":0},{"$f":"IFERROR(X29/I29,\"\")","v":0},{"$f":"IFERROR(Y29/$I29,\"\")","v":0},{"$f":"IFERROR(Z29/$I29,\"\")","v":0},null,null,null,null,null,null,null,{"$f":"SUM(U29:Z29)","v":0},null,{"$f":"L29*U29","v":0},{"$f":"L29*V29","v":0},{"$f":"L29*W29","v":0},{"$f":"L29*X29","v":0},{"$f":"$L29*Y29","v":0},{"$f":"$L29*Z29","v":0},{"$f":"SUM(AC29:AH29)","v":0}]
[null,null,"Ped Mower","  LC 551VQ",null,970609401,null,null,{"$f":"IFERROR(_xlfn.XLOOKUP(F30,'Direct shipment'!D:D,'Direct shipment'!W:W),\"\")","v":10},{"$f":"_xlfn.XLOOKUP(F30,Pricing!A:A,Pricing!B:B)","v":915.83},{"$f":"Summary!$L$28","v":0.35000000000000003},595.28949999999998,null,0,0,0,0,0,0,null,null,null,null,null,null,null,0,null,0,0,0,0,0,0,0]
[null,null,"Ped Mower","  LC 551SP",null,970621701,null,null,{"$f":"IFERROR(_xlfn.XLOOKUP(F31,'Direct shipment'!D:D,'Direct shipment'!W:W),\"\")","v":10},{"$f":"_xlfn.XLOOKUP(F31,Pricing!A:A,Pricing!B:B)","v":949.17},{"$f":"Summary!$L$28","v":0.35000000000000003},616.96049999999991,null,0,0,0,0,0,0,null,null,null,null,null,null,null,0,null,0,0,0,0,0,0,0]
[null,null,"Ped Mower","  KLIPPO LB 553SQe",null,970609101,null,null,{"$f":"IFERROR(_xlfn.XLOOKUP(F32,'Direct shipment'!D:D,'Direct shipment'!W:W),\"\")","v":8},{"$f":"_xlfn.XLOOKUP(F32,Pricing!A:A,Pricing!B:B)","v":1032.5},{"$f":"Summary!$L$28","v":0.35000000000000003},{"$f":"IF(AA32>5,(J32-(J32*K32))*0.96,(J32-(J32*K32)))","v":644.28},null,0.125,0.125,0.25,0.125,0.125,0,null,1,1,2,1,1,null,6,null,644.28,644.28,1288.56,644.28,644.28,0,3865.6799999999994]
[null,null,"Ped Mower","GX560",null,970617501,null,null,{"$f":"IFERROR(_xlfn.XLOOKUP(F33,'Direct shipment'!D:D,'Direct shipment'!W:W),\"\")","v":10},{"$f":"_xlfn.XLOOKUP(F33,Pricing!A:A,Pricing!B:B)","v":749.17},{"$f":"Summary!$L$28","v":0.35000000000000003},486.96049999999997,null,0,0,0.1,0,0.1,0,null,null,null,1,null,1,null,2,null,0,0,486.96049999999997,0,486.96049999999997,0,973.92099999999994]
[null,null,"Ped Mower acc.","Mulch kit for LC 153P/153S/151/151S",null,598018001,null,null,{"$f":"IFERROR(_xlfn.XLOOKUP(F34,'Direct shipment'!D:D,'Direct shipment'!W:W),\"\")","v":""},{"$f":"_xlfn.XLOOKUP(F34,Pricing!A:A,Pricing!B:B)","v":37.49},{"$f":"Summary!$L$28","v":0.35000000000000003},{"$f":"J34-(J34*K34)","v":24.368499999999997},null,{"$f":"IFERROR(U34/I34,\"\")","v":""},{"$f":"IFERROR(V34/I34,\"\")","v":""},{"$f":"IFERROR(W34/I34,\"\")","v":""},{"$f":"IFERROR(X34/I34,\"\")","v":""},{"$f":"IFERROR(Y34/$I34,\"\")","v":""},"",null,null,null,null,null,null,null,{"$f":"SUM(U34:Z34)","v":0},null,{"$f":"L34*U34","v":0},{"$f":"L34*V34","v":0},{"$f":"L34*W34","v":0},{"$f":"L34*X34","v":0},{"$f":"$L34*Y34","v":0},0,{"$f":"SUM(AC34:AH34)","v":0}]
[null,null,"Ped Mower acc.","LC 200/300 - 47cm Mulch Kit (includes blade & mulch plug)",null,589214801,null,null,{"$f":"IFERROR(_xlfn.XLOOKUP(F35,'Direct shipment'!D:D,'Direct shipment'!W:W),\"\")","v":""},{"$f":"_xlfn.XLOOKUP(F35,Pricing!A:A,Pricing!B:B)","v":37.49},{"$f":"Summary!$L$28","v":0.35000000000000003},{"$f":"J35-(J35*K35)","v":24.368499999999997},null,{"$f":"IFERROR(U35/I35,\"\")","v":""},{"$f":"IFERROR(V35/I35,\"\")","v":""},{"$f":"IFERROR(W35/I35,\"\")","v":""},{"$f":"IFERROR(X35/I35,\"\")","v":""},"","",null,null,null,null,null,null,null,{"$f":"SUM(U35:Z35)","v":0},null,{"$f":"L35*U35","v":0},{"$f":"L35*V35","v":0},{"$f":"L35*W35","v":0},{"$f":"L35*X35","v":0},0,0,{"$f":"SUM(AC35:AH35)","v":0}]
[null,null,"Ped Mower acc.","LC 200/300 - 53cm Mulch Kit (includes blade & mulch plug)",null,582680601,null,null,{"$f":"IFERROR(_xlfn.XLOOKUP(F36,'Direct shipment'!D:D,'Direct shipment'!W:W),\"\")","v":""},{"$f":"_xlfn.XLOOKUP(F36,Pricing!A:A,Pricing!B:B)","v":41.66},{"$f":"Summary!$L$28","v":0.35000000000000003},{"$f":"J36-(J36*K36)","v":27.078999999999997},null,{"$f":"IFERROR(U36/I36,\"\")","v":""},{"$f":"IFERROR(V36/I36,\"\")","v":""},{"$f":"IFERROR(W36/I36,\"\")","v":""},{"$f":"IFERROR(X36/I36,\"\")","v":""},"","",null,null,null,null,null,null,null,{"$f":"SUM(U36:Z36)","v":0},null,{"$f":"L36*U36","v":0},{"$f":"L36*V36","v":0},{"$f":"L36*W36","v":0},{"$f":"L36*X36","v":0},0,0,{"$f":"SUM(AC36:AH36)","v":0}]
[null,null,"Ped Mower acc.","LC 400 / 500 Mulch Kit (includes blade & mulch plug)",null,589214902,null,null,{"$f":"IFERROR(_xlfn.XLOOKUP(F37,'Direct shipment'!D:D,'Direct shipment'!W:W),\"\")","v":""},{"$f":"_xlfn.XLOOKUP(F37,Pricing!A:A,Pricing!B:B)","v":43.33},{"$f":"Summary!$L$28","v":0.35000000000000003},{"$f":"J37-(J37*K37)","v":28.164499999999997},null,"","","","","","",null,null,null,null,null,null,null,0,null,0,0,0,0,0,0,0]
[null,null,"Ped Mower acc.","LC 551VBP Mulch Kit (includes blade & mulch plug)",null,589817502,null,null,{"$f":"IFERROR(_xlfn.XLOOKUP(F38,'Direct shipment'!D:D,'Direct shipment'!W:W),\"\")","v":""},{"$f":"_xlfn.XLOOKUP(F38,Pricing!A:A,Pricing!B:B)","v":43.33},{"$f":"Summary!$L$28","v":0.35000000000000003},28.164499999999997,null,"","","","","","",null,null,null,null,null,null,null,0,null,0,0,0,0,0,0,0]

{"sheet":"Arborist Accessories","index":20,"n_rows":45,"n_cols":28,"rows_kept":45,"cut":false,"hidden":false,"merged":[[42,3,42,4],[40,3,40,4],[41,3,41,4],[23,3,23,4],[24,3,24,4],[29,3,29,4],[30,3,30,4],[31,3,31,4],[33,3,33,4],[32,3,32,4],[16,3,16,4],[21,3,21,4],[22,3,22,4],[17,3,17,4],[39,3,39,4],[34,3,34,4],[35,3,35,4],[36,3,36,4],[37,3,37,4],[18,3,18,4],[25,3,25,4],[26,3,26,4],[38,3,38,4],[27,3,27,4],[28,3,28,4],[20,3,20,4],[11,3,11,4],[12,3,12,4],[13,3,13,4],[14,3,14,4],[15,3,15,4],[12,1,44,1],[43,3,43,4],[44,3,44,4],[10,21,10,27],[1,4,1,8],[2,4,2,8],[3,4,3,8],[4,4,4,8],[5,4,5,8],[6,4,6,8],[7,4,7,8],[8,3,8,5],[8,6,8,8],[10,2,10,11],[10,13,10,19],[19,3,19,4]]}
[]
[null,null,null,"Dealer Name",{"$f":"Summary!F2","v":"Winchester Garden Machinery Ltd - Arb"}]
[null,null,null,"Dealer Postcode",{"$f":"Summary!F3","v":"SO21 1HF"}]
[null,null,null,"Account Number",{"$f":"Summary!F4","v":28400505}]
[null,null,null,"Order Number",{"$f":"Summary!F5","v":0}]
[null,null,null,"Project Code",{"$f":"Summary!F6","v":"PSO2024"}]
[null,null,null,"Order Date",{"$f":"Summary!F7","v":"00:00:00"}]
[null,null,null,"ABM",{"$f":"Summary!F8","v":"Francesca_Bosley"}]
[null,null,null,"PSO minimum 40% of turnover = Additional 2% terms",null,null,{"$f":"Summary!I9","v":0.02}]
[]
[null,null,"Arborist Accessories",null,null,null,null,null,null,null,null,null,null,"Order Quantity",null,null,null,null,null,null,null,"Order Value"]
[null,null,"Product Type","Model Description",null,"PNC","Size","Replaces","Box Qty","List Price 2024 Ex VAT","Discount","Dealer Net Price",null,"January","February","March","April","May","June","Total Qty",null,"January","February","March","April","May","June","Total Value"]
[null,"Accessories","Arborist Accessories","Wooden Saw Horse",null,546027301,null,null,{"$f":"IFERROR(_xlfn.XLOOKUP(F13,Sheet47!F:F,Sheet47!G:G),\"\")","v":1},{"$f":"_xlfn.XLOOKUP(F13,Pricing!A:A,Pricing!B:B)","v":45.83},{"$f":"Summary!$L$32","v":0.5},{"$f":"J13-(J13*K13)","v":22.914999999999999},null,null,null,null,null,null,null,{"$f":"SUM(N13:S13)","v":0},null,{"$f":"L13*N13","v":0},{"$f":"L13*O13","v":0},{"$f":"L13*P13","v":0},{"$f":"$L13*Q13","v":0},{"$f":"$L13*R13","v":0},0,{"$f":"SUM(V13:AA13)","v":0}]
[null,null,"Arborist Accessories","Prusik, Eye-n-Eye 8mm, 76 cm",null,534099901,null,null,{"$f":"IFERROR(_xlfn.XLOOKUP(F14,Sheet47!F:F,Sheet47!G:G),\"\")","v":1},{"$f":"_xlfn.XLOOKUP(F14,Pricing!A:A,Pricing!B:B)","v":24.99},{"$f":"Summary!$L$32","v":0.5},{"$f":"J14-(J14*K14)","v":12.494999999999999},null,null,null,null,null,null,null,{"$f":"SUM(N14:S14)","v":0},null,{"$f":"L14*N14","v":0},{"$f":"L14*O14","v":0},{"$f":"L14*P14","v":0},{"$f":"L14*Q14","v":0},{"$f":"$L14*R14","v":0},{"$f":"$L14*S14","v":0},{"$f":"SUM(V14:AA14)","v":0}]
[null,null,"Arborist Accessories","Prusik, Eye-n-Eye 8mm, 85 cm",null,534099902,null,null,{"$f":"IFERROR(_xlfn.XLOOKUP(F15,Sheet47!F:F,Sheet47!G:G),\"\")","v":1},{"$f":"_xlfn.XLOOKUP(F15,Pricing!A:A,Pricing!B:B)","v":24.99},{"$f":"Summary!$L$32","v":0.5},{"$f":"J15-(J15*K15)","v":12.494999999999999},null,null,null,null,null,null,null,{"$f":"SUM(N15:S15)","v":0},null,0,0,0,0,0,0,0]
[null,null,"Arborist Accessories","Strap Chainsaw, AntiShock with ring",null,534100801,null,577438001,{"$f":"IFERROR(_xlfn.XLOOKUP(F16,Sheet47!F:F,Sheet47!G:G),\"\")","v":1},{"$f":"_xlfn.XLOOKUP(F16,Pricing!A:A,Pricing!B:B)","v":55.83},{"$f":"Summary!$L$32","v":0.5},27.914999999999999,null,null,null,null,null,null,null,0,null,0,0,0,0,0,0,0]
[null,null,"Arborist Accessories","Sling Multi with ring, 1.3m",null,534099701,null,null,{"$f":"IFERROR(_xlfn.XLOOKUP(F17,Sheet47!F:F,Sheet47!G:G),\"\")","v":1},{"$f":"_xlfn.XLOOKUP(F17,Pricing!A:A,Pricing!B:B)","v":56.66},{"$f":"Summary!$L$32","v":0.5},28.33,null,null,null,null,null,null,null,0,null,0,0,0,0,0,0,0]
[null,null,"Arborist Accessories","Gear Backpack 70L",null,534101801,null,null,{"$f":"IFERROR(_xlfn.XLOOKUP(F18,Sheet47!F:F,Sheet47!G:G),\"\")","v":1},{"$f":"_xlfn.XLOOKUP(F18,Pricing!A:A,Pricing!B:B)","v":207.5},{"$f":"Summary!$L$32","v":0.5},103.75,null,null,null,null,null,null,null,0,null,0,0,0,0,0,0,0]
[null,null,"Arborist Accessories","Lanyard Work positioning 11,5 mm, 4m",null,534099801,null,null,{"$f":"IFERROR(_xlfn.XLOOKUP(F19,Sheet47!F:F,Sheet47!G:G),\"\")","v":1},{"$f":"_xlfn.XLOOKUP(F19,Pricing!A:A,Pricing!B:B)","v":224.17},{"$f":"Summary!$L$32","v":0.5},{"$f":"J19-(J19*K19)","v":112.08499999999999},null,null,null,null,null,null,null,{"$f":"SUM(N19:S19)","v":0},null,{"$f":"L19*N19","v":0},{"$f":"L19*O19","v":0},{"$f":"L19*P19","v":0},{"$f":"L19*Q19","v":0},{"$f":"$L19*R19","v":0},0,{"$f":"SUM(V19:AA19)","v":0}]
[null,null,"Arborist Accessories","Lanyard Work positioning 11,5 mm, 5m",null,534099802,null,null,{"$f":"IFERROR(_xlfn.XLOOKUP(F20,Sheet47!F:F,Sheet47!G:G),\"\")","v":1},{"$f":"_xlfn.XLOOKUP(F20,Pricing!A:A,Pricing!B:B)","v":232.5},{"$f":"Summary!$L$32","v":0.5},{"$f":"J20-(J20*K20)","v":116.25},null,null,null,null,null,null,null,{"$f":"SUM(N20:S20)","v":0},null,{"$f":"L20*N20","v":0},{"$f":"L20*O20","v":0},{"$f":"L20*P20","v":0},{"$f":"L20*Q20","v":0},0,0,{"$f":"SUM(V20:AA20)","v":0}]
[null,null,"Arborist Accessories","Climbing Harness with multiple bridge",null,534098601,null,null,{"$f":"IFERROR(_xlfn.XLOOKUP(F21,Sheet47!F:F,Sheet47!G:G),\"\")","v":1},{"$f":"_xlfn.XLOOKUP(F21,Pricing!A:A,Pricing!B:B)","v":499.17},{"$f":"Summary!$L$32","v":0.5},{"$f":"J21-(J21*K21)","v":249.58500000000001},null,null,null,null,null,null,null,{"$f":"SUM(N21:S21)","v":0},null,{"$f":"L21*N21","v":0},{"$f":"L21*O21","v":0},{"$f":"L21*P21","v":0},{"$f":"L21*Q21","v":0},0,0,{"$f":"SUM(V21:AA21)","v":0}]
[null,null,"Arborist Accessories","Rope Orange, 11.8mm, 45 m, one splice",null,534098801,null,null,{"$f":"IFERROR(_xlfn.XLOOKUP(F22,Sheet47!F:F,Sheet47!G:G),\"\")","v":1},{"$f":"_xlfn.XLOOKUP(F22,Pricing!A:A,Pricing!B:B)","v":165.83},{"$f":"Summary!$L$32","v":0.5},{"$f":"J22-(J22*K22)","v":82.915000000000006},null,null,null,null,null,null,null,{"$f":"SUM(N22:S22)","v":0},null,{"$f":"L22*N22","v":0},{"$f":"L22*O22","v":0},{"$f":"L22*P22","v":0},{"$f":"L22*Q22","v":0},0,0,{"$f":"SUM(V22:AA22)","v":0}]
[null,null,"Arborist Accessories","Rope Blue, 11.8mm, 45 m, one splice",null,534098811,null,null,{"$f":"IFERROR(_xlfn.XLOOKUP(F23,Sheet47!F:F,Sheet47!G:G),\"\")","v":1},{"$f":"_xlfn.XLOOKUP(F23,Pricing!A:A,Pricing!B:B)","v":165.83},{"$f":"Summary!$L$32","v":0.5},{"$f":"J23-(J23*K23)","v":82.915000000000006},null,null,null,null,null,null,null,{"$f":"SUM(N23:S23)","v":0},null,{"$f":"L23*N23","v":0},{"$f":"L23*O23","v":0},{"$f":"L23*P23","v":0},{"$f":"L23*Q23","v":0},0,0,{"$f":"SUM(V23:AA23)","v":0}]
[null,null,"Arborist Accessories","Rope Orange, 11.8mm, 60 m, one splice",null,534098802,null,null,{"$f":"IFERROR(_xlfn.XLOOKUP(F24,Sheet47!F:F,Sheet47!G:G),\"\")","v":1},{"$f":"_xlfn.XLOOKUP(F24,Pricing!A:A,Pricing!B:B)","v":224.17},{"$f":"Summary!$L$32","v":0.5},112.08499999999999,null,null,null,null,null,null,null,0,null,0,0,0,0,0,0,0]
[null,null,"Arborist Accessories","Rope Blue, 11.8mm, 60 m, one splice",null,534098812,null,null,{"$f":"IFERROR(_xlfn.XLOOKUP(F25,Sheet47!F:F,Sheet47!G:G),\"\")","v":1},{"$f":"_xlfn.XLOOKUP(F25,Pricing!A:A,Pricing!B:B)","v":224.17},{"$f":"Summary!$L$32","v":0.5},112.08499999999999,null,null,null,null,null,null,null,0,null,0,0,0,0,0,0,0]
[null,null,"Arborist Accessories","Rope Orange, 11.5mm, 45 m, one splice",null,534098701,null,null,{"$f":"IFERROR(_xlfn.XLOOKUP(F26,Sheet47!F:F,Sheet47!G:G),\"\")","v":1},{"$f":"_xlfn.XLOOKUP(F26,Pricing!A:A,Pricing!B:B)","v":232.5},{"$f":"Summary!$L$32","v":0.5},116.25,null,null,null,null,null,null,null,0,null,0,0,0,0,0,0,0]
[null,null,"Arborist Accessories","Rope Blue, 11.5mm, 45 m, one splice",null,534098711,null,null,{"$f":"IFERROR(_xlfn.XLOOKUP(F27,Sheet47!F:F,Sheet47!G:G),\"\")","v":1},{"$f":"_xlfn.XLOOKUP(F27,Pricing!A:A,Pricing!B:B)","v":232.5},{"$f":"Summary!$L$32","v":0.5},116.25,null,null,null,null,null,null,null,0,null,0,0,0,0,0,0,0]
[null,null,"Arborist Accessories","Rope Orange, 11.5mm, 60 m, one splice",null,534098702,null,null,{"$f":"IFERROR(_xlfn.XLOOKUP(F28,Sheet47!F:F,Sheet47!G:G),\"\")","v":1},{"$f":"_xlfn.XLOOKUP(F28,Pricing!A:A,Pricing!B:B)","v":315.83},{"$f":"Summary!$L$32","v":0.5},{"$f":"J28-(J28*K28)","v":157.91499999999999},null,null,null,null,null,null,null,0,null,0,0,0,0,0,0,0]
[null,null,"Arborist Accessories","Rope Blue, 11.5mm, 60 m, one splice",null,534098712,null,null,{"$f":"IFERROR(_xlfn.XLOOKUP(F29,Sheet47!F:F,Sheet47!G:G),\"\")","v":1},{"$f":"_xlfn.XLOOKUP(F29,Pricing!A:A,Pricing!B:B)","v":315.83},{"$f":"Summary!$L$32","v":0.5},{"$f":"J29-(J29*K29)","v":157.91499999999999},null,null,null,null,null,null,null,0,null,0,0,0,0,0,0,0]
[null,null,"Arborist Accessories","Rope Rigging 14 mm, 60m coil, one splice",null,534098901,null,null,{"$f":"IFERROR(_xlfn.XLOOKUP(F30,Sheet47!F:F,Sheet47!G:G),\"\")","v":1},{"$f":"_xlfn.XLOOKUP(F30,Pricing!A:A,Pricing!B:B)","v":157.5},{"$f":"Summary!$L$32","v":0.5},78.75,null,null,null,null,null,null,null,0,null,0,0,0,0,0,0,0]
[null,null,"Arborist Accessories","Accessory Carabiner",null,536176301,null,null,{"$f":"IFERROR(_xlfn.XLOOKUP(F31,Sheet47!F:F,Sheet47!G:G),\"\")","v":1},{"$f":"_xlfn.XLOOKUP(F31,Pricing!A:A,Pricing!B:B)","v":29.16},{"$f":"Summary!$L$32","v":0.5},14.58,null,null,null,null,null,null,null,0,null,0,0,0,0,0,0,0]
[null,null,"Arborist Accessories","Friction Saver Adjustable, 2m",null,534099201,null,null,{"$f":"IFERROR(_xlfn.XLOOKUP(F32,Sheet47!F:F,Sheet47!G:G),\"\")","v":1},{"$f":"_xlfn.XLOOKUP(F32,Pricing!A:A,Pricing!B:B)","v":91.66},{"$f":"Summary!$L$32","v":0.5},45.83,null,null,null,null,null,null,null,0,null,0,0,0,0,0,0,0]
[null,null,"Arborist Accessories","Rope bag",null,596936311,null,null,{"$f":"IFERROR(_xlfn.XLOOKUP(F33,Sheet47!F:F,Sheet47!G:G),\"\")","v":10},{"$f":"_xlfn.XLOOKUP(F33,Pricing!A:A,Pricing!B:B)","v":50.83},{"$f":"Summary!$L$32","v":0.5},{"$f":"J33-(J33*K33)","v":25.414999999999999},null,null,null,null,null,null,null,{"$f":"SUM(N33:S33)","v":0},null,{"$f":"L33*N33","v":0},{"$f":"L33*O33","v":0},{"$f":"L33*P33","v":0},{"$f":"L33*Q33","v":0},{"$f":"$L33*R33","v":0},{"$f":"$L33*S33","v":0},{"$f":"SUM(V33:AA33)","v":0}]
[null,null,"Arborist Accessories","Carabiner Oval",null,596936211,null,null,{"$f":"IFERROR(_xlfn.XLOOKUP(F34,Sheet47!F:F,Sheet47!G:G),\"\")","v":1000},{"$f":"_xlfn.XLOOKUP(F34,Pricing!A:A,Pricing!B:B)","v":20.83},{"$f":"Summary!$L$32","v":0.5},10.414999999999999,null,null,null,null,null,null,null,0,null,0,0,0,0,0,0,0]
[null,null,"Arborist Accessories","Carabiner D'",null,596936212,null,null,{"$f":"IFERROR(_xlfn.XLOOKUP(F35,Sheet47!F:F,Sheet47!G:G),\"\")","v":1000},{"$f":"_xlfn.XLOOKUP(F35,Pricing!A:A,Pricing!B:B)","v":19.989999999999998},{"$f":"Summary!$L$32","v":0.5},9.9949999999999992,null,null,null,null,null,null,null,0,null,0,0,0,0,0,0,0]
[null,null,"Arborist Accessories","Carabine, HMS",null,596936213,null,null,{"$f":"IFERROR(_xlfn.XLOOKUP(F36,Sheet47!F:F,Sheet47!G:G),\"\")","v":1000},{"$f":"_xlfn.XLOOKUP(F36,Pricing!A:A,Pricing!B:B)","v":19.989999999999998},{"$f":"Summary!$L$32","v":0.5},9.9949999999999992,null,null,null,null,null,null,null,0,null,0,0,0,0,0,0,0]
[null,null,"Arborist Accessories","Wedge Arborist 4\"",null,598035701,null,null,{"$f":"IFERROR(_xlfn.XLOOKUP(F37,Sheet47!F:F,Sheet47!G:G),\"\")","v":1},{"$f":"_xlfn.XLOOKUP(F37,Pricing!A:A,Pricing!B:B)","v":11.66},{"$f":"Summary!$L$32","v":0.5},5.83,null,null,null,null,null,null,null,0,null,0,0,0,0,0,0,0]
[null,null,"Arborist Accessories","Folding Throwline Cube",null,596936011,null,null,{"$f":"IFERROR(_xlfn.XLOOKUP(F38,Sheet47!F:F,Sheet47!G:G),\"\")","v":1},{"$f":"_xlfn.XLOOKUP(F38,Pricing!A:A,Pricing!B:B)","v":57.49},{"$f":"Summary!$L$32","v":0.5},28.745000000000001,null,null,null,null,null,null,null,0,null,0,0,0,0,0,0,0]
[null,null,"Arborist Accessories","Throw Weight - 14 oz",null,596935811,null,null,{"$f":"IFERROR(_xlfn.XLOOKUP(F39,Sheet47!F:F,Sheet47!G:G),\"\")","v":50},{"$f":"_xlfn.XLOOKUP(F39,Pricing!A:A,Pricing!B:B)","v":20.83},{"$f":"Summary!$L$32","v":0.5},10.414999999999999,null,null,null,null,null,null,null,0,null,0,0,0,0,0,0,0]
[null,null,"Arborist Accessories","Throw Weight - 12 oz",null,596935812,null,null,{"$f":"IFERROR(_xlfn.XLOOKUP(F40,Sheet47!F:F,Sheet47!G:G),\"\")","v":50},{"$f":"_xlfn.XLOOKUP(F40,Pricing!A:A,Pricing!B:B)","v":20.83},{"$f":"Summary!$L$32","v":0.5},{"$f":"J40-(J40*K40)","v":10.414999999999999},null,null,null,null,null,null,null,{"$f":"SUM(N40:S40)","v":0},null,{"$f":"L40*N40","v":0},{"$f":"L40*O40","v":0},{"$f":"L40*P40","v":0},{"$f":"L40*Q40","v":0},{"$f":"$L40*R40","v":0},0,0]
[null,null,"Arborist Accessories","Throw Weight - 10 oz",null,596935813,null,null,{"$f":"IFERROR(_xlfn.XLOOKUP(F41,Sheet47!F:F,Sheet47!G:G),\"\")","v":1},{"$f":"_xlfn.XLOOKUP(F41,Pricing!A:A,Pricing!B:B)","v":20.83},{"$f":"Summary!$L$32","v":0.5},10.414999999999999,null,null,null,null,null,null,null,0,null,0,0,0,0,0,0,0]
[null,null,"Arborist Accessories","Throw Weight - 8 oz",null,596935814,null,null,{"$f":"IFERROR(_xlfn.XLOOKUP(F42,Sheet47!F:F,Sheet47!G:G),\"\")","v":1},{"$f":"_xlfn.XLOOKUP(F42,Pricing!A:A,Pricing!B:B)","v":20.83},{"$f":"Summary!$L$32","v":0.5},10.414999999999999,null,null,null,null,null,null,null,0,null,0,0,0,0,0,0,0]
[null,null,"Arborist Accessories","Throwline, 180'",null,596935911,null,null,{"$f":"IFERROR(_xlfn.XLOOKUP(F43,Sheet47!F:F,Sheet47!G:G),\"\")","v":20},{"$f":"_xlfn.XLOOKUP(F43,Pricing!A:A,Pricing!B:B)","v":39.99},{"$f":"Summary!$L$32","v":0.5},19.995000000000001,null,null,null,null,null,null,null,0,null,0,0,0,0,0,0,0]
[null,null,"Chainsaw Accessory","Chainsaw Case - <55CC",null,536944801,null,null,{"$f":"IFERROR(_xlfn.XLOOKUP(F44,Sheet47!F:F,Sheet47!G:G),\"\")","v":1},{"$f":"_xlfn.XLOOKUP(F44,Pricing!A:A,Pricing!B:B)","v":12.49},{"$f":"Summary!$L$32","v":0.5},6.2450000000000001,null,null,null,null,null,null,null,0,null,0,0,0,0,0,0,0]
[null,null,"Chainsaw Accessory","Chainsaw Case - >55CC",null,536944802,null,null,{"$f":"IFERROR(_xlfn.XLOOKUP(F45,Sheet47!F:F,Sheet47!G:G),\"\")","v":1},{"$f":"_xlfn.XLOOKUP(F45,Pricing!A:A,Pricing!B:B)","v":16.66},{"$f":"Summary!$L$32","v":0.5},{"$f":"IFERROR(J45-(J45*K45),\"0\")","v":8.33},null,null,null,null,null,null,null,0,null,0,0,0,0,0,0,0]

{"sheet":"Automower Accessories","index":21,"n_rows":50,"n_cols":28,"rows_kept":50,"cut":false,"hidden":false,"merged":[[10,21,10,27],[1,4,1,8],[2,4,2,8],[3,4,3,8],[4,4,4,8],[5,4,5,8],[6,4,6,8],[7,4,7,8],[8,3,8,5],[8,6,8,8],[10,2,10,11],[10,13,10,19],[21,3,21,4],[11,3,11,4],[12,3,12,4],[13,3,13,4],[33,3,33,4],[14,3,14,4],[16,3,16,4],[17,3,17,4],[18,3,18,4],[19,3,19,4],[15,3,15,4],[20,3,20,4],[23,3,23,4],[24,3,24,4],[25,3,25,4],[26,3,26,4],[27,3,27,4],[49,3,49,4],[28,3,28,4],[29,3,29,4],[30,3,30,4],[31,3,31,4],[34,3,34,4],[36,3,36,4],[12,1,49,1],[40,3,40,4],[41,3,41,4],[42,3,42,4],[44,3,44,4],[22,3,22,4],[32,3,32,4],[35,3,35,4],[37,3,37,4],[38,3,38,4],[39,3,39,4],[43,3,43,4],[46,3,46,4],[47,3,47,4],[48,3,48,4],[45,3,45,4]]}
[]
[null,null,null,"Dealer Name",{"$f":"Summary!F2","v":"Winchester Garden Machinery Ltd - Arb"}]
[null,null,null,"Dealer Postcode",{"$f":"Summary!F3","v":"SO21 1HF"}]
[null,null,null,"Account Number",{"$f":"Summary!F4","v":28400505}]
[null,null,null,"Order Number",{"$f":"Summary!F5","v":0}]
[null,null,null,"Project Code",{"$f":"Summary!F6","v":"PSO2024"}]
[null,null,null,"Order Date",{"$f":"Summary!F7","v":"00:00:00"}]
[null,null,null,"ABM",{"$f":"Summary!F8","v":"Francesca_Bosley"}]
[null,null,null,"PSO minimum 40% of turnover = Additional 2% terms",null,null,{"$f":"Summary!I9","v":0.02}]
[]
[null,null,"Automower Accessories",null,null,null,null,null,null,null,null,null,null,"Order Quantity",null,null,null,null,null,null,null,"Order Value"]
[null,null,"Product Type","Model Description",null,"PNC","Size","Replaces","Box Qty","List Price 2024 Ex VAT","Discount","Dealer Net Price",null,"January","February","March","April","May","June","Total Qty",null,"January","February","March","April","May","June","Total Value"]
[null,null,"Automower Accessory","Automower® Connect 2G + 4G (2023)",null,586662313,null,586662312,{"$f":"IFERROR(_xlfn.XLOOKUP(F13,Sheet47!F:F,Sheet47!G:G),\"\")","v":1},{"$f":"_xlfn.XLOOKUP(F13,Pricing!A:A,Pricing!B:B)","v":249.17},{"$f":"Summary!$L$34","v":0.57000000000000006},{"$f":"J13-(J13*K13)","v":107.14309999999998},null,null,null,null,null,null,null,{"$f":"SUM(N13:S13)","v":0},null,{"$f":"L13*N13","v":0},{"$f":"L13*O13","v":0},{"$f":"L13*P13","v":0},{"$f":"L13*Q13","v":0},{"$f":"$L13*R13","v":0},{"$f":"$L13*S13","v":0},{"$f":"SUM(V13:AA13)","v":0}]
[null,null,"Automower Accessory","Automower® Battery Charger",null,588408402,null,588408401,{"$f":"IFERROR(_xlfn.XLOOKUP(F14,Sheet47!F:F,Sheet47!G:G),\"\")","v":1},{"$f":"_xlfn.XLOOKUP(F14,Pricing!A:A,Pricing!B:B)","v":149.99},{"$f":"Summary!$L$34","v":0.57000000000000006},64.495699999999999,null,null,null,null,null,null,null,{"$f":"SUM(N14:S14)","v":0},null,0,0,0,0,0,0,0]
[null,null,"Automower Accessory","Automower NERA (P21) Terrain Kit",null,536849201,null,null,{"$f":"IFERROR(_xlfn.XLOOKUP(F15,Sheet47!F:F,Sheet47!G:G),\"\")","v":1},{"$f":"_xlfn.XLOOKUP(F15,Pricing!A:A,Pricing!B:B)","v":79.16},{"$f":"Summary!$L$34","v":0.57000000000000006},34.038799999999995,null,null,null,null,null,null,null,0,null,0,0,0,0,0,0,0]
[null,null,"Automower Accessory","Automower Cutting Disk M",null,536326201,null,null,{"$f":"IFERROR(_xlfn.XLOOKUP(F16,Sheet47!F:F,Sheet47!G:G),\"\")","v":1},{"$f":"_xlfn.XLOOKUP(F16,Pricing!A:A,Pricing!B:B)","v":104.16},{"$f":"Summary!$L$34","v":0.57000000000000006},{"$f":"J16-(J16*K16)","v":44.788799999999995},null,null,null,null,null,null,null,{"$f":"SUM(N16:S16)","v":0},null,{"$f":"L16*N16","v":0},{"$f":"L16*O16","v":0},{"$f":"L16*P16","v":0},{"$f":"L16*Q16","v":0},{"$f":"$L16*R16","v":0},{"$f":"$L16*S16","v":0},{"$f":"SUM(V16:AA16)","v":0}]
[null,null,"Automower Accessory","Automower Cutting Disk L",null,536930901,null,null,{"$f":"IFERROR(_xlfn.XLOOKUP(F17,Sheet47!F:F,Sheet47!G:G),\"\")","v":1},{"$f":"_xlfn.XLOOKUP(F17,Pricing!A:A,Pricing!B:B)","v":132.5},{"$f":"Summary!$L$34","v":0.57000000000000006},56.974999999999994,null,null,null,null,null,null,null,0,null,0,0,0,0,0,0,0]
[null,null,"Automower Accessory","FlexiFence",null,529880501,null,null,{"$f":"IFERROR(_xlfn.XLOOKUP(F18,Sheet47!F:F,Sheet47!G:G),\"\")","v":1},{"$f":"_xlfn.XLOOKUP(F18,Pricing!A:A,Pricing!B:B)","v":116.66},{"$f":"Summary!$L$34","v":0.57000000000000006},50.163799999999995,null,null,null,null,null,null,null,0,null,0,0,0,0,0,0,0]
[null,null,"Automower Accessory","Connector Protection Box",null,599801701,null,590855001,{"$f":"IFERROR(_xlfn.XLOOKUP(F19,Sheet47!F:F,Sheet47!G:G),\"\")","v":1},{"$f":"_xlfn.XLOOKUP(F19,Pricing!A:A,Pricing!B:B)","v":12.49},{"$f":"Summary!$L$34","v":0.57000000000000006},5.3706999999999994,null,null,null,null,null,null,null,0,null,0,0,0,0,0,0,0]
[null,null,"Automower Accessory","Area Switch",null,529459701,null,null,{"$f":"IFERROR(_xlfn.XLOOKUP(F20,Sheet47!F:F,Sheet47!G:G),\"\")","v":1},{"$f":"_xlfn.XLOOKUP(F20,Pricing!A:A,Pricing!B:B)","v":29.16},{"$f":"Summary!$L$34","v":0.57000000000000006},12.538799999999998,null,null,null,null,null,null,null,0,null,0,0,0,0,0,0,0]
[null,null,"Automower Accessory","Brush kit refill 2 pcs (CEORA™)",null,529318801,null,null,{"$f":"IFERROR(_xlfn.XLOOKUP(F21,Sheet47!F:F,Sheet47!G:G),\"\")","v":1},{"$f":"_xlfn.XLOOKUP(F21,Pricing!A:A,Pricing!B:B)","v":99.17},{"$f":"Summary!$L$34","v":0.57000000000000006},42.643099999999997,null,null,null,null,null,null,null,0,null,0,0,0,0,0,0,0]
[null,null,"Automower Accessory","Wall Hanger 305",null,597703601,null,null,{"$f":"IFERROR(_xlfn.XLOOKUP(F22,Sheet47!F:F,Sheet47!G:G),\"\")","v":1},{"$f":"_xlfn.XLOOKUP(F22,Pricing!A:A,Pricing!B:B)","v":54.16},{"$f":"Summary!$L$34","v":0.57000000000000006},23.288799999999995,null,null,null,null,null,null,null,0,null,0,0,0,0,0,0,0]
[null,null,"Automower Accessory","Wall Hanger 310/315",null,587224001,null,null,{"$f":"IFERROR(_xlfn.XLOOKUP(F23,Sheet47!F:F,Sheet47!G:G),\"\")","v":1},{"$f":"_xlfn.XLOOKUP(F23,Pricing!A:A,Pricing!B:B)","v":54.16},{"$f":"Summary!$L$34","v":0.57000000000000006},{"$f":"J23-(J23*K23)","v":23.288799999999995},null,null,null,null,null,null,null,{"$f":"SUM(N23:S23)","v":0},null,{"$f":"L23*N23","v":0},{"$f":"L23*O23","v":0},{"$f":"L23*P23","v":0},{"$f":"L23*Q23","v":0},{"$f":"$L23*R23","v":0},{"$f":"$L23*S23","v":0},{"$f":"SUM(V23:AA23)","v":0}]
[null,null,"Automower Accessory","Boundary wire repair kit",null,597539501,null,null,{"$f":"IFERROR(_xlfn.XLOOKUP(F24,Sheet47!F:F,Sheet47!G:G),\"\")","v":40},{"$f":"_xlfn.XLOOKUP(F24,Pricing!A:A,Pricing!B:B)","v":16.66},{"$f":"Summary!$L$34","v":0.57000000000000006},{"$f":"J24-(J24*K24)","v":7.1637999999999984},null,null,null,null,null,null,null,0,null,0,0,0,0,0,0,0]
[null,null,"Automower Accessory","Hybrid Grass square - 1m2",null,598896001,null,null,{"$f":"IFERROR(_xlfn.XLOOKUP(F25,Sheet47!F:F,Sheet47!G:G),\"\")","v":1},{"$f":"_xlfn.XLOOKUP(F25,Pricing!A:A,Pricing!B:B)","v":33.33},{"$f":"Summary!$L$34","v":0.57000000000000006},{"$f":"J25-(J25*K25)","v":14.331899999999997},null,null,null,null,null,null,null,0,null,{"$f":"L25*N25","v":0},{"$f":"L25*O25","v":0},{"$f":"L25*P25","v":0},{"$f":"L25*Q25","v":0},0,0,0]
[null,null,"Automower Accessory","Automower® Installation Kit - Small",null,967972101,null,967623601,{"$f":"IFERROR(_xlfn.XLOOKUP(F26,Sheet47!F:F,Sheet47!G:G),\"\")","v":1},{"$f":"_xlfn.XLOOKUP(F26,Pricing!A:A,Pricing!B:B)","v":83.33},{"$f":"Summary!$L$34","v":0.57000000000000006},35.831899999999997,null,1,4,2,null,null,null,7,null,35.831899999999997,143.32759999999999,71.663799999999995,0,0,0,250.82329999999996]
[null,null,"Automower Accessory","Automower® Installation Kits - Large",null,967972301,null,967623603,{"$f":"IFERROR(_xlfn.XLOOKUP(F27,Sheet47!F:F,Sheet47!G:G),\"\")","v":1},{"$f":"_xlfn.XLOOKUP(F27,Pricing!A:A,Pricing!B:B)","v":207.5},{"$f":"Summary!$L$34","v":0.57000000000000006},89.22499999999998,null,1,2,1,null,null,null,4,null,89.22499999999998,178.44999999999996,89.22499999999998,0,0,0,356.89999999999992]
[null,null,"Automower Accessory","Automower® Installation Kits - Medium",null,967972201,null,967623602,{"$f":"IFERROR(_xlfn.XLOOKUP(F28,Sheet47!F:F,Sheet47!G:G),\"\")","v":1},{"$f":"_xlfn.XLOOKUP(F28,Pricing!A:A,Pricing!B:B)","v":133.33000000000001},{"$f":"Summary!$L$34","v":0.57000000000000006},57.33189999999999,null,1,2,null,null,null,null,3,null,57.33189999999999,114.66379999999998,0,0,0,0,171.99569999999997]
[null,null,"Automower Accessory","Spray Care And Shine 200ml (Supplied In Pack Of 12 - Sold A Singles)",null,593967901,null,null,{"$f":"IFERROR(_xlfn.XLOOKUP(F29,Sheet47!F:F,Sheet47!G:G),\"\")","v":12},{"$f":"_xlfn.XLOOKUP(F29,Pricing!A:A,Pricing!B:B)","v":12.49},{"$f":"Summary!$L$34","v":0.57000000000000006},5.3706999999999994,null,null,null,null,null,null,null,0,null,0,0,0,0,0,0,0]
[null,null,"Automower Accessory","Maintenance And Cleaning Kit",null,590855101,null,null,{"$f":"IFERROR(_xlfn.XLOOKUP(F30,Sheet47!F:F,Sheet47!G:G),\"\")","v":1},{"$f":"_xlfn.XLOOKUP(F30,Pricing!A:A,Pricing!B:B)","v":33.33},{"$f":"Summary!$L$34","v":0.57000000000000006},14.331899999999997,null,null,null,null,null,null,null,0,null,0,0,0,0,0,0,0]
[null,null,"Automower Accessory","Replacement Blades - Pack Of 9  (Blister, Long Life Safety Blade)",null,577864603,null,577864602,{"$f":"IFERROR(_xlfn.XLOOKUP(F31,Sheet47!F:F,Sheet47!G:G),\"\")","v":1},{"$f":"_xlfn.XLOOKUP(F31,Pricing!A:A,Pricing!B:B)","v":16.66},{"$f":"Summary!$L$34","v":0.57000000000000006},7.1637999999999984,null,20,10,10,5,5,5,55,null,143.27599999999995,71.637999999999977,71.637999999999977,35.818999999999988,35.818999999999988,35.818999999999988,394.00899999999979]
[null,null,"Automower Accessory","Garden Housing 310/315",null,587236101,null,null,{"$f":"IFERROR(_xlfn.XLOOKUP(F32,Sheet47!F:F,Sheet47!G:G),\"\")","v":1},{"$f":"_xlfn.XLOOKUP(F32,Pricing!A:A,Pricing!B:B)","v":166.66},{"$f":"Summary!$L$34","v":0.57000000000000006},{"$f":"J32-(J32*K32)","v":71.663799999999995},null,null,null,null,null,null,null,{"$f":"SUM(N32:S32)","v":0},null,{"$f":"L32*N32","v":0},{"$f":"L32*O32","v":0},{"$f":"L32*P32","v":0},{"$f":"L32*Q32","v":0},{"$f":"$L32*R32","v":0},{"$f":"$L32*S32","v":0},{"$f":"SUM(V32:AA32)","v":0}]
[null,null,"Automower Accessory","Garden Housing 320/330X/400/500 Series",null,585019401,null,null,{"$f":"IFERROR(_xlfn.XLOOKUP(F33,Sheet47!F:F,Sheet47!G:G),\"\")","v":1},{"$f":"_xlfn.XLOOKUP(F33,Pricing!A:A,Pricing!B:B)","v":166.66},{"$f":"Summary!$L$34","v":0.57000000000000006},71.663799999999995,null,null,null,null,null,null,null,0,null,0,0,0,0,0,0,0]
[null,null,"Automower Accessory","Garden Housing NERA Series",null,536664101,null,null,{"$f":"IFERROR(_xlfn.XLOOKUP(F34,Sheet47!F:F,Sheet47!G:G),\"\")","v":1},{"$f":"_xlfn.XLOOKUP(F34,Pricing!A:A,Pricing!B:B)","v":166.66},{"$f":"Summary!$L$34","v":0.57000000000000006},{"$f":"J34-(J34*K34)","v":71.663799999999995},null,null,null,null,null,null,null,{"$f":"SUM(N34:S34)","v":0},null,{"$f":"L34*N34","v":0},{"$f":"L34*O34","v":0},{"$f":"L34*P34","v":0},{"$f":"L34*Q34","v":0},{"$f":"$L34*R34","v":0},{"$f":"$L34*S34","v":0},{"$f":"SUM(V34:AA34)","v":0}]
[null,null,"Automower Accessory","Garden Housing 400/500 Series AWD ",null,597635301,null,null,{"$f":"IFERROR(_xlfn.XLOOKUP(F35,Sheet47!F:F,Sheet47!G:G),\"\")","v":1},{"$f":"_xlfn.XLOOKUP(F35,Pricing!A:A,Pricing!B:B)","v":182.5},{"$f":"Summary!$L$34","v":0.57000000000000006},{"$f":"J35-(J35*K35)","v":78.474999999999994},null,null,null,null,null,null,null,{"$f":"SUM(N35:S35)","v":0},null,{"$f":"L35*N35","v":0},{"$f":"L35*O35","v":0},{"$f":"L35*P35","v":0},{"$f":"L35*Q35","v":0},{"$f":"$L35*R35","v":0},{"$f":"$L35*S35","v":0},{"$f":"SUM(V35:AA35)","v":0}]
[null,null,"Installation Accessory","Holder for EPOS reference station",null,534971901,null,null,{"$f":"IFERROR(_xlfn.XLOOKUP(F36,Sheet47!F:F,Sheet47!G:G),\"\")","v":1},{"$f":"_xlfn.XLOOKUP(F36,Pricing!A:A,Pricing!B:B)","v":24.99},{"$f":"Summary!$L$34","v":0.57000000000000006},10.745699999999998,null,2,null,null,null,null,null,2,null,21.491399999999995,0,0,0,0,0,21.491399999999995]
[null,null,"Installation Accessory","Temporary fence",null,597987001,null,null,{"$f":"IFERROR(_xlfn.XLOOKUP(F37,Sheet47!F:F,Sheet47!G:G),\"\")","v":1},{"$f":"_xlfn.XLOOKUP(F37,Pricing!A:A,Pricing!B:B)","v":37.49},{"$f":"Summary!$L$34","v":0.57000000000000006},16.120699999999999,null,null,null,null,null,null,null,0,null,0,0,0,0,0,0,0]
[null,null,"Installation Accessory","Wire, 50m 2.7mm Dia.",null,597237802,null,577864302,{"$f":"IFERROR(_xlfn.XLOOKUP(F38,Sheet47!F:F,Sheet47!G:G),\"\")","v":1},{"$f":"_xlfn.XLOOKUP(F38,Pricing!A:A,Pricing!B:B)","v":33.33},{"$f":"Summary!$L$34","v":0.57000000000000006},14.331899999999997,null,null,null,null,null,null,null,0,null,0,0,0,0,0,0,0]
[null,null,"Installation Accessory","Wire, 150m 2.7mm Dia.",null,597237801,null,577864301,{"$f":"IFERROR(_xlfn.XLOOKUP(F39,Sheet47!F:F,Sheet47!G:G),\"\")","v":1},{"$f":"_xlfn.XLOOKUP(F39,Pricing!A:A,Pricing!B:B)","v":74.989999999999995},{"$f":"Summary!$L$34","v":0.57000000000000006},32.245699999999992,null,null,null,null,null,null,null,0,null,0,0,0,0,0,0,0]
[null,null,"Installation Accessory","Wire, 250m 2.7mm Dia.",null,580662006,null,580662001,{"$f":"IFERROR(_xlfn.XLOOKUP(F40,Sheet47!F:F,Sheet47!G:G),\"\")","v":1},{"$f":"_xlfn.XLOOKUP(F40,Pricing!A:A,Pricing!B:B)","v":124.99},{"$f":"Summary!$L$34","v":0.57000000000000006},53.745699999999985,null,null,null,null,null,null,null,0,null,0,0,0,0,0,0,0]
[null,null,"Installation Accessory","Boundary Wire Pro, 300m 5.5mm Dia.",null,593297702,null,593297701,{"$f":"IFERROR(_xlfn.XLOOKUP(F41,Sheet47!F:F,Sheet47!G:G),\"\")","v":1},{"$f":"_xlfn.XLOOKUP(F41,Pricing!A:A,Pricing!B:B)","v":249.17},{"$f":"Summary!$L$34","v":0.57000000000000006},107.14309999999998,null,null,null,null,null,null,null,0,null,0,0,0,0,0,0,0]
[null,null,"Installation Accessory","Wire Heavy Duty, 500m 3.4mm Dia.",null,522914102,null,522914101,{"$f":"IFERROR(_xlfn.XLOOKUP(F42,Sheet47!F:F,Sheet47!G:G),\"\")","v":1},{"$f":"_xlfn.XLOOKUP(F42,Pricing!A:A,Pricing!B:B)","v":332.5},{"$f":"Summary!$L$34","v":0.57000000000000006},142.97499999999997,null,null,null,null,null,null,null,0,null,0,0,0,0,0,0,0]
[null,null,"Installation Accessory","Wire, 800m 2.7mm Dia.",null,580662009,null,580662004,{"$f":"IFERROR(_xlfn.XLOOKUP(F43,Sheet47!F:F,Sheet47!G:G),\"\")","v":1},{"$f":"_xlfn.XLOOKUP(F43,Pricing!A:A,Pricing!B:B)","v":332.5},{"$f":"Summary!$L$34","v":0.57000000000000006},142.97499999999997,null,null,null,null,null,null,null,0,null,0,0,0,0,0,0,0]
[null,null,"Installation Accessory","Automower Warning Sign (with wooden post) GB",null,596512502,null,null,{"$f":"IFERROR(_xlfn.XLOOKUP(F44,Sheet47!F:F,Sheet47!G:G),\"\")","v":5},{"$f":"_xlfn.XLOOKUP(F44,Pricing!A:A,Pricing!B:B)","v":47.49},{"$f":"Summary!$L$34","v":0.57000000000000006},20.420699999999997,null,null,null,null,null,null,null,0,null,0,0,0,0,0,0,0]
[null,null,"Installation Accessory","Connector, 1pc",null,529280801,null,null,{"$f":"IFERROR(_xlfn.XLOOKUP(F45,Sheet47!F:F,Sheet47!G:G),\"\")","v":1},{"$f":"_xlfn.XLOOKUP(F45,Pricing!A:A,Pricing!B:B)","v":2.4900000000000002},{"$f":"Summary!$L$34","v":0.57000000000000006},{"$f":"J45-(J45*K45)","v":1.0707},null,null,null,null,null,null,null,{"$f":"SUM(N45:S45)","v":0},null,{"$f":"L45*N45","v":0},{"$f":"L45*O45","v":0},{"$f":"L45*P45","v":0},{"$f":"L45*Q45","v":0},{"$f":"$L45*R45","v":0},{"$f":"$L45*S45","v":0},{"$f":"SUM(V45:AA45)","v":0}]
[null,null,"Installation Accessory","Connector, 5pc",null,577864801,null,null,{"$f":"IFERROR(_xlfn.XLOOKUP(F46,Sheet47!F:F,Sheet47!G:G),\"\")","v":1},{"$f":"_xlfn.XLOOKUP(F46,Pricing!A:A,Pricing!B:B)","v":12.49},{"$f":"Summary!$L$34","v":0.57000000000000006},{"$f":"J46-(J46*K46)","v":5.3706999999999994},null,null,null,null,null,null,null,{"$f":"SUM(N46:S46)","v":0},null,{"$f":"L46*N46","v":0},{"$f":"L46*O46","v":0},{"$f":"L46*P46","v":0},{"$f":"L46*Q46","v":0},{"$f":"$L46*R46","v":0},{"$f":"$L46*S46","v":0},{"$f":"SUM(V46:AA46)","v":0}]
[null,null,"Installation Accessory","Connector, 100pc",null,535129002,null,null,{"$f":"IFERROR(_xlfn.XLOOKUP(F47,Sheet47!F:F,Sheet47!G:G),\"\")","v":1},{"$f":"_xlfn.XLOOKUP(F47,Pricing!A:A,Pricing!B:B)","v":66.66},{"$f":"Summary!$L$34","v":0.57000000000000006},28.663799999999995,null,null,null,null,null,null,null,0,null,0,0,0,0,0,0,0]
[null,null,"Installation Accessory","Coupler, 100pc",null,501980203,null,501980202,{"$f":"IFERROR(_xlfn.XLOOKUP(F48,Sheet47!F:F,Sheet47!G:G),\"\")","v":1},{"$f":"_xlfn.XLOOKUP(F48,Pricing!A:A,Pricing!B:B)","v":58.33},{"$f":"Summary!$L$34","v":0.57000000000000006},25.081899999999997,null,null,null,null,null,null,null,0,null,0,0,0,0,0,0,0]
[null,null,"Installation Accessory","Coupler, 5pc",null,577864701,null,null,{"$f":"IFERROR(_xlfn.XLOOKUP(F49,Sheet47!F:F,Sheet47!G:G),\"\")","v":1},{"$f":"_xlfn.XLOOKUP(F49,Pricing!A:A,Pricing!B:B)","v":8.33},{"$f":"Summary!$L$34","v":0.57000000000000006},3.5818999999999992,null,null,null,null,null,null,null,0,null,0,0,0,0,0,0,0]
[null,null,"Installation Accessory","Pegs, 100pc",null,577864201,null,583973401,{"$f":"IFERROR(_xlfn.XLOOKUP(F50,Sheet47!F:F,Sheet47!G:G),\"\")","v":1},{"$f":"_xlfn.XLOOKUP(F50,Pricing!A:A,Pricing!B:B)","v":16.66},{"$f":"Summary!$L$34","v":0.57000000000000006},7.1637999999999984,null,null,null,null,null,null,null,0,null,0,0,0,0,0,0,0]

{"sheet":"Bars","index":22,"n_rows":90,"n_cols":28,"rows_kept":90,"cut":false,"hidden":false,"merged":[[10,21,10,27],[1,4,1,8],[2,4,2,8],[3,4,3,8],[4,4,4,8],[5,4,5,8],[6,4,6,8],[7,4,7,8],[8,3,8,5],[8,6,8,8],[10,2,10,11],[10,13,10,19],[88,3,88,4],[89,3,89,4],[11,3,11,4],[12,1,89,1],[12,3,12,4],[13,3,13,4],[14,3,14,4],[79,3,79,4],[80,3,80,4],[81,3,81,4],[82,3,82,4],[83,3,83,4],[20,3,20,4],[84,3,84,4],[85,3,85,4],[86,3,86,4],[87,3,87,4],[15,3,15,4],[16,3,16,4],[17,3,17,4],[18,3,18,4],[19,3,19,4],[32,3,32,4],[21,3,21,4],[22,3,22,4],[23,3,23,4],[24,3,24,4],[25,3,25,4],[26,3,26,4],[27,3,27,4],[28,3,28,4],[29,3,29,4],[30,3,30,4],[31,3,31,4],[44,3,44,4],[33,3,33,4],[34,3,34,4],[35,3,35,4],[36,3,36,4],[37,3,37,4],[38,3,38,4],[39,3,39,4],[40,3,40,4],[41,3,41,4],[42,3,42,4],[43,3,43,4],[56,3,56,4],[45,3,45,4],[46,3,46,4],[47,3,47,4],[48,3,48,4],[49,3,49,4],[50,3,50,4],[51,3,51,4],[52,3,52,4],[53,3,53,4],[54,3,54,4],[55,3,55,4],[68,3,68,4],[57,3,57,4],[58,3,58,4],[59,3,59,4],[60,3,60,4],[61,3,61,4],[62,3,62,4],[63,3,63,4],[64,3,64,4],[65,3,65,4],[66,3,66,4],[67,3,67,4],[75,3,75,4],[76,3,76,4],[77,3,77,4],[78,3,78,4],[69,3,69,4],[70,3,70,4],[71,3,71,4],[72,3,72,4],[73,3,73,4],[74,3,74,4]]}
[]
[null,null,null,"Dealer Name",{"$f":"Summary!F2","v":"Winchester Garden Machinery Ltd - Arb"}]
[null,null,null,"Dealer Postcode",{"$f":"Summary!F3","v":"SO21 1HF"}]
[null,null,null,"Account Number",{"$f":"Summary!F4","v":28400505}]
[null,null,null,"Order Number",{"$f":"Summary!F5","v":0}]
[null,null,null,"Project Code",{"$f":"Summary!F6","v":"PSO2024"}]
[null,null,null,"Order Date",{"$f":"Summary!F7","v":"00:00:00"}]
[null,null,null,"ABM",{"$f":"Summary!F8","v":"Francesca_Bosley"}]
[null,null,null,"PSO minimum 40% of turnover = Additional 2% terms",null,null,{"$f":"Summary!I9","v":0.02}]
[]
[null,null,"Bars",null,null,null,null,null,null,null,null,null,null,"Order Quantity",null,null,null,null,null,null,null,"Order Value"]
[null,null,"Product Type","Model Description",null,"PNC","Size","Replaces","Box Qty","List Price 2024 Ex VAT","Discount","Dealer Net Price",null,"January","February","March","April","May","June","Total Qty",null,"January","February","March","April","May","June","Total Value"]
[null,"Accessories","Bar","10\" Bar X-Precision .325\" mini 1.1mm SM",null,593914346,null,null,{"$f":"IFERROR(_xlfn.XLOOKUP(F13,Sheet47!F:F,Sheet47!G:G),\"\")","v":1},{"$f":"_xlfn.XLOOKUP(F13,Pricing!A:A,Pricing!B:B)","v":26.66},{"$f":"Summary!$L$31","v":0.54},{"$f":"J13-(J13*K13)","v":12.263599999999999},null,null,null,null,null,null,null,{"$f":"SUM(N13:S13)","v":0},null,{"$f":"L13*N13","v":0},{"$f":"L13*O13","v":0},{"$f":"L13*P13","v":0},{"$f":"$L13*Q13","v":0},{"$f":"$L13*R13","v":0},0,{"$f":"SUM(V13:AA13)","v":0}]
[null,null,"Bar","10\" Bar X-Precision 1/4\" Mini 1.1mm SM (SP11G)",null,529340760,null,null,{"$f":"IFERROR(_xlfn.XLOOKUP(F14,Sheet47!F:F,Sheet47!G:G),\"\")","v":1},{"$f":"_xlfn.XLOOKUP(F14,Pricing!A:A,Pricing!B:B)","v":38.33},{"$f":"Summary!$L$31","v":0.54},{"$f":"J14-(J14*K14)","v":17.631799999999998},null,null,null,null,null,null,null,{"$f":"SUM(N14:S14)","v":0},null,{"$f":"L14*N14","v":0},{"$f":"L14*O14","v":0},{"$f":"L14*P14","v":0},{"$f":"L14*Q14","v":0},{"$f":"$L14*R14","v":0},{"$f":"$L14*S14","v":0},{"$f":"SUM(V14:AA14)","v":0}]
[null,null,"Bar","10\" Carving Bar 1/4\" 1.3mm",null,587394460,null,null,{"$f":"IFERROR(_xlfn.XLOOKUP(F15,Sheet47!F:F,Sheet47!G:G),\"\")","v":1},{"$f":"_xlfn.XLOOKUP(F15,Pricing!A:A,Pricing!B:B)","v":72.489999999999995},{"$f":"Summary!$L$31","v":0.54},33.345399999999998,null,null,null,null,null,null,null,{"$f":"SUM(N15:S15)","v":0},null,0,0,0,0,0,0,0]
[null,null,"Bar","10\" Laminated Bar With Nose Wheel 1/4\" 1.3mm",null,575842258,null,null,{"$f":"IFERROR(_xlfn.XLOOKUP(F16,Sheet47!F:F,Sheet47!G:G),\"\")","v":10},{"$f":"_xlfn.XLOOKUP(F16,Pricing!A:A,Pricing!B:B)","v":26.66},{"$f":"Summary!$L$31","v":0.54},12.263599999999999,null,null,null,null,null,null,null,0,null,0,0,0,0,0,0,0]
[null,null,"Bar","10\" Laminated Bar With Nose Wheel 3/8\" Mini 1.3mm",null,505891640,null,null,{"$f":"IFERROR(_xlfn.XLOOKUP(F17,Sheet47!F:F,Sheet47!G:G),\"\")","v":1},{"$f":"_xlfn.XLOOKUP(F17,Pricing!A:A,Pricing!B:B)","v":24.16},{"$f":"Summary!$L$31","v":0.54},11.1136,null,null,null,null,null,null,null,0,null,0,0,0,0,0,0,0]
[null,null,"Bar","12\" Bar X-Precision .325\" mini 1.1mm SM",null,593914351,null,null,{"$f":"IFERROR(_xlfn.XLOOKUP(F18,Sheet47!F:F,Sheet47!G:G),\"\")","v":1},{"$f":"_xlfn.XLOOKUP(F18,Pricing!A:A,Pricing!B:B)","v":30.83},{"$f":"Summary!$L$31","v":0.54},14.181799999999999,null,null,null,null,null,null,null,0,null,0,0,0,0,0,0,0]
[null,null,"Bar","12\" Bar X-Precision 1/4\" Mini 1.1mm SM (SP11G)",null,529340768,null,null,{"$f":"IFERROR(_xlfn.XLOOKUP(F19,Sheet47!F:F,Sheet47!G:G),\"\")","v":1},{"$f":"_xlfn.XLOOKUP(F19,Pricing!A:A,Pricing!B:B)","v":43.33},{"$f":"Summary!$L$31","v":0.54},19.931799999999999,null,null,null,null,null,null,null,0,null,0,0,0,0,0,0,0]
[null,null,"Bar","12\" Carving Bar 1/4\" 1.3mm",null,587394468,null,null,{"$f":"IFERROR(_xlfn.XLOOKUP(F20,Sheet47!F:F,Sheet47!G:G),\"\")","v":1},{"$f":"_xlfn.XLOOKUP(F20,Pricing!A:A,Pricing!B:B)","v":85.83},{"$f":"Summary!$L$31","v":0.54},39.481799999999993,null,null,null,null,null,null,null,0,null,0,0,0,0,0,0,0]
[null,null,"Bar","12\" Laminated Bar 1/4\" 1.3mm A318  Battery Pole Saw ",null,575842264,null,576779264,{"$f":"IFERROR(_xlfn.XLOOKUP(F21,Sheet47!F:F,Sheet47!G:G),\"\")","v":10},{"$f":"_xlfn.XLOOKUP(F21,Pricing!A:A,Pricing!B:B)","v":30.83},{"$f":"Summary!$L$31","v":0.54},14.181799999999999,null,null,null,null,null,null,null,0,null,0,0,0,0,0,0,0]
[null,null,"Bar","12\" Laminated Bar With Nose Wheel 3/8\" Mini 1.3mm",null,501959245,null,501915245,{"$f":"IFERROR(_xlfn.XLOOKUP(F22,Sheet47!F:F,Sheet47!G:G),\"\")","v":30},{"$f":"_xlfn.XLOOKUP(F22,Pricing!A:A,Pricing!B:B)","v":27.49},{"$f":"Summary!$L$31","v":0.54},12.645399999999999,null,null,null,null,null,null,null,0,null,0,0,0,0,0,0,0]
[null,null,"Bar","12\" Laminated Bar With Nose Wheel 3/8\" Mini 1.3mm",null,585829144,null,null,{"$f":"IFERROR(_xlfn.XLOOKUP(F23,Sheet47!F:F,Sheet47!G:G),\"\")","v":30},{"$f":"_xlfn.XLOOKUP(F23,Pricing!A:A,Pricing!B:B)","v":27.49},{"$f":"Summary!$L$31","v":0.54},12.645399999999999,null,null,null,null,null,null,null,0,null,0,0,0,0,0,0,0]
[null,null,"Bar","12\" X-Force Pro Laminated Bar 3/8\" 1.1mm",null,582207445,null,578106845,{"$f":"IFERROR(_xlfn.XLOOKUP(F24,Sheet47!F:F,Sheet47!G:G),\"\")","v":1},{"$f":"_xlfn.XLOOKUP(F24,Pricing!A:A,Pricing!B:B)","v":35.83},{"$f":"Summary!$L$31","v":0.54},16.481799999999996,null,null,null,null,null,null,null,0,null,0,0,0,0,0,0,0]
[null,null,"Bar","12\" X-Force Pro Laminated Bar 3/8\" Mini 1.3mm",null,582207645,null,576830745,{"$f":"IFERROR(_xlfn.XLOOKUP(F25,Sheet47!F:F,Sheet47!G:G),\"\")","v":1},{"$f":"_xlfn.XLOOKUP(F25,Pricing!A:A,Pricing!B:B)","v":38.33},{"$f":"Summary!$L$31","v":0.54},17.631799999999998,null,null,null,null,null,null,null,0,null,0,0,0,0,0,0,0]
[null,null,"Bar","13\" X-Force Pro Laminated Bar 0.325\" 1.3mm",null,582075356,null,585943256,{"$f":"IFERROR(_xlfn.XLOOKUP(F26,Sheet47!F:F,Sheet47!G:G),\"\")","v":1},{"$f":"_xlfn.XLOOKUP(F26,Pricing!A:A,Pricing!B:B)","v":43.33},{"$f":"Summary!$L$31","v":0.54},19.931799999999999,null,null,null,null,null,null,null,0,null,0,0,0,0,0,0,0]
[null,null,"Bar","13\" X-Force Pro Laminated Bar 0.325\" 1.5mm",null,582086956,null,585943356,{"$f":"IFERROR(_xlfn.XLOOKUP(F27,Sheet47!F:F,Sheet47!G:G),\"\")","v":1},{"$f":"_xlfn.XLOOKUP(F27,Pricing!A:A,Pricing!B:B)","v":41.66},{"$f":"Summary!$L$31","v":0.54},19.163599999999995,null,null,null,null,null,null,null,0,null,0,0,0,0,0,0,0]
[null,null,"Bar","14\" Bar X-Precision .325\" mini 1.1mm SM",null,593914359,null,null,{"$f":"IFERROR(_xlfn.XLOOKUP(F28,Sheet47!F:F,Sheet47!G:G),\"\")","v":1},{"$f":"_xlfn.XLOOKUP(F28,Pricing!A:A,Pricing!B:B)","v":35.83},{"$f":"Summary!$L$31","v":0.54},16.481799999999996,null,null,null,null,null,null,null,0,null,0,0,0,0,0,0,0]
[null,null,"Bar","14\" Laminated Bar With Nose Wheel 3/8\" Mini 1.3mm",null,501959252,null,501855152,{"$f":"IFERROR(_xlfn.XLOOKUP(F29,Sheet47!F:F,Sheet47!G:G),\"\")","v":30},{"$f":"_xlfn.XLOOKUP(F29,Pricing!A:A,Pricing!B:B)","v":28.33},{"$f":"Summary!$L$31","v":0.54},13.031799999999999,null,null,null,null,null,null,null,0,null,0,0,0,0,0,0,0]
[null,null,"Bar","14\" X-Force Pro Laminated Bar 3/8\" 1.1mm",null,582207452,null,578106852,{"$f":"IFERROR(_xlfn.XLOOKUP(F30,Sheet47!F:F,Sheet47!G:G),\"\")","v":1},{"$f":"_xlfn.XLOOKUP(F30,Pricing!A:A,Pricing!B:B)","v":39.99},{"$f":"Summary!$L$31","v":0.54},18.395399999999999,null,null,null,null,null,null,null,0,null,0,0,0,0,0,0,0]
[null,null,"Bar","14\" X-Force Pro Laminated Bar 3/8\" Mini 1.3mm",null,582207652,null,576830752,{"$f":"IFERROR(_xlfn.XLOOKUP(F31,Sheet47!F:F,Sheet47!G:G),\"\")","v":1},{"$f":"_xlfn.XLOOKUP(F31,Pricing!A:A,Pricing!B:B)","v":43.33},{"$f":"Summary!$L$31","v":0.54},19.931799999999999,null,null,null,null,null,null,null,0,null,0,0,0,0,0,0,0]
[null,null,"Bar","15\" X-Force Pro Laminated Bar 0.325\" 1.3mm",null,582075364,null,585943264,{"$f":"IFERROR(_xlfn.XLOOKUP(F32,Sheet47!F:F,Sheet47!G:G),\"\")","v":1},{"$f":"_xlfn.XLOOKUP(F32,Pricing!A:A,Pricing!B:B)","v":51.66},{"$f":"Summary!$L$31","v":0.54},23.763599999999997,null,null,null,null,null,null,null,0,null,0,0,0,0,0,0,0]
[null,null,"Bar","15\" X-Force Pro Laminated Bar 0.325\" 1.5mm",null,582086964,null,585943364,{"$f":"IFERROR(_xlfn.XLOOKUP(F33,Sheet47!F:F,Sheet47!G:G),\"\")","v":1},{"$f":"_xlfn.XLOOKUP(F33,Pricing!A:A,Pricing!B:B)","v":51.66},{"$f":"Summary!$L$31","v":0.54},23.763599999999997,null,null,10,5,5,5,5,30,null,0,237.63599999999997,118.81799999999998,118.81799999999998,118.81799999999998,118.81799999999998,712.9079999999999]
[null,null,"Bar","15\" X-Force Pro Laminated Bar 3/8\" 1.5mm Lm",null,585950856,null,508913156,{"$f":"IFERROR(_xlfn.XLOOKUP(F34,Sheet47!F:F,Sheet47!G:G),\"\")","v":1},{"$f":"_xlfn.XLOOKUP(F34,Pricing!A:A,Pricing!B:B)","v":51.66},{"$f":"Summary!$L$31","v":0.54},23.763599999999997,null,null,null,null,null,null,null,0,null,0,0,0,0,0,0,0]
[null,null,"Bar","15\" X-Force Pro Laminated Bar 3/8\" 1.5mm Sm",null,585943456,null,508914156,{"$f":"IFERROR(_xlfn.XLOOKUP(F35,Sheet47!F:F,Sheet47!G:G),\"\")","v":1},{"$f":"_xlfn.XLOOKUP(F35,Pricing!A:A,Pricing!B:B)","v":51.66},{"$f":"Summary!$L$31","v":0.54},23.763599999999997,null,null,null,null,null,null,null,0,null,0,0,0,0,0,0,0]
[null,null,"Bar","16\" Bar X-Precision .325\" mini 1.1mm SM",null,593914364,null,null,{"$f":"IFERROR(_xlfn.XLOOKUP(F36,Sheet47!F:F,Sheet47!G:G),\"\")","v":1},{"$f":"_xlfn.XLOOKUP(F36,Pricing!A:A,Pricing!B:B)","v":43.33},{"$f":"Summary!$L$31","v":0.54},19.931799999999999,null,null,null,null,null,null,null,0,null,0,0,0,0,0,0,0]
[null,null,"Bar","16\" Laminated Bar With Nose Wheel 3/8\" Mini 1.3mm",null,501959256,null,501855156,{"$f":"IFERROR(_xlfn.XLOOKUP(F37,Sheet47!F:F,Sheet47!G:G),\"\")","v":30},{"$f":"_xlfn.XLOOKUP(F37,Pricing!A:A,Pricing!B:B)","v":37.49},{"$f":"Summary!$L$31","v":0.54},17.2454,null,null,null,null,null,null,null,0,null,0,0,0,0,0,0,0]
[null,null,"Bar","16\" X-Force Pro Laminated Bar 0.325\" 1.5mm",null,582086966,null,585943366,{"$f":"IFERROR(_xlfn.XLOOKUP(F38,Sheet47!F:F,Sheet47!G:G),\"\")","v":1},{"$f":"_xlfn.XLOOKUP(F38,Pricing!A:A,Pricing!B:B)","v":52.49},{"$f":"Summary!$L$31","v":0.54},24.145399999999999,null,null,null,null,null,null,null,0,null,0,0,0,0,0,0,0]
[null,null,"Bar","18\" X-Force Pro Laminated Bar 0.325\" 1.3mm",null,582075372,null,585943272,{"$f":"IFERROR(_xlfn.XLOOKUP(F39,Sheet47!F:F,Sheet47!G:G),\"\")","v":1},{"$f":"_xlfn.XLOOKUP(F39,Pricing!A:A,Pricing!B:B)","v":59.99},{"$f":"Summary!$L$31","v":0.54},27.595399999999998,null,null,null,null,null,null,null,0,null,0,0,0,0,0,0,0]
[null,null,"Bar","18\" X-Force Pro Laminated Bar 0.325\" 1.5mm",null,582086972,null,585943372,{"$f":"IFERROR(_xlfn.XLOOKUP(F40,Sheet47!F:F,Sheet47!G:G),\"\")","v":1},{"$f":"_xlfn.XLOOKUP(F40,Pricing!A:A,Pricing!B:B)","v":58.33},{"$f":"Summary!$L$31","v":0.54},26.831799999999998,null,null,2,2,2,2,null,8,null,0,53.663599999999995,53.663599999999995,53.663599999999995,53.663599999999995,0,214.65439999999998]
[null,null,"Bar","18\" X-Force Pro Laminated Bar 3/8\" 1.5mm Lm",null,585950868,null,508913168,{"$f":"IFERROR(_xlfn.XLOOKUP(F41,Sheet47!F:F,Sheet47!G:G),\"\")","v":1},{"$f":"_xlfn.XLOOKUP(F41,Pricing!A:A,Pricing!B:B)","v":58.33},{"$f":"Summary!$L$31","v":0.54},26.831799999999998,null,null,null,null,null,null,null,0,null,0,0,0,0,0,0,0]
[null,null,"Bar","18\" X-Force Pro Laminated Bar 3/8\" 1.5mm Sm",null,585943468,null,508914168,{"$f":"IFERROR(_xlfn.XLOOKUP(F42,Sheet47!F:F,Sheet47!G:G),\"\")","v":1},{"$f":"_xlfn.XLOOKUP(F42,Pricing!A:A,Pricing!B:B)","v":59.99},{"$f":"Summary!$L$31","v":0.54},27.595399999999998,null,null,null,null,null,null,null,0,null,0,0,0,0,0,0,0]
[null,null,"Bar","20\" X-Force Pro Laminated Bar 0.325\" 1.3mm",null,582075380,null,585943280,{"$f":"IFERROR(_xlfn.XLOOKUP(F43,Sheet47!F:F,Sheet47!G:G),\"\")","v":1},{"$f":"_xlfn.XLOOKUP(F43,Pricing!A:A,Pricing!B:B)","v":65.83},{"$f":"Summary!$L$31","v":0.54},30.281799999999997,null,null,null,null,null,null,null,0,null,0,0,0,0,0,0,0]
[null,null,"Bar","20\" X-Force Pro Laminated Bar 0.325\" 1.5mm",null,582086980,null,585943380,{"$f":"IFERROR(_xlfn.XLOOKUP(F44,Sheet47!F:F,Sheet47!G:G),\"\")","v":1},{"$f":"_xlfn.XLOOKUP(F44,Pricing!A:A,Pricing!B:B)","v":65.83},{"$f":"Summary!$L$31","v":0.54},30.281799999999997,null,null,null,null,null,null,null,0,null,0,0,0,0,0,0,0]
[null,null,"Bar","20\" X-Force Pro Laminated Bar 3/8\" 1.5mm Lm",null,585950872,null,544285572,{"$f":"IFERROR(_xlfn.XLOOKUP(F45,Sheet47!F:F,Sheet47!G:G),\"\")","v":1},{"$f":"_xlfn.XLOOKUP(F45,Pricing!A:A,Pricing!B:B)","v":65.83},{"$f":"Summary!$L$31","v":0.54},30.281799999999997,null,null,null,null,null,null,null,0,null,0,0,0,0,0,0,0]
[null,null,"Bar","20\" X-Force Pro Laminated Bar 3/8\" 1.5mm Sm",null,585943472,null,510153572,{"$f":"IFERROR(_xlfn.XLOOKUP(F46,Sheet47!F:F,Sheet47!G:G),\"\")","v":1},{"$f":"_xlfn.XLOOKUP(F46,Pricing!A:A,Pricing!B:B)","v":65.83},{"$f":"Summary!$L$31","v":0.54},30.281799999999997,null,null,null,null,null,null,null,0,null,0,0,0,0,0,0,0]
[null,null,"Bar","24\" Bar RSN  3/8\" 1.5 Lm 84DL",null,596691184,null,501956984,{"$f":"IFERROR(_xlfn.XLOOKUP(F47,Sheet47!F:F,Sheet47!G:G),\"\")","v":1},{"$f":"_xlfn.XLOOKUP(F47,Pricing!A:A,Pricing!B:B)","v":109.99},{"$f":"Summary!$L$31","v":0.54},50.595399999999991,null,null,null,null,null,null,null,0,null,0,0,0,0,0,0,0]
[null,null,"Bar","28\" Bar RSN 3/8\" 1.5 Lm 92DL",null,596691192,null,501956992,{"$f":"IFERROR(_xlfn.XLOOKUP(F48,Sheet47!F:F,Sheet47!G:G),\"\")","v":1},{"$f":"_xlfn.XLOOKUP(F48,Pricing!A:A,Pricing!B:B)","v":133.33000000000001},{"$f":"Summary!$L$31","v":0.54},61.331800000000001,null,null,null,null,null,null,null,0,null,0,0,0,0,0,0,0]
[null,null,"Bar","30\" Bar HN 0.404\" 1.6 Lm 92DL",null,596691092,null,501958192,{"$f":"IFERROR(_xlfn.XLOOKUP(F49,Sheet47!F:F,Sheet47!G:G),\"\")","v":1},{"$f":"_xlfn.XLOOKUP(F49,Pricing!A:A,Pricing!B:B)","v":141.66},{"$f":"Summary!$L$31","v":0.54},65.163599999999988,null,null,null,null,null,null,null,0,null,0,0,0,0,0,0,0]
[null,null,"Bar","36\" Bar HN 0.404\" 1.6 Lm 104DL",null,596691004,null,501958104,{"$f":"IFERROR(_xlfn.XLOOKUP(F50,Sheet47!F:F,Sheet47!G:G),\"\")","v":1},{"$f":"_xlfn.XLOOKUP(F50,Pricing!A:A,Pricing!B:B)","v":174.17},{"$f":"Summary!$L$31","v":0.54},80.118199999999987,null,null,null,null,null,null,null,0,null,0,0,0,0,0,0,0]
[null,null,"Bar","42\" Bar HN 0.404\" 1.6 Lm 124DL",null,596691024,null,501921824,{"$f":"IFERROR(_xlfn.XLOOKUP(F51,Sheet47!F:F,Sheet47!G:G),\"\")","v":1},{"$f":"_xlfn.XLOOKUP(F51,Pricing!A:A,Pricing!B:B)","v":199.17},{"$f":"Summary!$L$31","v":0.54},91.618199999999987,null,null,null,null,null,null,null,0,null,0,0,0,0,0,0,0]
[null,null,"Bar","1/4\"mini Pixel 1.1mm HMM",null,536911832,null,null,{"$f":"IFERROR(_xlfn.XLOOKUP(F52,Sheet47!F:F,Sheet47!G:G),\"\")","v":1},{"$f":"_xlfn.XLOOKUP(F52,Pricing!A:A,Pricing!B:B)","v":12.49},{"$f":"Summary!$L$31","v":0.54},5.7454000000000001,null,null,null,null,null,null,null,0,null,0,0,0,0,0,0,0]
[null,null,"Bar","Bar LAM 13\" 56DL .325\" 400 Series",null,578400156,null,null,{"$f":"IFERROR(_xlfn.XLOOKUP(F53,Sheet47!F:F,Sheet47!G:G),\"\")","v":10},{"$f":"_xlfn.XLOOKUP(F53,Pricing!A:A,Pricing!B:B)","v":57.49},{"$f":"Summary!$L$31","v":0.54},26.445399999999999,null,null,null,null,null,null,null,0,null,0,0,0,0,0,0,0]
[null,null,"Bar","Bar LAM 15\" 64DL .325\"",null,538920764,null,null,{"$f":"IFERROR(_xlfn.XLOOKUP(F54,Sheet47!F:F,Sheet47!G:G),\"\")","v":1},{"$f":"_xlfn.XLOOKUP(F54,Pricing!A:A,Pricing!B:B)","v":58.33},{"$f":"Summary!$L$31","v":0.54},26.831799999999998,null,null,null,null,null,null,null,0,null,0,0,0,0,0,0,0]
[null,null,"Bar","Bar LAM 15\" 64DL .325\" 400 Series",null,578400164,null,null,{"$f":"IFERROR(_xlfn.XLOOKUP(F55,Sheet47!F:F,Sheet47!G:G),\"\")","v":1},{"$f":"_xlfn.XLOOKUP(F55,Pricing!A:A,Pricing!B:B)","v":58.33},{"$f":"Summary!$L$31","v":0.54},26.831799999999998,null,2,2,2,null,null,null,6,null,53.663599999999995,53.663599999999995,53.663599999999995,0,0,0,160.99079999999998]
[null,null,"Bar","Bar LAM 18\" 68DL .325\"",null,538920868,null,null,{"$f":"IFERROR(_xlfn.XLOOKUP(F56,Sheet47!F:F,Sheet47!G:G),\"\")","v":1},{"$f":"_xlfn.XLOOKUP(F56,Pricing!A:A,Pricing!B:B)","v":61.66},{"$f":"Summary!$L$31","v":0.54},28.363599999999998,null,null,null,null,null,null,null,0,null,0,0,0,0,0,0,0]
[null,null,"Bar","Bar LAM 18\" 72DL .325\"",null,538920772,null,null,{"$f":"IFERROR(_xlfn.XLOOKUP(F57,Sheet47!F:F,Sheet47!G:G),\"\")","v":1},{"$f":"_xlfn.XLOOKUP(F57,Pricing!A:A,Pricing!B:B)","v":60.83},{"$f":"Summary!$L$31","v":0.54},27.9818,null,null,null,null,null,null,null,0,null,0,0,0,0,0,0,0]
[null,null,"Bar","Bar LAM 18\" 72DL .325\" 400 Series",null,578400172,null,null,{"$f":"IFERROR(_xlfn.XLOOKUP(F58,Sheet47!F:F,Sheet47!G:G),\"\")","v":1},{"$f":"_xlfn.XLOOKUP(F58,Pricing!A:A,Pricing!B:B)","v":59.16},{"$f":"Summary!$L$31","v":0.54},27.213599999999996,null,null,null,null,null,null,null,0,null,0,0,0,0,0,0,0]
[null,null,"Bar","Bar LAM 20\" 72DL .325\"",null,538920872,null,null,{"$f":"IFERROR(_xlfn.XLOOKUP(F59,Sheet47!F:F,Sheet47!G:G),\"\")","v":1},{"$f":"_xlfn.XLOOKUP(F59,Pricing!A:A,Pricing!B:B)","v":62.49},{"$f":"Summary!$L$31","v":0.54},28.745399999999997,null,null,null,null,null,null,null,0,null,0,0,0,0,0,0,0]
[null,null,"Bar","Bar X-TOUGH 16 HN 0,325\" 1.5 SM 66DL",null,531116466,null,596690866,{"$f":"IFERROR(_xlfn.XLOOKUP(F60,Sheet47!F:F,Sheet47!G:G),\"\")","v":1},{"$f":"_xlfn.XLOOKUP(F60,Pricing!A:A,Pricing!B:B)","v":62.49},{"$f":"Summary!$L$31","v":0.54},28.745399999999997,null,null,null,null,null,null,null,0,null,0,0,0,0,0,0,0]
[null,null,"Bar","Bar X-TOUGH LIGHT 20\" 3/8\" 1.5 LM 72DL",null,599656672,null,null,{"$f":"IFERROR(_xlfn.XLOOKUP(F61,Sheet47!F:F,Sheet47!G:G),\"\")","v":1},{"$f":"_xlfn.XLOOKUP(F61,Pricing!A:A,Pricing!B:B)","v":104.16},{"$f":"Summary!$L$31","v":0.54},47.913599999999995,null,null,null,null,null,null,null,0,null,0,0,0,0,0,0,0]
[null,null,"Bar","Bar X-TOUGH LIGHT 24\" 3/8\" 1.5 LM 84DL",null,599656684,null,null,{"$f":"IFERROR(_xlfn.XLOOKUP(F62,Sheet47!F:F,Sheet47!G:G),\"\")","v":1},{"$f":"_xlfn.XLOOKUP(F62,Pricing!A:A,Pricing!B:B)","v":121.66},{"$f":"Summary!$L$31","v":0.54},55.9636,null,null,null,null,null,null,null,0,null,0,0,0,0,0,0,0]
[null,null,"Bar","Bar X-TOUGH LIGHT 28\" 3/8\" 1.5 LM 92DL",null,599656692,null,null,{"$f":"IFERROR(_xlfn.XLOOKUP(F63,Sheet47!F:F,Sheet47!G:G),\"\")","v":1},{"$f":"_xlfn.XLOOKUP(F63,Pricing!A:A,Pricing!B:B)","v":141.66},{"$f":"Summary!$L$31","v":0.54},65.163599999999988,null,2,null,2,null,2,null,6,null,130.32719999999998,0,130.32719999999998,0,130.32719999999998,0,390.98159999999996]
[null,null,"Bar","Bar X-TOUGH LIGHT 32\" 3/8\" 1.5 LM 105DL",null,599656605,null,null,{"$f":"IFERROR(_xlfn.XLOOKUP(F64,Sheet47!F:F,Sheet47!G:G),\"\")","v":1},{"$f":"_xlfn.XLOOKUP(F64,Pricing!A:A,Pricing!B:B)","v":174.17},{"$f":"Summary!$L$31","v":0.54},80.118199999999987,null,null,null,null,null,null,null,0,null,0,0,0,0,0,0,0]
[null,null,"Bar","Bar X-TOUGH LIGHT 36\" 3/8\" 1.5 LM 115DL",null,599656615,null,null,{"$f":"IFERROR(_xlfn.XLOOKUP(F65,Sheet47!F:F,Sheet47!G:G),\"\")","v":1},{"$f":"_xlfn.XLOOKUP(F65,Pricing!A:A,Pricing!B:B)","v":190.83},{"$f":"Summary!$L$31","v":0.54},87.781800000000004,null,null,null,null,null,null,null,0,null,0,0,0,0,0,0,0]
[null,null,"Bar","X-TOUGH Bar 13\" 3/8\" 1.5 LM 52DL",null,596685352,null,501958052,{"$f":"IFERROR(_xlfn.XLOOKUP(F66,Sheet47!F:F,Sheet47!G:G),\"\")","v":1},{"$f":"_xlfn.XLOOKUP(F66,Pricing!A:A,Pricing!B:B)","v":60.83},{"$f":"Summary!$L$31","v":0.54},27.9818,null,null,null,null,null,null,null,0,null,0,0,0,0,0,0,0]
[null,null,"Bar","X-TOUGH Bar 15\" 3/8\" 1.5 LM 56DL",null,596685356,null,501958056,{"$f":"IFERROR(_xlfn.XLOOKUP(F67,Sheet47!F:F,Sheet47!G:G),\"\")","v":1},{"$f":"_xlfn.XLOOKUP(F67,Pricing!A:A,Pricing!B:B)","v":72.489999999999995},{"$f":"Summary!$L$31","v":0.54},33.345399999999998,null,null,null,null,null,null,null,0,null,0,0,0,0,0,0,0]
[null,null,"Bar","X-TOUGH Bar 16\" 0,325\" 1.5 SM 66DL",null,596690866,null,null,{"$f":"IFERROR(_xlfn.XLOOKUP(F68,Sheet47!F:F,Sheet47!G:G),\"\")","v":1},{"$f":"_xlfn.XLOOKUP(F68,Pricing!A:A,Pricing!B:B)","v":76.66},{"$f":"Summary!$L$31","v":0.54},35.263599999999997,null,null,null,null,null,null,null,0,null,0,0,0,0,0,0,0]
[null,null,"Bar","X-TOUGH Bar 16\" 3/8\" 1.5 LM 60DL",null,596691160,null,501956960,{"$f":"IFERROR(_xlfn.XLOOKUP(F69,Sheet47!F:F,Sheet47!G:G),\"\")","v":1},{"$f":"_xlfn.XLOOKUP(F69,Pricing!A:A,Pricing!B:B)","v":76.66},{"$f":"Summary!$L$31","v":0.54},35.263599999999997,null,null,null,null,null,null,null,0,null,0,0,0,0,0,0,0]
[null,null,"Bar","X-TOUGH Bar 16\" 3/8\" 1.5 LM 60DL",null,596685360,null,null,{"$f":"IFERROR(_xlfn.XLOOKUP(F70,Sheet47!F:F,Sheet47!G:G),\"\")","v":1},{"$f":"_xlfn.XLOOKUP(F70,Pricing!A:A,Pricing!B:B)","v":76.66},{"$f":"Summary!$L$31","v":0.54},35.263599999999997,null,null,null,null,null,null,null,0,null,0,0,0,0,0,0,0]
[null,null,"Bar","X-TOUGH Bar 18\" 0,325\" 1.5 SM",null,596685772,null,502440072,{"$f":"IFERROR(_xlfn.XLOOKUP(F71,Sheet47!F:F,Sheet47!G:G),\"\")","v":1},{"$f":"_xlfn.XLOOKUP(F71,Pricing!A:A,Pricing!B:B)","v":85.83},{"$f":"Summary!$L$31","v":0.54},39.481799999999993,null,null,null,null,null,null,null,0,null,0,0,0,0,0,0,0]
[null,null,"Bar","X-TOUGH Bar 18\" 0,325\" 1.5 SM",null,531116476,null,585258876,{"$f":"IFERROR(_xlfn.XLOOKUP(F72,Sheet47!F:F,Sheet47!G:G),\"\")","v":1},{"$f":"_xlfn.XLOOKUP(F72,Pricing!A:A,Pricing!B:B)","v":85.83},{"$f":"Summary!$L$31","v":0.54},39.481799999999993,null,null,null,null,null,null,null,0,null,0,0,0,0,0,0,0]
[null,null,"Bar","X-TOUGH Bar 18\" 0,325\" 1.5 SM 76DL",null,596690876,null,585258876,{"$f":"IFERROR(_xlfn.XLOOKUP(F73,Sheet47!F:F,Sheet47!G:G),\"\")","v":1},{"$f":"_xlfn.XLOOKUP(F73,Pricing!A:A,Pricing!B:B)","v":85.83},{"$f":"Summary!$L$31","v":0.54},39.481799999999993,null,null,null,null,null,null,null,0,null,0,0,0,0,0,0,0]
[null,null,"Bar","X-TOUGH Bar 18\" 3/8\" 1.5 LM 68DL",null,596690868,null,501958068,{"$f":"IFERROR(_xlfn.XLOOKUP(F74,Sheet47!F:F,Sheet47!G:G),\"\")","v":1},{"$f":"_xlfn.XLOOKUP(F74,Pricing!A:A,Pricing!B:B)","v":94.99},{"$f":"Summary!$L$31","v":0.54},43.695399999999992,null,null,null,null,null,null,null,0,null,0,0,0,0,0,0,0]
[null,null,"Bar","X-TOUGH Bar 18\" 3/8\" 1.5 LM 68DL",null,596691168,null,501956968,{"$f":"IFERROR(_xlfn.XLOOKUP(F75,Sheet47!F:F,Sheet47!G:G),\"\")","v":1},{"$f":"_xlfn.XLOOKUP(F75,Pricing!A:A,Pricing!B:B)","v":87.49},{"$f":"Summary!$L$31","v":0.54},40.245399999999997,null,null,null,null,null,null,null,0,null,0,0,0,0,0,0,0]
[null,null,"Bar","X-TOUGH Bar 18\" 3/8\" 1.5 SM 68DL",null,596691568,null,501957768,{"$f":"IFERROR(_xlfn.XLOOKUP(F76,Sheet47!F:F,Sheet47!G:G),\"\")","v":1},{"$f":"_xlfn.XLOOKUP(F76,Pricing!A:A,Pricing!B:B)","v":85.83},{"$f":"Summary!$L$31","v":0.54},39.481799999999993,null,null,null,null,null,null,null,0,null,0,0,0,0,0,0,0]
[null,null,"Bar","X-TOUGH Bar 20\" 0,325\" 1.5 SM 81DL",null,596690881,null,585258881,{"$f":"IFERROR(_xlfn.XLOOKUP(F77,Sheet47!F:F,Sheet47!G:G),\"\")","v":1},{"$f":"_xlfn.XLOOKUP(F77,Pricing!A:A,Pricing!B:B)","v":94.99},{"$f":"Summary!$L$31","v":0.54},43.695399999999992,null,null,null,null,null,null,null,0,null,0,0,0,0,0,0,0]
[null,null,"Bar","X-TOUGH Bar 20\" 3/8\" 1.5 LM 72DL",null,596691172,null,501956972,{"$f":"IFERROR(_xlfn.XLOOKUP(F78,Sheet47!F:F,Sheet47!G:G),\"\")","v":1},{"$f":"_xlfn.XLOOKUP(F78,Pricing!A:A,Pricing!B:B)","v":94.99},{"$f":"Summary!$L$31","v":0.54},{"$f":"J78-(J78*K78)","v":43.695399999999992},null,null,null,null,null,null,null,0,null,{"$f":"L78*N78","v":0},{"$f":"L78*O78","v":0},{"$f":"L78*P78","v":0},{"$f":"L78*Q78","v":0},{"$f":"$L78*R78","v":0},{"$f":"$L78*S78","v":0},{"$f":"SUM(V78:AA78)","v":0}]
[null,null,"Bar","X-TOUGH Bar 20\" 3/8\" 1.5 LM 72DL",null,596690872,null,501958072,{"$f":"IFERROR(_xlfn.XLOOKUP(F79,Sheet47!F:F,Sheet47!G:G),\"\")","v":1},{"$f":"_xlfn.XLOOKUP(F79,Pricing!A:A,Pricing!B:B)","v":91.66},{"$f":"Summary!$L$31","v":0.54},42.163599999999995,null,null,null,null,null,null,null,{"$f":"SUM(N79:S79)","v":0},null,0,0,0,0,0,0,0]
[null,null,"Bar","X-TOUGH Bar 20\" 3/8\" 1.5 SM 72DL",null,596691572,null,501957772,{"$f":"IFERROR(_xlfn.XLOOKUP(F80,Sheet47!F:F,Sheet47!G:G),\"\")","v":1},{"$f":"_xlfn.XLOOKUP(F80,Pricing!A:A,Pricing!B:B)","v":94.99},{"$f":"Summary!$L$31","v":0.54},43.695399999999992,null,null,null,null,null,null,null,0,null,0,0,0,0,0,0,0]
[null,null,"Bar","X-TOUGH Bar 20\" 3/8\" 1.6 LM 72DL",null,596691272,null,502439672,{"$f":"IFERROR(_xlfn.XLOOKUP(F81,Sheet47!F:F,Sheet47!G:G),\"\")","v":1},{"$f":"_xlfn.XLOOKUP(F81,Pricing!A:A,Pricing!B:B)","v":94.99},{"$f":"Summary!$L$31","v":0.54},43.695399999999992,null,null,null,null,null,null,null,0,null,0,0,0,0,0,0,0]
[null,null,"Bar","X-TOUGH Bar 22\" 3/8\" 1.5 LM 76DL",null,596691176,null,501956976,{"$f":"IFERROR(_xlfn.XLOOKUP(F82,Sheet47!F:F,Sheet47!G:G),\"\")","v":1},{"$f":"_xlfn.XLOOKUP(F82,Pricing!A:A,Pricing!B:B)","v":112.49},{"$f":"Summary!$L$31","v":0.54},{"$f":"J82-(J82*K82)","v":51.745399999999997},null,null,null,null,null,null,null,0,null,{"$f":"L82*N82","v":0},{"$f":"L82*O82","v":0},{"$f":"L82*P82","v":0},{"$f":"L82*Q82","v":0},0,0,0]
[null,null,"Bar","X-TOUGH Bar 24\" 0.404\" 1.6 LM 76DL",null,596691076,null,507476046,{"$f":"IFERROR(_xlfn.XLOOKUP(F83,Sheet47!F:F,Sheet47!G:G),\"\")","v":1},{"$f":"_xlfn.XLOOKUP(F83,Pricing!A:A,Pricing!B:B)","v":112.49},{"$f":"Summary!$L$31","v":0.54},51.745399999999997,null,null,null,null,null,null,null,0,null,0,0,0,0,0,0,0]
[null,null,"Bar","X-TOUGH Bar 24\" 3/8\" 1.5 LM 84DL",null,596690884,null,501958084,{"$f":"IFERROR(_xlfn.XLOOKUP(F84,Sheet47!F:F,Sheet47!G:G),\"\")","v":1},{"$f":"_xlfn.XLOOKUP(F84,Pricing!A:A,Pricing!B:B)","v":112.49},{"$f":"Summary!$L$31","v":0.54},51.745399999999997,null,null,null,null,null,null,null,0,null,0,0,0,0,0,0,0]
[null,null,"Bar","X-TOUGH Bar 28\" 0.404\" 1.6 LM 84DL",null,596691784,null,502077384,{"$f":"IFERROR(_xlfn.XLOOKUP(F85,Sheet47!F:F,Sheet47!G:G),\"\")","v":1},{"$f":"_xlfn.XLOOKUP(F85,Pricing!A:A,Pricing!B:B)","v":133.33000000000001},{"$f":"Summary!$L$31","v":0.54},61.331800000000001,null,null,null,null,null,null,null,0,null,0,0,0,0,0,0,0]
[null,null,"Bar","X-TOUGH Bar 28\" 0.404\" 1.6 LM 84DL",null,596691084,null,501589601,{"$f":"IFERROR(_xlfn.XLOOKUP(F86,Sheet47!F:F,Sheet47!G:G),\"\")","v":1},{"$f":"_xlfn.XLOOKUP(F86,Pricing!A:A,Pricing!B:B)","v":133.33000000000001},{"$f":"Summary!$L$31","v":0.54},61.331800000000001,null,null,null,null,null,null,null,0,null,0,0,0,0,0,0,0]
[null,null,"Bar","X-TOUGH Bar 28\" 3/8\" 1.5 LM 92DL",null,596690892,null,501958092,{"$f":"IFERROR(_xlfn.XLOOKUP(F87,Sheet47!F:F,Sheet47!G:G),\"\")","v":1},{"$f":"_xlfn.XLOOKUP(F87,Pricing!A:A,Pricing!B:B)","v":133.33000000000001},{"$f":"Summary!$L$31","v":0.54},61.331800000000001,null,null,null,null,null,null,null,0,null,0,0,0,0,0,0,0]
[null,null,"Bar","X-TOUGH Bar 30\" 3/8\" 1.5 LM 102DL",null,596685302,null,null,{"$f":"IFERROR(_xlfn.XLOOKUP(F88,Sheet47!F:F,Sheet47!G:G),\"\")","v":1},{"$f":"_xlfn.XLOOKUP(F88,Pricing!A:A,Pricing!B:B)","v":141.66},{"$f":"Summary!$L$31","v":0.54},65.163599999999988,null,null,null,null,null,null,null,0,null,0,0,0,0,0,0,0]
[null,null,"Bar","X-TOUGH Bar 36\" 3/8\" 1.6 LM 115DL",null,596691215,null,502439615,{"$f":"IFERROR(_xlfn.XLOOKUP(F89,Sheet47!F:F,Sheet47!G:G),\"\")","v":1},{"$f":"_xlfn.XLOOKUP(F89,Pricing!A:A,Pricing!B:B)","v":174.17},{"$f":"Summary!$L$31","v":0.54},80.118199999999987,null,null,null,null,null,null,null,0,null,0,0,0,0,0,0,0]
[null,null,"Bar","X-TOUGH Bar 42\" 0.404\" 1.6 LM 122DL",null,596691722,null,502077322,{"$f":"IFERROR(_xlfn.XLOOKUP(F90,Sheet47!F:F,Sheet47!G:G),\"\")","v":1},{"$f":"_xlfn.XLOOKUP(F90,Pricing!A:A,Pricing!B:B)","v":199.17},{"$f":"Summary!$L$31","v":0.54},91.618199999999987,null,null,null,null,null,null,null,0,null,0,0,0,0,0,0,0]

{"sheet":"Automower Spares","index":23,"n_rows":23,"n_cols":28,"rows_kept":23,"cut":false,"hidden":false,"merged":[[12,1,22,1],[10,21,10,27],[1,4,1,8],[2,4,2,8],[3,4,3,8],[4,4,4,8],[5,4,5,8],[6,4,6,8],[7,4,7,8],[8,3,8,5],[8,6,8,8],[10,2,10,11],[10,13,10,19],[22,3,22,4],[19,3,19,4],[20,3,20,4],[11,3,11,4],[12,3,12,4],[13,3,13,4],[14,3,14,4],[21,3,21,4],[15,3,15,4],[16,3,16,4],[17,3,17,4],[18,3,18,4]]}
[]
[null,null,null,"Dealer Name",{"$f":"Summary!F2","v":"Winchester Garden Machinery Ltd - Arb"}]
[null,null,null,"Dealer Postcode",{"$f":"Summary!F3","v":"SO21 1HF"}]
[null,null,null,"Account Number",{"$f":"Summary!F4","v":28400505}]
[null,null,null,"Order Number",{"$f":"Summary!F5","v":0}]
[null,null,null,"Project Code",{"$f":"Summary!F6","v":"PSO2024"}]
[null,null,null,"Order Date",{"$f":"Summary!F7","v":"00:00:00"}]
[null,null,null,"ABM",{"$f":"Summary!F8","v":"Francesca_Bosley"}]
[null,null,null,"PSO minimum 40% of turnover = Additional 2% terms",null,null,{"$f":"Summary!I9","v":0.02}]
[]
[null,null,"Automower Spares",null,null,null,null,null,null,null,null,null,null,"Order Quantity",null,null,null,null,null,null,null,"Order Value"]
[null,null,"Product Type","Model Description",null,"PNC","Size","Replaces","Box Qty","List Price 2024 Ex VAT","Discount","Dealer Net Price",null,"January","February","March","April","May","June","Total Qty",null,"January","February","March","April","May","June","Total Value"]
[null,"Accessories","Automower Spares","Automower® Endurance Blades - HSS Safety Blades 6",null,599805201,null,null,{"$f":"IFERROR(_xlfn.XLOOKUP(F13,Sheet47!F:F,Sheet47!G:G),\"\")","v":1},{"$f":"_xlfn.XLOOKUP(F13,Pricing!A:A,Pricing!B:B)","v":24.99},{"$f":"Summary!$L$35","v":0.49000000000000005},{"$f":"J13-(J13*K13)","v":12.744899999999998},null,null,null,null,null,null,null,{"$f":"SUM(N13:S13)","v":0},null,{"$f":"L13*N13","v":0},{"$f":"L13*O13","v":0},{"$f":"L13*P13","v":0},{"$f":"$L13*Q13","v":0},{"$f":"$L13*R13","v":0},{"$f":"$L13*S13","v":0},{"$f":"SUM(V13:AA13)","v":0}]
[null,null,"Automower Spares","Automower® Endurance Blades - HSS Safety Blades 45",null,599805202,null,null,{"$f":"IFERROR(_xlfn.XLOOKUP(F14,Sheet47!F:F,Sheet47!G:G),\"\")","v":1},{"$f":"_xlfn.XLOOKUP(F14,Pricing!A:A,Pricing!B:B)","v":154.16},{"$f":"Summary!$L$35","v":0.49000000000000005},{"$f":"J14-(J14*K14)","v":78.621599999999987},null,null,null,null,null,null,null,{"$f":"SUM(N14:S14)","v":0},null,{"$f":"L14*N14","v":0},{"$f":"L14*O14","v":0},{"$f":"L14*P14","v":0},{"$f":"L14*Q14","v":0},{"$f":"$L14*R14","v":0},{"$f":"$L14*S14","v":0},{"$f":"SUM(V14:AA14)","v":0}]
[null,null,"Automower Spares","Automower® Endurance Blades - HSS Safety Blades 300",null,599805203,null,null,{"$f":"IFERROR(_xlfn.XLOOKUP(F15,Sheet47!F:F,Sheet47!G:G),\"\")","v":1},{"$f":"_xlfn.XLOOKUP(F15,Pricing!A:A,Pricing!B:B)","v":832.5},{"$f":"Summary!$L$35","v":0.49000000000000005},424.57499999999999,null,null,null,null,null,null,null,0,null,0,0,0,0,0,0,0]
[null,null,"Automower Spares","Endurance Blades - Carbon Steel Safety Blade 6",null,595084401,null,null,{"$f":"IFERROR(_xlfn.XLOOKUP(F16,Sheet47!F:F,Sheet47!G:G),\"\")","v":1},{"$f":"_xlfn.XLOOKUP(F16,Pricing!A:A,Pricing!B:B)","v":20.83},{"$f":"Summary!$L$35","v":0.49000000000000005},{"$f":"J16-(J16*K16)","v":10.623299999999999},null,null,null,null,null,null,null,{"$f":"SUM(N16:S16)","v":0},null,{"$f":"L16*N16","v":0},{"$f":"L16*O16","v":0},{"$f":"L16*P16","v":0},{"$f":"L16*Q16","v":0},{"$f":"$L16*R16","v":0},0,{"$f":"SUM(V16:AA16)","v":0}]
[null,null,"Automower Spares","Endurance Blades - Carbon Steel Safety Blade 45",null,595084402,null,null,{"$f":"IFERROR(_xlfn.XLOOKUP(F17,Sheet47!F:F,Sheet47!G:G),\"\")","v":1},{"$f":"_xlfn.XLOOKUP(F17,Pricing!A:A,Pricing!B:B)","v":112.49},{"$f":"Summary!$L$35","v":0.49000000000000005},57.369899999999994,null,null,null,null,null,null,null,0,null,0,0,0,0,0,0,0]
[null,null,"Automower Spares","Endurance Blades - Carbon Steel Safety Blade 300",null,595084403,null,null,{"$f":"IFERROR(_xlfn.XLOOKUP(F18,Sheet47!F:F,Sheet47!G:G),\"\")","v":1},{"$f":"_xlfn.XLOOKUP(F18,Pricing!A:A,Pricing!B:B)","v":624.16999999999996},{"$f":"Summary!$L$35","v":0.49000000000000005},318.32669999999996,null,null,null,null,null,null,null,0,null,0,0,0,0,0,0,0]
[null,null,"Automower Spares","Replacement Blades - Pack Of 45 Carbon Steel 0,60 mm",null,577606505,null,null,{"$f":"IFERROR(_xlfn.XLOOKUP(F19,Sheet47!F:F,Sheet47!G:G),\"\")","v":1},{"$f":"_xlfn.XLOOKUP(F19,Pricing!A:A,Pricing!B:B)","v":74.989999999999995},{"$f":"Summary!$L$35","v":0.49000000000000005},38.244899999999994,null,null,null,null,null,null,null,0,null,0,0,0,0,0,0,0]
[null,null,"Automower Spares","Automower® Enhance HSS Blades 45pcs",null,599805301,null,null,{"$f":"IFERROR(_xlfn.XLOOKUP(F20,Sheet47!F:F,Sheet47!G:G),\"\")","v":1},{"$f":"_xlfn.XLOOKUP(F20,Pricing!A:A,Pricing!B:B)","v":124.99},{"$f":"Summary!$L$35","v":0.49000000000000005},63.744899999999994,null,null,null,null,null,null,null,0,null,0,0,0,0,0,0,0]
[null,null,"Automower Spares","Automower® Enhance HSS Blades 300pcs",null,599805302,null,null,{"$f":"IFERROR(_xlfn.XLOOKUP(F21,Sheet47!F:F,Sheet47!G:G),\"\")","v":1},{"$f":"_xlfn.XLOOKUP(F21,Pricing!A:A,Pricing!B:B)","v":665.83},{"$f":"Summary!$L$35","v":0.49000000000000005},339.57330000000002,null,null,null,null,null,null,null,0,null,0,0,0,0,0,0,0]
[null,null,"Automower Spares","3 Series Brush Refill",null,505132803,null,505132802,{"$f":"IFERROR(_xlfn.XLOOKUP(F22,Sheet47!F:F,Sheet47!G:G),\"\")","v":1},{"$f":"_xlfn.XLOOKUP(F22,Pricing!A:A,Pricing!B:B)","v":24.99},{"$f":"Summary!$L$35","v":0.49000000000000005},12.744899999999998,null,null,null,null,null,null,null,0,null,0,0,0,0,0,0,0]
[null,null,"Automower Spares","4 Series Brush Refill",null,581982002,null,581982001,{"$f":"IFERROR(_xlfn.XLOOKUP(F23,Sheet47!F:F,Sheet47!G:G),\"\")","v":1},{"$f":"_xlfn.XLOOKUP(F23,Pricing!A:A,Pricing!B:B)","v":27.49},{"$f":"Summary!$L$35","v":0.49000000000000005},14.019899999999998,null,null,null,null,null,null,null,0,null,0,0,0,0,0,0,0]

{"sheet":"Chains","index":24,"n_rows":87,"n_cols":28,"rows_kept":87,"cut":false,"hidden":false,"merged":[[12,1,86,1],[84,3,84,4],[85,3,85,4],[86,3,86,4],[60,3,60,4],[17,3,17,4],[18,3,18,4],[19,3,19,4],[20,3,20,4],[24,3,24,4],[12,3,12,4],[13,3,13,4],[14,3,14,4],[15,3,15,4],[16,3,16,4],[48,3,48,4],[10,21,10,27],[1,4,1,8],[2,4,2,8],[3,4,3,8],[4,4,4,8],[5,4,5,8],[6,4,6,8],[7,4,7,8],[8,3,8,5],[8,6,8,8],[10,2,10,11],[10,13,10,19],[11,3,11,4],[21,3,21,4],[22,3,22,4],[23,3,23,4],[36,3,36,4],[25,3,25,4],[26,3,26,4],[27,3,27,4],[28,3,28,4],[29,3,29,4],[30,3,30,4],[31,3,31,4],[32,3,32,4],[33,3,33,4],[34,3,34,4],[35,3,35,4],[37,3,37,4],[38,3,38,4],[39,3,39,4],[40,3,40,4],[41,3,41,4],[42,3,42,4],[43,3,43,4],[44,3,44,4],[45,3,45,4],[46,3,46,4],[47,3,47,4],[61,3,61,4],[49,3,49,4],[50,3,50,4],[51,3,51,4],[52,3,52,4],[53,3,53,4],[54,3,54,4],[55,3,55,4],[56,3,56,4],[57,3,57,4],[58,3,58,4],[59,3,59,4],[71,3,71,4],[62,3,62,4],[63,3,63,4],[64,3,64,4],[65,3,65,4],[66,3,66,4],[67,3,67,4],[68,3,68,4],[69,3,69,4],[70,3,70,4],[83,3,83,4],[72,3,72,4],[73,3,73,4],[74,3,74,4],[75,3,75,4],[76,3,76,4],[77,3,77,4],[78,3,78,4],[79,3,79,4],[80,3,80,4],[81,3,81,4],[82,3,82,4]]}
[]
[null,null,null,"Dealer Name",{"$f":"Summary!F2","v":"Winchester Garden Machinery Ltd - Arb"}]
[null,null,null,"Dealer Postcode",{"$f":"Summary!F3","v":"SO21 1HF"}]
[null,null,null,"Account Number",{"$f":"Summary!F4","v":28400505}]
[null,null,null,"Order Number",{"$f":"Summary!F5","v":0}]
[null,null,null,"Project Code",{"$f":"Summary!F6","v":"PSO2024"}]
[null,null,null,"Order Date",{"$f":"Summary!F7","v":"00:00:00"}]
[null,null,null,"ABM",{"$f":"Summary!F8","v":"Francesca_Bosley"}]
[null,null,null,"PSO minimum 40% of turnover = Additional 2% terms",null,null,{"$f":"Summary!I9","v":0.02}]
[]
[null,null,"Chains",null,null,null,null,null,null,null,null,null,null,"Order Quantity",null,null,null,null,null,null,null,"Order Value"]
[null,null,"Product Type","Model Description",null,"PNC","Size","Replaces","Box Qty","List Price 2024 Ex VAT","Discount","Dealer Net Price",null,"January","February","March","April","May","June","Total Qty",null,"January","February","March","April","May","June","Total Value"]
[null,"Accessories","Chain","SP11G Semi-chisel Pixel 1/4\" mini 1.1 mm",null,529340632,null,null,{"$f":"IFERROR(_xlfn.XLOOKUP(F13,Sheet47!F:F,Sheet47!G:G),\"\")","v":1},{"$f":"_xlfn.XLOOKUP(F13,Pricing!A:A,Pricing!B:B)","v":11.66},{"$f":"Summary!$L$31","v":0.54},{"$f":"J13-(J13*K13)","v":5.3635999999999999},null,null,null,null,null,null,null,{"$f":"SUM(N13:S13)","v":0},null,{"$f":"L13*N13","v":0},{"$f":"L13*O13","v":0},{"$f":"L13*P13","v":0},{"$f":"L13*Q13","v":0},{"$f":"$L13*R13","v":0},{"$f":"$L13*S13","v":0},{"$f":"SUM(V13:AA13)","v":0}]
[null,null,"Chain","10\" BAR & CHAIN KIT SP11G 60DL/10\" T525",null,529921060,null,null,{"$f":"IFERROR(_xlfn.XLOOKUP(F14,Sheet47!F:F,Sheet47!G:G),\"\")","v":1},{"$f":"_xlfn.XLOOKUP(F14,Pricing!A:A,Pricing!B:B)","v":71.66},{"$f":"Summary!$L$31","v":0.54},32.963599999999992,null,null,null,null,null,null,null,0,null,0,0,0,{"$f":"L14*Q14","v":0},0,0,0]
[null,null,"Chain","10\" BAR & CHAIN KIT X-PRECISION SP11G",null,529920960,null,null,{"$f":"IFERROR(_xlfn.XLOOKUP(F15,Sheet47!F:F,Sheet47!G:G),\"\")","v":1},{"$f":"_xlfn.XLOOKUP(F15,Pricing!A:A,Pricing!B:B)","v":71.66},{"$f":"Summary!$L$31","v":0.54},32.963599999999992,null,null,null,null,null,null,null,0,null,0,0,0,0,0,0,0]
[null,null,"Chain","10\" X-Precision SP11G Semi Chisel 1/4\" 1.1mm",null,529340660,null,null,{"$f":"IFERROR(_xlfn.XLOOKUP(F16,Sheet47!F:F,Sheet47!G:G),\"\")","v":1},{"$f":"_xlfn.XLOOKUP(F16,Pricing!A:A,Pricing!B:B)","v":20.83},{"$f":"Summary!$L$31","v":0.54},9.5817999999999977,null,null,null,null,null,null,null,0,null,0,0,0,0,0,0,0]
[null,null,"Chain","12\" X-Precision SP11G Semi Chisel 1/4\" 1.1mm",null,529340668,null,null,{"$f":"IFERROR(_xlfn.XLOOKUP(F17,Sheet47!F:F,Sheet47!G:G),\"\")","v":1},{"$f":"_xlfn.XLOOKUP(F17,Pricing!A:A,Pricing!B:B)","v":24.16},{"$f":"Summary!$L$31","v":0.54},11.1136,null,null,null,null,null,null,null,0,null,0,0,0,0,0,0,0]
[null,null,"Chain","12\" BAR & CHAIN KIT SP11G 60DL/12\" T525",null,529921068,null,null,{"$f":"IFERROR(_xlfn.XLOOKUP(F18,Sheet47!F:F,Sheet47!G:G),\"\")","v":1},{"$f":"_xlfn.XLOOKUP(F18,Pricing!A:A,Pricing!B:B)","v":82.49},{"$f":"Summary!$L$31","v":0.54},37.945399999999992,null,null,null,null,null,null,null,0,null,0,0,0,0,0,0,0]
[null,null,"Chain","12\" BAR & CHAIN KIT X-PRECISION SP11G",null,529920968,null,null,{"$f":"IFERROR(_xlfn.XLOOKUP(F19,Sheet47!F:F,Sheet47!G:G),\"\")","v":1},{"$f":"_xlfn.XLOOKUP(F19,Pricing!A:A,Pricing!B:B)","v":82.49},{"$f":"Summary!$L$31","v":0.54},37.945399999999992,null,null,null,null,null,null,null,0,null,0,0,0,0,0,0,0]
[null,null,"Chain","10\" X-Precision SP21G Semi Chisel 0.325\" Mini 1.1mm",null,593914146,null,null,{"$f":"IFERROR(_xlfn.XLOOKUP(F20,Sheet47!F:F,Sheet47!G:G),\"\")","v":1},{"$f":"_xlfn.XLOOKUP(F20,Pricing!A:A,Pricing!B:B)","v":20.83},{"$f":"Summary!$L$31","v":0.54},9.5817999999999977,null,null,null,null,null,null,null,0,null,0,0,0,0,0,0,0]
[null,null,"Chain","12\" X-Precision SP21G Semi Chisel 0.325\" Mini 1.1mm",null,593914151,null,null,{"$f":"IFERROR(_xlfn.XLOOKUP(F21,Sheet47!F:F,Sheet47!G:G),\"\")","v":1},{"$f":"_xlfn.XLOOKUP(F21,Pricing!A:A,Pricing!B:B)","v":24.16},{"$f":"Summary!$L$31","v":0.54},11.1136,null,6,6,6,6,6,null,30,null,66.681600000000003,66.681600000000003,66.681600000000003,66.681600000000003,66.681600000000003,0,333.40800000000002]
[null,null,"Chain","14\" X-Precision SP21G Semi Chisel 0.325\" Mini 1.1mm",null,593914159,null,null,{"$f":"IFERROR(_xlfn.XLOOKUP(F22,Sheet47!F:F,Sheet47!G:G),\"\")","v":1},{"$f":"_xlfn.XLOOKUP(F22,Pricing!A:A,Pricing!B:B)","v":26.66},{"$f":"Summary!$L$31","v":0.54},12.263599999999999,null,6,6,6,null,null,null,18,null,73.581599999999995,73.581599999999995,73.581599999999995,0,0,0,220.7448]
[null,null,"Chain","16\" X-Precision SP21G Semi Chisel 0.325\" Mini 1.1mm",null,593914164,null,null,{"$f":"IFERROR(_xlfn.XLOOKUP(F23,Sheet47!F:F,Sheet47!G:G),\"\")","v":1},{"$f":"_xlfn.XLOOKUP(F23,Pricing!A:A,Pricing!B:B)","v":29.16},{"$f":"Summary!$L$31","v":0.54},13.413599999999999,null,null,null,null,null,null,null,0,null,0,0,0,0,0,0,0]
[null,null,"Chain","12\" H38 Chamfer Chisel Low Kickback 3/8\" 1.1mm",null,581807945,null,501842345,{"$f":"IFERROR(_xlfn.XLOOKUP(F24,Sheet47!F:F,Sheet47!G:G),\"\")","v":30},{"$f":"_xlfn.XLOOKUP(F24,Pricing!A:A,Pricing!B:B)","v":15.83},{"$f":"Summary!$L$31","v":0.54},7.2817999999999987,null,null,null,null,null,null,null,0,null,0,0,0,0,0,0,0]
[null,null,"Chain","14\" H38 Chamfer Chisel Low Kickback 3/8\" 1.1mm",null,581807952,null,501842352,{"$f":"IFERROR(_xlfn.XLOOKUP(F25,Sheet47!F:F,Sheet47!G:G),\"\")","v":30},{"$f":"_xlfn.XLOOKUP(F25,Pricing!A:A,Pricing!B:B)","v":18.329999999999998},{"$f":"Summary!$L$31","v":0.54},8.4317999999999991,null,null,null,null,null,null,null,0,null,0,0,0,0,0,0,0]
[null,null,"Chain Reel","100' Reel H38 Chamfer Chsiel ",null,581807901,null,504035601,{"$f":"IFERROR(_xlfn.XLOOKUP(F26,Sheet47!F:F,Sheet47!G:G),\"\")","v":1},{"$f":"_xlfn.XLOOKUP(F26,Pricing!A:A,Pricing!B:B)","v":532.5},{"$f":"Summary!$L$31","v":0.54},244.95,null,null,null,null,null,null,null,0,null,0,0,0,0,0,0,0]
[null,null,"Chain","10\" H00 Micro Chisel 1/4\" 1.3mm",null,501844058,null,null,{"$f":"IFERROR(_xlfn.XLOOKUP(F27,Sheet47!F:F,Sheet47!G:G),\"\")","v":30},{"$f":"_xlfn.XLOOKUP(F27,Pricing!A:A,Pricing!B:B)","v":19.16},{"$f":"Summary!$L$31","v":0.54},8.8135999999999992,null,null,null,null,null,null,null,0,null,0,0,0,0,0,0,0]
[null,null,"Chain","10\" H00 Micro Chisel 1/4\" 1.3mm",null,501844060,null,null,{"$f":"IFERROR(_xlfn.XLOOKUP(F28,Sheet47!F:F,Sheet47!G:G),\"\")","v":30},{"$f":"_xlfn.XLOOKUP(F28,Pricing!A:A,Pricing!B:B)","v":20.83},{"$f":"Summary!$L$31","v":0.54},9.5817999999999977,null,null,null,null,null,null,null,0,null,0,0,0,0,0,0,0]
[null,null,"Chain","12\" H00 Micro Chisel 1/4\" 1.3mm",null,501844064,null,null,{"$f":"IFERROR(_xlfn.XLOOKUP(F29,Sheet47!F:F,Sheet47!G:G),\"\")","v":30},{"$f":"_xlfn.XLOOKUP(F29,Pricing!A:A,Pricing!B:B)","v":23.33},{"$f":"Summary!$L$31","v":0.54},10.731799999999998,null,null,null,null,null,null,null,0,null,0,0,0,0,0,0,0]
[null,null,"Chain","12\" H00 Micro Chisel 1/4\" 1.3mm",null,501844068,null,null,{"$f":"IFERROR(_xlfn.XLOOKUP(F30,Sheet47!F:F,Sheet47!G:G),\"\")","v":30},{"$f":"_xlfn.XLOOKUP(F30,Pricing!A:A,Pricing!B:B)","v":23.33},{"$f":"Summary!$L$31","v":0.54},10.731799999999998,null,null,null,null,null,null,null,0,null,0,0,0,0,0,0,0]
[null,null,"Chain","10\" X-Cut S93G Semi Chisel 3/8\" Mini 1.3mm Low Kick Guard",null,585404240,null,576936540,{"$f":"IFERROR(_xlfn.XLOOKUP(F31,Sheet47!F:F,Sheet47!G:G),\"\")","v":60},{"$f":"_xlfn.XLOOKUP(F31,Pricing!A:A,Pricing!B:B)","v":15.83},{"$f":"Summary!$L$31","v":0.54},7.2817999999999987,null,null,null,null,null,null,null,0,null,0,0,0,0,0,0,0]
[null,null,"Chain","12\" X-Cut S93G Semi Chisel 3/8\" Mini 1.3mm Low Kick Guard",null,585404245,null,576936545,{"$f":"IFERROR(_xlfn.XLOOKUP(F32,Sheet47!F:F,Sheet47!G:G),\"\")","v":60},{"$f":"_xlfn.XLOOKUP(F32,Pricing!A:A,Pricing!B:B)","v":16.66},{"$f":"Summary!$L$31","v":0.54},7.6635999999999989,null,null,null,null,null,null,null,0,null,0,0,0,0,0,0,0]
[null,null,"Chain","14\" X-Cut S93G Semi Chisel 3/8\" Mini 1.3mm Low Kick Guard",null,585404252,null,576936552,{"$f":"IFERROR(_xlfn.XLOOKUP(F33,Sheet47!F:F,Sheet47!G:G),\"\")","v":60},{"$f":"_xlfn.XLOOKUP(F33,Pricing!A:A,Pricing!B:B)","v":19.989999999999998},{"$f":"Summary!$L$31","v":0.54},9.1953999999999994,null,null,null,null,null,null,null,0,null,0,0,0,0,0,0,0]
[null,null,"Chain","15\" X-Cut S93G Semi Chisel 3/8\" Mini 1.3mm Low Kick Guard",null,585404256,null,576936556,{"$f":"IFERROR(_xlfn.XLOOKUP(F34,Sheet47!F:F,Sheet47!G:G),\"\")","v":60},{"$f":"_xlfn.XLOOKUP(F34,Pricing!A:A,Pricing!B:B)","v":20.83},{"$f":"Summary!$L$31","v":0.54},9.5817999999999977,null,null,null,null,null,null,null,0,null,0,0,0,0,0,0,0]
[null,null,"Chain Reel","100' Reel S93G X-Cut Semi Chisel 3/8\" Mini 1.3mm Low Kick Guard",null,585404201,null,576936501,{"$f":"IFERROR(_xlfn.XLOOKUP(F35,Sheet47!F:F,Sheet47!G:G),\"\")","v":1},{"$f":"_xlfn.XLOOKUP(F35,Pricing!A:A,Pricing!B:B)","v":549.16999999999996},{"$f":"Summary!$L$31","v":0.54},252.61819999999994,null,null,null,null,null,null,null,0,null,0,0,0,0,0,0,0]
[null,null,"Chain","13\" X-Cut SP33G Pixel - Semi Chisel 0.325\" 1.3mm",null,581643156,null,501840656,{"$f":"IFERROR(_xlfn.XLOOKUP(F36,Sheet47!F:F,Sheet47!G:G),\"\")","v":60},{"$f":"_xlfn.XLOOKUP(F36,Pricing!A:A,Pricing!B:B)","v":21.66},{"$f":"Summary!$L$31","v":0.54},9.9635999999999996,null,null,null,null,null,null,null,0,null,0,0,0,0,0,0,0]
[null,null,"Chain","15\" X-Cut SP33G Pixel - Semi Chisel 0.325\" 1.3mm",null,581643164,null,501840664,{"$f":"IFERROR(_xlfn.XLOOKUP(F37,Sheet47!F:F,Sheet47!G:G),\"\")","v":60},{"$f":"_xlfn.XLOOKUP(F37,Pricing!A:A,Pricing!B:B)","v":24.99},{"$f":"Summary!$L$31","v":0.54},11.495399999999998,null,null,null,null,null,null,null,0,null,0,0,0,0,0,0,0]
[null,null,"Chain","16\" X-Cut SP33G Pixel - Semi Chisel 0.325\" 1.3mm",null,581643166,null,501840666,{"$f":"IFERROR(_xlfn.XLOOKUP(F38,Sheet47!F:F,Sheet47!G:G),\"\")","v":60},{"$f":"_xlfn.XLOOKUP(F38,Pricing!A:A,Pricing!B:B)","v":25.83},{"$f":"Summary!$L$31","v":0.54},11.881799999999998,null,null,null,null,null,null,null,0,null,0,0,0,0,0,0,0]
[null,null,"Chain","18\" X-Cut SP33G Pixel - Semi Chisel 0.325\" 1.3mm",null,581643172,null,501840672,{"$f":"IFERROR(_xlfn.XLOOKUP(F39,Sheet47!F:F,Sheet47!G:G),\"\")","v":30},{"$f":"_xlfn.XLOOKUP(F39,Pricing!A:A,Pricing!B:B)","v":28.33},{"$f":"Summary!$L$31","v":0.54},13.031799999999999,null,null,null,null,null,null,null,0,null,0,0,0,0,0,0,0]
[null,null,"Chain","20\" X-Cut SP33G Pixel - Semi Chisel 0.325\" 1.3mm",null,581643180,null,501840680,{"$f":"IFERROR(_xlfn.XLOOKUP(F40,Sheet47!F:F,Sheet47!G:G),\"\")","v":30},{"$f":"_xlfn.XLOOKUP(F40,Pricing!A:A,Pricing!B:B)","v":30.83},{"$f":"Summary!$L$31","v":0.54},14.181799999999999,null,null,null,null,null,null,null,0,null,0,0,0,0,0,0,0]
[null,null,"Chain Reel","100' Reel SP33G X-Cut Pixel - Semi Chisel 0.325\" 1.3mm  ",null,581643101,null,503305801,{"$f":"IFERROR(_xlfn.XLOOKUP(F41,Sheet47!F:F,Sheet47!G:G),\"\")","v":1},{"$f":"_xlfn.XLOOKUP(F41,Pricing!A:A,Pricing!B:B)","v":607.5},{"$f":"Summary!$L$31","v":0.54},279.45,null,null,null,null,null,null,null,0,null,0,0,0,0,0,0,0]
[null,null,"Chain","585641101 (SAW CHAIN C33 Chisel .325\" 1.3 mm)",null,585641101,null,null,{"$f":"IFERROR(_xlfn.XLOOKUP(F42,Sheet47!F:F,Sheet47!G:G),\"\")","v":1},{"$f":"_xlfn.XLOOKUP(F42,Pricing!A:A,Pricing!B:B)","v":582.5},{"$f":"Summary!$L$31","v":0.54},267.95,null,null,null,null,null,null,null,0,null,0,0,0,0,0,0,0]
[null,null,"Chain","585641156 (SAW CHAIN C33 Chisel .325\" 1.3 mm)",null,585641156,null,null,{"$f":"IFERROR(_xlfn.XLOOKUP(F43,Sheet47!F:F,Sheet47!G:G),\"\")","v":1},{"$f":"_xlfn.XLOOKUP(F43,Pricing!A:A,Pricing!B:B)","v":20.83},{"$f":"Summary!$L$31","v":0.54},9.5817999999999977,null,null,null,null,null,null,null,0,null,0,0,0,0,0,0,0]
[null,null,"Chain","585641164 (SAW CHAIN C33 Chisel .325\" 1.3 mm)",null,585641164,null,null,{"$f":"IFERROR(_xlfn.XLOOKUP(F44,Sheet47!F:F,Sheet47!G:G),\"\")","v":60},{"$f":"_xlfn.XLOOKUP(F44,Pricing!A:A,Pricing!B:B)","v":22.49},{"$f":"Summary!$L$31","v":0.54},10.345399999999998,null,null,null,null,null,null,null,0,null,0,0,0,0,0,0,0]
[null,null,"Chain","585641166 (SAW CHAIN C33 Chisel .325\" 1.3 mm)",null,585641166,null,null,{"$f":"IFERROR(_xlfn.XLOOKUP(F45,Sheet47!F:F,Sheet47!G:G),\"\")","v":60},{"$f":"_xlfn.XLOOKUP(F45,Pricing!A:A,Pricing!B:B)","v":23.33},{"$f":"Summary!$L$31","v":0.54},{"$f":"J45-(J45*K45)","v":10.731799999999998},null,null,null,null,null,null,null,{"$f":"SUM(N45:S45)","v":0},null,{"$f":"L45*N45","v":0},{"$f":"L45*O45","v":0},{"$f":"L45*P45","v":0},0,{"$f":"$L45*R45","v":0},{"$f":"$L45*S45","v":0},{"$f":"SUM(V45:AA45)","v":0}]
[null,null,"Chain","585641172 (SAW CHAIN C33 Chisel .325\" 1.3 mm)",null,585641172,null,null,{"$f":"IFERROR(_xlfn.XLOOKUP(F46,Sheet47!F:F,Sheet47!G:G),\"\")","v":60},{"$f":"_xlfn.XLOOKUP(F46,Pricing!A:A,Pricing!B:B)","v":24.99},{"$f":"Summary!$L$31","v":0.54},11.495399999999998,null,null,null,null,null,null,null,0,null,0,0,0,0,0,0,0]
[null,null,"Chain","C33 Chisel .325\" 1.3 mm",null,585641180,null,null,{"$f":"IFERROR(_xlfn.XLOOKUP(F47,Sheet47!F:F,Sheet47!G:G),\"\")","v":30},{"$f":"_xlfn.XLOOKUP(F47,Pricing!A:A,Pricing!B:B)","v":28.33},{"$f":"Summary!$L$31","v":0.54},13.031799999999999,null,null,null,null,null,null,null,0,null,0,0,0,{"$f":"L47*Q47","v":0},0,0,0]
[null,null,"Chain","13\" X-CUT S35G  - Semi Chisel 0.325\" 1.5mm",null,585639556,null,null,{"$f":"IFERROR(_xlfn.XLOOKUP(F48,Sheet47!F:F,Sheet47!G:G),\"\")","v":60},{"$f":"_xlfn.XLOOKUP(F48,Pricing!A:A,Pricing!B:B)","v":20.83},{"$f":"Summary!$L$31","v":0.54},9.5817999999999977,null,null,null,null,null,null,null,0,null,0,0,0,0,0,0,0]
[null,null,"Chain","15\" X-CUT S35G  - Semi Chisel 0.325\" 1.5mm",null,585639564,null,null,{"$f":"IFERROR(_xlfn.XLOOKUP(F49,Sheet47!F:F,Sheet47!G:G),\"\")","v":30},{"$f":"_xlfn.XLOOKUP(F49,Pricing!A:A,Pricing!B:B)","v":23.33},{"$f":"Summary!$L$31","v":0.54},10.731799999999998,null,30,null,null,30,null,null,60,null,321.95399999999995,0,0,321.95399999999995,0,0,643.9079999999999]
[null,null,"Chain","16\" X-CUT S35G  - Semi Chisel 0.325\" 1.5mm",null,585639566,null,null,{"$f":"IFERROR(_xlfn.XLOOKUP(F50,Sheet47!F:F,Sheet47!G:G),\"\")","v":30},{"$f":"_xlfn.XLOOKUP(F50,Pricing!A:A,Pricing!B:B)","v":24.16},{"$f":"Summary!$L$31","v":0.54},11.1136,null,null,null,null,null,null,null,0,null,0,0,0,0,0,0,0]
[null,null,"Chain","18\" X-CUT S35G  - Semi Chisel 0.325\" 1.5mm",null,585639572,null,null,{"$f":"IFERROR(_xlfn.XLOOKUP(F51,Sheet47!F:F,Sheet47!G:G),\"\")","v":30},{"$f":"_xlfn.XLOOKUP(F51,Pricing!A:A,Pricing!B:B)","v":26.66},{"$f":"Summary!$L$31","v":0.54},12.263599999999999,null,null,null,null,null,null,null,0,null,0,0,0,0,0,0,0]
[null,null,"Chain","20\" X-CUT S35G  - Semi Chisel 0.325\" 1.5mm",null,585639580,null,null,{"$f":"IFERROR(_xlfn.XLOOKUP(F52,Sheet47!F:F,Sheet47!G:G),\"\")","v":30},{"$f":"_xlfn.XLOOKUP(F52,Pricing!A:A,Pricing!B:B)","v":29.16},{"$f":"Summary!$L$31","v":0.54},13.413599999999999,null,null,null,null,null,null,null,0,null,0,0,0,0,0,0,0]
[null,null,"Chain Reel","100' S35G X-Cut Semi Chisel .325\" 1.5 mm",null,585639501,null,null,{"$f":"IFERROR(_xlfn.XLOOKUP(F53,Sheet47!F:F,Sheet47!G:G),\"\")","v":1},{"$f":"_xlfn.XLOOKUP(F53,Pricing!A:A,Pricing!B:B)","v":607.5},{"$f":"Summary!$L$31","v":0.54},279.45,null,null,null,null,null,null,null,0,null,0,0,0,0,0,0,0]
[null,null,"Chain","581699701 (SAW CHAIN C35 Chisel .325\" 1.5 mm)",null,581699701,null,null,{"$f":"IFERROR(_xlfn.XLOOKUP(F54,Sheet47!F:F,Sheet47!G:G),\"\")","v":1},{"$f":"_xlfn.XLOOKUP(F54,Pricing!A:A,Pricing!B:B)","v":582.5},{"$f":"Summary!$L$31","v":0.54},267.95,null,null,null,null,null,null,null,0,null,0,0,0,0,0,0,0]
[null,null,"Chain","581699756 (SAW CHAIN C35 Chisel .325\" 1.5 mm)",null,581699756,null,null,{"$f":"IFERROR(_xlfn.XLOOKUP(F55,Sheet47!F:F,Sheet47!G:G),\"\")","v":1},{"$f":"_xlfn.XLOOKUP(F55,Pricing!A:A,Pricing!B:B)","v":20.83},{"$f":"Summary!$L$31","v":0.54},9.5817999999999977,null,null,null,null,null,null,null,0,null,0,0,0,0,0,0,0]
[null,null,"Chain","581699764 (SAW CHAIN C35 Chisel .325\" 1.5 mm)",null,581699764,null,null,{"$f":"IFERROR(_xlfn.XLOOKUP(F56,Sheet47!F:F,Sheet47!G:G),\"\")","v":60},{"$f":"_xlfn.XLOOKUP(F56,Pricing!A:A,Pricing!B:B)","v":22.49},{"$f":"Summary!$L$31","v":0.54},10.345399999999998,null,null,null,null,null,null,null,0,null,0,0,0,0,0,0,0]
[null,null,"Chain","581699766 (SAW CHAIN C35 Chisel .325\" 1.5 mm)",null,581699766,null,null,{"$f":"IFERROR(_xlfn.XLOOKUP(F57,Sheet47!F:F,Sheet47!G:G),\"\")","v":60},{"$f":"_xlfn.XLOOKUP(F57,Pricing!A:A,Pricing!B:B)","v":23.33},{"$f":"Summary!$L$31","v":0.54},10.731799999999998,null,null,null,null,null,null,null,0,null,0,0,0,0,0,0,0]
[null,null,"Chain","581699772 (SAW CHAIN C35 Chisel .325\" 1.5 mm)",null,581699772,null,null,{"$f":"IFERROR(_xlfn.XLOOKUP(F58,Sheet47!F:F,Sheet47!G:G),\"\")","v":60},{"$f":"_xlfn.XLOOKUP(F58,Pricing!A:A,Pricing!B:B)","v":24.99},{"$f":"Summary!$L$31","v":0.54},11.495399999999998,null,null,null,null,null,null,null,0,null,0,0,0,0,0,0,0]
[null,null,"Chain","581699780 (SAW CHAIN C35 Chisel .325\" 1.5 mm)",null,581699780,null,null,{"$f":"IFERROR(_xlfn.XLOOKUP(F59,Sheet47!F:F,Sheet47!G:G),\"\")","v":1},{"$f":"_xlfn.XLOOKUP(F59,Pricing!A:A,Pricing!B:B)","v":26.66},{"$f":"Summary!$L$31","v":0.54},12.263599999999999,null,null,null,null,null,null,null,0,null,0,0,0,0,0,0,0]
[null,null,"Chain","15\" C85 X-Cut Chisel 3/8\" 1.5mm",null,581626656,null,null,{"$f":"IFERROR(_xlfn.XLOOKUP(F60,Sheet47!F:F,Sheet47!G:G),\"\")","v":30},{"$f":"_xlfn.XLOOKUP(F60,Pricing!A:A,Pricing!B:B)","v":22.49},{"$f":"Summary!$L$31","v":0.54},10.345399999999998,null,null,null,null,null,null,null,0,null,0,0,0,0,0,0,0]
[null,null,"Chain","18\" C85 X-Cut Chisel 3/8\" 1.5mm",null,581626668,null,null,{"$f":"IFERROR(_xlfn.XLOOKUP(F61,Sheet47!F:F,Sheet47!G:G),\"\")","v":30},{"$f":"_xlfn.XLOOKUP(F61,Pricing!A:A,Pricing!B:B)","v":27.49},{"$f":"Summary!$L$31","v":0.54},12.645399999999999,null,null,null,null,null,null,null,0,null,0,0,0,0,0,0,0]
[null,null,"Chain","20\" C85 X-Cut Chisel 3/8\" 1.5mm",null,581626672,null,null,{"$f":"IFERROR(_xlfn.XLOOKUP(F62,Sheet47!F:F,Sheet47!G:G),\"\")","v":30},{"$f":"_xlfn.XLOOKUP(F62,Pricing!A:A,Pricing!B:B)","v":28.33},{"$f":"Summary!$L$31","v":0.54},13.031799999999999,null,null,null,null,null,null,null,0,null,0,0,0,0,0,0,0]
[null,null,"Chain","24\" C85 X-Cut Chisel 3/8\" 1.5mm",null,581626684,null,null,{"$f":"IFERROR(_xlfn.XLOOKUP(F63,Sheet47!F:F,Sheet47!G:G),\"\")","v":30},{"$f":"_xlfn.XLOOKUP(F63,Pricing!A:A,Pricing!B:B)","v":33.33},{"$f":"Summary!$L$31","v":0.54},15.331799999999998,null,null,null,null,null,null,null,0,null,0,0,0,0,0,0,0]
[null,null,"Chain","28\" C85 X-Cut Chisel 3/8\" 1.5mm",null,581626692,null,null,{"$f":"IFERROR(_xlfn.XLOOKUP(F64,Sheet47!F:F,Sheet47!G:G),\"\")","v":30},{"$f":"_xlfn.XLOOKUP(F64,Pricing!A:A,Pricing!B:B)","v":37.49},{"$f":"Summary!$L$31","v":0.54},17.2454,null,null,null,null,null,null,null,0,null,0,0,0,0,0,0,0]
[null,null,"Chain","32\" C85 X-Cut Chisel 3/8\" 1.5mm",null,581626605,null,null,{"$f":"IFERROR(_xlfn.XLOOKUP(F65,Sheet47!F:F,Sheet47!G:G),\"\")","v":1},{"$f":"_xlfn.XLOOKUP(F65,Pricing!A:A,Pricing!B:B)","v":43.33},{"$f":"Summary!$L$31","v":0.54},19.931799999999999,null,null,null,null,null,null,null,0,null,0,0,0,0,0,0,0]
[null,null,"Chain","36\" C85 X-Cut Chisel 3/8\" 1.5mm",null,581626615,null,null,{"$f":"IFERROR(_xlfn.XLOOKUP(F66,Sheet47!F:F,Sheet47!G:G),\"\")","v":30},{"$f":"_xlfn.XLOOKUP(F66,Pricing!A:A,Pricing!B:B)","v":47.49},{"$f":"Summary!$L$31","v":0.54},21.845399999999998,null,null,null,null,null,null,null,0,null,0,0,0,0,0,0,0]
[null,null,"Chain Reel","100' Reel C85 X-Cut Chisel 3/8\" 1.5mm",null,581626601,null,null,{"$f":"IFERROR(_xlfn.XLOOKUP(F67,Sheet47!F:F,Sheet47!G:G),\"\")","v":1},{"$f":"_xlfn.XLOOKUP(F67,Pricing!A:A,Pricing!B:B)","v":574.16999999999996},{"$f":"Summary!$L$31","v":0.54},264.11819999999994,null,null,null,null,null,null,null,0,null,0,0,0,0,0,0,0]
[null,null,"Chain","Chain 18\" X 3/8\" H42",null,501841468,null,501841568,{"$f":"IFERROR(_xlfn.XLOOKUP(F68,Sheet47!F:F,Sheet47!G:G),\"\")","v":30},{"$f":"_xlfn.XLOOKUP(F68,Pricing!A:A,Pricing!B:B)","v":27.49},{"$f":"Summary!$L$31","v":0.54},12.645399999999999,null,null,null,null,null,null,null,0,null,0,0,0,0,0,0,0]
[null,null,"Chain","Chain 20\" X 3/8\" H42",null,501841472,null,501841572,{"$f":"IFERROR(_xlfn.XLOOKUP(F69,Sheet47!F:F,Sheet47!G:G),\"\")","v":30},{"$f":"_xlfn.XLOOKUP(F69,Pricing!A:A,Pricing!B:B)","v":29.99},{"$f":"Summary!$L$31","v":0.54},13.795399999999997,null,null,null,null,null,null,null,0,null,0,0,0,0,0,0,0]
[null,null,"Chain","Chain 24\" X 3/8\" H42",null,501841484,null,501841284,{"$f":"IFERROR(_xlfn.XLOOKUP(F70,Sheet47!F:F,Sheet47!G:G),\"\")","v":30},{"$f":"_xlfn.XLOOKUP(F70,Pricing!A:A,Pricing!B:B)","v":29.16},{"$f":"Summary!$L$31","v":0.54},13.413599999999999,null,null,null,null,null,null,null,0,null,0,0,0,0,0,0,0]
[null,null,"Chain","Chain 28\" X 3/8\" H42",null,501841492,null,505369692,{"$f":"IFERROR(_xlfn.XLOOKUP(F71,Sheet47!F:F,Sheet47!G:G),\"\")","v":30},{"$f":"_xlfn.XLOOKUP(F71,Pricing!A:A,Pricing!B:B)","v":31.66},{"$f":"Summary!$L$31","v":0.54},14.563599999999997,null,null,null,null,null,null,null,0,null,0,0,0,0,0,0,0]
[null,null,"Chain","28\" H64 Chisel 0.404\" 1.6mm",null,501843184,null,501843003,{"$f":"IFERROR(_xlfn.XLOOKUP(F72,Sheet47!F:F,Sheet47!G:G),\"\")","v":30},{"$f":"_xlfn.XLOOKUP(F72,Pricing!A:A,Pricing!B:B)","v":35.83},{"$f":"Summary!$L$31","v":0.54},16.481799999999996,null,null,null,null,null,null,null,0,null,0,0,0,0,0,0,0]
[null,null,"Chain","36\" H64 Chisel 0.404\" 1.6mm",null,501843104,null,501843006,{"$f":"IFERROR(_xlfn.XLOOKUP(F73,Sheet47!F:F,Sheet47!G:G),\"\")","v":30},{"$f":"_xlfn.XLOOKUP(F73,Pricing!A:A,Pricing!B:B)","v":45.83},{"$f":"Summary!$L$31","v":0.54},21.081799999999998,null,null,null,null,null,null,null,0,null,0,0,0,0,0,0,0]
[null,null,"Chain","42\" H64 Chisel 0.404\" 1.6mm",null,501843124,null,501843005,{"$f":"IFERROR(_xlfn.XLOOKUP(F74,Sheet47!F:F,Sheet47!G:G),\"\")","v":30},{"$f":"_xlfn.XLOOKUP(F74,Pricing!A:A,Pricing!B:B)","v":52.49},{"$f":"Summary!$L$31","v":0.54},24.145399999999999,null,null,null,null,null,null,null,0,null,0,0,0,0,0,0,0]
[null,null,"Chain","30\" H64 Chisel 0.404\" 1.6mm",null,501843192,null,501843007,{"$f":"IFERROR(_xlfn.XLOOKUP(F75,Sheet47!F:F,Sheet47!G:G),\"\")","v":30},{"$f":"_xlfn.XLOOKUP(F75,Pricing!A:A,Pricing!B:B)","v":38.33},{"$f":"Summary!$L$31","v":0.54},17.631799999999998,null,null,null,null,null,null,null,0,null,0,0,0,0,0,0,0]
[null,null,"Chain Reel","100' Reel H28 Micro Chisel 0.325\" 1.6mm",null,503300322,null,null,{"$f":"IFERROR(_xlfn.XLOOKUP(F76,Sheet47!F:F,Sheet47!G:G),\"\")","v":1},{"$f":"_xlfn.XLOOKUP(F76,Pricing!A:A,Pricing!B:B)","v":532.5},{"$f":"Summary!$L$31","v":0.54},244.95,null,null,null,null,null,null,null,0,null,0,0,0,0,0,0,0]
[null,null,"Chain Reel","100' Reel H21 Chisel 0.325\" 1.5mm ",null,503305701,null,503300223,{"$f":"IFERROR(_xlfn.XLOOKUP(F77,Sheet47!F:F,Sheet47!G:G),\"\")","v":1},{"$f":"_xlfn.XLOOKUP(F77,Pricing!A:A,Pricing!B:B)","v":574.16999999999996},{"$f":"Summary!$L$31","v":0.54},{"$f":"J77-(J77*K77)","v":264.11819999999994},null,null,null,null,null,null,null,{"$f":"SUM(N77:S77)","v":0},null,{"$f":"L77*N77","v":0},{"$f":"L77*O77","v":0},{"$f":"L77*P77","v":0},0,{"$f":"$L77*R77","v":0},{"$f":"$L77*S77","v":0},{"$f":"SUM(V77:AA77)","v":0}]
[null,null,"Chain Reel","100' Reel H42 Chisel 3/8\" 1.5mm",null,503306001,null,503306101,{"$f":"IFERROR(_xlfn.XLOOKUP(F78,Sheet47!F:F,Sheet47!G:G),\"\")","v":1},{"$f":"_xlfn.XLOOKUP(F78,Pricing!A:A,Pricing!B:B)","v":532.5},{"$f":"Summary!$L$31","v":0.54},244.95,null,null,null,null,null,null,null,0,null,0,0,0,0,0,0,0]
[null,null,"Chain Reel","100' Reel H64 Micro Chisel 0.404\" 1.6mm ",null,503306401,null,null,{"$f":"IFERROR(_xlfn.XLOOKUP(F79,Sheet47!F:F,Sheet47!G:G),\"\")","v":1},{"$f":"_xlfn.XLOOKUP(F79,Pricing!A:A,Pricing!B:B)","v":574.16999999999996},{"$f":"Summary!$L$31","v":0.54},264.11819999999994,null,null,null,null,null,null,null,0,null,0,0,0,{"$f":"L79*Q79","v":0},0,0,0]
[null,null,"Chain Reel","100' Reel H45 Chisel 3/8\" 1.6mm  ",null,503308801,null,503301422,{"$f":"IFERROR(_xlfn.XLOOKUP(F80,Sheet47!F:F,Sheet47!G:G),\"\")","v":1},{"$f":"_xlfn.XLOOKUP(F80,Pricing!A:A,Pricing!B:B)","v":532.5},{"$f":"Summary!$L$31","v":0.54},244.95,null,null,null,null,null,null,null,0,null,0,0,0,0,0,0,0]
[null,null,"Chain","C85 20/50 - 30 loops for the price of 24",null,546606372,null,null,30,{"$f":"_xlfn.XLOOKUP(F81,Pricing!A:A,Pricing!B:B)","v":674.17},{"$f":"Summary!$L$31","v":0.54},310.11819999999994,null,null,null,null,null,null,null,0,null,0,0,0,0,0,0,0]
[null,null,"Chain","S35G 15/38 - 30 loops for the price of 24",null,546606464,null,null,30,{"$f":"_xlfn.XLOOKUP(F82,Pricing!A:A,Pricing!B:B)","v":515.83000000000004},{"$f":"Summary!$L$31","v":0.54},237.28179999999998,null,null,null,null,null,null,null,0,null,0,0,0,0,0,0,0]
[null,null,"Chain","S35G 18/45 - 30 loops for the price of 24",null,546606472,null,null,30,{"$f":"_xlfn.XLOOKUP(F83,Pricing!A:A,Pricing!B:B)","v":599.16999999999996},{"$f":"Summary!$L$31","v":0.54},275.61819999999994,null,null,null,null,null,null,null,0,null,0,0,0,0,0,0,0]
[null,null,"Chain","SP33G 13/33 - 60 loops for the price of 48",null,546606556,null,null,60,{"$f":"_xlfn.XLOOKUP(F84,Pricing!A:A,Pricing!B:B)","v":1040.83},{"$f":"Summary!$L$31","v":0.54},478.78179999999998,null,null,null,null,null,null,null,0,null,0,0,0,0,0,0,0]
[null,null,"Chain","SP33G 15/38 - 60 loops for the price of 48",null,546606564,null,null,60,{"$f":"_xlfn.XLOOKUP(F85,Pricing!A:A,Pricing!B:B)","v":1199.17},{"$f":"Summary!$L$31","v":0.54},551.6182,null,null,null,null,null,null,null,0,null,0,0,0,0,0,0,0]
[null,null,"Chain","SP33G 18/45 - 30 loops for the price of 24",null,546606572,null,null,30,{"$f":"_xlfn.XLOOKUP(F86,Pricing!A:A,Pricing!B:B)","v":674.17},{"$f":"Summary!$L$31","v":0.54},310.11819999999994,null,null,null,null,null,null,null,0,null,0,0,0,0,0,0,0]
[null,null,"Chain","C85 18/45 - 30 loops for the price of 24",null,546606368,null,null,30,{"$f":"_xlfn.XLOOKUP(F87,Pricing!A:A,Pricing!B:B)","v":657.5},{"$f":"Summary!$L$31","v":0.54},302.45,null,null,null,null,null,null,null,0,null,0,0,0,0,0,0,0]

{"sheet":"Filing Equipment","index":25,"n_rows":35,"n_cols":28,"rows_kept":35,"cut":false,"hidden":false,"merged":[[10,21,10,27],[1,4,1,8],[2,4,2,8],[3,4,3,8],[4,4,4,8],[5,4,5,8],[6,4,6,8],[7,4,7,8],[8,3,8,5],[8,6,8,8],[10,2,10,11],[10,13,10,19],[11,3,11,4],[12,1,34,1],[12,3,12,4],[13,3,13,4],[25,3,25,4],[14,3,14,4],[15,3,15,4],[16,3,16,4],[17,3,17,4],[18,3,18,4],[19,3,19,4],[20,3,20,4],[21,3,21,4],[22,3,22,4],[23,3,23,4],[24,3,24,4],[32,3,32,4],[33,3,33,4],[34,3,34,4],[26,3,26,4],[27,3,27,4],[28,3,28,4],[29,3,29,4],[30,3,30,4],[31,3,31,4]]}
[]
[null,null,null,"Dealer Name",{"$f":"Summary!F2","v":"Winchester Garden Machinery Ltd - Arb"}]
[null,null,null,"Dealer Postcode",{"$f":"Summary!F3","v":"SO21 1HF"}]
[null,null,null,"Account Number",{"$f":"Summary!F4","v":28400505}]
[null,null,null,"Order Number",{"$f":"Summary!F5","v":0}]
[null,null,null,"Project Code",{"$f":"Summary!F6","v":"PSO2024"}]
[null,null,null,"Order Date",{"$f":"Summary!F7","v":"00:00:00"}]
[null,null,null,"ABM",{"$f":"Summary!F8","v":"Francesca_Bosley"}]
[null,null,null,"PSO minimum 40% of turnover = Additional 2% terms",null,null,{"$f":"Summary!I9","v":0.02}]
[]
[null,null,"Filing Equipment",null,null,null,null,null,null,null,null,null,null,"Order Quantity",null,null,null,null,null,null,null,"Order Value"]
[null,null,"Product Type","Model Description",null,"PNC","Size","Replaces","Box Qty","List Price 2024 Ex VAT","Discount","Dealer Net Price",null,"January","February","March","April","May","June","Total Qty",null,"January","February","March","April","May","June","Total Value"]
[null,"Accessories","Filing Equipment","FILE KIT 0.325\" X-CUT S35G",null,587806801,null,null,{"$f":"IFERROR(_xlfn.XLOOKUP(F13,Sheet47!F:F,Sheet47!G:G),\"\")","v":1},{"$f":"_xlfn.XLOOKUP(F13,Pricing!A:A,Pricing!B:B)","v":22.49},{"$f":"Summary!$L$32","v":0.5},{"$f":"J13-(J13*K13)","v":11.244999999999999},null,null,null,null,null,null,null,{"$f":"SUM(N13:S13)","v":0},null,{"$f":"L13*N13","v":0},{"$f":"L13*O13","v":0},{"$f":"L13*P13","v":0},{"$f":"L13*Q13","v":0},{"$f":"$L13*R13","v":0},{"$f":"$L13*S13","v":0},{"$f":"SUM(V13:AA13)","v":0}]
[null,null,"Filing Equipment","FILING GAUGE 0.325\" X-CUT S35G",null,587809101,null,null,{"$f":"IFERROR(_xlfn.XLOOKUP(F14,Sheet47!F:F,Sheet47!G:G),\"\")","v":1},{"$f":"_xlfn.XLOOKUP(F14,Pricing!A:A,Pricing!B:B)","v":11.66},{"$f":"Summary!$L$32","v":0.5},{"$f":"J14-(J14*K14)","v":5.83},null,null,null,null,null,null,null,{"$f":"SUM(N14:S14)","v":0},null,{"$f":"L14*N14","v":0},{"$f":"L14*O14","v":0},{"$f":"L14*P14","v":0},{"$f":"L14*Q14","v":0},0,0,0]
[null,null,"Filing Equipment","FILE GAUGE X-PRESICION 1/4\"MIN",null,529937101,null,null,{"$f":"IFERROR(_xlfn.XLOOKUP(F15,Sheet47!F:F,Sheet47!G:G),\"\")","v":1},{"$f":"_xlfn.XLOOKUP(F15,Pricing!A:A,Pricing!B:B)","v":11.66},{"$f":"Summary!$L$32","v":0.5},5.83,null,null,null,null,null,null,null,0,null,0,0,0,0,0,0,0]
[null,null,"Filing Equipment","File Round 4,0 mm 12-Pack Intensive Cut",null,597354802,null,510095702,{"$f":"IFERROR(_xlfn.XLOOKUP(F16,Sheet47!F:F,Sheet47!G:G),\"\")","v":1},{"$f":"_xlfn.XLOOKUP(F16,Pricing!A:A,Pricing!B:B)","v":19.16},{"$f":"Summary!$L$32","v":0.5},9.58,null,null,null,null,null,null,null,0,null,0,0,0,0,0,0,0]
[null,null,"Filing Equipment","File Round 4,8 mm 12-Pack Intensive Cut",null,597355802,null,510095502,{"$f":"IFERROR(_xlfn.XLOOKUP(F17,Sheet47!F:F,Sheet47!G:G),\"\")","v":1},{"$f":"_xlfn.XLOOKUP(F17,Pricing!A:A,Pricing!B:B)","v":19.16},{"$f":"Summary!$L$32","v":0.5},9.58,null,null,null,null,null,null,null,0,null,0,0,0,0,0,0,0]
[null,null,"Filing Equipment","File Round 5,2 mm 12 - Pack",null,597355902,null,577233801,{"$f":"IFERROR(_xlfn.XLOOKUP(F18,Sheet47!F:F,Sheet47!G:G),\"\")","v":1},{"$f":"_xlfn.XLOOKUP(F18,Pricing!A:A,Pricing!B:B)","v":19.16},{"$f":"Summary!$L$32","v":0.5},9.58,null,null,null,null,null,null,null,0,null,0,0,0,0,0,0,0]
[null,null,"Filing Equipment","File Round 5,5 mm 12-Pack Intensive Cut",null,597356102,null,510095602,{"$f":"IFERROR(_xlfn.XLOOKUP(F19,Sheet47!F:F,Sheet47!G:G),\"\")","v":1},{"$f":"_xlfn.XLOOKUP(F19,Pricing!A:A,Pricing!B:B)","v":19.16},{"$f":"Summary!$L$32","v":0.5},9.58,null,null,null,null,null,null,null,0,null,0,0,0,0,0,0,0]
[null,null,"Filing Equipment","File Round 4,8 mm 300 - Pack",null,597355803,null,577388301,{"$f":"IFERROR(_xlfn.XLOOKUP(F20,Sheet47!F:F,Sheet47!G:G),\"\")","v":1},{"$f":"_xlfn.XLOOKUP(F20,Pricing!A:A,Pricing!B:B)","v":382.5},{"$f":"Summary!$L$32","v":0.5},191.25,null,null,null,null,null,null,null,0,null,0,0,0,0,0,0,0]
[null,null,"Filing Equipment","File Round 5,5 mm 300-pack Intensive Cut",null,597356103,null,577388302,{"$f":"IFERROR(_xlfn.XLOOKUP(F21,Sheet47!F:F,Sheet47!G:G),\"\")","v":1},{"$f":"_xlfn.XLOOKUP(F21,Pricing!A:A,Pricing!B:B)","v":382.5},{"$f":"Summary!$L$32","v":0.5},191.25,null,null,null,null,null,null,null,0,null,0,0,0,0,0,0,0]
[null,null,"Filing Equipment","Filing Gauge Combi SP21G .325\" Mini ",null,595004701,null,null,{"$f":"IFERROR(_xlfn.XLOOKUP(F22,Sheet47!F:F,Sheet47!G:G),\"\")","v":1},{"$f":"_xlfn.XLOOKUP(F22,Pricing!A:A,Pricing!B:B)","v":11.66},{"$f":"Summary!$L$32","v":0.5},5.83,null,null,null,null,null,null,null,0,null,0,0,0,0,0,0,0]
[null,null,"Filing Equipment","File Kit .325” Mini SP21G ",null,595004601,null,null,{"$f":"IFERROR(_xlfn.XLOOKUP(F23,Sheet47!F:F,Sheet47!G:G),\"\")","v":1},{"$f":"_xlfn.XLOOKUP(F23,Pricing!A:A,Pricing!B:B)","v":21.66},{"$f":"Summary!$L$32","v":0.5},10.83,null,null,null,null,null,null,null,0,null,0,0,0,0,0,0,0]
[null,null,"Filing Equipment","Filing Gauge Combi 3/8\" Mini S93G ",null,587809001,null,null,{"$f":"IFERROR(_xlfn.XLOOKUP(F24,Sheet47!F:F,Sheet47!G:G),\"\")","v":1},{"$f":"_xlfn.XLOOKUP(F24,Pricing!A:A,Pricing!B:B)","v":11.66},{"$f":"Summary!$L$32","v":0.5},5.83,null,null,null,null,null,null,null,0,null,0,0,0,0,0,0,0]
[null,null,"Filing Equipment","File Kit 3/8\" Mini S93G ",null,587806701,null,null,{"$f":"IFERROR(_xlfn.XLOOKUP(F25,Sheet47!F:F,Sheet47!G:G),\"\")","v":1},{"$f":"_xlfn.XLOOKUP(F25,Pricing!A:A,Pricing!B:B)","v":22.49},{"$f":"Summary!$L$32","v":0.5},11.244999999999999,null,null,null,null,null,null,null,0,null,0,0,0,0,0,0,0]
[null,null,"Filing Equipment","Filing Gauge Combi X-Cut C85",null,586938601,null,null,{"$f":"IFERROR(_xlfn.XLOOKUP(F26,Sheet47!F:F,Sheet47!G:G),\"\")","v":1},{"$f":"_xlfn.XLOOKUP(F26,Pricing!A:A,Pricing!B:B)","v":11.66},{"$f":"Summary!$L$32","v":0.5},5.83,null,null,null,null,null,null,null,0,null,0,0,0,0,0,0,0]
[null,null,"Filing Equipment","File Kit 3/8\" X-Cut C85",null,586938501,null,null,{"$f":"IFERROR(_xlfn.XLOOKUP(F27,Sheet47!F:F,Sheet47!G:G),\"\")","v":1},{"$f":"_xlfn.XLOOKUP(F27,Pricing!A:A,Pricing!B:B)","v":21.66},{"$f":"Summary!$L$32","v":0.5},10.83,null,null,null,null,null,null,null,0,null,0,0,0,0,0,0,0]
[null,null,"Filing Equipment","File Gauge .325 X-Cut SP33G",null,586938401,null,null,{"$f":"IFERROR(_xlfn.XLOOKUP(F28,Sheet47!F:F,Sheet47!G:G),\"\")","v":1},{"$f":"_xlfn.XLOOKUP(F28,Pricing!A:A,Pricing!B:B)","v":9.99},{"$f":"Summary!$L$32","v":0.5},4.9950000000000001,null,null,null,null,null,null,null,0,null,0,0,0,0,0,0,0]
[null,null,"Filing Equipment","File Kit 0.325\" Pixel X-Cut SP33G",null,586933401,null,null,{"$f":"IFERROR(_xlfn.XLOOKUP(F29,Sheet47!F:F,Sheet47!G:G),\"\")","v":1},{"$f":"_xlfn.XLOOKUP(F29,Pricing!A:A,Pricing!B:B)","v":21.66},{"$f":"Summary!$L$32","v":0.5},10.83,null,null,null,null,null,null,null,0,null,0,0,0,0,0,0,0]
[null,null,"Filing Equipment","Filing Gauge Combi H00 1/4\"",null,580687401,null,null,{"$f":"IFERROR(_xlfn.XLOOKUP(F30,Sheet47!F:F,Sheet47!G:G),\"\")","v":10},{"$f":"_xlfn.XLOOKUP(F30,Pricing!A:A,Pricing!B:B)","v":11.66},{"$f":"Summary!$L$32","v":0.5},5.83,null,null,null,null,null,null,null,0,null,0,0,0,0,0,0,0]
[null,null,"Filing Equipment","File Kit 1/4\"  H00    ",null,580687501,null,null,{"$f":"IFERROR(_xlfn.XLOOKUP(F31,Sheet47!F:F,Sheet47!G:G),\"\")","v":10},{"$f":"_xlfn.XLOOKUP(F31,Pricing!A:A,Pricing!B:B)","v":21.66},{"$f":"Summary!$L$32","v":0.5},10.83,null,null,null,null,null,null,null,0,null,0,0,0,0,0,0,0]
[null,null,"Filing Equipment","Stump Vise",null,505665256,null,null,{"$f":"IFERROR(_xlfn.XLOOKUP(F32,Sheet47!F:F,Sheet47!G:G),\"\")","v":1},{"$f":"_xlfn.XLOOKUP(F32,Pricing!A:A,Pricing!B:B)","v":19.989999999999998},{"$f":"Summary!$L$32","v":0.5},9.9949999999999992,null,null,null,null,null,null,null,0,null,0,0,0,0,0,0,0]
[null,null,"Filing Equipment","Filing Gauge Combi H25 .325\" 1.5mm",null,505698109,null,505688109,{"$f":"IFERROR(_xlfn.XLOOKUP(F33,Sheet47!F:F,Sheet47!G:G),\"\")","v":1},{"$f":"_xlfn.XLOOKUP(F33,Pricing!A:A,Pricing!B:B)","v":11.66},{"$f":"Summary!$L$32","v":0.5},5.83,null,2,2,2,null,null,null,6,null,11.66,11.66,11.66,0,0,0,34.980000000000004]
[null,null,"Filing Equipment","Flat File 6\" - 12 Pack",null,505698161,null,null,{"$f":"IFERROR(_xlfn.XLOOKUP(F34,Sheet47!F:F,Sheet47!G:G),\"\")","v":1},{"$f":"_xlfn.XLOOKUP(F34,Pricing!A:A,Pricing!B:B)","v":35.83},{"$f":"Summary!$L$32","v":0.5},17.914999999999999,null,null,null,null,null,null,null,0,null,0,0,0,0,0,0,0]
[null,null,"Filing Equipment","File Handle - Flat Files",null,505697810,null,null,{"$f":"IFERROR(_xlfn.XLOOKUP(F35,Sheet47!F:F,Sheet47!G:G),\"\")","v":1},{"$f":"_xlfn.XLOOKUP(F35,Pricing!A:A,Pricing!B:B)","v":3.33},{"$f":"Summary!$L$32","v":0.5},1.665,null,null,null,null,null,null,null,0,null,0,0,0,0,0,0,0]

{"sheet":"Xplorer Leisurewear","index":26,"n_rows":18,"n_cols":28,"rows_kept":18,"cut":false,"hidden":false,"merged":[[10,21,10,27],[1,4,1,8],[2,4,2,8],[3,4,3,8],[4,4,4,8],[5,4,5,8],[6,4,6,8],[7,4,7,8],[8,3,8,5],[8,6,8,8],[10,2,10,11],[10,13,10,19],[11,3,11,4],[12,1,17,1],[12,3,12,4],[13,3,13,4],[14,3,14,4],[15,3,15,4],[16,3,16,4],[17,3,17,4]]}
[]
[null,null,null,"Dealer Name",{"$f":"Summary!F2","v":"Winchester Garden Machinery Ltd - Arb"}]
[null,null,null,"Dealer Postcode",{"$f":"Summary!F3","v":"SO21 1HF"}]
[null,null,null,"Account Number",{"$f":"Summary!F4","v":28400505}]
[null,null,null,"Order Number",{"$f":"Summary!F5","v":0}]
[null,null,null,"Project Code",{"$f":"Summary!F6","v":"PSO2024"}]
[null,null,null,"Order Date",{"$f":"Summary!F7","v":"00:00:00"}]
[null,null,null,"ABM",{"$f":"Summary!F8","v":"Francesca_Bosley"}]
[null,null,null,"PSO minimum 40% of turnover = Additional 2% terms",null,null,{"$f":"Summary!I9","v":0.02}]
[]
[null,null,"Xplorer Leisurewear",null,null,null,null,null,null,null,null,null,null,"Order Quantity",null,null,null,null,null,null,null,"Order Value"]
[null,null,"Product Type","Model Description",null,"PNC","Size","Replaces","Box Qty","List Price 2024 Ex VAT","Discount","Dealer Net Price",null,"January","February","March","April","May","June","Total Qty",null,"January","February","March","April","May","June","Total Value"]
[null,"Accessories","Leisurewear Xplorer","Food Can Xplorer Insulated With SPoon 0,6L",null,597417801,null,null,{"$f":"IFERROR(_xlfn.XLOOKUP(F13,Sheet47!F:F,Sheet47!G:G),\"\")","v":4},{"$f":"_xlfn.XLOOKUP(F13,Pricing!A:A,Pricing!B:B)","v":24.16},{"$f":"Summary!$L$32","v":0.5},{"$f":"J13-(J13*K13)","v":12.08},null,null,null,null,null,null,null,{"$f":"SUM(N13:S13)","v":0},null,{"$f":"L13*N13","v":0},{"$f":"L13*O13","v":0},{"$f":"L13*P13","v":0},{"$f":"$L13*Q13","v":0},{"$f":"$L13*R13","v":0},0,{"$f":"SUM(V13:AA13)","v":0}]
[null,null,"Leisurewear Xplorer","Water Bottle Xplorer Insulated 0,5L",null,597418101,null,null,{"$f":"IFERROR(_xlfn.XLOOKUP(F14,Sheet47!F:F,Sheet47!G:G),\"\")","v":4},{"$f":"_xlfn.XLOOKUP(F14,Pricing!A:A,Pricing!B:B)","v":21.66},{"$f":"Summary!$L$32","v":0.5},{"$f":"J14-(J14*K14)","v":10.83},null,null,null,null,null,null,null,{"$f":"SUM(N14:S14)","v":0},null,{"$f":"L14*N14","v":0},{"$f":"L14*O14","v":0},{"$f":"L14*P14","v":0},{"$f":"L14*Q14","v":0},{"$f":"$L14*R14","v":0},{"$f":"$L14*S14","v":0},{"$f":"SUM(V14:AA14)","v":0}]
[null,null,"Leisurewear Xplorer","Neck Tube Unisex Onesize Bark Orange",null,593257601,null,null,{"$f":"IFERROR(_xlfn.XLOOKUP(F15,Sheet47!F:F,Sheet47!G:G),\"\")","v":1},{"$f":"_xlfn.XLOOKUP(F15,Pricing!A:A,Pricing!B:B)","v":4.99},{"$f":"Summary!$L$32","v":0.5},2.4950000000000001,null,null,null,null,null,null,null,{"$f":"SUM(N15:S15)","v":0},null,0,0,0,0,0,0,0]
[null,null,"Leisurewear Xplorer","Bag Backpack Xplorer 30L",null,593258201,null,null,{"$f":"IFERROR(_xlfn.XLOOKUP(F16,Sheet47!F:F,Sheet47!G:G),\"\")","v":1},{"$f":"_xlfn.XLOOKUP(F16,Pricing!A:A,Pricing!B:B)","v":73.33},{"$f":"Summary!$L$32","v":0.5},36.664999999999999,null,null,null,null,null,null,null,0,null,0,0,0,0,0,0,0]
[null,null,"Leisurewear Xplorer","Bag Duffel Xplorer 70L",null,593258301,null,null,{"$f":"IFERROR(_xlfn.XLOOKUP(F17,Sheet47!F:F,Sheet47!G:G),\"\")","v":1},{"$f":"_xlfn.XLOOKUP(F17,Pricing!A:A,Pricing!B:B)","v":94.99},{"$f":"Summary!$L$32","v":0.5},47.494999999999997,null,null,2,2,null,null,null,4,null,0,94.99,94.99,0,0,0,189.98]
[null,null,"Leisurewear Xplorer","Bag Trolley Xplorer 90L",null,593258101,null,null,{"$f":"IFERROR(_xlfn.XLOOKUP(F18,Sheet47!F:F,Sheet47!G:G),\"\")","v":2},{"$f":"_xlfn.XLOOKUP(F18,Pricing!A:A,Pricing!B:B)","v":129.16},{"$f":"Summary!$L$32","v":0.5},64.58,null,null,null,null,null,null,null,0,null,0,0,0,0,0,0,0]

{"sheet":"Forestry Tools","index":27,"n_rows":54,"n_cols":28,"rows_kept":54,"cut":false,"hidden":false,"merged":[[10,21,10,27],[1,4,1,8],[2,4,2,8],[3,4,3,8],[4,4,4,8],[5,4,5,8],[6,4,6,8],[7,4,7,8],[8,3,8,5],[8,6,8,8],[10,2,10,11],[10,13,10,19],[19,3,19,4],[11,3,11,4],[12,1,53,1],[12,3,12,4],[13,3,13,4],[51,3,51,4],[52,3,52,4],[53,3,53,4],[14,3,14,4],[15,3,15,4],[16,3,16,4],[17,3,17,4],[18,3,18,4],[29,3,29,4],[24,3,24,4],[25,3,25,4],[26,3,26,4],[27,3,27,4],[20,3,20,4],[21,3,21,4],[22,3,22,4],[23,3,23,4],[28,3,28,4],[39,3,39,4],[30,3,30,4],[31,3,31,4],[32,3,32,4],[33,3,33,4],[34,3,34,4],[35,3,35,4],[36,3,36,4],[37,3,37,4],[38,3,38,4],[50,3,50,4],[40,3,40,4],[41,3,41,4],[42,3,42,4],[43,3,43,4],[44,3,44,4],[45,3,45,4],[46,3,46,4],[47,3,47,4],[48,3,48,4],[49,3,49,4]]}
[]
[null,null,null,"Dealer Name",{"$f":"Summary!F2","v":"Winchester Garden Machinery Ltd - Arb"}]
[null,null,null,"Dealer Postcode",{"$f":"Summary!F3","v":"SO21 1HF"}]
[null,null,null,"Account Number",{"$f":"Summary!F4","v":28400505}]
[null,null,null,"Order Number",{"$f":"Summary!F5","v":0}]
[null,null,null,"Project Code",{"$f":"Summary!F6","v":"PSO2024"}]
[null,null,null,"Order Date",{"$f":"Summary!F7","v":"00:00:00"}]
[null,null,null,"ABM",{"$f":"Summary!F8","v":"Francesca_Bosley"}]
[null,null,null,"PSO minimum 40% of turnover = Additional 2% terms",null,null,{"$f":"Summary!I9","v":0.02}]
[]
[null,null,"Forestry Tools",null,null,null,null,null,null,null,null,null,null,"Order Quantity",null,null,null,null,null,null,null,"Order Value"]
[null,null,"Product Type","Model Description",null,"PNC","Size","Replaces","Box Qty","List Price 2024 Ex VAT","Discount","Dealer Net Price",null,"January","February","March","April","May","June","Total Qty",null,"January","February","March","April","May","June","Total Value"]
[null,null,"Forestry Tools","Aluminium Felling Wedge - 1000g, 26cm",null,586885902,null,576929902,{"$f":"IFERROR(_xlfn.XLOOKUP(F13,Sheet47!F:F,Sheet47!G:G),\"\")","v":1},{"$f":"_xlfn.XLOOKUP(F13,Pricing!A:A,Pricing!B:B)","v":34.99},{"$f":"Summary!$L$32","v":0.5},{"$f":"J13-(J13*K13)","v":17.495000000000001},null,null,null,null,null,null,null,{"$f":"SUM(N13:S13)","v":0},null,{"$f":"L13*N13","v":0},{"$f":"L13*O13","v":0},{"$f":"L13*P13","v":0},{"$f":"L13*Q13","v":0},{"$f":"$L13*R13","v":0},{"$f":"$L13*S13","v":0},{"$f":"SUM(V13:AA13)","v":0}]
[null,null,"Forestry Tools","Aluminium Felling Wedge - 550g, 22cm",null,586885901,null,576929901,{"$f":"IFERROR(_xlfn.XLOOKUP(F14,Sheet47!F:F,Sheet47!G:G),\"\")","v":1},{"$f":"_xlfn.XLOOKUP(F14,Pricing!A:A,Pricing!B:B)","v":24.99},{"$f":"Summary!$L$32","v":0.5},{"$f":"J14-(J14*K14)","v":12.494999999999999},null,null,null,null,null,null,null,0,null,{"$f":"L14*N14","v":0},{"$f":"L14*O14","v":0},{"$f":"L14*P14","v":0},{"$f":"L14*Q14","v":0},0,0,0]
[null,null,"Forestry Tools","Axe Hatchet 0.6 kg (German wooden handle)",null,597627701,null,null,{"$f":"IFERROR(_xlfn.XLOOKUP(F15,Sheet47!F:F,Sheet47!G:G),\"\")","v":1},{"$f":"_xlfn.XLOOKUP(F15,Pricing!A:A,Pricing!B:B)","v":31.66},{"$f":"Summary!$L$32","v":0.5},15.83,null,null,null,null,null,null,null,0,null,0,0,0,0,0,0,0]
[null,null,"Forestry Tools","Axe Splitting 2.5 kg (German wooden handle)",null,597629401,null,null,{"$f":"IFERROR(_xlfn.XLOOKUP(F16,Sheet47!F:F,Sheet47!G:G),\"\")","v":1},{"$f":"_xlfn.XLOOKUP(F16,Pricing!A:A,Pricing!B:B)","v":84.99},{"$f":"Summary!$L$32","v":0.5},42.494999999999997,null,2,null,2,null,2,null,6,null,84.99,0,84.99,0,84.99,0,254.96999999999997]
[null,null,"Forestry Tools","Axe Universal 1.25 kg (German wooden handle)",null,597629001,null,null,{"$f":"IFERROR(_xlfn.XLOOKUP(F17,Sheet47!F:F,Sheet47!G:G),\"\")","v":1},{"$f":"_xlfn.XLOOKUP(F17,Pricing!A:A,Pricing!B:B)","v":54.16},{"$f":"Summary!$L$32","v":0.5},27.08,null,null,null,null,null,null,null,0,null,0,0,0,0,0,0,0]
[null,null,"Forestry Tools","Bag Xplorer Chainsaw Bag Black/Orange",null,597418301,null,576859101,{"$f":"IFERROR(_xlfn.XLOOKUP(F18,Sheet47!F:F,Sheet47!G:G),\"\")","v":1},{"$f":"_xlfn.XLOOKUP(F18,Pricing!A:A,Pricing!B:B)","v":45.83},{"$f":"Summary!$L$32","v":0.5},22.914999999999999,null,null,null,null,null,null,null,0,null,0,0,0,0,0,0,0]
[null,null,"Forestry Tools","Breaking Bar With Cant Hook 80cm",null,586896901,null,505694301,{"$f":"IFERROR(_xlfn.XLOOKUP(F19,Sheet47!F:F,Sheet47!G:G),\"\")","v":1},{"$f":"_xlfn.XLOOKUP(F19,Pricing!A:A,Pricing!B:B)","v":76.66},{"$f":"Summary!$L$32","v":0.5},38.33,null,6,4,4,4,4,4,26,null,229.98,153.32,153.32,153.32,153.32,153.32,996.5799999999997]
[null,null,"Forestry Tools","Callipers 36cm",null,505694730,null,505684730,{"$f":"IFERROR(_xlfn.XLOOKUP(F20,Sheet47!F:F,Sheet47!G:G),\"\")","v":1},{"$f":"_xlfn.XLOOKUP(F20,Pricing!A:A,Pricing!B:B)","v":28.33},{"$f":"Summary!$L$32","v":0.5},14.164999999999999,null,null,null,null,null,null,null,0,null,0,0,0,0,0,0,0]
[null,null,"Forestry Tools","Callipers 46cm",null,505694746,null,504981639,{"$f":"IFERROR(_xlfn.XLOOKUP(F21,Sheet47!F:F,Sheet47!G:G),\"\")","v":1},{"$f":"_xlfn.XLOOKUP(F21,Pricing!A:A,Pricing!B:B)","v":34.159999999999997},{"$f":"Summary!$L$32","v":0.5},17.079999999999998,null,null,null,null,null,null,null,0,null,0,0,0,0,0,0,0]
[null,null,"Forestry Tools","Carpenter'S Axe 50cm (Wooden handle)",null,576926501,null,505694509,{"$f":"IFERROR(_xlfn.XLOOKUP(F22,Sheet47!F:F,Sheet47!G:G),\"\")","v":2},{"$f":"_xlfn.XLOOKUP(F22,Pricing!A:A,Pricing!B:B)","v":83.33},{"$f":"Summary!$L$32","v":0.5},41.664999999999999,null,null,null,null,null,null,null,0,null,0,0,0,0,0,0,0]
[null,null,"Forestry Tools","Chainsaw Box",null,531300872,null,null,{"$f":"IFERROR(_xlfn.XLOOKUP(F23,Sheet47!F:F,Sheet47!G:G),\"\")","v":4},{"$f":"_xlfn.XLOOKUP(F23,Pricing!A:A,Pricing!B:B)","v":47.49},{"$f":"Summary!$L$32","v":0.5},23.745000000000001,null,null,6,null,null,null,null,6,null,0,142.47,0,0,0,0,142.47]
[null,null,"Forestry Tools","Chainsaw Eyelet, Arborist",null,578077101,null,null,{"$f":"IFERROR(_xlfn.XLOOKUP(F24,Sheet47!F:F,Sheet47!G:G),\"\")","v":20},{"$f":"_xlfn.XLOOKUP(F24,Pricing!A:A,Pricing!B:B)","v":17.489999999999998},{"$f":"Summary!$L$32","v":0.5},8.7449999999999992,null,null,null,null,null,null,null,0,null,0,0,0,0,0,0,0]
[null,null,"Forestry Tools","Chainsaw Hook, Arborist",null,580800301,null,null,{"$f":"IFERROR(_xlfn.XLOOKUP(F25,Sheet47!F:F,Sheet47!G:G),\"\")","v":1},{"$f":"_xlfn.XLOOKUP(F25,Pricing!A:A,Pricing!B:B)","v":16.66},{"$f":"Summary!$L$32","v":0.5},8.33,null,null,null,null,null,null,null,0,null,0,0,0,0,0,0,0]
[null,null,"Forestry Tools","Clearing Axe",null,579000601,null,505217101,{"$f":"IFERROR(_xlfn.XLOOKUP(F26,Sheet47!F:F,Sheet47!G:G),\"\")","v":1},{"$f":"_xlfn.XLOOKUP(F26,Pricing!A:A,Pricing!B:B)","v":49.99},{"$f":"Summary!$L$32","v":0.5},24.995000000000001,null,null,null,null,null,null,null,0,null,0,0,0,0,0,0,0]
[null,null,"Forestry Tools","Curved Pruning Saw 300SU 40cm",null,967236601,null,null,{"$f":"IFERROR(_xlfn.XLOOKUP(F27,Sheet47!F:F,Sheet47!G:G),\"\")","v":1},{"$f":"_xlfn.XLOOKUP(F27,Pricing!A:A,Pricing!B:B)","v":44.99},{"$f":"Summary!$L$32","v":0.5},22.495000000000001,null,null,null,null,null,null,null,0,null,0,0,0,0,0,0,0]
[null,null,"Forestry Tools","Felling Wedge 20cm",null,598035802,null,505694703,{"$f":"IFERROR(_xlfn.XLOOKUP(F28,Sheet47!F:F,Sheet47!G:G),\"\")","v":1},{"$f":"_xlfn.XLOOKUP(F28,Pricing!A:A,Pricing!B:B)","v":14.16},{"$f":"Summary!$L$32","v":0.5},7.08,null,null,null,null,null,null,null,0,null,0,0,0,0,0,0,0]
[null,null,"Forestry Tools","Felling Wedge 25cm Pro",null,598036101,null,null,{"$f":"IFERROR(_xlfn.XLOOKUP(F29,Sheet47!F:F,Sheet47!G:G),\"\")","v":1},{"$f":"_xlfn.XLOOKUP(F29,Pricing!A:A,Pricing!B:B)","v":24.99},{"$f":"Summary!$L$32","v":0.5},12.494999999999999,null,null,null,null,null,null,null,0,null,0,0,0,0,0,0,0]
[null,null,"Forestry Tools","Foldable Pruning Saw 200Fo 47cm Total Length",null,967236401,null,null,{"$f":"IFERROR(_xlfn.XLOOKUP(F30,Sheet47!F:F,Sheet47!G:G),\"\")","v":1},{"$f":"_xlfn.XLOOKUP(F30,Pricing!A:A,Pricing!B:B)","v":38.33},{"$f":"Summary!$L$32","v":0.5},19.164999999999999,null,null,null,null,null,null,null,0,null,0,0,0,0,0,0,0]
[null,null,"Forestry Tools","Forest Axe 65cm (Wooden handle)",null,576926201,null,502640001,{"$f":"IFERROR(_xlfn.XLOOKUP(F31,Sheet47!F:F,Sheet47!G:G),\"\")","v":2},{"$f":"_xlfn.XLOOKUP(F31,Pricing!A:A,Pricing!B:B)","v":74.16},{"$f":"Summary!$L$32","v":0.5},37.08,null,null,null,null,null,null,null,0,null,0,0,0,0,0,0,0]
[null,null,"Forestry Tools","Grindstone for Axe",null,599674601,null,null,{"$f":"IFERROR(_xlfn.XLOOKUP(F32,Sheet47!F:F,Sheet47!G:G),\"\")","v":1},{"$f":"_xlfn.XLOOKUP(F32,Pricing!A:A,Pricing!B:B)","v":30.83},{"$f":"Summary!$L$32","v":0.5},15.414999999999999,null,null,null,null,null,null,null,0,null,0,0,0,0,0,0,0]
[null,null,"Forestry Tools","Hatchet 37.5cm (Wooden handle)",null,576926401,null,502640201,{"$f":"IFERROR(_xlfn.XLOOKUP(F33,Sheet47!F:F,Sheet47!G:G),\"\")","v":2},{"$f":"_xlfn.XLOOKUP(F33,Pricing!A:A,Pricing!B:B)","v":58.33},{"$f":"Summary!$L$32","v":0.5},29.164999999999999,null,null,null,null,null,null,null,0,null,0,0,0,0,0,0,0]
[null,null,"Forestry Tools","Hiking Axe Hatchet (Wooden Handle)",null,599673501,null,null,{"$f":"IFERROR(_xlfn.XLOOKUP(F34,Sheet47!F:F,Sheet47!G:G),\"\")","v":1},{"$f":"_xlfn.XLOOKUP(F34,Pricing!A:A,Pricing!B:B)","v":71.66},{"$f":"Summary!$L$32","v":0.5},35.83,null,null,null,null,null,null,null,0,null,0,0,0,0,0,0,0]
[null,null,"Forestry Tools","Impact breaking bar",null,574387101,null,505216801,{"$f":"IFERROR(_xlfn.XLOOKUP(F35,Sheet47!F:F,Sheet47!G:G),\"\")","v":1},{"$f":"_xlfn.XLOOKUP(F35,Pricing!A:A,Pricing!B:B)","v":58.33},{"$f":"Summary!$L$32","v":0.5},29.164999999999999,null,null,null,null,null,null,null,0,null,0,0,0,0,0,0,0]
[null,null,"Forestry Tools","Large Splitting Axe 75cm (Wooden handle)",null,576926701,null,544966801,{"$f":"IFERROR(_xlfn.XLOOKUP(F36,Sheet47!F:F,Sheet47!G:G),\"\")","v":2},{"$f":"_xlfn.XLOOKUP(F36,Pricing!A:A,Pricing!B:B)","v":90.83},{"$f":"Summary!$L$32","v":0.5},45.414999999999999,null,null,null,null,null,null,null,0,null,0,0,0,0,0,0,0]
[null,null,"Forestry Tools","Lifting Hook",null,574387401,null,505691330,{"$f":"IFERROR(_xlfn.XLOOKUP(F37,Sheet47!F:F,Sheet47!G:G),\"\")","v":1},{"$f":"_xlfn.XLOOKUP(F37,Pricing!A:A,Pricing!B:B)","v":31.66},{"$f":"Summary!$L$32","v":0.5},15.83,null,null,null,null,null,null,null,0,null,0,0,0,0,0,0,0]
[null,null,"Forestry Tools","Lifting Tongs 20cm",null,574387501,null,505693030,{"$f":"IFERROR(_xlfn.XLOOKUP(F38,Sheet47!F:F,Sheet47!G:G),\"\")","v":1},{"$f":"_xlfn.XLOOKUP(F38,Pricing!A:A,Pricing!B:B)","v":34.99},{"$f":"Summary!$L$32","v":0.5},17.495000000000001,null,10,10,null,10,null,10,40,null,174.95000000000002,174.95000000000002,0,174.95000000000002,0,174.95000000000002,699.80000000000007]
[null,null,"Forestry Tools","Lifting Tongs 30cm",null,574387601,null,505693101,{"$f":"IFERROR(_xlfn.XLOOKUP(F39,Sheet47!F:F,Sheet47!G:G),\"\")","v":1},{"$f":"_xlfn.XLOOKUP(F39,Pricing!A:A,Pricing!B:B)","v":54.16},{"$f":"Summary!$L$32","v":0.5},27.08,null,10,10,null,10,null,10,40,null,270.79999999999995,270.79999999999995,0,270.79999999999995,0,270.79999999999995,1083.1999999999998]
[null,null,"Forestry Tools","Long Breaking Bar 130cm",null,574387201,null,505216901,{"$f":"IFERROR(_xlfn.XLOOKUP(F40,Sheet47!F:F,Sheet47!G:G),\"\")","v":1},{"$f":"_xlfn.XLOOKUP(F40,Pricing!A:A,Pricing!B:B)","v":120.83},{"$f":"Summary!$L$32","v":0.5},60.414999999999999,null,4,2,null,2,null,2,10,null,241.66,120.83,0,120.83,0,120.83,604.15]
[null,null,"Forestry Tools","Sappie 38cm",null,579692801,null,null,{"$f":"IFERROR(_xlfn.XLOOKUP(F41,Sheet47!F:F,Sheet47!G:G),\"\")","v":1},{"$f":"_xlfn.XLOOKUP(F41,Pricing!A:A,Pricing!B:B)","v":38.33},{"$f":"Summary!$L$32","v":0.5},19.164999999999999,null,4,null,4,null,4,null,12,null,76.66,0,76.66,0,76.66,0,229.98]
[null,null,"Forestry Tools","Sappie 80cm",null,579692802,null,null,{"$f":"IFERROR(_xlfn.XLOOKUP(F42,Sheet47!F:F,Sheet47!G:G),\"\")","v":1},{"$f":"_xlfn.XLOOKUP(F42,Pricing!A:A,Pricing!B:B)","v":44.99},{"$f":"Summary!$L$32","v":0.5},22.495000000000001,null,2,null,null,null,null,null,2,null,44.99,0,0,0,0,0,44.99]
[null,null,"Forestry Tools","Sledge Axe 80cm (Wooden handle)",null,531311701,null,576926601,{"$f":"IFERROR(_xlfn.XLOOKUP(F43,Sheet47!F:F,Sheet47!G:G),\"\")","v":1},{"$f":"_xlfn.XLOOKUP(F43,Pricing!A:A,Pricing!B:B)","v":91.66},{"$f":"Summary!$L$32","v":0.5},45.83,null,null,null,null,null,null,null,0,null,0,0,0,0,0,0,0]
[null,null,"Forestry Tools","Small Splitting Axe 50cm (Wooden handle)",null,576926801,null,544966701,{"$f":"IFERROR(_xlfn.XLOOKUP(F44,Sheet47!F:F,Sheet47!G:G),\"\")","v":2},{"$f":"_xlfn.XLOOKUP(F44,Pricing!A:A,Pricing!B:B)","v":61.66},{"$f":"Summary!$L$32","v":0.5},30.83,null,null,null,null,null,null,null,0,null,0,0,0,0,0,0,0]
[null,null,"Forestry Tools","Splitting Axe 1.25 kg (German wooden handle)",null,599673101,null,null,{"$f":"IFERROR(_xlfn.XLOOKUP(F45,Sheet47!F:F,Sheet47!G:G),\"\")","v":1},{"$f":"_xlfn.XLOOKUP(F45,Pricing!A:A,Pricing!B:B)","v":45.83},{"$f":"Summary!$L$32","v":0.5},22.914999999999999,null,null,null,null,null,null,null,0,null,0,0,0,0,0,0,0]
[null,null,"Forestry Tools","Splitting Axe S1600 60cm (Composite handle)",null,580761301,null,null,{"$f":"IFERROR(_xlfn.XLOOKUP(F46,Sheet47!F:F,Sheet47!G:G),\"\")","v":2},{"$f":"_xlfn.XLOOKUP(F46,Pricing!A:A,Pricing!B:B)","v":76.66},{"$f":"Summary!$L$32","v":0.5},38.33,null,4,2,2,2,2,2,14,null,153.32,76.66,76.66,76.66,76.66,76.66,536.61999999999989]
[null,null,"Forestry Tools","Splitting Axe S2800 70cm (Composite handle)",null,580761401,null,null,{"$f":"IFERROR(_xlfn.XLOOKUP(F47,Sheet47!F:F,Sheet47!G:G),\"\")","v":2},{"$f":"_xlfn.XLOOKUP(F47,Pricing!A:A,Pricing!B:B)","v":89.99},{"$f":"Summary!$L$32","v":0.5},44.994999999999997,null,10,10,10,10,10,null,50,null,449.95,449.95,449.95,449.95,449.95,0,2249.75]
[null,null,"Forestry Tools","Splitting Wedge",null,577259201,null,null,{"$f":"IFERROR(_xlfn.XLOOKUP(F48,Sheet47!F:F,Sheet47!G:G),\"\")","v":1},{"$f":"_xlfn.XLOOKUP(F48,Pricing!A:A,Pricing!B:B)","v":37.49},{"$f":"Summary!$L$32","v":0.5},18.745000000000001,null,null,null,null,null,null,null,0,null,0,0,0,0,0,0,0]
[null,null,"Forestry Tools","Straight Pruning Saw 300ST 40cm",null,967236501,null,null,{"$f":"IFERROR(_xlfn.XLOOKUP(F49,Sheet47!F:F,Sheet47!G:G),\"\")","v":1},{"$f":"_xlfn.XLOOKUP(F49,Pricing!A:A,Pricing!B:B)","v":41.66},{"$f":"Summary!$L$32","v":0.5},20.83,null,null,null,null,null,null,null,0,null,0,0,0,0,0,0,0]
[null,null,"Forestry Tools","Tape Measure 15M/50' Release Hook Metric & Imperial",null,586997601,null,505697360,{"$f":"IFERROR(_xlfn.XLOOKUP(F50,Sheet47!F:F,Sheet47!G:G),\"\")","v":1},{"$f":"_xlfn.XLOOKUP(F50,Pricing!A:A,Pricing!B:B)","v":64.989999999999995},{"$f":"Summary!$L$32","v":0.5},32.494999999999997,null,null,null,null,null,null,null,0,null,0,0,0,0,0,0,0]
[null,null,"Forestry Tools","Tape Measure 20M/66' Release Hook Metric & Imperial",null,586997602,null,505697362,{"$f":"IFERROR(_xlfn.XLOOKUP(F51,Sheet47!F:F,Sheet47!G:G),\"\")","v":1},{"$f":"_xlfn.XLOOKUP(F51,Pricing!A:A,Pricing!B:B)","v":69.16},{"$f":"Summary!$L$32","v":0.5},34.58,null,null,null,null,null,null,null,0,null,0,0,0,0,0,0,0]
[null,null,"Forestry Tools","Universal Axe A1400 60cm (Composite handle)",null,580761101,null,null,{"$f":"IFERROR(_xlfn.XLOOKUP(F52,Sheet47!F:F,Sheet47!G:G),\"\")","v":2},{"$f":"_xlfn.XLOOKUP(F52,Pricing!A:A,Pricing!B:B)","v":74.16},{"$f":"Summary!$L$32","v":0.5},37.08,null,4,2,2,2,2,2,14,null,148.32,74.16,74.16,74.16,74.16,74.16,519.11999999999989]
[null,null,"Forestry Tools","Universal Axe A2400 70cm (Composite handle)",null,580761201,null,null,{"$f":"IFERROR(_xlfn.XLOOKUP(F53,Sheet47!F:F,Sheet47!G:G),\"\")","v":2},{"$f":"_xlfn.XLOOKUP(F53,Pricing!A:A,Pricing!B:B)","v":83.33},{"$f":"Summary!$L$32","v":0.5},41.664999999999999,null,4,2,2,2,2,2,14,null,166.66,83.33,83.33,83.33,83.33,83.33,583.30999999999995]
[null,null,"Forestry Tools","Universal Hatchet 34cm (Composite handle)",null,580761001,null,null,{"$f":"IFERROR(_xlfn.XLOOKUP(F54,Sheet47!F:F,Sheet47!G:G),\"\")","v":4},{"$f":"_xlfn.XLOOKUP(F54,Pricing!A:A,Pricing!B:B)","v":49.99},{"$f":"Summary!$L$32","v":0.5},24.995000000000001,null,4,1,1,1,1,1,9,null,99.98,24.995000000000001,24.995000000000001,24.995000000000001,24.995000000000001,24.995000000000001,224.95500000000001]

{"sheet":"Fuel","index":28,"n_rows":18,"n_cols":28,"rows_kept":18,"cut":false,"hidden":false,"merged":[[10,21,10,27],[1,4,1,8],[2,4,2,8],[3,4,3,8],[4,4,4,8],[5,4,5,8],[6,4,6,8],[7,4,7,8],[8,3,8,5],[8,6,8,8],[10,2,10,11],[10,13,10,19],[11,3,11,4],[12,1,17,1],[12,3,12,4],[13,3,13,4],[14,3,14,4],[15,3,15,4],[16,3,16,4],[17,3,17,4]]}
[]
[null,null,null,"Dealer Name",{"$f":"Summary!F2","v":"Winchester Garden Machinery Ltd - Arb"}]
[null,null,null,"Dealer Postcode",{"$f":"Summary!F3","v":"SO21 1HF"}]
[null,null,null,"Account Number",{"$f":"Summary!F4","v":28400505}]
[null,null,null,"Order Number",{"$f":"Summary!F5","v":0}]
[null,null,null,"Project Code",{"$f":"Summary!F6","v":"PSO2024"}]
[null,null,null,"Order Date",{"$f":"Summary!F7","v":"00:00:00"}]
[null,null,null,"ABM",{"$f":"Summary!F8","v":"Francesca_Bosley"}]
[null,null,null,"PSO minimum 40% of turnover = Additional 2% terms",null,null,{"$f":"Summary!I9","v":0.02}]
[]
[null,null,"Fuel",null,null,null,null,null,null,null,null,null,null,"Order Quantity",null,null,null,null,null,null,null,"Order Value"]
[null,null,"Product Type","Model Description",null,"PNC","Size","Replaces","Box Qty","List Price 2024 Ex VAT","Discount","Dealer Net Price",null,"January","February","March","April","May","June","Total Qty",null,"January","February","March","April","May","June","Total Value"]
[null,"Accessories","Fuel","XP Power 2 Fuel 5 Litre",null,582202005,null,null,3,{"$f":"_xlfn.XLOOKUP(F13,Pricing!A:A,Pricing!B:B)","v":19.16},{"$f":"Summary!$L$33","v":0.37},{"$f":"J13-(J13*K13)","v":12.0708},null,12,12,12,12,12,12,{"$f":"SUM(N13:S13)","v":72},null,{"$f":"L13*N13","v":144.84960000000001},{"$f":"L13*O13","v":144.84960000000001},{"$f":"L13*P13","v":144.84960000000001},{"$f":"$L13*Q13","v":144.84960000000001},{"$f":"$L13*R13","v":144.84960000000001},{"$f":"$L13*S13","v":144.84960000000001},{"$f":"SUM(V13:AA13)","v":869.09760000000006}]
[null,null,"Fuel","Power 4 Fuel 1 Litre",null,589227901,null,null,{"$f":"IFERROR(_xlfn.XLOOKUP(F14,Sheet47!F:F,Sheet47!G:G),\"\")","v":12},{"$f":"_xlfn.XLOOKUP(F14,Pricing!A:A,Pricing!B:B)","v":4.16},{"$f":"Summary!$L$33","v":0.37},{"$f":"J14-(J14*K14)","v":2.6208},null,null,null,null,null,null,null,{"$f":"SUM(N14:S14)","v":0},null,{"$f":"L14*N14","v":0},{"$f":"L14*O14","v":0},{"$f":"L14*P14","v":0},{"$f":"L14*Q14","v":0},{"$f":"$L14*R14","v":0},{"$f":"$L14*S14","v":0},{"$f":"SUM(V14:AA14)","v":0}]
[null,null,"Fuel","XP Power 2 Fuel 1 Litre",null,589227601,null,null,{"$f":"IFERROR(_xlfn.XLOOKUP(F15,Sheet47!F:F,Sheet47!G:G),\"\")","v":12},{"$f":"_xlfn.XLOOKUP(F15,Pricing!A:A,Pricing!B:B)","v":4.99},{"$f":"Summary!$L$33","v":0.37},3.1436999999999999,null,null,null,null,null,null,null,{"$f":"SUM(N15:S15)","v":0},null,0,0,0,0,0,0,0]
[null,null,"Fuel","Power 4 Fuel 5 Litre",null,583955901,null,577989201,3,{"$f":"_xlfn.XLOOKUP(F16,Pricing!A:A,Pricing!B:B)","v":16.66},{"$f":"Summary!$L$33","v":0.37},10.495799999999999,null,null,null,null,null,null,null,0,null,0,0,0,0,0,0,0]
[null,null,"Fuel","Power 4 Fuel 25 Litre",null,583955902,null,577989202,{"$f":"IFERROR(_xlfn.XLOOKUP(F17,Sheet47!F:F,Sheet47!G:G),\"\")","v":1},{"$f":"_xlfn.XLOOKUP(F17,Pricing!A:A,Pricing!B:B)","v":83.33},{"$f":"Summary!$L$33","v":0.37},52.497900000000001,null,null,null,null,null,null,null,0,null,0,0,0,0,0,0,0]
[null,null,"Fuel","XP Power 2 Fuel 25 Litre",null,583952902,null,577989102,{"$f":"IFERROR(_xlfn.XLOOKUP(F18,Sheet47!F:F,Sheet47!G:G),\"\")","v":1},{"$f":"_xlfn.XLOOKUP(F18,Pricing!A:A,Pricing!B:B)","v":85.83},{"$f":"Summary!$L$33","v":0.37},54.072900000000004,null,null,null,null,null,null,null,0,null,0,0,0,0,0,0,0]

{"sheet":"Trimmer Heads","index":29,"n_rows":85,"n_cols":28,"rows_kept":85,"cut":false,"hidden":false,"merged":[[10,21,10,27],[1,4,1,8],[2,4,2,8],[3,4,3,8],[4,4,4,8],[5,4,5,8],[6,4,6,8],[7,4,7,8],[8,3,8,5],[8,6,8,8],[10,2,10,11],[10,13,10,19],[20,3,20,4],[21,3,21,4],[22,3,22,4],[11,3,11,4],[12,3,12,4],[13,3,13,4],[14,3,14,4],[15,3,15,4],[16,3,16,4],[17,3,17,4],[18,3,18,4],[19,3,19,4],[40,3,40,4],[41,3,41,4],[42,3,42,4],[43,3,43,4],[31,3,31,4],[32,3,32,4],[33,3,33,4],[34,3,34,4],[35,3,35,4],[36,3,36,4],[23,3,23,4],[24,3,24,4],[37,3,37,4],[38,3,38,4],[39,3,39,4],[25,3,25,4],[26,3,26,4],[27,3,27,4],[28,3,28,4],[29,3,29,4],[30,3,30,4],[55,3,55,4],[44,3,44,4],[45,3,45,4],[46,3,46,4],[47,3,47,4],[48,3,48,4],[49,3,49,4],[50,3,50,4],[51,3,51,4],[52,3,52,4],[53,3,53,4],[54,3,54,4],[65,3,65,4],[66,3,66,4],[67,3,67,4],[56,3,56,4],[57,3,57,4],[58,3,58,4],[59,3,59,4],[60,3,60,4],[61,3,61,4],[12,1,84,1],[74,3,74,4],[75,3,75,4],[76,3,76,4],[77,3,77,4],[78,3,78,4],[79,3,79,4],[68,3,68,4],[69,3,69,4],[70,3,70,4],[71,3,71,4],[72,3,72,4],[73,3,73,4],[62,3,62,4],[63,3,63,4],[64,3,64,4],[80,3,80,4],[81,3,81,4],[82,3,82,4],[83,3,83,4],[84,3,84,4]]}
[]
[null,null,null,"Dealer Name",{"$f":"Summary!F2","v":"Winchester Garden Machinery Ltd - Arb"}]
[null,null,null,"Dealer Postcode",{"$f":"Summary!F3","v":"SO21 1HF"}]
[null,null,null,"Account Number",{"$f":"Summary!F4","v":28400505}]
[null,null,null,"Order Number",{"$f":"Summary!F5","v":0}]
[null,null,null,"Project Code",{"$f":"Summary!F6","v":"PSO2024"}]
[null,null,null,"Order Date",{"$f":"Summary!F7","v":"00:00:00"}]
[null,null,null,"ABM",{"$f":"Summary!F8","v":"Francesca_Bosley"}]
[null,null,null,"PSO minimum 40% of turnover = Additional 2% terms",null,null,{"$f":"Summary!I9","v":0.02}]
[]
[null,null,"Trimmer Accessories",null,null,null,null,null,null,null,null,null,null,"Order Quantity",null,null,null,null,null,null,null,"Order Value"]
[null,null,"Product Type","Model Description",null,"PNC","Size","Replaces","Box Qty","List Price 2024 Ex VAT","Discount","Dealer Net Price",null,"January","February","March","April","May","June","Total Qty",null,"January","February","March","April","May","June","Total Value"]
[null,"Accessories","Trimmer Head","ErgoFeed E35B (Fits 535iRXT)",null,594727001,null,null,{"$f":"IFERROR(_xlfn.XLOOKUP(F13,Sheet47!F:F,Sheet47!G:G),\"\")","v":1},{"$f":"_xlfn.XLOOKUP(F13,Pricing!A:A,Pricing!B:B)","v":27.49},{"$f":"Summary!$L$31","v":0.54},{"$f":"J13-(J13*K13)","v":12.645399999999999},null,null,null,null,null,null,null,{"$f":"SUM(N13:S13)","v":0},null,{"$f":"L13*N13","v":0},{"$f":"L13*O13","v":0},{"$f":"L13*P13","v":0},{"$f":"$L13*Q13","v":0},{"$f":"$L13*R13","v":0},0,{"$f":"SUM(V13:AA13)","v":0}]
[null,null,"Trimmer Head","Tap-N-Go™ T25B M10 Semi Auto - Battery",null,579294003,null,579294002,{"$f":"IFERROR(_xlfn.XLOOKUP(F14,Sheet47!F:F,Sheet47!G:G),\"\")","v":66},{"$f":"_xlfn.XLOOKUP(F14,Pricing!A:A,Pricing!B:B)","v":19.989999999999998},{"$f":"Summary!$L$31","v":0.54},{"$f":"J14-(J14*K14)","v":9.1953999999999994},null,null,null,null,null,null,null,{"$f":"SUM(N14:S14)","v":0},null,{"$f":"L14*N14","v":0},{"$f":"L14*O14","v":0},{"$f":"L14*P14","v":0},{"$f":"L14*Q14","v":0},{"$f":"$L14*R14","v":0},{"$f":"$L14*S14","v":0},{"$f":"SUM(V14:AA14)","v":0}]
[null,null,"Trimmer Head","Tap-N-Go™ T25 3/8\" Semi Auto - Curved Shaft ",null,578446001,null,531009278,{"$f":"IFERROR(_xlfn.XLOOKUP(F15,Sheet47!F:F,Sheet47!G:G),\"\")","v":66},{"$f":"_xlfn.XLOOKUP(F15,Pricing!A:A,Pricing!B:B)","v":19.989999999999998},{"$f":"Summary!$L$31","v":0.54},9.1953999999999994,null,null,null,null,null,null,null,{"$f":"SUM(N15:S15)","v":0},null,0,0,0,0,0,0,0]
[null,null,"Trimmer Head","Tap-N-Go™ T25 M10 Semi Auto - Straight Shaft",null,578446101,null,531009279,{"$f":"IFERROR(_xlfn.XLOOKUP(F16,Sheet47!F:F,Sheet47!G:G),\"\")","v":66},{"$f":"_xlfn.XLOOKUP(F16,Pricing!A:A,Pricing!B:B)","v":19.989999999999998},{"$f":"Summary!$L$31","v":0.54},9.1953999999999994,null,null,null,null,null,null,null,0,null,0,0,0,0,0,0,0]
[null,null,"Trimmer Head","Tap-N-Go™ T35 M10 Semi Auto ",null,578446301,null,531009225,{"$f":"IFERROR(_xlfn.XLOOKUP(F17,Sheet47!F:F,Sheet47!G:G),\"\")","v":44},{"$f":"_xlfn.XLOOKUP(F17,Pricing!A:A,Pricing!B:B)","v":24.16},{"$f":"Summary!$L$31","v":0.54},11.1136,null,null,null,null,null,null,null,0,null,0,0,0,0,0,0,0]
[null,null,"Trimmer Head","Tap-N-Go™ T35 M12 Semi Auto",null,578446401,null,531009269,{"$f":"IFERROR(_xlfn.XLOOKUP(F18,Sheet47!F:F,Sheet47!G:G),\"\")","v":44},{"$f":"_xlfn.XLOOKUP(F18,Pricing!A:A,Pricing!B:B)","v":24.16},{"$f":"Summary!$L$31","v":0.54},11.1136,null,null,null,null,null,null,null,0,null,0,0,0,0,0,0,0]
[null,null,"Trimmer Head","Tap-N-Go™ T35 M10 Semi Auto - Universal",null,578449401,null,537388101,{"$f":"IFERROR(_xlfn.XLOOKUP(F19,Sheet47!F:F,Sheet47!G:G),\"\")","v":44},{"$f":"_xlfn.XLOOKUP(F19,Pricing!A:A,Pricing!B:B)","v":27.49},{"$f":"Summary!$L$31","v":0.54},12.645399999999999,null,null,null,null,null,null,null,0,null,0,0,0,0,0,0,0]
[null,null,"Trimmer Head","Tap-N-Go™ T35X M10 Semi Auto (W. Ball Bearing)",null,578446501,null,544909001,{"$f":"IFERROR(_xlfn.XLOOKUP(F20,Sheet47!F:F,Sheet47!G:G),\"\")","v":44},{"$f":"_xlfn.XLOOKUP(F20,Pricing!A:A,Pricing!B:B)","v":34.159999999999997},{"$f":"Summary!$L$31","v":0.54},15.713599999999996,null,null,null,null,null,null,null,0,null,0,0,0,0,0,0,0]
[null,null,"Trimmer Head","Tap-N-Go™ T35X M12 Semi Auto (W. Ball Bearing)",null,578446601,null,544909002,{"$f":"IFERROR(_xlfn.XLOOKUP(F21,Sheet47!F:F,Sheet47!G:G),\"\")","v":44},{"$f":"_xlfn.XLOOKUP(F21,Pricing!A:A,Pricing!B:B)","v":31.66},{"$f":"Summary!$L$31","v":0.54},14.563599999999997,null,null,null,null,null,null,null,0,null,0,0,0,0,0,0,0]
[null,null,"Trimmer Head","Tap-N-Go™ T45X M12 Semi Auto (W. Ball Bearing)",null,578446801,null,531009262,{"$f":"IFERROR(_xlfn.XLOOKUP(F22,Sheet47!F:F,Sheet47!G:G),\"\")","v":18},{"$f":"_xlfn.XLOOKUP(F22,Pricing!A:A,Pricing!B:B)","v":40.83},{"$f":"Summary!$L$31","v":0.54},18.781799999999997,null,null,null,null,null,null,null,0,null,0,0,0,0,0,0,0]
[null,null,"Trimmer Head","Tap-N-Go™ T55X M12 Semi Auto (W. Ball Bearing)",null,578447001,null,544909101,{"$f":"IFERROR(_xlfn.XLOOKUP(F23,Sheet47!F:F,Sheet47!G:G),\"\")","v":32},{"$f":"_xlfn.XLOOKUP(F23,Pricing!A:A,Pricing!B:B)","v":54.16},{"$f":"Summary!$L$31","v":0.54},24.913599999999995,null,null,null,null,null,null,null,0,null,0,0,0,0,0,0,0]
[null,null,"Trimmer Line"," Corecut Ø2,0mmx112M Donut Orange/Translucent",null,597669202,null,578432901,{"$f":"IFERROR(_xlfn.XLOOKUP(F24,Sheet47!F:F,Sheet47!G:G),\"\")","v":24},{"$f":"_xlfn.XLOOKUP(F24,Pricing!A:A,Pricing!B:B)","v":19.989999999999998},{"$f":"Summary!$L$31","v":0.54},{"$f":"J24-(J24*K24)","v":9.1953999999999994},null,null,null,null,null,null,null,0,null,{"$f":"L24*N24","v":0},{"$f":"L24*O24","v":0},{"$f":"L24*P24","v":0},{"$f":"L24*Q24","v":0},0,0,0]
[null,null,"Trimmer Line"," Corecut Ø2,0mmx15M Donut Orange/Translucent",null,597669201,null,578432701,{"$f":"IFERROR(_xlfn.XLOOKUP(F25,Sheet47!F:F,Sheet47!G:G),\"\")","v":16},{"$f":"_xlfn.XLOOKUP(F25,Pricing!A:A,Pricing!B:B)","v":5.83},{"$f":"Summary!$L$31","v":0.54},{"$f":"J25-(J25*K25)","v":2.6818},null,null,null,null,null,null,null,0,null,{"$f":"L25*N25","v":0},{"$f":"L25*O25","v":0},{"$f":"L25*P25","v":0},{"$f":"L25*Q25","v":0},0,0,0]
[null,null,"Trimmer Line"," Corecut Ø2,4mmx12M Donut Orange/Translucent",null,597669210,null,578433101,{"$f":"IFERROR(_xlfn.XLOOKUP(F26,Sheet47!F:F,Sheet47!G:G),\"\")","v":10},{"$f":"_xlfn.XLOOKUP(F26,Pricing!A:A,Pricing!B:B)","v":6.66},{"$f":"Summary!$L$31","v":0.54},3.0635999999999997,null,null,null,null,null,null,null,0,null,0,0,0,0,0,0,0]
[null,null,"Trimmer Line"," Corecut Ø2,4mmx210M SPool Orange/Translucent",null,597669212,null,578433501,{"$f":"IFERROR(_xlfn.XLOOKUP(F27,Sheet47!F:F,Sheet47!G:G),\"\")","v":1},{"$f":"_xlfn.XLOOKUP(F27,Pricing!A:A,Pricing!B:B)","v":47.49},{"$f":"Summary!$L$31","v":0.54},21.845399999999998,null,null,null,null,null,null,null,0,null,0,0,0,0,0,0,0]
[null,null,"Trimmer Line"," Corecut Ø2,4mmx77M Donut Orange/Translucent",null,597669211,null,578433401,{"$f":"IFERROR(_xlfn.XLOOKUP(F28,Sheet47!F:F,Sheet47!G:G),\"\")","v":24},{"$f":"_xlfn.XLOOKUP(F28,Pricing!A:A,Pricing!B:B)","v":20.83},{"$f":"Summary!$L$31","v":0.54},9.5817999999999977,null,null,null,null,null,null,null,0,null,0,0,0,0,0,0,0]
[null,null,"Trimmer Line"," Corecut Ø2,7mmx10M Donut Orange/Translucent",null,597669220,null,578433701,{"$f":"IFERROR(_xlfn.XLOOKUP(F29,Sheet47!F:F,Sheet47!G:G),\"\")","v":10},{"$f":"_xlfn.XLOOKUP(F29,Pricing!A:A,Pricing!B:B)","v":6.66},{"$f":"Summary!$L$31","v":0.54},3.0635999999999997,null,null,null,null,null,null,null,0,null,0,0,0,0,0,0,0]
[null,null,"Trimmer Line"," Corecut Ø2,7mmx210M SPool Orange/Translucent",null,597669222,null,578434001,{"$f":"IFERROR(_xlfn.XLOOKUP(F30,Sheet47!F:F,Sheet47!G:G),\"\")","v":1},{"$f":"_xlfn.XLOOKUP(F30,Pricing!A:A,Pricing!B:B)","v":58.33},{"$f":"Summary!$L$31","v":0.54},26.831799999999998,null,null,null,null,null,null,null,0,null,0,0,0,0,0,0,0]
[null,null,"Trimmer Line"," Corecut Ø2,7mmx60M Donut Orange/Translucent",null,597669221,null,578433901,{"$f":"IFERROR(_xlfn.XLOOKUP(F31,Sheet47!F:F,Sheet47!G:G),\"\")","v":24},{"$f":"_xlfn.XLOOKUP(F31,Pricing!A:A,Pricing!B:B)","v":19.989999999999998},{"$f":"Summary!$L$31","v":0.54},9.1953999999999994,null,null,null,null,null,null,null,0,null,0,0,0,0,0,0,0]
[null,null,"Trimmer Line"," Corecut Ø3,0mmx210M SPool Orange/TanslucENt",null,597669232,null,578434401,{"$f":"IFERROR(_xlfn.XLOOKUP(F32,Sheet47!F:F,Sheet47!G:G),\"\")","v":1},{"$f":"_xlfn.XLOOKUP(F32,Pricing!A:A,Pricing!B:B)","v":74.989999999999995},{"$f":"Summary!$L$31","v":0.54},34.495399999999997,null,null,null,null,null,null,null,0,null,0,0,0,0,0,0,0]
[null,null,"Trimmer Line"," Corecut Ø3,0mmx48M Donut Orange/Translucent",null,597669231,null,578434301,{"$f":"IFERROR(_xlfn.XLOOKUP(F33,Sheet47!F:F,Sheet47!G:G),\"\")","v":24},{"$f":"_xlfn.XLOOKUP(F33,Pricing!A:A,Pricing!B:B)","v":20.83},{"$f":"Summary!$L$31","v":0.54},9.5817999999999977,null,null,null,null,null,null,null,0,null,0,0,0,0,0,0,0]
[null,null,"Trimmer Line"," Corecut Ø3,0mmx9M Donut Orange/Translucent",null,597669230,null,578434101,{"$f":"IFERROR(_xlfn.XLOOKUP(F34,Sheet47!F:F,Sheet47!G:G),\"\")","v":10},{"$f":"_xlfn.XLOOKUP(F34,Pricing!A:A,Pricing!B:B)","v":6.66},{"$f":"Summary!$L$31","v":0.54},3.0635999999999997,null,null,null,null,null,null,null,0,null,0,0,0,0,0,0,0]
[null,null,"Trimmer Line"," Corecut Ø3,3mmx210M SPool Orange/Translucent",null,597669241,null,578434601,{"$f":"IFERROR(_xlfn.XLOOKUP(F35,Sheet47!F:F,Sheet47!G:G),\"\")","v":1},{"$f":"_xlfn.XLOOKUP(F35,Pricing!A:A,Pricing!B:B)","v":90.83},{"$f":"Summary!$L$31","v":0.54},41.781799999999997,null,null,null,null,null,null,null,0,null,0,0,0,0,0,0,0]
[null,null,"Trimmer Line"," Corecut Ø3,3mmx65M SPool Orange/Translucent",null,597669240,null,578434501,{"$f":"IFERROR(_xlfn.XLOOKUP(F36,Sheet47!F:F,Sheet47!G:G),\"\")","v":1},{"$f":"_xlfn.XLOOKUP(F36,Pricing!A:A,Pricing!B:B)","v":49.99},{"$f":"Summary!$L$31","v":0.54},22.9954,null,null,null,null,null,null,null,0,null,0,0,0,0,0,0,0]
[null,null,"Trimmer Line"," Corecut Ø4,0mmx138M SPool Orange/Translucent",null,597669251,null,null,{"$f":"IFERROR(_xlfn.XLOOKUP(F37,Sheet47!F:F,Sheet47!G:G),\"\")","v":1},{"$f":"_xlfn.XLOOKUP(F37,Pricing!A:A,Pricing!B:B)","v":74.989999999999995},{"$f":"Summary!$L$31","v":0.54},34.495399999999997,null,null,null,null,null,null,null,0,null,0,0,0,0,0,0,0]
[null,null,"Trimmer Line"," Corecut Ø4,0mmx65M SPool Orange/Translucent",null,597669250,null,null,{"$f":"IFERROR(_xlfn.XLOOKUP(F38,Sheet47!F:F,Sheet47!G:G),\"\")","v":1},{"$f":"_xlfn.XLOOKUP(F38,Pricing!A:A,Pricing!B:B)","v":41.66},{"$f":"Summary!$L$31","v":0.54},19.163599999999995,null,null,null,null,null,null,null,0,null,0,0,0,0,0,0,0]
[null,null,"Trimmer Line"," Opti PENta Ø2,4mmx240M SPool Orange",null,597669002,null,590847402,{"$f":"IFERROR(_xlfn.XLOOKUP(F39,Sheet47!F:F,Sheet47!G:G),\"\")","v":12},{"$f":"_xlfn.XLOOKUP(F39,Pricing!A:A,Pricing!B:B)","v":31.66},{"$f":"Summary!$L$31","v":0.54},14.563599999999997,null,null,null,null,null,null,null,0,null,0,0,0,0,0,0,0]
[null,null,"Trimmer Line"," Opti PENta Ø2,4mmx90M Donut Orange",null,597669001,null,590847401,{"$f":"IFERROR(_xlfn.XLOOKUP(F40,Sheet47!F:F,Sheet47!G:G),\"\")","v":32},{"$f":"_xlfn.XLOOKUP(F40,Pricing!A:A,Pricing!B:B)","v":14.16},{"$f":"Summary!$L$31","v":0.54},6.5135999999999994,null,null,null,null,null,null,null,0,null,0,0,0,0,0,0,0]
[null,null,"Trimmer Line"," Opti PENta Ø2,7mmx240M SPool Yellow",null,597669011,null,590847404,{"$f":"IFERROR(_xlfn.XLOOKUP(F41,Sheet47!F:F,Sheet47!G:G),\"\")","v":12},{"$f":"_xlfn.XLOOKUP(F41,Pricing!A:A,Pricing!B:B)","v":37.49},{"$f":"Summary!$L$31","v":0.54},17.2454,null,null,null,null,null,null,null,0,null,0,0,0,0,0,0,0]
[null,null,"Trimmer Line"," Opti PENta Ø2,7mmx70M Donut Yellow",null,597669010,null,590847403,{"$f":"IFERROR(_xlfn.XLOOKUP(F42,Sheet47!F:F,Sheet47!G:G),\"\")","v":32},{"$f":"_xlfn.XLOOKUP(F42,Pricing!A:A,Pricing!B:B)","v":14.16},{"$f":"Summary!$L$31","v":0.54},6.5135999999999994,null,null,null,null,null,null,null,0,null,0,0,0,0,0,0,0]
[null,null,"Trimmer Line"," Opti PENta Ø3,0mmx240M SPool Red",null,597669021,null,590847406,{"$f":"IFERROR(_xlfn.XLOOKUP(F43,Sheet47!F:F,Sheet47!G:G),\"\")","v":6},{"$f":"_xlfn.XLOOKUP(F43,Pricing!A:A,Pricing!B:B)","v":45.83},{"$f":"Summary!$L$31","v":0.54},21.081799999999998,null,null,null,null,null,null,null,0,null,0,0,0,0,0,0,0]
[null,null,"Trimmer Line"," Opti PENta Ø3,0mmx56M Donut Red",null,597669020,null,590847405,{"$f":"IFERROR(_xlfn.XLOOKUP(F44,Sheet47!F:F,Sheet47!G:G),\"\")","v":32},{"$f":"_xlfn.XLOOKUP(F44,Pricing!A:A,Pricing!B:B)","v":14.16},{"$f":"Summary!$L$31","v":0.54},6.5135999999999994,null,null,null,null,null,null,null,0,null,0,0,0,0,0,0,0]
[null,null,"Trimmer Line"," Opti PENta Ø3,3mmx75M SPool White",null,597669030,null,590847407,{"$f":"IFERROR(_xlfn.XLOOKUP(F45,Sheet47!F:F,Sheet47!G:G),\"\")","v":36},{"$f":"_xlfn.XLOOKUP(F45,Pricing!A:A,Pricing!B:B)","v":20.83},{"$f":"Summary!$L$31","v":0.54},9.5817999999999977,null,null,null,null,null,null,null,0,null,0,0,0,0,0,0,0]
[null,null,"Trimmer Line"," Opti Quadra Ø2,4mmx210M SPool Orange",null,597668902,null,590846402,{"$f":"IFERROR(_xlfn.XLOOKUP(F46,Sheet47!F:F,Sheet47!G:G),\"\")","v":12},{"$f":"_xlfn.XLOOKUP(F46,Pricing!A:A,Pricing!B:B)","v":31.66},{"$f":"Summary!$L$31","v":0.54},14.563599999999997,null,null,null,null,null,null,null,0,null,0,0,0,0,0,0,0]
[null,null,"Trimmer Line"," Opti Quadra Ø2,4mmx70M Donut Orange",null,597668901,null,590846401,{"$f":"IFERROR(_xlfn.XLOOKUP(F47,Sheet47!F:F,Sheet47!G:G),\"\")","v":32},{"$f":"_xlfn.XLOOKUP(F47,Pricing!A:A,Pricing!B:B)","v":14.16},{"$f":"Summary!$L$31","v":0.54},6.5135999999999994,null,null,null,null,null,null,null,0,null,0,0,0,0,0,0,0]
[null,null,"Trimmer Line"," Opti Quadra Ø2,7mmx170M SPool Yellow",null,597668911,null,590846404,{"$f":"IFERROR(_xlfn.XLOOKUP(F48,Sheet47!F:F,Sheet47!G:G),\"\")","v":12},{"$f":"_xlfn.XLOOKUP(F48,Pricing!A:A,Pricing!B:B)","v":31.66},{"$f":"Summary!$L$31","v":0.54},14.563599999999997,null,null,null,null,null,null,null,0,null,0,0,0,0,0,0,0]
[null,null,"Trimmer Line"," Opti Quadra Ø2,7mmx55M Donut Yellow",null,597668910,null,590846403,{"$f":"IFERROR(_xlfn.XLOOKUP(F49,Sheet47!F:F,Sheet47!G:G),\"\")","v":32},{"$f":"_xlfn.XLOOKUP(F49,Pricing!A:A,Pricing!B:B)","v":14.16},{"$f":"Summary!$L$31","v":0.54},6.5135999999999994,null,null,null,null,null,null,null,0,null,0,0,0,0,0,0,0]
[null,null,"Trimmer Line"," Opti Quadra Ø3,0mmx240M SPool Red",null,597668921,null,590846406,{"$f":"IFERROR(_xlfn.XLOOKUP(F50,Sheet47!F:F,Sheet47!G:G),\"\")","v":6},{"$f":"_xlfn.XLOOKUP(F50,Pricing!A:A,Pricing!B:B)","v":54.16},{"$f":"Summary!$L$31","v":0.54},24.913599999999995,null,null,null,null,null,null,null,0,null,0,0,0,0,0,0,0]
[null,null,"Trimmer Line"," Opti Quadra Ø3,0mmx48M Donut Red",null,597668920,null,590846405,{"$f":"IFERROR(_xlfn.XLOOKUP(F51,Sheet47!F:F,Sheet47!G:G),\"\")","v":32},{"$f":"_xlfn.XLOOKUP(F51,Pricing!A:A,Pricing!B:B)","v":14.16},{"$f":"Summary!$L$31","v":0.54},6.5135999999999994,null,null,null,null,null,null,null,0,null,0,0,0,0,0,0,0]
[null,null,"Trimmer Line"," Opti Quadra Ø3,0mmx528M SPool Red",null,597668922,null,null,{"$f":"IFERROR(_xlfn.XLOOKUP(F52,Sheet47!F:F,Sheet47!G:G),\"\")","v":4},{"$f":"_xlfn.XLOOKUP(F52,Pricing!A:A,Pricing!B:B)","v":99.16},{"$f":"Summary!$L$31","v":0.54},45.613599999999998,null,null,null,null,null,null,null,0,null,0,0,0,0,0,0,0]
[null,null,"Trimmer Line"," Opti Quadra Ø3,3mmx183M SPool White",null,597668931,null,null,{"$f":"IFERROR(_xlfn.XLOOKUP(F53,Sheet47!F:F,Sheet47!G:G),\"\")","v":6},{"$f":"_xlfn.XLOOKUP(F53,Pricing!A:A,Pricing!B:B)","v":49.99},{"$f":"Summary!$L$31","v":0.54},22.9954,null,null,null,null,null,null,null,0,null,0,0,0,0,0,0,0]
[null,null,"Trimmer Line"," Opti Quadra Ø3,3mmx437M SPool White",null,597668932,null,null,{"$f":"IFERROR(_xlfn.XLOOKUP(F54,Sheet47!F:F,Sheet47!G:G),\"\")","v":4},{"$f":"_xlfn.XLOOKUP(F54,Pricing!A:A,Pricing!B:B)","v":104.16},{"$f":"Summary!$L$31","v":0.54},47.913599999999995,null,null,null,null,null,null,null,0,null,0,0,0,0,0,0,0]
[null,null,"Trimmer Line"," Opti Quadra Ø3,3mmx65M SPool White",null,597668930,null,590846407,{"$f":"IFERROR(_xlfn.XLOOKUP(F55,Sheet47!F:F,Sheet47!G:G),\"\")","v":36},{"$f":"_xlfn.XLOOKUP(F55,Pricing!A:A,Pricing!B:B)","v":20.83},{"$f":"Summary!$L$31","v":0.54},9.5817999999999977,null,null,null,null,null,null,null,0,null,0,0,0,0,0,0,0]
[null,null,"Trimmer Line"," Opti Round Ø1.5mmx15M Donut Blue",null,597668801,null,578437101,{"$f":"IFERROR(_xlfn.XLOOKUP(F56,Sheet47!F:F,Sheet47!G:G),\"\")","v":153},{"$f":"_xlfn.XLOOKUP(F56,Pricing!A:A,Pricing!B:B)","v":3.33},{"$f":"Summary!$L$31","v":0.54},1.5317999999999998,null,null,null,null,null,null,null,0,null,0,0,0,0,0,0,0]
[null,null,"Trimmer Line"," Opti Round Ø2,0mmx130M Donut Green",null,597668811,null,578437301,{"$f":"IFERROR(_xlfn.XLOOKUP(F57,Sheet47!F:F,Sheet47!G:G),\"\")","v":32},{"$f":"_xlfn.XLOOKUP(F57,Pricing!A:A,Pricing!B:B)","v":14.16},{"$f":"Summary!$L$31","v":0.54},6.5135999999999994,null,null,null,null,null,null,null,0,null,0,0,0,0,0,0,0]
[null,null,"Trimmer Line"," Opti Round Ø2,0mmx15M Donut Green",null,597668810,null,578437201,{"$f":"IFERROR(_xlfn.XLOOKUP(F58,Sheet47!F:F,Sheet47!G:G),\"\")","v":153},{"$f":"_xlfn.XLOOKUP(F58,Pricing!A:A,Pricing!B:B)","v":4.16},{"$f":"Summary!$L$31","v":0.54},1.9135999999999997,null,null,null,null,null,null,null,0,null,0,0,0,0,0,0,0]
[null,null,"Trimmer Line"," Opti Round Ø2,4mmx15M Donut Orange",null,597668820,null,578437401,{"$f":"IFERROR(_xlfn.XLOOKUP(F59,Sheet47!F:F,Sheet47!G:G),\"\")","v":153},{"$f":"_xlfn.XLOOKUP(F59,Pricing!A:A,Pricing!B:B)","v":4.16},{"$f":"Summary!$L$31","v":0.54},1.9135999999999997,null,null,null,null,null,null,null,0,null,0,0,0,0,0,0,0]
[null,null,"Trimmer Line"," Opti Round Ø2,4mmx240M SPool Orange",null,597668822,null,578437601,{"$f":"IFERROR(_xlfn.XLOOKUP(F60,Sheet47!F:F,Sheet47!G:G),\"\")","v":12},{"$f":"_xlfn.XLOOKUP(F60,Pricing!A:A,Pricing!B:B)","v":30.83},{"$f":"Summary!$L$31","v":0.54},14.181799999999999,null,null,null,null,null,null,null,0,null,0,0,0,0,0,0,0]
[null,null,"Trimmer Line"," Opti Round Ø2,4mmx90M Donut Orange",null,597668821,null,578437501,{"$f":"IFERROR(_xlfn.XLOOKUP(F61,Sheet47!F:F,Sheet47!G:G),\"\")","v":32},{"$f":"_xlfn.XLOOKUP(F61,Pricing!A:A,Pricing!B:B)","v":14.16},{"$f":"Summary!$L$31","v":0.54},6.5135999999999994,null,null,null,null,null,null,null,0,null,0,0,0,0,0,0,0]
[null,null,"Trimmer Line"," Opti Round Ø2,7mmx12M Donut Yellow",null,597668830,null,578437701,{"$f":"IFERROR(_xlfn.XLOOKUP(F62,Sheet47!F:F,Sheet47!G:G),\"\")","v":153},{"$f":"_xlfn.XLOOKUP(F62,Pricing!A:A,Pricing!B:B)","v":4.16},{"$f":"Summary!$L$31","v":0.54},1.9135999999999997,null,null,null,null,null,null,null,0,null,0,0,0,0,0,0,0]
[null,null,"Trimmer Line"," Opti Round Ø2,7mmx240M SPool Yellow",null,597668832,null,578437901,{"$f":"IFERROR(_xlfn.XLOOKUP(F63,Sheet47!F:F,Sheet47!G:G),\"\")","v":12},{"$f":"_xlfn.XLOOKUP(F63,Pricing!A:A,Pricing!B:B)","v":37.49},{"$f":"Summary!$L$31","v":0.54},17.2454,null,null,null,null,null,null,null,0,null,0,0,0,0,0,0,0]
[null,null,"Trimmer Line"," Opti Round Ø2,7mmx70M Donut Yellow",null,597668831,null,578437801,{"$f":"IFERROR(_xlfn.XLOOKUP(F64,Sheet47!F:F,Sheet47!G:G),\"\")","v":32},{"$f":"_xlfn.XLOOKUP(F64,Pricing!A:A,Pricing!B:B)","v":14.16},{"$f":"Summary!$L$31","v":0.54},6.5135999999999994,null,null,null,null,null,null,null,0,null,0,0,0,0,0,0,0]
[null,null,"Trimmer Line"," Opti Round Ø3,0mmx10M Donut Red",null,597668840,null,578438001,{"$f":"IFERROR(_xlfn.XLOOKUP(F65,Sheet47!F:F,Sheet47!G:G),\"\")","v":153},{"$f":"_xlfn.XLOOKUP(F65,Pricing!A:A,Pricing!B:B)","v":4.16},{"$f":"Summary!$L$31","v":0.54},1.9135999999999997,null,null,null,null,null,null,null,0,null,0,0,0,0,0,0,0]
[null,null,"Trimmer Line"," Opti Round Ø3,0mmx240M SPool Red",null,597668842,null,578438201,{"$f":"IFERROR(_xlfn.XLOOKUP(F66,Sheet47!F:F,Sheet47!G:G),\"\")","v":6},{"$f":"_xlfn.XLOOKUP(F66,Pricing!A:A,Pricing!B:B)","v":45.83},{"$f":"Summary!$L$31","v":0.54},21.081799999999998,null,null,null,null,null,null,null,0,null,0,0,0,0,0,0,0]
[null,null,"Trimmer Line"," Opti Round Ø3,0mmx56M Donut Red",null,597668841,null,578438101,{"$f":"IFERROR(_xlfn.XLOOKUP(F67,Sheet47!F:F,Sheet47!G:G),\"\")","v":32},{"$f":"_xlfn.XLOOKUP(F67,Pricing!A:A,Pricing!B:B)","v":14.16},{"$f":"Summary!$L$31","v":0.54},6.5135999999999994,null,null,null,null,null,null,null,0,null,0,0,0,0,0,0,0]
[null,null,"Trimmer Line"," Opti Round Ø3,0mmx637M SPool Red",null,597668843,null,null,{"$f":"IFERROR(_xlfn.XLOOKUP(F68,Sheet47!F:F,Sheet47!G:G),\"\")","v":4},{"$f":"_xlfn.XLOOKUP(F68,Pricing!A:A,Pricing!B:B)","v":99.16},{"$f":"Summary!$L$31","v":0.54},45.613599999999998,null,null,null,null,null,null,null,0,null,0,0,0,0,0,0,0]
[null,null,"Trimmer Line"," Opti Round Ø3,3mmx240M SPool White",null,597668851,null,null,{"$f":"IFERROR(_xlfn.XLOOKUP(F69,Sheet47!F:F,Sheet47!G:G),\"\")","v":6},{"$f":"_xlfn.XLOOKUP(F69,Pricing!A:A,Pricing!B:B)","v":54.16},{"$f":"Summary!$L$31","v":0.54},24.913599999999995,null,null,null,null,null,null,null,0,null,0,0,0,0,0,0,0]
[null,null,"Trimmer Line"," Opti Round Ø3,3mmx530M SPool White",null,597668852,null,null,{"$f":"IFERROR(_xlfn.XLOOKUP(F70,Sheet47!F:F,Sheet47!G:G),\"\")","v":4},{"$f":"_xlfn.XLOOKUP(F70,Pricing!A:A,Pricing!B:B)","v":107.49},{"$f":"Summary!$L$31","v":0.54},49.445399999999992,null,null,null,null,null,null,null,0,null,0,0,0,0,0,0,0]
[null,null,"Trimmer Line"," Opti Round Ø3,3mmx75M SPool White",null,597668850,null,578438301,{"$f":"IFERROR(_xlfn.XLOOKUP(F71,Sheet47!F:F,Sheet47!G:G),\"\")","v":36},{"$f":"_xlfn.XLOOKUP(F71,Pricing!A:A,Pricing!B:B)","v":20.83},{"$f":"Summary!$L$31","v":0.54},9.5817999999999977,null,null,null,null,null,null,null,0,null,0,0,0,0,0,0,0]
[null,null,"Trimmer Line"," Opti Round Ø4,0mmx240M SPool Black",null,597668861,null,null,{"$f":"IFERROR(_xlfn.XLOOKUP(F72,Sheet47!F:F,Sheet47!G:G),\"\")","v":4},{"$f":"_xlfn.XLOOKUP(F72,Pricing!A:A,Pricing!B:B)","v":79.16},{"$f":"Summary!$L$31","v":0.54},36.413599999999995,null,null,null,null,null,null,null,0,null,0,0,0,0,0,0,0]
[null,null,"Trimmer Line"," Opti Round Ø4,0mmx80M SPool Black",null,597668860,null,null,{"$f":"IFERROR(_xlfn.XLOOKUP(F73,Sheet47!F:F,Sheet47!G:G),\"\")","v":12},{"$f":"_xlfn.XLOOKUP(F73,Pricing!A:A,Pricing!B:B)","v":29.16},{"$f":"Summary!$L$31","v":0.54},13.413599999999999,null,null,null,null,null,null,null,0,null,0,0,0,0,0,0,0]
[null,null,"Trimmer Line","Whisper Twist Ø1,5mmx15M Donut Orange/Black",null,597669101,null,578435501,{"$f":"IFERROR(_xlfn.XLOOKUP(F74,Sheet47!F:F,Sheet47!G:G),\"\")","v":16},{"$f":"_xlfn.XLOOKUP(F74,Pricing!A:A,Pricing!B:B)","v":4.99},{"$f":"Summary!$L$31","v":0.54},2.2953999999999999,null,null,null,null,null,null,null,0,null,0,0,0,0,0,0,0]
[null,null,"Trimmer Line","Whisper Twist Ø2,0mmx112M Donut Orange/Black",null,597669111,null,578435801,{"$f":"IFERROR(_xlfn.XLOOKUP(F75,Sheet47!F:F,Sheet47!G:G),\"\")","v":24},{"$f":"_xlfn.XLOOKUP(F75,Pricing!A:A,Pricing!B:B)","v":19.16},{"$f":"Summary!$L$31","v":0.54},8.8135999999999992,null,null,null,null,null,null,null,0,null,0,0,0,0,0,0,0]
[null,null,"Trimmer Line","Whisper Twist Ø2,0mmx15M Donut Orange/Black",null,597669110,null,578435701,{"$f":"IFERROR(_xlfn.XLOOKUP(F76,Sheet47!F:F,Sheet47!G:G),\"\")","v":16},{"$f":"_xlfn.XLOOKUP(F76,Pricing!A:A,Pricing!B:B)","v":4.99},{"$f":"Summary!$L$31","v":0.54},2.2953999999999999,null,null,null,null,null,null,null,0,null,0,0,0,0,0,0,0]
[null,null,"Trimmer Line","Whisper Twist Ø2,4mmx12M Donut Orange/Black",null,597669120,null,578435901,{"$f":"IFERROR(_xlfn.XLOOKUP(F77,Sheet47!F:F,Sheet47!G:G),\"\")","v":10},{"$f":"_xlfn.XLOOKUP(F77,Pricing!A:A,Pricing!B:B)","v":5.83},{"$f":"Summary!$L$31","v":0.54},2.6818,null,null,null,null,null,null,null,0,null,0,0,0,0,0,0,0]
[null,null,"Trimmer Line","Whisper Twist Ø2,4mmx210M SPool Orange/Black",null,597669122,null,578436301,{"$f":"IFERROR(_xlfn.XLOOKUP(F78,Sheet47!F:F,Sheet47!G:G),\"\")","v":1},{"$f":"_xlfn.XLOOKUP(F78,Pricing!A:A,Pricing!B:B)","v":45.83},{"$f":"Summary!$L$31","v":0.54},21.081799999999998,null,null,null,null,null,null,null,0,null,0,0,0,0,{"$f":"$L78*R78","v":0},{"$f":"$L78*S78","v":0},{"$f":"SUM(V78:AA78)","v":0}]
[null,null,"Trimmer Line"," Whisper Twist Ø2,4mmx77M Donut Orange/Black",null,597669121,null,578436201,{"$f":"IFERROR(_xlfn.XLOOKUP(F79,Sheet47!F:F,Sheet47!G:G),\"\")","v":24},{"$f":"_xlfn.XLOOKUP(F79,Pricing!A:A,Pricing!B:B)","v":19.989999999999998},{"$f":"Summary!$L$31","v":0.54},9.1953999999999994,null,null,null,null,null,null,null,{"$f":"SUM(N79:S79)","v":0},null,0,0,0,0,0,0,0]
[null,null,"Trimmer Line"," Whisper Twist Ø2,7mmx10M Donut Orange/Black",null,597669130,null,578436401,{"$f":"IFERROR(_xlfn.XLOOKUP(F80,Sheet47!F:F,Sheet47!G:G),\"\")","v":10},{"$f":"_xlfn.XLOOKUP(F80,Pricing!A:A,Pricing!B:B)","v":5.83},{"$f":"Summary!$L$31","v":0.54},2.6818,null,null,null,null,null,null,null,0,null,0,0,0,0,0,0,0]
[null,null,"Trimmer Line"," Whisper Twist Ø2,7mmx210M SPool Orange/Black",null,597669132,null,578436601,{"$f":"IFERROR(_xlfn.XLOOKUP(F81,Sheet47!F:F,Sheet47!G:G),\"\")","v":1},{"$f":"_xlfn.XLOOKUP(F81,Pricing!A:A,Pricing!B:B)","v":49.99},{"$f":"Summary!$L$31","v":0.54},22.9954,null,null,null,null,null,null,null,0,null,0,0,0,0,0,0,0]
[null,null,"Trimmer Line"," Whisper Twist Ø2,7mmx60M Donut Orange/Black",null,597669131,null,578436501,{"$f":"IFERROR(_xlfn.XLOOKUP(F82,Sheet47!F:F,Sheet47!G:G),\"\")","v":24},{"$f":"_xlfn.XLOOKUP(F82,Pricing!A:A,Pricing!B:B)","v":19.989999999999998},{"$f":"Summary!$L$31","v":0.54},9.1953999999999994,null,null,null,null,null,null,null,0,null,0,0,0,0,0,0,0]
[null,null,"Trimmer Line"," Whisper Twist Ø3,0mmx210M SPool Orange/Black",null,597669142,null,578437001,{"$f":"IFERROR(_xlfn.XLOOKUP(F83,Sheet47!F:F,Sheet47!G:G),\"\")","v":1},{"$f":"_xlfn.XLOOKUP(F83,Pricing!A:A,Pricing!B:B)","v":66.66},{"$f":"Summary!$L$31","v":0.54},30.663599999999995,null,null,null,null,null,null,null,0,null,0,0,0,0,0,0,0]
[null,null,"Trimmer Line"," Whisper Twist Ø3,0mmx48M Donut Orange/Black",null,597669141,null,578436801,{"$f":"IFERROR(_xlfn.XLOOKUP(F84,Sheet47!F:F,Sheet47!G:G),\"\")","v":24},{"$f":"_xlfn.XLOOKUP(F84,Pricing!A:A,Pricing!B:B)","v":19.989999999999998},{"$f":"Summary!$L$31","v":0.54},9.1953999999999994,null,null,null,null,null,null,null,0,null,0,0,0,0,0,0,0]
[null,null,"Trimmer Line"," Whisper Twist Ø3,0mmx9M Donut Orange/Black",null,597669140,null,578436701,{"$f":"IFERROR(_xlfn.XLOOKUP(F85,Sheet47!F:F,Sheet47!G:G),\"\")","v":10},{"$f":"_xlfn.XLOOKUP(F85,Pricing!A:A,Pricing!B:B)","v":5.83},{"$f":"Summary!$L$31","v":0.54},2.6818,null,null,null,null,null,null,null,0,null,0,0,0,0,0,0,0]

{"sheet":"Batteries & Chargers","index":30,"n_rows":42,"n_cols":28,"rows_kept":42,"cut":false,"hidden":false,"merged":[[12,1,41,1],[41,3,41,4],[22,3,22,4],[23,3,23,4],[24,3,24,4],[40,3,40,4],[25,3,25,4],[35,3,35,4],[36,3,36,4],[37,3,37,4],[38,3,38,4],[39,3,39,4],[27,3,27,4],[26,3,26,4],[34,3,34,4],[33,3,33,4],[10,21,10,27],[11,3,11,4],[1,4,1,8],[2,4,2,8],[3,4,3,8],[4,4,4,8],[5,4,5,8],[6,4,6,8],[7,4,7,8],[8,6,8,8],[10,2,10,11],[8,3,8,5],[30,3,30,4],[29,3,29,4],[28,3,28,4],[32,3,32,4],[10,13,10,19],[12,3,12,4],[31,3,31,4],[15,3,15,4],[14,3,14,4],[20,3,20,4],[21,3,21,4],[13,3,13,4],[19,3,19,4],[18,3,18,4],[17,3,17,4],[16,3,16,4]]}
[]
[null,null,null,"Dealer Name",{"$f":"Summary!F2","v":"Winchester Garden Machinery Ltd - Arb"}]
[null,null,null,"Dealer Postcode",{"$f":"Summary!F3","v":"SO21 1HF"}]
[null,null,null,"Account Number",{"$f":"Summary!F4","v":28400505}]
[null,null,null,"Order Number",{"$f":"Summary!F5","v":0}]
[null,null,null,"Project Code",{"$f":"Summary!F6","v":"PSO2024"}]
[null,null,null,"Order Date",{"$f":"Summary!F7","v":"00:00:00"}]
[null,null,null,"ABM",{"$f":"Summary!F8","v":"Francesca_Bosley"}]
[null,null,null,"PSO minimum 40% of turnover = Additional 2% terms",null,null,{"$f":"Summary!I9","v":0.02}]
[]
[null,null,"Batteries & Chargers",null,null,null,null,null,null,null,null,null,null,"Order Quantity",null,null,null,null,null,null,null,"Order Value"]
[null,null,"Product Type","Model Description",null,"PNC","Size","Replaces","Box Qty","List Price 2024 Ex VAT","Discount","Dealer Net Price",null,"January","February","March","April","May","June","Total Qty",null,"January","February","March","April","May","June","Total Value"]
[null,"Batteries & Chargers","Battery Accessory","Battery Adapter for Hedge Trimmer (iH adapter)",null,598828801,null,null,{"$f":"IFERROR(_xlfn.XLOOKUP(F13,Sheet47!F:F,Sheet47!G:G),\"\")","v":1},{"$f":"_xlfn.XLOOKUP(F13,Pricing!A:A,Pricing!B:B)","v":74.989999999999995},{"$f":"Summary!$L$17","v":0.30000000000000004},{"$f":"J13-(J13*K13)","v":52.492999999999995},null,null,null,null,null,null,null,{"$f":"SUM(N13:S13)","v":0},null,{"$f":"L13*N13","v":0},{"$f":"L13*O13","v":0},{"$f":"L13*P13","v":0},{"$f":"$L13*Q13","v":0},{"$f":"$L13*R13","v":0},{"$f":"$L13*S13","v":0},{"$f":"SUM(V13:AA13)","v":0}]
[null,null,"Battery Accessory","Harness Assembly for BLi550X & BLi950X",null,582909001,null,581035801,{"$f":"IFERROR(_xlfn.XLOOKUP(F14,Sheet47!F:F,Sheet47!G:G),\"\")","v":1},{"$f":"_xlfn.XLOOKUP(F14,Pricing!A:A,Pricing!B:B)","v":91.66},{"$f":"Summary!$L$17","v":0.30000000000000004},64.161999999999992,null,null,null,null,null,null,null,0,null,0,0,0,{"$f":"L14*Q14","v":0},{"$f":"$L14*R14","v":0},{"$f":"$L14*S14","v":0},0]
[null,null,"Battery Accessory","Battery Belt FLEXI, connector kit",null,590776703,null,null,{"$f":"IFERROR(_xlfn.XLOOKUP(F15,Sheet47!F:F,Sheet47!G:G),\"\")","v":1},{"$f":"_xlfn.XLOOKUP(F15,Pricing!A:A,Pricing!B:B)","v":149.99},{"$f":"Summary!$L$17","v":0.30000000000000004},104.99299999999999,null,null,null,null,null,null,null,0,null,0,0,0,0,0,0,0]
[null,null,"Battery Accessory","Accessory bag for battery belt FLEXI & BP battrey",null,596252901,null,590777101,{"$f":"IFERROR(_xlfn.XLOOKUP(F16,Sheet47!F:F,Sheet47!G:G),\"\")","v":1},{"$f":"_xlfn.XLOOKUP(F16,Pricing!A:A,Pricing!B:B)","v":11.66},{"$f":"Summary!$L$17","v":0.30000000000000004},8.161999999999999,null,null,null,null,null,null,null,0,null,0,0,0,0,0,0,0]
[null,null,"Battery Accessory","Adaptor kit for backpack battery",null,582780501,null,581362601,{"$f":"IFERROR(_xlfn.XLOOKUP(F17,Sheet47!F:F,Sheet47!G:G),\"\")","v":1},{"$f":"_xlfn.XLOOKUP(F17,Pricing!A:A,Pricing!B:B)","v":166.66},{"$f":"Summary!$L$17","v":0.30000000000000004},116.66199999999999,null,null,null,null,null,null,null,0,null,0,0,0,0,0,0,0]
[null,null,"Battery Accessory","Battery Belt FLEXI, adapter kit",null,590776702,null,null,{"$f":"IFERROR(_xlfn.XLOOKUP(F18,Sheet47!F:F,Sheet47!G:G),\"\")","v":1},{"$f":"_xlfn.XLOOKUP(F18,Pricing!A:A,Pricing!B:B)","v":149.99},{"$f":"Summary!$L$17","v":0.30000000000000004},104.99299999999999,null,null,null,null,null,null,null,0,null,0,0,0,0,0,0,0]
[null,null,"Battery Accessory","BLi carrier",null,590777201,null,null,{"$f":"IFERROR(_xlfn.XLOOKUP(F19,Sheet47!F:F,Sheet47!G:G),\"\")","v":1},{"$f":"_xlfn.XLOOKUP(F19,Pricing!A:A,Pricing!B:B)","v":19.989999999999998},{"$f":"Summary!$L$17","v":0.30000000000000004},13.992999999999999,null,null,null,null,null,null,null,0,null,0,0,0,0,0,0,0]
[null,null,"Battery Accessory","Battery Hip Pad",null,587834001,null,null,{"$f":"IFERROR(_xlfn.XLOOKUP(F20,Sheet47!F:F,Sheet47!G:G),\"\")","v":1},{"$f":"_xlfn.XLOOKUP(F20,Pricing!A:A,Pricing!B:B)","v":21.66},{"$f":"Summary!$L$17","v":0.30000000000000004},15.161999999999999,null,null,null,null,null,null,null,0,null,0,0,0,0,0,0,0]
[null,null,"Battery Integrated ","P4A 18-B45 2.5Ah",null,970600801,null,null,{"$f":"IFERROR(_xlfn.XLOOKUP(F21,Sheet47!F:F,Sheet47!G:G),\"\")","v":1},{"$f":"_xlfn.XLOOKUP(F21,Pricing!A:A,Pricing!B:B)","v":62.49},{"$f":"Summary!$L$17","v":0.30000000000000004},{"$f":"J21-(J21*K21)","v":43.742999999999995},null,null,null,null,null,null,null,{"$f":"SUM(N21:S21)","v":0},null,{"$f":"L21*N21","v":0},{"$f":"L21*O21","v":0},{"$f":"L21*P21","v":0},{"$f":"L21*Q21","v":0},{"$f":"$L21*R21","v":0},0,{"$f":"SUM(V21:AA21)","v":0}]
[null,null,"Battery Integrated ","P4A 18-B72 4.0Ah",null,970600901,null,null,{"$f":"IFERROR(_xlfn.XLOOKUP(F22,Sheet47!F:F,Sheet47!G:G),\"\")","v":1},{"$f":"_xlfn.XLOOKUP(F22,Pricing!A:A,Pricing!B:B)","v":83.33},{"$f":"Summary!$L$17","v":0.30000000000000004},58.330999999999996,null,null,null,null,null,null,null,0,null,0,0,0,0,0,0,0]
[null,null,"Battery Integrated ","40-B70 2.0 Ah",null,970457101,null,967091601,{"$f":"IFERROR(_xlfn.XLOOKUP(F23,Sheet47!F:F,Sheet47!G:G),\"\")","v":1},{"$f":"_xlfn.XLOOKUP(F23,Pricing!A:A,Pricing!B:B)","v":83.33},{"$f":"Summary!$L$17","v":0.30000000000000004},58.330999999999996,null,null,null,null,null,null,null,0,null,0,0,0,0,0,0,0]
[null,null,"Battery Integrated ","40-B140 4.0 Ah",null,970457201,null,967091701,{"$f":"IFERROR(_xlfn.XLOOKUP(F24,Sheet47!F:F,Sheet47!G:G),\"\")","v":1},{"$f":"_xlfn.XLOOKUP(F24,Pricing!A:A,Pricing!B:B)","v":124.99},{"$f":"Summary!$L$17","v":0.30000000000000004},87.492999999999995,null,null,null,null,null,null,null,0,null,0,0,0,0,0,0,0]
[null,null,"Battery Integrated ","BLi30 7.5 Ah",null,967937701,null,null,{"$f":"IFERROR(_xlfn.XLOOKUP(F25,Sheet47!F:F,Sheet47!G:G),\"\")","v":1},{"$f":"_xlfn.XLOOKUP(F25,Pricing!A:A,Pricing!B:B)","v":232.5},{"$f":"Summary!$L$17","v":0.30000000000000004},162.75,null,null,null,null,null,null,null,0,null,0,0,0,0,0,0,0]
[null,null,"Battery Integrated ","40-B140X",null,970607901,null,967091801,{"$f":"IFERROR(_xlfn.XLOOKUP(F26,Sheet47!F:F,Sheet47!G:G),\"\")","v":1},{"$f":"_xlfn.XLOOKUP(F26,Pricing!A:A,Pricing!B:B)","v":174.17},{"$f":"Summary!$L$17","v":0.30000000000000004},121.91899999999998,null,null,null,null,null,null,null,0,null,0,0,0,0,0,0,0]
[null,null,"Battery Integrated ","40-B220X",null,970607801,null,970448901,{"$f":"IFERROR(_xlfn.XLOOKUP(F27,Sheet47!F:F,Sheet47!G:G),\"\")","v":1},{"$f":"_xlfn.XLOOKUP(F27,Pricing!A:A,Pricing!B:B)","v":257.5},{"$f":"Summary!$L$17","v":0.30000000000000004},180.25,null,null,null,null,6,6,6,18,null,0,0,0,1081.5,1081.5,1081.5,3244.5]
[null,null,"Battery Integrated ","40-B360X",null,970607701,null,967071901,{"$f":"IFERROR(_xlfn.XLOOKUP(F28,Sheet47!F:F,Sheet47!G:G),\"\")","v":1},{"$f":"_xlfn.XLOOKUP(F28,Pricing!A:A,Pricing!B:B)","v":349.17},{"$f":"Summary!$L$17","v":0.30000000000000004},244.41899999999998,null,null,null,null,2,2,2,6,null,0,0,0,488.83799999999997,488.83799999999997,488.83799999999997,1466.5139999999999]
[null,null,"Battery Integrated ","BLi200 5.2 Ah ",null,967091901,null,null,{"$f":"IFERROR(_xlfn.XLOOKUP(F29,Sheet47!F:F,Sheet47!G:G),\"\")","v":1},{"$f":"_xlfn.XLOOKUP(F29,Pricing!A:A,Pricing!B:B)","v":199.17},{"$f":"Summary!$L$17","v":0.30000000000000004},{"$f":"J29-(J29*K29)","v":139.41899999999998},null,null,null,null,null,null,null,0,null,{"$f":"L29*N29","v":0},{"$f":"L29*O29","v":0},{"$f":"L29*P29","v":0},{"$f":"L29*Q29","v":0},{"$f":"$L29*R29","v":0},{"$f":"$L29*S29","v":0},{"$f":"SUM(V29:AA29)","v":0}]
[null,null,"Battery Integrated ","BLi200X",null,970448901,null,null,{"$f":"IFERROR(_xlfn.XLOOKUP(F30,Sheet47!F:F,Sheet47!G:G),\"\")","v":1},{"$f":"_xlfn.XLOOKUP(F30,Pricing!A:A,Pricing!B:B)","v":215.83},{"$f":"Summary!$L$17","v":0.30000000000000004},151.08100000000002,null,10,null,10,null,null,null,20,null,1510.8100000000002,0,1510.8100000000002,0,0,0,3021.6200000000003]
[null,null,"Battery Integrated ","BLi300 9.4 Ah ",null,967071901,null,null,{"$f":"IFERROR(_xlfn.XLOOKUP(F31,Sheet47!F:F,Sheet47!G:G),\"\")","v":1},{"$f":"_xlfn.XLOOKUP(F31,Pricing!A:A,Pricing!B:B)","v":332.5},{"$f":"Summary!$L$17","v":0.30000000000000004},232.75,null,null,null,null,null,null,null,0,null,0,0,0,0,0,0,0]
[null,null,"Battery Backpack","BLi 950X 31.1Ah (Battery only)",null,579822201,null,null,{"$f":"IFERROR(_xlfn.XLOOKUP(F32,Sheet47!F:F,Sheet47!G:G),\"\")","v":1},{"$f":"_xlfn.XLOOKUP(F32,Pricing!A:A,Pricing!B:B)","v":1082.5},{"$f":"Summary!$L$17","v":0.30000000000000004},757.75,null,null,null,null,null,null,null,0,null,0,0,0,0,0,0,0]
[null,null,"Battery Backpack","BLi 950X 31.1Ah (Inc Harness)",null,967093201,null,null,{"$f":"IFERROR(_xlfn.XLOOKUP(F33,Sheet47!F:F,Sheet47!G:G),\"\")","v":1},{"$f":"_xlfn.XLOOKUP(F33,Pricing!A:A,Pricing!B:B)","v":1165.83},{"$f":"Summary!$L$17","v":0.30000000000000004},816.0809999999999,null,null,null,null,null,null,null,0,null,0,0,0,0,0,0,0]
[null,null,"Battery Charger","P4A 18-C70 70W",null,970601002,null,null,{"$f":"IFERROR(_xlfn.XLOOKUP(F34,Sheet47!F:F,Sheet47!G:G),\"\")","v":1},{"$f":"_xlfn.XLOOKUP(F34,Pricing!A:A,Pricing!B:B)","v":41.66},{"$f":"Summary!$L$17","v":0.30000000000000004},29.161999999999995,null,null,null,null,null,null,null,0,null,0,0,0,0,0,0,0]
[null,null,"Battery Charger","40-C80 (80w) Charger",null,970487802,null,967335641,{"$f":"IFERROR(_xlfn.XLOOKUP(F35,Sheet47!F:F,Sheet47!G:G),\"\")","v":1},{"$f":"_xlfn.XLOOKUP(F35,Pricing!A:A,Pricing!B:B)","v":45.83},{"$f":"Summary!$L$17","v":0.30000000000000004},32.080999999999996,null,null,null,null,null,null,null,0,null,0,0,0,0,0,0,0]
[null,null,"Battery Charger","QC250 (250w)",null,967970102,null,967335651,{"$f":"IFERROR(_xlfn.XLOOKUP(F36,Sheet47!F:F,Sheet47!G:G),\"\")","v":1},{"$f":"_xlfn.XLOOKUP(F36,Pricing!A:A,Pricing!B:B)","v":74.989999999999995},{"$f":"Summary!$L$17","v":0.30000000000000004},{"$f":"J36-(J36*K36)","v":52.492999999999995},null,null,null,null,null,null,null,{"$f":"SUM(N36:S36)","v":0},null,{"$f":"L36*N36","v":0},{"$f":"L36*O36","v":0},{"$f":"L36*P36","v":0},{"$f":"L36*Q36","v":0},{"$f":"$L36*R36","v":0},{"$f":"$L36*S36","v":0},{"$f":"SUM(V36:AA36)","v":0}]
[null,null,"Battery Charger","QC 330 (330w)",null,970522202,null,967091402,{"$f":"IFERROR(_xlfn.XLOOKUP(F37,Sheet47!F:F,Sheet47!G:G),\"\")","v":1},{"$f":"_xlfn.XLOOKUP(F37,Pricing!A:A,Pricing!B:B)","v":108.33},{"$f":"Summary!$L$17","v":0.30000000000000004},75.830999999999989,null,10,6,6,6,6,6,40,null,758.31,454.98599999999993,454.98599999999993,454.98599999999993,454.98599999999993,454.98599999999993,3033.2399999999993]
[null,null,"Battery Charger","QC 500 (500w)",null,970449502,null,967091502,{"$f":"IFERROR(_xlfn.XLOOKUP(F38,Sheet47!F:F,Sheet47!G:G),\"\")","v":1},{"$f":"_xlfn.XLOOKUP(F38,Pricing!A:A,Pricing!B:B)","v":141.66},{"$f":"Summary!$L$17","v":0.30000000000000004},99.161999999999992,null,3,2,2,2,2,2,13,null,297.48599999999999,198.32399999999998,198.32399999999998,198.32399999999998,198.32399999999998,198.32399999999998,1289.106]
[null,null,"Battery Charger","QC80F Car Charger 12V",null,967628301,null,null,{"$f":"IFERROR(_xlfn.XLOOKUP(F39,Sheet47!F:F,Sheet47!G:G),\"\")","v":1},{"$f":"_xlfn.XLOOKUP(F39,Pricing!A:A,Pricing!B:B)","v":74.989999999999995},{"$f":"Summary!$L$17","v":0.30000000000000004},52.492999999999995,null,null,null,null,null,null,null,0,null,0,0,0,0,0,0,0]
[null,null,"Battery Charger","V1600F Voltage Inverter",null,967628502,null,null,{"$f":"IFERROR(_xlfn.XLOOKUP(F40,Sheet47!F:F,Sheet47!G:G),\"\")","v":1},{"$f":"_xlfn.XLOOKUP(F40,Pricing!A:A,Pricing!B:B)","v":190.83},{"$f":"Summary!$L$17","v":0.30000000000000004},133.58100000000002,null,null,null,null,null,null,null,0,null,0,0,0,0,0,0,0]
[null,null,"Battery Charger","Rail Fixture 40-C80 Charging Rail (RAIL ONLY)",null,536144302,null,null,{"$f":"IFERROR(_xlfn.XLOOKUP(F41,Sheet47!F:F,Sheet47!G:G),\"\")","v":1},{"$f":"_xlfn.XLOOKUP(F41,Pricing!A:A,Pricing!B:B)","v":91.66},{"$f":"Summary!$L$17","v":0.30000000000000004},{"$f":"J41-(J41*K41)","v":64.161999999999992},null,null,null,null,null,null,null,{"$f":"SUM(N41:S41)","v":0},null,{"$f":"L41*N41","v":0},{"$f":"L41*O41","v":0},{"$f":"L41*P41","v":0},{"$f":"L41*Q41","v":0},{"$f":"$L41*R41","v":0},{"$f":"$L41*S41","v":0},{"$f":"SUM(V41:AA41)","v":0}]
[null,null,"Battery Charger","40-C80 Charging Station (INC. 8 CHARGERS)",null,970621902,null,null,{"$f":"IFERROR(_xlfn.XLOOKUP(F42,Sheet47!F:F,Sheet47!G:G),\"\")","v":1},{"$f":"_xlfn.XLOOKUP(F42,Pricing!A:A,Pricing!B:B)","v":374.17},{"$f":"Summary!$L$17","v":0.30000000000000004},{"$f":"J42-(J42*K42)","v":261.91899999999998},null,null,null,null,null,null,null,{"$f":"SUM(N42:S42)","v":0},null,{"$f":"L42*N42","v":0},{"$f":"L42*O42","v":0},{"$f":"L42*P42","v":0},{"$f":"L42*Q42","v":0},{"$f":"$L42*R42","v":0},{"$f":"$L42*S42","v":0},{"$f":"SUM(V42:AA42)","v":0}]

{"sheet":"Oil & Lubricants","index":31,"n_rows":56,"n_cols":28,"rows_kept":56,"cut":false,"hidden":false,"merged":[[10,21,10,27],[1,4,1,8],[2,4,2,8],[3,4,3,8],[4,4,4,8],[5,4,5,8],[6,4,6,8],[7,4,7,8],[8,3,8,5],[8,6,8,8],[10,2,10,11],[10,13,10,19],[11,3,11,4],[12,1,55,1],[12,3,12,4],[13,3,13,4],[14,3,14,4],[15,3,15,4],[53,3,53,4],[54,3,54,4],[55,3,55,4],[16,3,16,4],[17,3,17,4],[18,3,18,4],[19,3,19,4],[20,3,20,4],[32,3,32,4],[21,3,21,4],[22,3,22,4],[23,3,23,4],[24,3,24,4],[25,3,25,4],[26,3,26,4],[27,3,27,4],[28,3,28,4],[29,3,29,4],[30,3,30,4],[31,3,31,4],[44,3,44,4],[33,3,33,4],[34,3,34,4],[35,3,35,4],[36,3,36,4],[37,3,37,4],[38,3,38,4],[39,3,39,4],[40,3,40,4],[41,3,41,4],[42,3,42,4],[43,3,43,4],[51,3,51,4],[52,3,52,4],[45,3,45,4],[46,3,46,4],[47,3,47,4],[48,3,48,4],[49,3,49,4],[50,3,50,4]]}
[]
[null,null,null,"Dealer Name",{"$f":"Summary!F2","v":"Winchester Garden Machinery Ltd - Arb"}]
[null,null,null,"Dealer Postcode",{"$f":"Summary!F3","v":"SO21 1HF"}]
[null,null,null,"Account Number",{"$f":"Summary!F4","v":28400505}]
[null,null,null,"Order Number",{"$f":"Summary!F5","v":0}]
[null,null,null,"Project Code",{"$f":"Summary!F6","v":"PSO2024"}]
[null,null,null,"Order Date",{"$f":"Summary!F7","v":"00:00:00"}]
[null,null,null,"ABM",{"$f":"Summary!F8","v":"Francesca_Bosley"}]
[null,null,null,"PSO minimum 40% of turnover = Additional 2% terms",null,null,{"$f":"Summary!I9","v":0.02}]
[]
[null,null,"Oil & Lubricants",null,null,null,null,null,null,null,null,null,null,"Order Quantity",null,null,null,null,null,null,null,"Order Value"]
[null,null,"Product Type","Model Description",null,"PNC","Size","Replaces","Box Qty","List Price 2024 Ex VAT","Discount","Dealer Net Price",null,"January","February","March","April","May","June","Total Qty",null,"January","February","March","April","May","June","Total Value"]
[null,"Accessories","Oil & Lubricants","4T Oil 10W30 4L Transmission Oil 1Ltr",null,597687001,null,null,{"$f":"IFERROR(_xlfn.XLOOKUP(F13,Sheet47!F:F,Sheet47!G:G),\"\")","v":12},{"$f":"_xlfn.XLOOKUP(F13,Pricing!A:A,Pricing!B:B)","v":20.83},{"$f":"Summary!$L$32","v":0.5},{"$f":"J13-(J13*K13)","v":10.414999999999999},null,null,null,null,null,null,null,{"$f":"SUM(N13:S13)","v":0},null,{"$f":"L13*N13","v":0},{"$f":"L13*O13","v":0},{"$f":"L13*P13","v":0},{"$f":"$L13*Q13","v":0},{"$f":"$L13*R13","v":0},0,{"$f":"SUM(V13:AA13)","v":0}]
[null,null,"Oil & Lubricants","4T Oil 10W30 4L Transmission Oil 4Ltr",null,597687004,null,578037104,{"$f":"IFERROR(_xlfn.XLOOKUP(F14,Sheet47!F:F,Sheet47!G:G),\"\")","v":3},{"$f":"_xlfn.XLOOKUP(F14,Pricing!A:A,Pricing!B:B)","v":58.33},{"$f":"Summary!$L$32","v":0.5},{"$f":"J14-(J14*K14)","v":29.164999999999999},null,null,null,null,null,null,null,{"$f":"SUM(N14:S14)","v":0},null,{"$f":"L14*N14","v":0},{"$f":"L14*O14","v":0},{"$f":"L14*P14","v":0},{"$f":"L14*Q14","v":0},{"$f":"$L14*R14","v":0},{"$f":"$L14*S14","v":0},{"$f":"SUM(V14:AA14)","v":0}]
[null,null,"Oil & Lubricants","4T SAE 30 Engine Oil 0.6 Ltr",null,577419201,null,544041801,{"$f":"IFERROR(_xlfn.XLOOKUP(F15,Sheet47!F:F,Sheet47!G:G),\"\")","v":12},{"$f":"_xlfn.XLOOKUP(F15,Pricing!A:A,Pricing!B:B)","v":5.83},{"$f":"Summary!$L$32","v":0.5},2.915,null,null,null,null,null,null,null,{"$f":"SUM(N15:S15)","v":0},null,0,0,0,0,0,0,0]
[null,null,"Oil & Lubricants","4T SAE 30 Engine Oil 1.4 Ltr",null,577419701,null,544041802,{"$f":"IFERROR(_xlfn.XLOOKUP(F16,Sheet47!F:F,Sheet47!G:G),\"\")","v":12},{"$f":"_xlfn.XLOOKUP(F16,Pricing!A:A,Pricing!B:B)","v":12.49},{"$f":"Summary!$L$32","v":0.5},{"$f":"J16-(J16*K16)","v":6.2450000000000001},null,null,null,null,null,null,null,0,null,{"$f":"L16*N16","v":0},{"$f":"L16*O16","v":0},{"$f":"L16*P16","v":0},{"$f":"L16*Q16","v":0},0,0,0]
[null,null,"Oil & Lubricants","4WP 4T Oil 10W/40 1.4 Ltr",null,577419702,null,531009285,{"$f":"IFERROR(_xlfn.XLOOKUP(F17,Sheet47!F:F,Sheet47!G:G),\"\")","v":12},{"$f":"_xlfn.XLOOKUP(F17,Pricing!A:A,Pricing!B:B)","v":16.66},{"$f":"Summary!$L$32","v":0.5},8.33,null,null,null,null,null,null,null,0,null,0,0,0,0,0,0,0]
[null,null,"Oil & Lubricants","Air Filter Oil 1 Ltr",null,531009248,null,531021307,{"$f":"IFERROR(_xlfn.XLOOKUP(F18,Sheet47!F:F,Sheet47!G:G),\"\")","v":12},{"$f":"_xlfn.XLOOKUP(F18,Pricing!A:A,Pricing!B:B)","v":27.49},{"$f":"Summary!$L$32","v":0.5},13.744999999999999,null,null,null,null,null,null,null,0,null,0,0,0,0,0,0,0]
[null,null,"Oil & Lubricants","Air Filter Oil 200ml",null,538629501,null,null,{"$f":"IFERROR(_xlfn.XLOOKUP(F19,Sheet47!F:F,Sheet47!G:G),\"\")","v":1},{"$f":"_xlfn.XLOOKUP(F19,Pricing!A:A,Pricing!B:B)","v":11.66},{"$f":"Summary!$L$32","v":0.5},5.83,null,null,null,null,null,null,null,0,null,0,0,0,0,0,0,0]
[null,null,"Oil & Lubricants","Chain Oil Mineral 1 Ltr",null,579396001,null,576620901,{"$f":"IFERROR(_xlfn.XLOOKUP(F20,Sheet47!F:F,Sheet47!G:G),\"\")","v":12},{"$f":"_xlfn.XLOOKUP(F20,Pricing!A:A,Pricing!B:B)","v":6.33},{"$f":"Summary!$L$32","v":0.5},3.165,null,null,null,null,null,null,null,0,null,0,0,0,0,0,0,0]
[null,null,"Oil & Lubricants","Chain Oil Mineral 20 Ltr",null,579396201,null,null,{"$f":"IFERROR(_xlfn.XLOOKUP(F21,Sheet47!F:F,Sheet47!G:G),\"\")","v":1},{"$f":"_xlfn.XLOOKUP(F21,Pricing!A:A,Pricing!B:B)","v":76.66},{"$f":"Summary!$L$32","v":0.5},38.33,null,null,null,null,null,null,null,0,null,0,0,0,0,0,0,0]
[null,null,"Oil & Lubricants","Chain Oil Mineral 5 Ltr",null,579396101,null,null,{"$f":"IFERROR(_xlfn.XLOOKUP(F22,Sheet47!F:F,Sheet47!G:G),\"\")","v":1},{"$f":"_xlfn.XLOOKUP(F22,Pricing!A:A,Pricing!B:B)","v":20.83},{"$f":"Summary!$L$32","v":0.5},10.414999999999999,null,null,null,null,null,null,null,0,null,0,0,0,0,0,0,0]
[null,null,"Oil & Lubricants","Chain Oil Veg X-Guard Bio 1 Ltr",null,596457301,null,588818301,{"$f":"IFERROR(_xlfn.XLOOKUP(F23,Sheet47!F:F,Sheet47!G:G),\"\")","v":12},{"$f":"_xlfn.XLOOKUP(F23,Pricing!A:A,Pricing!B:B)","v":8.33},{"$f":"Summary!$L$32","v":0.5},4.165,null,null,null,null,null,null,null,0,null,0,0,0,0,0,0,0]
[null,null,"Oil & Lubricants","Chain Oil Veg X-Guard Bio 10 Ltr",null,596457303,null,null,{"$f":"IFERROR(_xlfn.XLOOKUP(F24,Sheet47!F:F,Sheet47!G:G),\"\")","v":1},{"$f":"_xlfn.XLOOKUP(F24,Pricing!A:A,Pricing!B:B)","v":49.99},{"$f":"Summary!$L$32","v":0.5},24.995000000000001,null,null,null,null,null,null,null,0,null,0,0,0,0,0,0,0]
[null,null,"Oil & Lubricants","Chain Oil Veg X-Guard Bio 20 Ltr",null,596457304,null,588818320,{"$f":"IFERROR(_xlfn.XLOOKUP(F25,Sheet47!F:F,Sheet47!G:G),\"\")","v":1},{"$f":"_xlfn.XLOOKUP(F25,Pricing!A:A,Pricing!B:B)","v":99.16},{"$f":"Summary!$L$32","v":0.5},49.58,null,null,null,null,null,null,null,0,null,0,0,0,0,0,0,0]
[null,null,"Oil & Lubricants","Chain Oil Veg X-Guard Bio 200 Ltr",null,596457305,null,588818330,{"$f":"IFERROR(_xlfn.XLOOKUP(F26,Sheet47!F:F,Sheet47!G:G),\"\")","v":1},{"$f":"_xlfn.XLOOKUP(F26,Pricing!A:A,Pricing!B:B)","v":999.17},{"$f":"Summary!$L$32","v":0.5},499.58499999999998,null,null,null,null,null,null,null,0,null,0,0,0,0,0,0,0]
[null,null,"Oil & Lubricants","Chain Oil Veg X-Guard Bio 5 Ltr",null,596457302,null,588818310,{"$f":"IFERROR(_xlfn.XLOOKUP(F27,Sheet47!F:F,Sheet47!G:G),\"\")","v":1},{"$f":"_xlfn.XLOOKUP(F27,Pricing!A:A,Pricing!B:B)","v":27.49},{"$f":"Summary!$L$32","v":0.5},13.744999999999999,null,null,null,null,null,null,null,0,null,0,0,0,0,0,0,0]
[null,null,"Oil & Lubricants","Combi Can 5L + 2.5L",null,580754201,null,null,{"$f":"IFERROR(_xlfn.XLOOKUP(F28,Sheet47!F:F,Sheet47!G:G),\"\")","v":5},{"$f":"_xlfn.XLOOKUP(F28,Pricing!A:A,Pricing!B:B)","v":51.66},{"$f":"Summary!$L$32","v":0.5},25.83,null,20,20,20,20,20,20,120,null,516.59999999999991,516.59999999999991,516.59999999999991,516.59999999999991,516.59999999999991,516.59999999999991,3099.5999999999995]
[null,null,"Oil & Lubricants","Combi Can Fuel Spout",null,586110401,null,null,{"$f":"IFERROR(_xlfn.XLOOKUP(F29,Sheet47!F:F,Sheet47!G:G),\"\")","v":1},{"$f":"_xlfn.XLOOKUP(F29,Pricing!A:A,Pricing!B:B)","v":20.83},{"$f":"Summary!$L$32","v":0.5},10.414999999999999,null,10,null,null,null,null,null,10,null,104.14999999999999,0,0,0,0,0,104.14999999999999]
[null,null,"Oil & Lubricants","Eco Grease 100g",null,503976401,null,574206202,{"$f":"IFERROR(_xlfn.XLOOKUP(F30,Sheet47!F:F,Sheet47!G:G),\"\")","v":1},{"$f":"_xlfn.XLOOKUP(F30,Pricing!A:A,Pricing!B:B)","v":9.16},{"$f":"Summary!$L$32","v":0.5},4.58,null,null,null,null,null,null,null,0,null,0,0,0,0,0,0,0]
[null,null,"Oil & Lubricants","Fuel Can 5L",null,537639101,null,null,{"$f":"IFERROR(_xlfn.XLOOKUP(F31,Sheet47!F:F,Sheet47!G:G),\"\")","v":1},{"$f":"_xlfn.XLOOKUP(F31,Pricing!A:A,Pricing!B:B)","v":8.33},{"$f":"Summary!$L$32","v":0.5},4.165,null,null,null,null,null,null,null,0,null,0,0,0,0,0,0,0]
[null,null,"Oil & Lubricants","GREASE 100gr Bearing",null,535560001,null,503801701,{"$f":"IFERROR(_xlfn.XLOOKUP(F32,Sheet47!F:F,Sheet47!G:G),\"\")","v":1},{"$f":"_xlfn.XLOOKUP(F32,Pricing!A:A,Pricing!B:B)","v":8.16},{"$f":"Summary!$L$32","v":0.5},4.08,null,null,null,null,null,null,null,0,null,0,0,0,0,0,0,0]
[null,null,"Oil & Lubricants","Grease Gun Tool 0.6L For Lubricating Nose Wheel On Bars",null,595011701,null,501911401,{"$f":"IFERROR(_xlfn.XLOOKUP(F33,Sheet47!F:F,Sheet47!G:G),\"\")","v":1},{"$f":"_xlfn.XLOOKUP(F33,Pricing!A:A,Pricing!B:B)","v":14.99},{"$f":"Summary!$L$32","v":0.5},7.4950000000000001,null,null,null,null,null,null,null,0,null,0,0,0,0,0,0,0]
[null,null,"Oil & Lubricants","Grease- Hedge Trimmer Gear ",null,588814801,null,531009205,{"$f":"IFERROR(_xlfn.XLOOKUP(F34,Sheet47!F:F,Sheet47!G:G),\"\")","v":1},{"$f":"_xlfn.XLOOKUP(F34,Pricing!A:A,Pricing!B:B)","v":23.33},{"$f":"Summary!$L$32","v":0.5},11.664999999999999,null,null,null,null,null,null,null,0,null,0,0,0,0,0,0,0]
[null,null,"Oil & Lubricants","Hedge Trimmer Spray",null,538629201,null,544142101,{"$f":"IFERROR(_xlfn.XLOOKUP(F35,Sheet47!F:F,Sheet47!G:G),\"\")","v":1},{"$f":"_xlfn.XLOOKUP(F35,Pricing!A:A,Pricing!B:B)","v":13.33},{"$f":"Summary!$L$32","v":0.5},6.665,null,null,null,null,null,null,null,0,null,0,0,0,0,0,0,0]
[null,null,"Oil & Lubricants","HP Two Stroke Engine Oil 0.1 Ltr",null,587808501,null,544015805,{"$f":"IFERROR(_xlfn.XLOOKUP(F36,Sheet47!F:F,Sheet47!G:G),\"\")","v":25},{"$f":"_xlfn.XLOOKUP(F36,Pricing!A:A,Pricing!B:B)","v":2.74},{"$f":"Summary!$L$32","v":0.5},1.37,null,null,null,null,null,null,null,0,null,0,0,0,0,0,0,0]
[null,null,"Oil & Lubricants","HP Two Stroke Engine Oil 1 Ltr",null,587808511,null,544015809,{"$f":"IFERROR(_xlfn.XLOOKUP(F37,Sheet47!F:F,Sheet47!G:G),\"\")","v":12},{"$f":"_xlfn.XLOOKUP(F37,Pricing!A:A,Pricing!B:B)","v":12.49},{"$f":"Summary!$L$32","v":0.5},6.2450000000000001,null,null,null,null,null,null,null,0,null,0,0,0,0,0,0,0]
[null,null,"Oil & Lubricants","HP Two Stroke Engine Oil 20 Ltr",null,587808530,null,581614801,{"$f":"IFERROR(_xlfn.XLOOKUP(F38,Sheet47!F:F,Sheet47!G:G),\"\")","v":1},{"$f":"_xlfn.XLOOKUP(F38,Pricing!A:A,Pricing!B:B)","v":165.83},{"$f":"Summary!$L$32","v":0.5},82.915000000000006,null,null,null,null,null,null,null,0,null,0,0,0,0,0,0,0]
[null,null,"Oil & Lubricants","HP Two Stroke Engine Oil 208 Ltr",null,587808540,null,531009276,{"$f":"IFERROR(_xlfn.XLOOKUP(F39,Sheet47!F:F,Sheet47!G:G),\"\")","v":1},{"$f":"_xlfn.XLOOKUP(F39,Pricing!A:A,Pricing!B:B)","v":1640.83},{"$f":"Summary!$L$32","v":0.5},820.41499999999996,null,null,null,null,null,null,null,0,null,0,0,0,0,0,0,0]
[null,null,"Oil & Lubricants","HP Two Stroke Engine Oil 4 Ltr",null,587808520,null,544015810,{"$f":"IFERROR(_xlfn.XLOOKUP(F40,Sheet47!F:F,Sheet47!G:G),\"\")","v":1},{"$f":"_xlfn.XLOOKUP(F40,Pricing!A:A,Pricing!B:B)","v":37.49},{"$f":"Summary!$L$32","v":0.5},18.745000000000001,null,null,null,null,null,null,null,0,null,0,0,0,0,0,0,0]
[null,null,"Oil & Lubricants","LS+ Two Stroke Engine Oil 0.1 Ltr",null,578180302,null,544450101,{"$f":"IFERROR(_xlfn.XLOOKUP(F41,Sheet47!F:F,Sheet47!G:G),\"\")","v":50},{"$f":"_xlfn.XLOOKUP(F41,Pricing!A:A,Pricing!B:B)","v":3.33},{"$f":"Summary!$L$32","v":0.5},1.665,null,null,null,null,null,null,null,0,null,0,0,0,0,0,0,0]
[null,null,"Oil & Lubricants","LS+ Two Stroke Engine Oil 1 Ltr",null,578037002,null,544450102,{"$f":"IFERROR(_xlfn.XLOOKUP(F42,Sheet47!F:F,Sheet47!G:G),\"\")","v":12},{"$f":"_xlfn.XLOOKUP(F42,Pricing!A:A,Pricing!B:B)","v":14.99},{"$f":"Summary!$L$32","v":0.5},7.4950000000000001,null,12,null,12,null,null,null,24,null,89.94,0,89.94,0,0,0,179.88]
[null,null,"Oil & Lubricants","LS+ Two Stroke Engine Oil 10 Ltr",null,578180002,null,544450103,{"$f":"IFERROR(_xlfn.XLOOKUP(F43,Sheet47!F:F,Sheet47!G:G),\"\")","v":1},{"$f":"_xlfn.XLOOKUP(F43,Pricing!A:A,Pricing!B:B)","v":104.99},{"$f":"Summary!$L$32","v":0.5},52.494999999999997,null,null,null,null,null,null,null,0,null,0,0,0,0,0,0,0]
[null,null,"Oil & Lubricants","LS+ Two Stroke Engine Oil 208 Ltr",null,578180402,null,531005076,{"$f":"IFERROR(_xlfn.XLOOKUP(F44,Sheet47!F:F,Sheet47!G:G),\"\")","v":1},{"$f":"_xlfn.XLOOKUP(F44,Pricing!A:A,Pricing!B:B)","v":2065.83},{"$f":"Summary!$L$32","v":0.5},1032.915,null,null,null,null,null,null,null,0,null,0,0,0,0,0,0,0]
[null,null,"Oil & Lubricants","LS+ Two Stroke Engine Oil 4 Ltr",null,578037102,null,544450104,{"$f":"IFERROR(_xlfn.XLOOKUP(F45,Sheet47!F:F,Sheet47!G:G),\"\")","v":3},{"$f":"_xlfn.XLOOKUP(F45,Pricing!A:A,Pricing!B:B)","v":45.83},{"$f":"Summary!$L$32","v":0.5},22.914999999999999,null,null,null,null,null,null,null,0,null,0,0,0,0,0,0,0]
[null,null,"Oil & Lubricants","Mineral Chain Oil 200 Ltr",null,579396301,null,null,{"$f":"IFERROR(_xlfn.XLOOKUP(F46,Sheet47!F:F,Sheet47!G:G),\"\")","v":1},{"$f":"_xlfn.XLOOKUP(F46,Pricing!A:A,Pricing!B:B)","v":749.17},{"$f":"Summary!$L$32","v":0.5},374.58499999999998,null,null,null,null,null,null,null,0,null,0,0,0,0,0,0,0]
[null,null,"Oil & Lubricants","Multi Purpose Grease 225g",null,502512701,null,null,{"$f":"IFERROR(_xlfn.XLOOKUP(F47,Sheet47!F:F,Sheet47!G:G),\"\")","v":100},{"$f":"_xlfn.XLOOKUP(F47,Pricing!A:A,Pricing!B:B)","v":9.99},{"$f":"Summary!$L$32","v":0.5},4.9950000000000001,null,null,null,null,null,null,null,0,null,0,0,0,0,0,0,0]
[null,null,"Oil & Lubricants","Multi Spray 400ml",null,538629401,null,null,{"$f":"IFERROR(_xlfn.XLOOKUP(F48,Sheet47!F:F,Sheet47!G:G),\"\")","v":1},{"$f":"_xlfn.XLOOKUP(F48,Pricing!A:A,Pricing!B:B)","v":7.49},{"$f":"Summary!$L$32","v":0.5},3.7450000000000001,null,null,null,null,null,null,null,0,null,0,0,0,0,0,0,0]
[null,null,"Oil & Lubricants","Oil Spout",null,586110501,null,null,{"$f":"IFERROR(_xlfn.XLOOKUP(F49,Sheet47!F:F,Sheet47!G:G),\"\")","v":1},{"$f":"_xlfn.XLOOKUP(F49,Pricing!A:A,Pricing!B:B)","v":20.83},{"$f":"Summary!$L$32","v":0.5},10.414999999999999,null,null,10,null,null,null,null,10,null,0,104.14999999999999,0,0,0,0,104.14999999999999]
[null,null,"Oil & Lubricants","Power Filler Spout - Fits 5Ltr Cans",null,582066601,null,null,{"$f":"IFERROR(_xlfn.XLOOKUP(F50,Sheet47!F:F,Sheet47!G:G),\"\")","v":4},{"$f":"_xlfn.XLOOKUP(F50,Pricing!A:A,Pricing!B:B)","v":19.989999999999998},{"$f":"Summary!$L$32","v":0.5},9.9949999999999992,null,null,null,null,null,null,null,0,null,0,0,0,0,0,0,0]
[null,null,"Oil & Lubricants","Winter Oil Spout",null,586110701,null,null,{"$f":"IFERROR(_xlfn.XLOOKUP(F51,Sheet47!F:F,Sheet47!G:G),\"\")","v":1},{"$f":"_xlfn.XLOOKUP(F51,Pricing!A:A,Pricing!B:B)","v":11.66},{"$f":"Summary!$L$32","v":0.5},5.83,null,null,null,null,null,null,null,0,null,0,0,0,0,0,0,0]
[null,null,"Oil & Lubricants","XP Two Stroke Engine Oil 0.1 Ltr",null,578180303,null,null,{"$f":"IFERROR(_xlfn.XLOOKUP(F52,Sheet47!F:F,Sheet47!G:G),\"\")","v":50},{"$f":"_xlfn.XLOOKUP(F52,Pricing!A:A,Pricing!B:B)","v":4.08},{"$f":"Summary!$L$32","v":0.5},2.04,null,null,null,null,null,null,null,0,null,0,0,0,0,0,0,0]
[null,null,"Oil & Lubricants","XP Two Stroke Engine Oil 1 Ltr",null,578037003,null,null,{"$f":"IFERROR(_xlfn.XLOOKUP(F53,Sheet47!F:F,Sheet47!G:G),\"\")","v":12},{"$f":"_xlfn.XLOOKUP(F53,Pricing!A:A,Pricing!B:B)","v":23.33},{"$f":"Summary!$L$32","v":0.5},11.664999999999999,null,12,null,12,null,12,null,36,null,139.97999999999999,0,139.97999999999999,0,139.97999999999999,0,419.93999999999994]
[null,null,"Oil & Lubricants","XP Two Stroke Engine Oil 10 Ltr",null,578180003,null,null,{"$f":"IFERROR(_xlfn.XLOOKUP(F54,Sheet47!F:F,Sheet47!G:G),\"\")","v":1},{"$f":"_xlfn.XLOOKUP(F54,Pricing!A:A,Pricing!B:B)","v":182.5},{"$f":"Summary!$L$32","v":0.5},91.25,null,null,null,null,null,null,null,0,null,0,0,0,0,0,0,0]
[null,null,"Oil & Lubricants","XP Two Stroke Engine Oil 208 Ltr",null,578180403,null,null,{"$f":"IFERROR(_xlfn.XLOOKUP(F55,Sheet47!F:F,Sheet47!G:G),\"\")","v":1},{"$f":"_xlfn.XLOOKUP(F55,Pricing!A:A,Pricing!B:B)","v":3665.83},{"$f":"Summary!$L$32","v":0.5},1832.915,null,null,null,null,null,null,null,0,null,0,0,0,0,0,0,0]
[null,null,"Oil & Lubricants","XP Two Stroke Engine Oil 4 Ltr",null,578037103,null,null,{"$f":"IFERROR(_xlfn.XLOOKUP(F56,Sheet47!F:F,Sheet47!G:G),\"\")","v":3},{"$f":"_xlfn.XLOOKUP(F56,Pricing!A:A,Pricing!B:B)","v":76.66},{"$f":"Summary!$L$32","v":0.5},38.33,null,null,null,3,null,null,null,3,null,0,0,114.99,0,0,0,114.99]

{"sheet":"Tool Belts","index":32,"n_rows":28,"n_cols":28,"rows_kept":28,"cut":false,"hidden":false,"merged":[[22,3,22,4],[23,3,23,4],[10,21,10,27],[1,4,1,8],[2,4,2,8],[3,4,3,8],[4,4,4,8],[5,4,5,8],[6,4,6,8],[7,4,7,8],[8,3,8,5],[8,6,8,8],[10,2,10,11],[10,13,10,19],[24,3,24,4],[25,3,25,4],[11,3,11,4],[12,1,27,1],[12,3,12,4],[13,3,13,4],[14,3,14,4],[15,3,15,4],[16,3,16,4],[17,3,17,4],[18,3,18,4],[19,3,19,4],[26,3,26,4],[27,3,27,4],[20,3,20,4],[21,3,21,4]]}
[]
[null,null,null,"Dealer Name",{"$f":"Summary!F2","v":"Winchester Garden Machinery Ltd - Arb"}]
[null,null,null,"Dealer Postcode",{"$f":"Summary!F3","v":"SO21 1HF"}]
[null,null,null,"Account Number",{"$f":"Summary!F4","v":28400505}]
[null,null,null,"Order Number",{"$f":"Summary!F5","v":0}]
[null,null,null,"Project Code",{"$f":"Summary!F6","v":"PSO2024"}]
[null,null,null,"Order Date",{"$f":"Summary!F7","v":"00:00:00"}]
[null,null,null,"ABM",{"$f":"Summary!F8","v":"Francesca_Bosley"}]
[null,null,null,"PSO minimum 40% of turnover = Additional 2% terms",null,null,{"$f":"Summary!I9","v":0.02}]
[]
[null,null,"Tool Belts",null,null,null,null,null,null,null,null,null,null,"Order Quantity",null,null,null,null,null,null,null,"Order Value"]
[null,null,"Product Type","Model Description",null,"PNC","Size","Replaces","Box Qty","List Price 2024 Ex VAT","Discount","Dealer Net Price",null,"January","February","March","April","May","June","Total Qty",null,"January","February","March","April","May","June","Total Value"]
[null,"Accessories","Tool Belt","Measure Holder",null,593839101,null,null,{"$f":"IFERROR(_xlfn.XLOOKUP(F13,Sheet47!F:F,Sheet47!G:G),\"\")","v":1},{"$f":"_xlfn.XLOOKUP(F13,Pricing!A:A,Pricing!B:B)","v":10.83},{"$f":"Summary!$L$32","v":0.5},{"$f":"J13-(J13*K13)","v":5.415},null,null,null,null,null,null,null,{"$f":"SUM(N13:S13)","v":0},null,{"$f":"L13*N13","v":0},{"$f":"L13*O13","v":0},{"$f":"L13*P13","v":0},{"$f":"$L13*Q13","v":0},{"$f":"$L13*R13","v":0},0,{"$f":"SUM(V13:AA13)","v":0}]
[null,null,"Tool Belt","Spray Can Holder",null,593839501,null,null,{"$f":"IFERROR(_xlfn.XLOOKUP(F14,Sheet47!F:F,Sheet47!G:G),\"\")","v":1},{"$f":"_xlfn.XLOOKUP(F14,Pricing!A:A,Pricing!B:B)","v":13.33},{"$f":"Summary!$L$32","v":0.5},{"$f":"J14-(J14*K14)","v":6.665},null,null,null,null,null,null,null,{"$f":"SUM(N14:S14)","v":0},null,{"$f":"L14*N14","v":0},{"$f":"L14*O14","v":0},{"$f":"L14*P14","v":0},{"$f":"L14*Q14","v":0},{"$f":"$L14*R14","v":0},{"$f":"$L14*S14","v":0},{"$f":"SUM(V14:AA14)","v":0}]
[null,null,"Tool Belt","Tool Holder",null,593839701,null,null,{"$f":"IFERROR(_xlfn.XLOOKUP(F15,Sheet47!F:F,Sheet47!G:G),\"\")","v":1},{"$f":"_xlfn.XLOOKUP(F15,Pricing!A:A,Pricing!B:B)","v":13.33},{"$f":"Summary!$L$32","v":0.5},6.665,null,null,null,null,null,null,null,{"$f":"SUM(N15:S15)","v":0},null,0,0,0,0,0,0,0]
[null,null,"Tool Belt","Carrier Hook",null,593839601,null,null,{"$f":"IFERROR(_xlfn.XLOOKUP(F16,Sheet47!F:F,Sheet47!G:G),\"\")","v":1},{"$f":"_xlfn.XLOOKUP(F16,Pricing!A:A,Pricing!B:B)","v":13.33},{"$f":"Summary!$L$32","v":0.5},6.665,null,null,null,null,null,null,null,0,null,0,0,0,0,0,0,0]
[null,null,"Tool Belt","Combi Holster",null,593838301,null,null,{"$f":"IFERROR(_xlfn.XLOOKUP(F17,Sheet47!F:F,Sheet47!G:G),\"\")","v":1},{"$f":"_xlfn.XLOOKUP(F17,Pricing!A:A,Pricing!B:B)","v":30.83},{"$f":"Summary!$L$32","v":0.5},15.414999999999999,null,null,null,null,null,null,null,0,null,0,0,0,0,0,0,0]
[null,null,"Tool Belt","Holster Combi W. Wedge Pocket",null,593838302,null,null,{"$f":"IFERROR(_xlfn.XLOOKUP(F18,Sheet47!F:F,Sheet47!G:G),\"\")","v":1},{"$f":"_xlfn.XLOOKUP(F18,Pricing!A:A,Pricing!B:B)","v":30.83},{"$f":"Summary!$L$32","v":0.5},15.414999999999999,null,null,null,null,null,null,null,0,null,0,0,0,0,0,0,0]
[null,null,"Tool Belt","File & Combi Tool Holder",null,593839401,null,null,{"$f":"IFERROR(_xlfn.XLOOKUP(F19,Sheet47!F:F,Sheet47!G:G),\"\")","v":1},{"$f":"_xlfn.XLOOKUP(F19,Pricing!A:A,Pricing!B:B)","v":30.83},{"$f":"Summary!$L$32","v":0.5},15.414999999999999,null,null,null,null,null,null,null,0,null,0,0,0,0,0,0,0]
[null,null,"Tool Belt","Wedge Pocket",null,593838801,null,null,{"$f":"IFERROR(_xlfn.XLOOKUP(F20,Sheet47!F:F,Sheet47!G:G),\"\")","v":1},{"$f":"_xlfn.XLOOKUP(F20,Pricing!A:A,Pricing!B:B)","v":34.159999999999997},{"$f":"Summary!$L$32","v":0.5},17.079999999999998,null,null,null,null,null,null,null,0,null,0,0,0,0,0,0,0]
[null,null,"Tool Belt","Universal Bag",null,593839201,null,null,{"$f":"IFERROR(_xlfn.XLOOKUP(F21,Sheet47!F:F,Sheet47!G:G),\"\")","v":1},{"$f":"_xlfn.XLOOKUP(F21,Pricing!A:A,Pricing!B:B)","v":34.99},{"$f":"Summary!$L$32","v":0.5},17.495000000000001,null,null,null,null,null,null,null,0,null,0,0,0,0,0,0,0]
[null,null,"Tool Belt","Harness - Fits New Forest Tool Belt",null,593837601,null,null,{"$f":"IFERROR(_xlfn.XLOOKUP(F22,Sheet47!F:F,Sheet47!G:G),\"\")","v":1},{"$f":"_xlfn.XLOOKUP(F22,Pricing!A:A,Pricing!B:B)","v":39.99},{"$f":"Summary!$L$32","v":0.5},19.995000000000001,null,null,null,null,null,null,null,0,null,0,0,0,0,0,0,0]
[null,null,"Tool Belt","Tool Belt Flexi (Belt Only)",null,593837401,null,null,{"$f":"IFERROR(_xlfn.XLOOKUP(F23,Sheet47!F:F,Sheet47!G:G),\"\")","v":1},{"$f":"_xlfn.XLOOKUP(F23,Pricing!A:A,Pricing!B:B)","v":83.33},{"$f":"Summary!$L$32","v":0.5},41.664999999999999,null,null,null,null,null,null,null,0,null,0,0,0,0,0,0,0]
[null,null,"Tool Belt","\nTool Belt Flexi Kit - Carrier Kit",null,593837203,null,null,{"$f":"IFERROR(_xlfn.XLOOKUP(F24,Sheet47!F:F,Sheet47!G:G),\"\")","v":1},{"$f":"_xlfn.XLOOKUP(F24,Pricing!A:A,Pricing!B:B)","v":207.5},{"$f":"Summary!$L$32","v":0.5},103.75,null,null,null,null,null,null,null,0,null,0,0,0,0,0,0,0]
[null,null,"Tool Belt","\nTool Belt Flexi Kit - Wedge Kit",null,593837202,null,null,{"$f":"IFERROR(_xlfn.XLOOKUP(F25,Sheet47!F:F,Sheet47!G:G),\"\")","v":1},{"$f":"_xlfn.XLOOKUP(F25,Pricing!A:A,Pricing!B:B)","v":207.5},{"$f":"Summary!$L$32","v":0.5},103.75,null,2,2,2,2,null,6,14,null,207.5,207.5,207.5,207.5,0,622.5,1452.5]
[null,null,"Tool Belt","\nTool Belt Flexi Kit - Combi Kit",null,593837201,null,null,{"$f":"IFERROR(_xlfn.XLOOKUP(F26,Sheet47!F:F,Sheet47!G:G),\"\")","v":1},{"$f":"_xlfn.XLOOKUP(F26,Pricing!A:A,Pricing!B:B)","v":207.5},{"$f":"Summary!$L$32","v":0.5},103.75,null,2,null,2,null,null,2,6,null,207.5,0,207.5,0,0,207.5,622.5]
[null,null,"Tool Belt","Graphite Crayons 12pcs (For Crayon Holder Flexi)",null,593975501,null,null,{"$f":"IFERROR(_xlfn.XLOOKUP(F27,Sheet47!F:F,Sheet47!G:G),\"\")","v":1},{"$f":"_xlfn.XLOOKUP(F27,Pricing!A:A,Pricing!B:B)","v":16.66},{"$f":"Summary!$L$32","v":0.5},{"$f":"J27-(J27*K27)","v":8.33},null,null,null,null,null,null,null,0,null,0,0,0,0,0,0,0]
[null,null,"Tool Belt","\nCrayon Holder With Reel ",null,593839801,null,null,{"$f":"IFERROR(_xlfn.XLOOKUP(F28,Sheet47!F:F,Sheet47!G:G),\"\")","v":1},{"$f":"_xlfn.XLOOKUP(F28,Pricing!A:A,Pricing!B:B)","v":44.99},{"$f":"Summary!$L$32","v":0.5},{"$f":"J28-(J28*K28)","v":22.495000000000001},null,null,null,null,null,null,null,0,null,0,0,0,0,0,0,0]

{"sheet":"Footwear","index":33,"n_rows":81,"n_cols":28,"rows_kept":81,"cut":false,"hidden":false,"merged":[[10,21,10,27],[1,4,1,8],[2,4,2,8],[3,4,3,8],[4,4,4,8],[5,4,5,8],[6,4,6,8],[7,4,7,8],[8,3,8,5],[8,6,8,8],[10,2,10,11],[10,13,10,19],[80,3,80,4],[11,3,11,4],[12,1,80,1],[12,3,12,4],[73,3,73,4],[74,3,74,4],[75,3,75,4],[76,3,76,4],[77,3,77,4],[78,3,78,4],[79,3,79,4],[24,3,24,4],[14,3,14,4],[13,3,13,4],[15,3,15,4],[16,3,16,4],[17,3,17,4],[18,3,18,4],[19,3,19,4],[20,3,20,4],[21,3,21,4],[22,3,22,4],[23,3,23,4],[36,3,36,4],[25,3,25,4],[26,3,26,4],[27,3,27,4],[28,3,28,4],[29,3,29,4],[30,3,30,4],[31,3,31,4],[32,3,32,4],[33,3,33,4],[34,3,34,4],[35,3,35,4],[48,3,48,4],[37,3,37,4],[38,3,38,4],[39,3,39,4],[40,3,40,4],[41,3,41,4],[42,3,42,4],[43,3,43,4],[44,3,44,4],[45,3,45,4],[46,3,46,4],[47,3,47,4],[60,3,60,4],[49,3,49,4],[50,3,50,4],[51,3,51,4],[52,3,52,4],[53,3,53,4],[54,3,54,4],[55,3,55,4],[56,3,56,4],[57,3,57,4],[58,3,58,4],[59,3,59,4],[72,3,72,4],[61,3,61,4],[62,3,62,4],[63,3,63,4],[64,3,64,4],[65,3,65,4],[66,3,66,4],[67,3,67,4],[68,3,68,4],[69,3,69,4],[70,3,70,4],[71,3,71,4]]}
[]
[null,null,null,"Dealer Name",{"$f":"Summary!F2","v":"Winchester Garden Machinery Ltd - Arb"}]
[null,null,null,"Dealer Postcode",{"$f":"Summary!F3","v":"SO21 1HF"}]
[null,null,null,"Account Number",{"$f":"Summary!F4","v":28400505}]
[null,null,null,"Order Number",{"$f":"Summary!F5","v":0}]
[null,null,null,"Project Code",{"$f":"Summary!F6","v":"PSO2024"}]
[null,null,null,"Order Date",{"$f":"Summary!F7","v":"00:00:00"}]
[null,null,null,"ABM",{"$f":"Summary!F8","v":"Francesca_Bosley"}]
[null,null,null,"PSO minimum 40% of turnover = Additional 2% terms",null,null,{"$f":"Summary!I9","v":0.02}]
[]
[null,null,"Footwear",null,null,null,null,null,null,null,null,null,null,"Order Quantity",null,null,null,null,null,null,null,"Order Value"]
[null,null,"Product Type","Model Description",null,"PNC","Size","Replaces","Box Qty","List Price 2024 Ex VAT","Discount","Dealer Net Price",null,"January","February","March","April","May","June","Total Qty",null,"January","February","March","April","May","June","Total Value"]
[null,"PPE","Footwear","Protective Leather Boots Technical Garden 36",null,597659536,null,596306436,{"$f":"IFERROR(_xlfn.XLOOKUP(F13,Sheet47!F:F,Sheet47!G:G),\"\")","v":4},{"$f":"_xlfn.XLOOKUP(F13,Pricing!A:A,Pricing!B:B)","v":219},{"$f":"Summary!$L$32","v":0.5},{"$f":"J13-(J13*K13)","v":109.5},null,null,null,null,null,null,null,{"$f":"SUM(N13:S13)","v":0},null,{"$f":"L13*N13","v":0},{"$f":"L13*O13","v":0},{"$f":"L13*P13","v":0},{"$f":"$L13*Q13","v":0},{"$f":"$L13*R13","v":0},{"$f":"$L13*S13","v":0},{"$f":"SUM(V13:AA13)","v":0}]
[null,null,"Footwear","Protective Leather Boots Technical Garden 37",null,597659537,null,null,{"$f":"IFERROR(_xlfn.XLOOKUP(F14,Sheet47!F:F,Sheet47!G:G),\"\")","v":4},{"$f":"_xlfn.XLOOKUP(F14,Pricing!A:A,Pricing!B:B)","v":219},{"$f":"Summary!$L$32","v":0.5},{"$f":"J14-(J14*K14)","v":109.5},null,null,null,null,null,null,null,{"$f":"SUM(N14:S14)","v":0},null,{"$f":"L14*N14","v":0},{"$f":"L14*O14","v":0},{"$f":"L14*P14","v":0},{"$f":"L14*Q14","v":0},{"$f":"$L14*R14","v":0},{"$f":"$L14*S14","v":0},{"$f":"SUM(V14:AA14)","v":0}]
[null,null,"Footwear","Protective Leather Boots Technical Garden 38",null,597659538,null,null,{"$f":"IFERROR(_xlfn.XLOOKUP(F15,Sheet47!F:F,Sheet47!G:G),\"\")","v":4},{"$f":"_xlfn.XLOOKUP(F15,Pricing!A:A,Pricing!B:B)","v":219},{"$f":"Summary!$L$32","v":0.5},109.5,null,null,null,null,null,null,null,{"$f":"SUM(N15:S15)","v":0},null,0,0,0,0,0,0,0]
[null,null,"Footwear","Protective Leather Boots Technical Garden 39",null,597659539,null,null,{"$f":"IFERROR(_xlfn.XLOOKUP(F16,Sheet47!F:F,Sheet47!G:G),\"\")","v":4},{"$f":"_xlfn.XLOOKUP(F16,Pricing!A:A,Pricing!B:B)","v":219},{"$f":"Summary!$L$32","v":0.5},109.5,null,null,null,null,null,null,null,0,null,0,0,0,0,0,0,0]
[null,null,"Footwear","Protective Leather Boots Technical Garden 40",null,597659540,null,null,{"$f":"IFERROR(_xlfn.XLOOKUP(F17,Sheet47!F:F,Sheet47!G:G),\"\")","v":4},{"$f":"_xlfn.XLOOKUP(F17,Pricing!A:A,Pricing!B:B)","v":219},{"$f":"Summary!$L$32","v":0.5},109.5,null,null,null,null,null,null,null,0,null,0,0,0,0,0,0,0]
[null,null,"Footwear","Protective Leather Boots Technical Garden 41",null,597659541,null,null,{"$f":"IFERROR(_xlfn.XLOOKUP(F18,Sheet47!F:F,Sheet47!G:G),\"\")","v":4},{"$f":"_xlfn.XLOOKUP(F18,Pricing!A:A,Pricing!B:B)","v":219},{"$f":"Summary!$L$32","v":0.5},109.5,null,null,null,null,null,null,null,0,null,0,0,0,0,0,0,0]
[null,null,"Footwear","Protective Leather Boots Technical Garden 42",null,597659542,null,null,{"$f":"IFERROR(_xlfn.XLOOKUP(F19,Sheet47!F:F,Sheet47!G:G),\"\")","v":4},{"$f":"_xlfn.XLOOKUP(F19,Pricing!A:A,Pricing!B:B)","v":219},{"$f":"Summary!$L$32","v":0.5},109.5,null,null,null,null,null,null,null,0,null,0,0,0,0,0,0,0]
[null,null,"Footwear","Protective Leather Boots Technical Garden 43",null,597659543,null,null,{"$f":"IFERROR(_xlfn.XLOOKUP(F20,Sheet47!F:F,Sheet47!G:G),\"\")","v":4},{"$f":"_xlfn.XLOOKUP(F20,Pricing!A:A,Pricing!B:B)","v":219},{"$f":"Summary!$L$32","v":0.5},109.5,null,null,null,null,null,null,null,0,null,0,0,0,0,0,0,0]
[null,null,"Footwear","Protective Leather Boots Technical Garden 44",null,597659544,null,null,{"$f":"IFERROR(_xlfn.XLOOKUP(F21,Sheet47!F:F,Sheet47!G:G),\"\")","v":4},{"$f":"_xlfn.XLOOKUP(F21,Pricing!A:A,Pricing!B:B)","v":219},{"$f":"Summary!$L$32","v":0.5},109.5,null,null,null,null,null,null,null,0,null,0,0,0,0,0,0,0]
[null,null,"Footwear","Protective Leather Boots Technical Garden 45",null,597659545,null,null,{"$f":"IFERROR(_xlfn.XLOOKUP(F22,Sheet47!F:F,Sheet47!G:G),\"\")","v":4},{"$f":"_xlfn.XLOOKUP(F22,Pricing!A:A,Pricing!B:B)","v":219},{"$f":"Summary!$L$32","v":0.5},109.5,null,null,null,null,null,null,null,0,null,0,0,0,0,0,0,0]
[null,null,"Footwear","Protective Leather Boots Technical Garden 46",null,597659546,null,null,{"$f":"IFERROR(_xlfn.XLOOKUP(F23,Sheet47!F:F,Sheet47!G:G),\"\")","v":4},{"$f":"_xlfn.XLOOKUP(F23,Pricing!A:A,Pricing!B:B)","v":219},{"$f":"Summary!$L$32","v":0.5},109.5,null,null,null,null,null,null,null,0,null,0,0,0,0,0,0,0]
[null,null,"Footwear","Protective Leather Boots Technical Garden 47",null,597659547,null,null,{"$f":"IFERROR(_xlfn.XLOOKUP(F24,Sheet47!F:F,Sheet47!G:G),\"\")","v":4},{"$f":"_xlfn.XLOOKUP(F24,Pricing!A:A,Pricing!B:B)","v":219},{"$f":"Summary!$L$32","v":0.5},109.5,null,null,null,null,null,null,null,0,null,0,0,0,0,0,0,0]
[null,null,"Footwear","Classic Chainsaw Leather Boots C20 39 (20 M/S)",null,597659439,null,595003039,{"$f":"IFERROR(_xlfn.XLOOKUP(F25,Sheet47!F:F,Sheet47!G:G),\"\")","v":5},{"$f":"_xlfn.XLOOKUP(F25,Pricing!A:A,Pricing!B:B)","v":219},{"$f":"Summary!$L$32","v":0.5},109.5,null,null,null,null,null,null,null,0,null,0,0,0,0,0,0,0]
[null,null,"Footwear","Classic Chainsaw Leather Boots C20 40 (20 M/S)",null,597659440,null,595003040,{"$f":"IFERROR(_xlfn.XLOOKUP(F26,Sheet47!F:F,Sheet47!G:G),\"\")","v":5},{"$f":"_xlfn.XLOOKUP(F26,Pricing!A:A,Pricing!B:B)","v":219},{"$f":"Summary!$L$32","v":0.5},109.5,null,null,null,null,null,null,null,0,null,0,0,0,0,0,0,0]
[null,null,"Footwear","Classic Chainsaw Leather Boots C20 41 (20 M/S)",null,597659441,null,595003041,{"$f":"IFERROR(_xlfn.XLOOKUP(F27,Sheet47!F:F,Sheet47!G:G),\"\")","v":5},{"$f":"_xlfn.XLOOKUP(F27,Pricing!A:A,Pricing!B:B)","v":219},{"$f":"Summary!$L$32","v":0.5},109.5,null,null,null,null,null,null,null,0,null,0,0,0,0,0,0,0]
[null,null,"Footwear","Classic Chainsaw Leather Boots C20 42 (20 M/S)",null,597659442,null,595003042,{"$f":"IFERROR(_xlfn.XLOOKUP(F28,Sheet47!F:F,Sheet47!G:G),\"\")","v":5},{"$f":"_xlfn.XLOOKUP(F28,Pricing!A:A,Pricing!B:B)","v":219},{"$f":"Summary!$L$32","v":0.5},109.5,null,null,null,null,null,null,null,0,null,0,0,0,0,0,0,0]
[null,null,"Footwear","Classic Chainsaw Leather Boots C20 43 (20 M/S)",null,597659443,null,595003043,{"$f":"IFERROR(_xlfn.XLOOKUP(F29,Sheet47!F:F,Sheet47!G:G),\"\")","v":5},{"$f":"_xlfn.XLOOKUP(F29,Pricing!A:A,Pricing!B:B)","v":219},{"$f":"Summary!$L$32","v":0.5},109.5,null,null,null,null,null,null,null,0,null,0,0,0,0,0,0,0]
[null,null,"Footwear","Classic Chainsaw Leather Boots C20 44 (20 M/S)",null,597659444,null,595003044,{"$f":"IFERROR(_xlfn.XLOOKUP(F30,Sheet47!F:F,Sheet47!G:G),\"\")","v":5},{"$f":"_xlfn.XLOOKUP(F30,Pricing!A:A,Pricing!B:B)","v":219},{"$f":"Summary!$L$32","v":0.5},109.5,null,null,null,null,null,null,null,0,null,0,0,0,0,0,0,0]
[null,null,"Footwear","Classic Chainsaw Leather Boots C20 45 (20 M/S)",null,597659445,null,595003045,{"$f":"IFERROR(_xlfn.XLOOKUP(F31,Sheet47!F:F,Sheet47!G:G),\"\")","v":5},{"$f":"_xlfn.XLOOKUP(F31,Pricing!A:A,Pricing!B:B)","v":219},{"$f":"Summary!$L$32","v":0.5},109.5,null,null,null,null,null,null,null,0,null,0,0,0,0,0,0,0]
[null,null,"Footwear","Classic Chainsaw Leather Boots C20 46 (20 M/S)",null,597659446,null,595003046,{"$f":"IFERROR(_xlfn.XLOOKUP(F32,Sheet47!F:F,Sheet47!G:G),\"\")","v":5},{"$f":"_xlfn.XLOOKUP(F32,Pricing!A:A,Pricing!B:B)","v":219},{"$f":"Summary!$L$32","v":0.5},109.5,null,null,null,null,null,null,null,0,null,0,0,0,0,0,0,0]
[null,null,"Footwear","Classic Chainsaw Leather Boots C20 47 (20 M/S)",null,597659447,null,595003047,{"$f":"IFERROR(_xlfn.XLOOKUP(F33,Sheet47!F:F,Sheet47!G:G),\"\")","v":5},{"$f":"_xlfn.XLOOKUP(F33,Pricing!A:A,Pricing!B:B)","v":219},{"$f":"Summary!$L$32","v":0.5},109.5,null,null,null,null,null,null,null,0,null,0,0,0,0,0,0,0]
[null,null,"Footwear","Technical Chainsaw Leather Boots T24 36 Class 2 (24 M/S)",null,597659236,null,595001936,{"$f":"IFERROR(_xlfn.XLOOKUP(F34,Sheet47!F:F,Sheet47!G:G),\"\")","v":5},{"$f":"_xlfn.XLOOKUP(F34,Pricing!A:A,Pricing!B:B)","v":319},{"$f":"Summary!$L$32","v":0.5},159.5,null,null,null,null,null,null,null,0,null,0,0,0,0,0,0,0]
[null,null,"Footwear","Technical Chainsaw Leather Boots T24 37 Class 2 (24 M/S)",null,597659237,null,595001937,{"$f":"IFERROR(_xlfn.XLOOKUP(F35,Sheet47!F:F,Sheet47!G:G),\"\")","v":5},{"$f":"_xlfn.XLOOKUP(F35,Pricing!A:A,Pricing!B:B)","v":319},{"$f":"Summary!$L$32","v":0.5},159.5,null,null,null,null,null,null,null,0,null,0,0,0,0,0,0,0]
[null,null,"Footwear","Technical Chainsaw Leather Boots T24 38 Class 2 (24 M/S)",null,597659238,null,595001938,{"$f":"IFERROR(_xlfn.XLOOKUP(F36,Sheet47!F:F,Sheet47!G:G),\"\")","v":5},{"$f":"_xlfn.XLOOKUP(F36,Pricing!A:A,Pricing!B:B)","v":319},{"$f":"Summary!$L$32","v":0.5},159.5,null,null,null,null,null,null,null,0,null,0,0,0,0,0,0,0]
[null,null,"Footwear","Technical Chainsaw Leather Boots T24 39 Class 2 (24 M/S)",null,597659239,null,595001939,{"$f":"IFERROR(_xlfn.XLOOKUP(F37,Sheet47!F:F,Sheet47!G:G),\"\")","v":5},{"$f":"_xlfn.XLOOKUP(F37,Pricing!A:A,Pricing!B:B)","v":319},{"$f":"Summary!$L$32","v":0.5},159.5,null,null,null,null,null,null,null,0,null,0,0,0,0,0,0,0]
[null,null,"Footwear","Technical Chainsaw Leather Boots T24 40 Class 2 (24 M/S)",null,597659240,null,595001940,{"$f":"IFERROR(_xlfn.XLOOKUP(F38,Sheet47!F:F,Sheet47!G:G),\"\")","v":5},{"$f":"_xlfn.XLOOKUP(F38,Pricing!A:A,Pricing!B:B)","v":319},{"$f":"Summary!$L$32","v":0.5},159.5,null,null,null,null,null,null,null,0,null,0,0,0,0,0,0,0]
[null,null,"Footwear","Technical Chainsaw Leather Boots T24 41 Class 2 (24 M/S)",null,597659241,null,595001941,{"$f":"IFERROR(_xlfn.XLOOKUP(F39,Sheet47!F:F,Sheet47!G:G),\"\")","v":5},{"$f":"_xlfn.XLOOKUP(F39,Pricing!A:A,Pricing!B:B)","v":319},{"$f":"Summary!$L$32","v":0.5},159.5,null,2,null,2,null,null,null,4,null,319,0,319,0,0,0,638]
[null,null,"Footwear","Technical Chainsaw Leather Boots T24 42 Class 2 (24 M/S)",null,597659242,null,595001942,{"$f":"IFERROR(_xlfn.XLOOKUP(F40,Sheet47!F:F,Sheet47!G:G),\"\")","v":5},{"$f":"_xlfn.XLOOKUP(F40,Pricing!A:A,Pricing!B:B)","v":319},{"$f":"Summary!$L$32","v":0.5},159.5,null,2,null,2,2,null,null,6,null,319,0,319,319,0,0,957]
[null,null,"Footwear","Technical Chainsaw Leather Boots T24 43 Class 2 (24 M/S)",null,597659243,null,595001943,{"$f":"IFERROR(_xlfn.XLOOKUP(F41,Sheet47!F:F,Sheet47!G:G),\"\")","v":5},{"$f":"_xlfn.XLOOKUP(F41,Pricing!A:A,Pricing!B:B)","v":319},{"$f":"Summary!$L$32","v":0.5},159.5,null,3,null,2,2,null,null,7,null,478.5,0,319,319,0,0,1116.5]
[null,null,"Footwear","Technical Chainsaw Leather Boots T24 44 Class 2 (24 M/S)",null,597659244,null,595001944,{"$f":"IFERROR(_xlfn.XLOOKUP(F42,Sheet47!F:F,Sheet47!G:G),\"\")","v":5},{"$f":"_xlfn.XLOOKUP(F42,Pricing!A:A,Pricing!B:B)","v":319},{"$f":"Summary!$L$32","v":0.5},159.5,null,3,null,2,2,null,null,7,null,478.5,0,319,319,0,0,1116.5]
[null,null,"Footwear","Technical Chainsaw Leather Boots T24 45 Class 2 (24 M/S)",null,597659245,null,595001945,{"$f":"IFERROR(_xlfn.XLOOKUP(F43,Sheet47!F:F,Sheet47!G:G),\"\")","v":5},{"$f":"_xlfn.XLOOKUP(F43,Pricing!A:A,Pricing!B:B)","v":319},{"$f":"Summary!$L$32","v":0.5},159.5,null,3,null,2,2,null,null,7,null,478.5,0,319,319,0,0,1116.5]
[null,null,"Footwear","Technical Chainsaw Leather Boots T24 46 Class 2 (24 M/S)",null,597659246,null,595001946,{"$f":"IFERROR(_xlfn.XLOOKUP(F44,Sheet47!F:F,Sheet47!G:G),\"\")","v":5},{"$f":"_xlfn.XLOOKUP(F44,Pricing!A:A,Pricing!B:B)","v":319},{"$f":"Summary!$L$32","v":0.5},159.5,null,2,null,2,1,null,null,5,null,319,0,319,159.5,0,0,797.5]
[null,null,"Footwear","Technical Chainsaw Leather Boots T24 47 Class 2 (24 M/S)",null,597659247,null,595001947,{"$f":"IFERROR(_xlfn.XLOOKUP(F45,Sheet47!F:F,Sheet47!G:G),\"\")","v":5},{"$f":"_xlfn.XLOOKUP(F45,Pricing!A:A,Pricing!B:B)","v":319},{"$f":"Summary!$L$32","v":0.5},159.5,null,null,null,null,1,null,null,1,null,0,0,0,159.5,0,0,159.5]
[null,null,"Footwear","Technical Chainsaw Leather Boots T24 48 Class 2 (24 M/S)",null,597659248,null,595001948,{"$f":"IFERROR(_xlfn.XLOOKUP(F46,Sheet47!F:F,Sheet47!G:G),\"\")","v":5},{"$f":"_xlfn.XLOOKUP(F46,Pricing!A:A,Pricing!B:B)","v":319},{"$f":"Summary!$L$32","v":0.5},159.5,null,null,null,null,null,null,null,0,null,0,0,0,0,0,0,0]
[null,null,"Footwear","Functional Chainsaw Leather Boots F24 38 Class 2 (24 M/S)",null,597659338,null,null,{"$f":"IFERROR(_xlfn.XLOOKUP(F47,Sheet47!F:F,Sheet47!G:G),\"\")","v":6},{"$f":"_xlfn.XLOOKUP(F47,Pricing!A:A,Pricing!B:B)","v":289},{"$f":"Summary!$L$32","v":0.5},144.5,null,null,null,null,null,null,null,0,null,0,0,0,0,0,0,0]
[null,null,"Footwear","Functional Chainsaw Leather Boots F24 39 Class 2 (24 M/S)",null,597659339,null,595087339,{"$f":"IFERROR(_xlfn.XLOOKUP(F48,Sheet47!F:F,Sheet47!G:G),\"\")","v":6},{"$f":"_xlfn.XLOOKUP(F48,Pricing!A:A,Pricing!B:B)","v":289},{"$f":"Summary!$L$32","v":0.5},144.5,null,null,null,null,null,null,null,0,null,0,0,0,0,0,0,0]
[null,null,"Footwear","Functional Chainsaw Leather Boots F24 40 Class 2 (24 M/S)",null,597659340,null,595087340,{"$f":"IFERROR(_xlfn.XLOOKUP(F49,Sheet47!F:F,Sheet47!G:G),\"\")","v":6},{"$f":"_xlfn.XLOOKUP(F49,Pricing!A:A,Pricing!B:B)","v":289},{"$f":"Summary!$L$32","v":0.5},144.5,null,null,null,null,null,null,null,0,null,0,0,0,0,0,0,0]
[null,null,"Footwear","Functional Chainsaw Leather Boots F24 41 Class 2 (24 M/S)",null,597659341,null,595087341,{"$f":"IFERROR(_xlfn.XLOOKUP(F50,Sheet47!F:F,Sheet47!G:G),\"\")","v":6},{"$f":"_xlfn.XLOOKUP(F50,Pricing!A:A,Pricing!B:B)","v":289},{"$f":"Summary!$L$32","v":0.5},144.5,null,null,null,null,null,null,null,0,null,0,0,0,0,0,0,0]
[null,null,"Footwear","Functional Chainsaw Leather Boots F24 42 Class 2 (24 M/S)",null,597659342,null,595087342,{"$f":"IFERROR(_xlfn.XLOOKUP(F51,Sheet47!F:F,Sheet47!G:G),\"\")","v":6},{"$f":"_xlfn.XLOOKUP(F51,Pricing!A:A,Pricing!B:B)","v":289},{"$f":"Summary!$L$32","v":0.5},144.5,null,null,null,null,null,null,null,0,null,0,0,0,0,0,0,0]
[null,null,"Footwear","Functional Chainsaw Leather Boots F24 43 Class 2 (24 M/S)",null,597659343,null,595087343,{"$f":"IFERROR(_xlfn.XLOOKUP(F52,Sheet47!F:F,Sheet47!G:G),\"\")","v":6},{"$f":"_xlfn.XLOOKUP(F52,Pricing!A:A,Pricing!B:B)","v":289},{"$f":"Summary!$L$32","v":0.5},144.5,null,null,null,null,null,null,null,0,null,0,0,0,0,0,0,0]
[null,null,"Footwear","Functional Chainsaw Leather Boots F24 44 Class 2 (24 M/S)",null,597659344,null,595087344,{"$f":"IFERROR(_xlfn.XLOOKUP(F53,Sheet47!F:F,Sheet47!G:G),\"\")","v":6},{"$f":"_xlfn.XLOOKUP(F53,Pricing!A:A,Pricing!B:B)","v":289},{"$f":"Summary!$L$32","v":0.5},144.5,null,null,null,null,null,null,null,0,null,0,0,0,0,0,0,0]
[null,null,"Footwear","Functional Chainsaw Leather Boots F24 45 Class 2 (24 M/S)",null,597659345,null,595087345,{"$f":"IFERROR(_xlfn.XLOOKUP(F54,Sheet47!F:F,Sheet47!G:G),\"\")","v":6},{"$f":"_xlfn.XLOOKUP(F54,Pricing!A:A,Pricing!B:B)","v":289},{"$f":"Summary!$L$32","v":0.5},144.5,null,null,null,null,null,null,null,0,null,0,0,0,0,0,0,0]
[null,null,"Footwear","Functional Chainsaw Leather Boots F24 46 Class 2 (24 M/S)",null,597659346,null,595087346,{"$f":"IFERROR(_xlfn.XLOOKUP(F55,Sheet47!F:F,Sheet47!G:G),\"\")","v":6},{"$f":"_xlfn.XLOOKUP(F55,Pricing!A:A,Pricing!B:B)","v":289},{"$f":"Summary!$L$32","v":0.5},144.5,null,null,null,null,null,null,null,0,null,0,0,0,0,0,0,0]
[null,null,"Footwear","Functional Chainsaw Leather Boots F24 47 Class 2 (24 M/S)",null,597659347,null,595087347,{"$f":"IFERROR(_xlfn.XLOOKUP(F56,Sheet47!F:F,Sheet47!G:G),\"\")","v":6},{"$f":"_xlfn.XLOOKUP(F56,Pricing!A:A,Pricing!B:B)","v":289},{"$f":"Summary!$L$32","v":0.5},144.5,null,null,null,null,null,null,null,0,null,0,0,0,0,0,0,0]
[null,null,"Footwear","Functional Chainsaw Rubber Boots F24 37 (24 M/S)",null,595002837,null,573955837,{"$f":"IFERROR(_xlfn.XLOOKUP(F57,Sheet47!F:F,Sheet47!G:G),\"\")","v":6},{"$f":"_xlfn.XLOOKUP(F57,Pricing!A:A,Pricing!B:B)","v":109.99},{"$f":"Summary!$L$32","v":0.5},54.994999999999997,null,null,null,null,null,null,null,0,null,0,0,0,0,0,0,0]
[null,null,"Footwear","Functional Chainsaw Rubber Boots F24 38 (24 M/S)",null,595002838,null,573955838,{"$f":"IFERROR(_xlfn.XLOOKUP(F58,Sheet47!F:F,Sheet47!G:G),\"\")","v":6},{"$f":"_xlfn.XLOOKUP(F58,Pricing!A:A,Pricing!B:B)","v":109.99},{"$f":"Summary!$L$32","v":0.5},54.994999999999997,null,null,null,null,null,null,null,0,null,0,0,0,0,0,0,0]
[null,null,"Footwear","Functional Chainsaw Rubber Boots F24 39 (24 M/S)",null,595002839,null,573955839,{"$f":"IFERROR(_xlfn.XLOOKUP(F59,Sheet47!F:F,Sheet47!G:G),\"\")","v":6},{"$f":"_xlfn.XLOOKUP(F59,Pricing!A:A,Pricing!B:B)","v":109.99},{"$f":"Summary!$L$32","v":0.5},54.994999999999997,null,null,null,null,null,null,null,0,null,0,0,0,0,0,0,0]
[null,null,"Footwear","Functional Chainsaw Rubber Boots F24 40 (24 M/S)",null,595002840,null,573955840,{"$f":"IFERROR(_xlfn.XLOOKUP(F60,Sheet47!F:F,Sheet47!G:G),\"\")","v":6},{"$f":"_xlfn.XLOOKUP(F60,Pricing!A:A,Pricing!B:B)","v":109.99},{"$f":"Summary!$L$32","v":0.5},54.994999999999997,null,null,null,null,null,null,null,0,null,0,0,0,0,0,0,0]
[null,null,"Footwear","Functional Chainsaw Rubber Boots F24 41 (24 M/S)",null,595002841,null,573955841,{"$f":"IFERROR(_xlfn.XLOOKUP(F61,Sheet47!F:F,Sheet47!G:G),\"\")","v":6},{"$f":"_xlfn.XLOOKUP(F61,Pricing!A:A,Pricing!B:B)","v":109.99},{"$f":"Summary!$L$32","v":0.5},54.994999999999997,null,null,null,null,null,null,null,0,null,0,0,0,0,0,0,0]
[null,null,"Footwear","Functional Chainsaw Rubber Boots F24 42 (24 M/S)",null,595002842,null,573955842,{"$f":"IFERROR(_xlfn.XLOOKUP(F62,Sheet47!F:F,Sheet47!G:G),\"\")","v":6},{"$f":"_xlfn.XLOOKUP(F62,Pricing!A:A,Pricing!B:B)","v":109.99},{"$f":"Summary!$L$32","v":0.5},54.994999999999997,null,null,null,null,null,null,null,0,null,0,0,0,0,0,0,0]
[null,null,"Footwear","Functional Chainsaw Rubber Boots F24 43 (24 M/S)",null,595002843,null,573955843,{"$f":"IFERROR(_xlfn.XLOOKUP(F63,Sheet47!F:F,Sheet47!G:G),\"\")","v":6},{"$f":"_xlfn.XLOOKUP(F63,Pricing!A:A,Pricing!B:B)","v":109.99},{"$f":"Summary!$L$32","v":0.5},54.994999999999997,null,null,null,null,null,null,null,0,null,0,0,0,0,0,0,0]
[null,null,"Footwear","Functional Chainsaw Rubber Boots F24 44 (24 M/S)",null,595002844,null,573955844,{"$f":"IFERROR(_xlfn.XLOOKUP(F64,Sheet47!F:F,Sheet47!G:G),\"\")","v":6},{"$f":"_xlfn.XLOOKUP(F64,Pricing!A:A,Pricing!B:B)","v":109.99},{"$f":"Summary!$L$32","v":0.5},54.994999999999997,null,null,null,null,null,null,null,0,null,0,0,0,0,0,0,0]
[null,null,"Footwear","Functional Chainsaw Rubber Boots F24 45 (24 M/S)",null,595002845,null,573955845,{"$f":"IFERROR(_xlfn.XLOOKUP(F65,Sheet47!F:F,Sheet47!G:G),\"\")","v":6},{"$f":"_xlfn.XLOOKUP(F65,Pricing!A:A,Pricing!B:B)","v":109.99},{"$f":"Summary!$L$32","v":0.5},54.994999999999997,null,null,null,null,null,null,null,0,null,0,0,0,0,0,0,0]
[null,null,"Footwear","Functional Chainsaw Rubber Boots F24 46 (24 M/S)",null,595002846,null,573955846,{"$f":"IFERROR(_xlfn.XLOOKUP(F66,Sheet47!F:F,Sheet47!G:G),\"\")","v":6},{"$f":"_xlfn.XLOOKUP(F66,Pricing!A:A,Pricing!B:B)","v":109.99},{"$f":"Summary!$L$32","v":0.5},54.994999999999997,null,null,null,null,null,null,null,0,null,0,0,0,0,0,0,0]
[null,null,"Footwear","Functional Chainsaw Rubber Boots F24 47 (24 M/S)",null,595002847,null,573955847,{"$f":"IFERROR(_xlfn.XLOOKUP(F67,Sheet47!F:F,Sheet47!G:G),\"\")","v":6},{"$f":"_xlfn.XLOOKUP(F67,Pricing!A:A,Pricing!B:B)","v":109.99},{"$f":"Summary!$L$32","v":0.5},54.994999999999997,null,null,null,null,null,null,null,0,null,0,0,0,0,0,0,0]
[null,null,"Footwear","Functional Chainsaw Rubber Boots F28 37 (28 M/S)",null,595002437,null,573955937,{"$f":"IFERROR(_xlfn.XLOOKUP(F68,Sheet47!F:F,Sheet47!G:G),\"\")","v":6},{"$f":"_xlfn.XLOOKUP(F68,Pricing!A:A,Pricing!B:B)","v":123.99},{"$f":"Summary!$L$32","v":0.5},61.994999999999997,null,null,null,null,null,null,null,0,null,0,0,0,0,0,0,0]
[null,null,"Footwear","Functional Chainsaw Rubber Boots F28 38 (28 M/S)",null,595002438,null,573955938,{"$f":"IFERROR(_xlfn.XLOOKUP(F69,Sheet47!F:F,Sheet47!G:G),\"\")","v":6},{"$f":"_xlfn.XLOOKUP(F69,Pricing!A:A,Pricing!B:B)","v":123.99},{"$f":"Summary!$L$32","v":0.5},61.994999999999997,null,null,null,null,null,null,null,0,null,0,0,0,0,0,0,0]
[null,null,"Footwear","Functional Chainsaw Rubber Boots F28 39 (28 M/S)",null,595002439,null,573955939,{"$f":"IFERROR(_xlfn.XLOOKUP(F70,Sheet47!F:F,Sheet47!G:G),\"\")","v":6},{"$f":"_xlfn.XLOOKUP(F70,Pricing!A:A,Pricing!B:B)","v":123.99},{"$f":"Summary!$L$32","v":0.5},61.994999999999997,null,null,null,null,null,null,null,0,null,0,0,0,0,0,0,0]
[null,null,"Footwear","Functional Chainsaw Rubber Boots F28 40 (28 M/S)",null,595002440,null,573955940,{"$f":"IFERROR(_xlfn.XLOOKUP(F71,Sheet47!F:F,Sheet47!G:G),\"\")","v":6},{"$f":"_xlfn.XLOOKUP(F71,Pricing!A:A,Pricing!B:B)","v":123.99},{"$f":"Summary!$L$32","v":0.5},61.994999999999997,null,null,null,null,null,null,null,0,null,0,0,0,0,0,0,0]
[null,null,"Footwear","Functional Chainsaw Rubber Boots F28 41 (28 M/S)",null,595002441,null,573955941,{"$f":"IFERROR(_xlfn.XLOOKUP(F72,Sheet47!F:F,Sheet47!G:G),\"\")","v":6},{"$f":"_xlfn.XLOOKUP(F72,Pricing!A:A,Pricing!B:B)","v":123.99},{"$f":"Summary!$L$32","v":0.5},61.994999999999997,null,null,null,null,null,null,null,0,null,0,0,0,0,0,0,0]
[null,null,"Footwear","Functional Chainsaw Rubber Boots F28 42 (28 M/S)",null,595002442,null,573955942,{"$f":"IFERROR(_xlfn.XLOOKUP(F73,Sheet47!F:F,Sheet47!G:G),\"\")","v":6},{"$f":"_xlfn.XLOOKUP(F73,Pricing!A:A,Pricing!B:B)","v":123.99},{"$f":"Summary!$L$32","v":0.5},61.994999999999997,null,null,null,null,null,null,null,0,null,0,0,0,0,0,0,0]
[null,null,"Footwear","Functional Chainsaw Rubber Boots F28 43 (28 M/S)",null,595002443,null,573955943,{"$f":"IFERROR(_xlfn.XLOOKUP(F74,Sheet47!F:F,Sheet47!G:G),\"\")","v":6},{"$f":"_xlfn.XLOOKUP(F74,Pricing!A:A,Pricing!B:B)","v":123.99},{"$f":"Summary!$L$32","v":0.5},{"$f":"J74-(J74*K74)","v":61.994999999999997},null,null,null,null,null,null,null,0,null,{"$f":"L74*N74","v":0},{"$f":"L74*O74","v":0},{"$f":"L74*P74","v":0},{"$f":"L74*Q74","v":0},0,0,0]
[null,null,"Footwear","Functional Chainsaw Rubber Boots F28 44 (28 M/S)",null,595002444,null,573955944,{"$f":"IFERROR(_xlfn.XLOOKUP(F75,Sheet47!F:F,Sheet47!G:G),\"\")","v":6},{"$f":"_xlfn.XLOOKUP(F75,Pricing!A:A,Pricing!B:B)","v":123.99},{"$f":"Summary!$L$32","v":0.5},61.994999999999997,null,null,null,null,null,null,null,0,null,0,0,0,0,0,0,0]
[null,null,"Footwear","Functional Chainsaw Rubber Boots F28 45 (28 M/S)",null,595002445,null,573955945,{"$f":"IFERROR(_xlfn.XLOOKUP(F76,Sheet47!F:F,Sheet47!G:G),\"\")","v":6},{"$f":"_xlfn.XLOOKUP(F76,Pricing!A:A,Pricing!B:B)","v":123.99},{"$f":"Summary!$L$32","v":0.5},61.994999999999997,null,null,null,null,null,null,null,0,null,0,0,0,0,0,0,0]
[null,null,"Footwear","Functional Chainsaw Rubber Boots F28 46 (28 M/S)",null,595002446,null,573955946,{"$f":"IFERROR(_xlfn.XLOOKUP(F77,Sheet47!F:F,Sheet47!G:G),\"\")","v":6},{"$f":"_xlfn.XLOOKUP(F77,Pricing!A:A,Pricing!B:B)","v":123.99},{"$f":"Summary!$L$32","v":0.5},61.994999999999997,null,null,null,null,null,null,null,0,null,0,0,0,0,0,0,0]
[null,null,"Footwear","Functional Chainsaw Rubber Boots F28 47 (28 M/S)",null,595002447,null,573955947,{"$f":"IFERROR(_xlfn.XLOOKUP(F78,Sheet47!F:F,Sheet47!G:G),\"\")","v":6},{"$f":"_xlfn.XLOOKUP(F78,Pricing!A:A,Pricing!B:B)","v":123.99},{"$f":"Summary!$L$32","v":0.5},61.994999999999997,null,null,null,null,null,null,null,0,null,0,0,0,0,{"$f":"$L78*R78","v":0},{"$f":"$L78*S78","v":0},{"$f":"SUM(V78:AA78)","v":0}]
[null,null,"Footwear","Functional Chainsaw Rubber Boots F28 48 (28 M/S)",null,595002448,null,573955948,{"$f":"IFERROR(_xlfn.XLOOKUP(F79,Sheet47!F:F,Sheet47!G:G),\"\")","v":6},{"$f":"_xlfn.XLOOKUP(F79,Pricing!A:A,Pricing!B:B)","v":123.99},{"$f":"Summary!$L$32","v":0.5},61.994999999999997,null,null,null,null,null,null,null,{"$f":"SUM(N79:S79)","v":0},null,0,0,0,0,0,0,0]
[null,null,"Footwear","Functional Chainsaw Rubber Boots F28 49 (28 M/S)",null,595002449,null,573955949,{"$f":"IFERROR(_xlfn.XLOOKUP(F80,Sheet47!F:F,Sheet47!G:G),\"\")","v":6},{"$f":"_xlfn.XLOOKUP(F80,Pricing!A:A,Pricing!B:B)","v":123.99},{"$f":"Summary!$L$32","v":0.5},61.994999999999997,null,null,null,null,null,null,null,0,null,0,0,0,0,0,0,0]
[null,null,"Footwear","Leather Balm for boots 200ml ",null,590652201,null,null,{"$f":"IFERROR(_xlfn.XLOOKUP(F81,Sheet47!F:F,Sheet47!G:G),\"\")","v":12},{"$f":"_xlfn.XLOOKUP(F81,Pricing!A:A,Pricing!B:B)","v":11.99},{"$f":"Summary!$L$32","v":0.5},5.9950000000000001,null,null,null,null,null,null,null,0,null,0,0,0,0,0,0,0]

{"sheet":"Head Protection","index":34,"n_rows":41,"n_cols":28,"rows_kept":41,"cut":false,"hidden":false,"merged":[[20,3,20,4],[1,4,1,8],[2,4,2,8],[3,4,3,8],[4,4,4,8],[5,4,5,8],[6,4,6,8],[7,4,7,8],[8,3,8,5],[8,6,8,8],[10,2,10,11],[22,3,22,4],[23,3,23,4],[24,3,24,4],[29,3,29,4],[10,21,10,27],[10,13,10,19],[21,3,21,4],[11,3,11,4],[12,3,12,4],[13,3,13,4],[14,3,14,4],[15,3,15,4],[16,3,16,4],[17,3,17,4],[18,3,18,4],[19,3,19,4],[12,1,40,1],[30,3,30,4],[31,3,31,4],[32,3,32,4],[40,3,40,4],[34,3,34,4],[35,3,35,4],[36,3,36,4],[37,3,37,4],[38,3,38,4],[39,3,39,4],[25,3,25,4],[26,3,26,4],[27,3,27,4],[28,3,28,4],[33,3,33,4]]}
[]
[null,null,null,"Dealer Name",{"$f":"Summary!F2","v":"Winchester Garden Machinery Ltd - Arb"}]
[null,null,null,"Dealer Postcode",{"$f":"Summary!F3","v":"SO21 1HF"}]
[null,null,null,"Account Number",{"$f":"Summary!F4","v":28400505}]
[null,null,null,"Order Number",{"$f":"Summary!F5","v":0}]
[null,null,null,"Project Code",{"$f":"Summary!F6","v":"PSO2024"}]
[null,null,null,"Order Date",{"$f":"Summary!F7","v":"00:00:00"}]
[null,null,null,"ABM",{"$f":"Summary!F8","v":"Francesca_Bosley"}]
[null,null,null,"PSO minimum 40% of turnover = Additional 2% terms",null,null,{"$f":"Summary!I9","v":0.02}]
[]
[null,null,"Head Protection",null,null,null,null,null,null,null,null,null,null,"Order Quantity",null,null,null,null,null,null,null,"Order Value"]
[null,null,"Product Type","Model Description",null,"PNC","Size","Replaces","Box Qty","List Price 2024 Ex VAT","Discount","Dealer Net Price",null,"January","February","March","April","May","June","Total Qty",null,"January","February","March","April","May","June","Total Value"]
[null,"PPE","Helmets","Arborist Helmet Spire Vent",null,597681801,null,578092301,{"$f":"IFERROR(_xlfn.XLOOKUP(F13,Sheet47!F:F,Sheet47!G:G),\"\")","v":18},{"$f":"_xlfn.XLOOKUP(F13,Pricing!A:A,Pricing!B:B)","v":134.99},{"$f":"Summary!$L$32","v":0.5},{"$f":"J13-(J13*K13)","v":67.495000000000005},null,null,null,null,null,null,null,{"$f":"SUM(N13:S13)","v":0},null,{"$f":"L13*N13","v":0},{"$f":"L13*O13","v":0},{"$f":"L13*P13","v":0},{"$f":"L13*Q13","v":0},{"$f":"$L13*R13","v":0},0,{"$f":"SUM(V13:AA13)","v":0}]
[null,null,"Helmets","Technical Forest Helmet",null,585058401,null,null,{"$f":"IFERROR(_xlfn.XLOOKUP(F14,Sheet47!F:F,Sheet47!G:G),\"\")","v":1},{"$f":"_xlfn.XLOOKUP(F14,Pricing!A:A,Pricing!B:B)","v":140.99},{"$f":"Summary!$L$32","v":0.5},{"$f":"J14-(J14*K14)","v":70.495000000000005},null,20,10,10,10,10,10,70,null,{"$f":"L14*N14","v":1409.9},{"$f":"L14*O14","v":704.95},{"$f":"L14*P14","v":704.95},{"$f":"L14*Q14","v":704.95},704.95,704.95,{"$f":"SUM(V14:AA14)","v":4934.6499999999996}]
[null,null,"Helmets","Classic Forest Helmet",null,580754301,null,null,{"$f":"IFERROR(_xlfn.XLOOKUP(F15,Sheet47!F:F,Sheet47!G:G),\"\")","v":1},{"$f":"_xlfn.XLOOKUP(F15,Pricing!A:A,Pricing!B:B)","v":51.99},{"$f":"Summary!$L$32","v":0.5},{"$f":"J15-(J15*K15)","v":25.995000000000001},null,30,20,20,20,20,20,130,null,{"$f":"L15*N15","v":779.85},{"$f":"L15*O15","v":519.9},{"$f":"L15*P15","v":519.9},{"$f":"L15*Q15","v":519.9},519.9,519.9,{"$f":"SUM(V15:AA15)","v":3379.3500000000004}]
[null,null,"Helmets","Functional Forest Helmet",null,576412402,null,505615740,{"$f":"IFERROR(_xlfn.XLOOKUP(F16,Sheet47!F:F,Sheet47!G:G),\"\")","v":10},{"$f":"_xlfn.XLOOKUP(F16,Pricing!A:A,Pricing!B:B)","v":77.989999999999995},{"$f":"Summary!$L$32","v":0.5},{"$f":"J16-(J16*K16)","v":38.994999999999997},null,null,null,null,null,null,null,0,null,{"$f":"L16*N16","v":0},{"$f":"L16*O16","v":0},{"$f":"L16*P16","v":0},{"$f":"L16*Q16","v":0},0,0,{"$f":"SUM(V16:AA16)","v":0}]
[null,null,"Helmets","Functional Forest Helmet - Flourescent",null,576412401,null,505615646,{"$f":"IFERROR(_xlfn.XLOOKUP(F17,Sheet47!F:F,Sheet47!G:G),\"\")","v":10},{"$f":"_xlfn.XLOOKUP(F17,Pricing!A:A,Pricing!B:B)","v":75.989999999999995},{"$f":"Summary!$L$32","v":0.5},{"$f":"J17-(J17*K17)","v":37.994999999999997},null,null,null,null,null,null,null,0,null,{"$f":"L17*N17","v":0},{"$f":"L17*O17","v":0},{"$f":"L17*P17","v":0},{"$f":"L17*Q17","v":0},0,0,{"$f":"SUM(V17:AA17)","v":0}]
[null,null,"Head Protection","HEARING PROTECTORS Headband, X-COM Active",null,536913101,null,null,{"$f":"IFERROR(_xlfn.XLOOKUP(F18,Sheet47!F:F,Sheet47!G:G),\"\")","v":1},{"$f":"_xlfn.XLOOKUP(F18,Pricing!A:A,Pricing!B:B)","v":299.17},{"$f":"Summary!$L$32","v":0.5},{"$f":"J18-(J18*K18)","v":149.58500000000001},null,null,null,null,null,null,null,0,null,{"$f":"L18*N18","v":0},{"$f":"L18*O18","v":0},{"$f":"L18*P18","v":0},{"$f":"L18*Q18","v":0},{"$f":"$L18*R18","v":0},{"$f":"$L18*S18","v":0},{"$f":"SUM(V18:AA18)","v":0}]
[null,null,"Head Protection","HEARING PROTECTORS Helmet, X-COM Active",null,536913201,null,null,{"$f":"IFERROR(_xlfn.XLOOKUP(F19,Sheet47!F:F,Sheet47!G:G),\"\")","v":1},{"$f":"_xlfn.XLOOKUP(F19,Pricing!A:A,Pricing!B:B)","v":299.17},{"$f":"Summary!$L$32","v":0.5},149.58500000000001,null,null,null,null,null,null,null,{"$f":"SUM(N19:S19)","v":0},null,0,0,0,0,0,0,0]
[null,null,"Head Protection","HEARING PROTECTORS Headband, X-SYNC",null,536913601,null,null,{"$f":"IFERROR(_xlfn.XLOOKUP(F20,Sheet47!F:F,Sheet47!G:G),\"\")","v":1},{"$f":"_xlfn.XLOOKUP(F20,Pricing!A:A,Pricing!B:B)","v":182.5},{"$f":"Summary!$L$32","v":0.5},91.25,null,null,null,null,null,null,null,0,null,0,0,0,0,0,0,0]
[null,null,"Head Protection","HEARING PROTECTORS Helmet, X-SYNC",null,536913901,null,null,{"$f":"IFERROR(_xlfn.XLOOKUP(F21,Sheet47!F:F,Sheet47!G:G),\"\")","v":1},{"$f":"_xlfn.XLOOKUP(F21,Pricing!A:A,Pricing!B:B)","v":182.5},{"$f":"Summary!$L$32","v":0.5},91.25,null,null,null,null,null,null,null,0,null,0,0,0,0,0,0,0]
[null,null,"Head Protection","Metal Mesh Visor",null,599675001,null,505665321,{"$f":"IFERROR(_xlfn.XLOOKUP(F22,Sheet47!F:F,Sheet47!G:G),\"\")","v":1},{"$f":"_xlfn.XLOOKUP(F22,Pricing!A:A,Pricing!B:B)","v":13.33},{"$f":"Summary!$L$32","v":0.5},6.665,null,null,null,null,null,null,null,0,null,0,0,0,0,0,0,0]
[null,null,"Head Protection","Nylon Mesh Visor",null,599675101,null,505665319,{"$f":"IFERROR(_xlfn.XLOOKUP(F23,Sheet47!F:F,Sheet47!G:G),\"\")","v":1},{"$f":"_xlfn.XLOOKUP(F23,Pricing!A:A,Pricing!B:B)","v":13.33},{"$f":"Summary!$L$32","v":0.5},6.665,null,null,null,null,null,null,null,0,null,0,0,0,0,0,0,0]
[null,null,"Head Protection","Visor Smoke for Spire Vent Arborist Helmet",null,598862302,null,null,{"$f":"IFERROR(_xlfn.XLOOKUP(F24,Sheet47!F:F,Sheet47!G:G),\"\")","v":36},{"$f":"_xlfn.XLOOKUP(F24,Pricing!A:A,Pricing!B:B)","v":62.49},{"$f":"Summary!$L$32","v":0.5},31.245000000000001,null,null,null,null,null,null,null,0,null,0,0,0,0,0,0,0]
[null,null,"Head Protection","Visor Mirror for Spire Vent Arborist Helmet",null,598862303,null,null,{"$f":"IFERROR(_xlfn.XLOOKUP(F25,Sheet47!F:F,Sheet47!G:G),\"\")","v":36},{"$f":"_xlfn.XLOOKUP(F25,Pricing!A:A,Pricing!B:B)","v":70.83},{"$f":"Summary!$L$32","v":0.5},35.414999999999999,null,null,null,null,null,null,null,0,null,0,0,0,0,0,0,0]
[null,null,"Head Protection","Visor Clear for Spire Vent Arborist Helmet",null,598862301,null,null,{"$f":"IFERROR(_xlfn.XLOOKUP(F26,Sheet47!F:F,Sheet47!G:G),\"\")","v":36},{"$f":"_xlfn.XLOOKUP(F26,Pricing!A:A,Pricing!B:B)","v":54.16},{"$f":"Summary!$L$32","v":0.5},27.08,null,null,null,null,null,null,null,0,null,0,0,0,0,0,0,0]
[null,null,"Head Protection","Hearing Protection With Mesh Visor And Cover",null,598750101,null,505665358,{"$f":"IFERROR(_xlfn.XLOOKUP(F27,Sheet47!F:F,Sheet47!G:G),\"\")","v":1},{"$f":"_xlfn.XLOOKUP(F27,Pricing!A:A,Pricing!B:B)","v":45.83},{"$f":"Summary!$L$32","v":0.5},22.914999999999999,null,null,null,null,null,null,null,0,null,0,0,0,0,0,0,0]
[null,null,"Head Protection","HEARING PROTECTORS FM Radio Headband",null,578274903,null,578274901,{"$f":"IFERROR(_xlfn.XLOOKUP(F28,Sheet47!F:F,Sheet47!G:G),\"\")","v":1},{"$f":"_xlfn.XLOOKUP(F28,Pricing!A:A,Pricing!B:B)","v":121.66},{"$f":"Summary!$L$32","v":0.5},60.83,null,null,null,null,null,null,null,0,null,0,0,0,0,0,0,0]
[null,null,"Head Protection","HEARING PROTECTORS FM Radio Helmet",null,578274904,null,578274902,{"$f":"IFERROR(_xlfn.XLOOKUP(F29,Sheet47!F:F,Sheet47!G:G),\"\")","v":1},{"$f":"_xlfn.XLOOKUP(F29,Pricing!A:A,Pricing!B:B)","v":121.66},{"$f":"Summary!$L$32","v":0.5},60.83,null,null,null,null,null,null,null,0,null,0,0,0,0,0,0,0]
[null,null,"Head Protection","Ultravision Visor",null,574613501,null,null,{"$f":"IFERROR(_xlfn.XLOOKUP(F30,Sheet47!F:F,Sheet47!G:G),\"\")","v":1},{"$f":"_xlfn.XLOOKUP(F30,Pricing!A:A,Pricing!B:B)","v":23.33},{"$f":"Summary!$L$32","v":0.5},11.664999999999999,null,6,null,6,null,null,6,18,null,69.989999999999995,0,69.989999999999995,0,0,69.989999999999995,209.96999999999997]
[null,null,"Head Protection","Gardener Hearing Protection With Perspex Visor",null,505665360,null,505695340,{"$f":"IFERROR(_xlfn.XLOOKUP(F31,Sheet47!F:F,Sheet47!G:G),\"\")","v":1},{"$f":"_xlfn.XLOOKUP(F31,Pricing!A:A,Pricing!B:B)","v":29.99},{"$f":"Summary!$L$32","v":0.5},14.994999999999999,null,null,null,null,null,null,null,0,null,0,0,0,0,0,0,0]
[null,null,"Head Protection","Hearing Protection With Perspex Visor And Cover",null,505665348,null,505665340,{"$f":"IFERROR(_xlfn.XLOOKUP(F32,Sheet47!F:F,Sheet47!G:G),\"\")","v":1},{"$f":"_xlfn.XLOOKUP(F32,Pricing!A:A,Pricing!B:B)","v":45.83},{"$f":"Summary!$L$32","v":0.5},22.914999999999999,null,4,null,4,null,4,null,12,null,91.66,0,91.66,0,91.66,0,274.98]
[null,null,"Head Protection","Gardener Hearing Protection (Pack Of 10)",null,505699012,null,null,{"$f":"IFERROR(_xlfn.XLOOKUP(F33,Sheet47!F:F,Sheet47!G:G),\"\")","v":1},{"$f":"_xlfn.XLOOKUP(F33,Pricing!A:A,Pricing!B:B)","v":174.17},{"$f":"Summary!$L$32","v":0.5},87.084999999999994,null,null,null,null,null,null,null,0,null,0,0,0,0,0,0,0]
[null,null,"Head Protection","Hearing Protection With Headband",null,505665304,null,504980111,{"$f":"IFERROR(_xlfn.XLOOKUP(F34,Sheet47!F:F,Sheet47!G:G),\"\")","v":1},{"$f":"_xlfn.XLOOKUP(F34,Pricing!A:A,Pricing!B:B)","v":30.83},{"$f":"Summary!$L$32","v":0.5},{"$f":"J34-(J34*K34)","v":15.414999999999999},null,null,null,null,null,null,null,0,null,{"$f":"L34*N34","v":0},{"$f":"L34*O34","v":0},{"$f":"L34*P34","v":0},{"$f":"L34*Q34","v":0},0,0,0]
[null,null,"Head Protection","Protective Glasses - Clear",null,544963801,null,505414645,{"$f":"IFERROR(_xlfn.XLOOKUP(F35,Sheet47!F:F,Sheet47!G:G),\"\")","v":5},{"$f":"_xlfn.XLOOKUP(F35,Pricing!A:A,Pricing!B:B)","v":10.83},{"$f":"Summary!$L$32","v":0.5},5.415,null,null,null,null,null,null,null,0,null,0,0,0,0,0,0,0]
[null,null,"Head Protection","Protective Glasses - Sun ",null,544963802,null,null,{"$f":"IFERROR(_xlfn.XLOOKUP(F36,Sheet47!F:F,Sheet47!G:G),\"\")","v":5},{"$f":"_xlfn.XLOOKUP(F36,Pricing!A:A,Pricing!B:B)","v":12.49},{"$f":"Summary!$L$32","v":0.5},6.2450000000000001,null,null,null,null,null,null,null,0,null,0,0,0,0,0,0,0]
[null,null,"Head Protection","Protective Glasses - Clear X",null,544963701,null,504987042,{"$f":"IFERROR(_xlfn.XLOOKUP(F37,Sheet47!F:F,Sheet47!G:G),\"\")","v":5},{"$f":"_xlfn.XLOOKUP(F37,Pricing!A:A,Pricing!B:B)","v":14.16},{"$f":"Summary!$L$32","v":0.5},7.08,null,null,null,null,null,null,null,0,null,0,0,0,0,0,0,0]
[null,null,"Head Protection","Protective Goggles",null,544963901,null,504987047,{"$f":"IFERROR(_xlfn.XLOOKUP(F38,Sheet47!F:F,Sheet47!G:G),\"\")","v":5},{"$f":"_xlfn.XLOOKUP(F38,Pricing!A:A,Pricing!B:B)","v":21.66},{"$f":"Summary!$L$32","v":0.5},10.83,null,null,null,null,null,null,null,0,null,0,0,0,0,0,0,0]
[null,null,"Head Protection","Protective Glasses - Sun X",null,544963703,null,null,{"$f":"IFERROR(_xlfn.XLOOKUP(F39,Sheet47!F:F,Sheet47!G:G),\"\")","v":5},{"$f":"_xlfn.XLOOKUP(F39,Pricing!A:A,Pricing!B:B)","v":16.66},{"$f":"Summary!$L$32","v":0.5},8.33,null,null,null,null,null,null,null,0,null,0,0,0,0,0,0,0]
[null,null,"Head Protection","Protective Glasses - Yellow X",null,544963702,null,null,{"$f":"IFERROR(_xlfn.XLOOKUP(F40,Sheet47!F:F,Sheet47!G:G),\"\")","v":5},{"$f":"_xlfn.XLOOKUP(F40,Pricing!A:A,Pricing!B:B)","v":16.66},{"$f":"Summary!$L$32","v":0.5},8.33,null,null,null,null,null,null,null,0,null,0,0,0,0,0,0,0]
[null,null,"Head Protection","Hearing Protection - Common Helmet Set",null,505665325,null,505665301,{"$f":"IFERROR(_xlfn.XLOOKUP(F41,Sheet47!F:F,Sheet47!G:G),\"\")","v":1},{"$f":"_xlfn.XLOOKUP(F41,Pricing!A:A,Pricing!B:B)","v":28.33},{"$f":"Summary!$L$32","v":0.5},14.164999999999999,null,null,null,null,null,null,null,0,null,0,0,0,0,0,0,0]

{"sheet":"Trousers","index":35,"n_rows":107,"n_cols":28,"rows_kept":107,"cut":false,"hidden":false,"merged":[[102,3,102,4],[103,3,103,4],[105,3,105,4],[106,3,106,4],[99,3,99,4],[100,3,100,4],[96,3,96,4],[97,3,97,4],[98,3,98,4],[91,3,91,4],[92,3,92,4],[93,3,93,4],[94,3,94,4],[95,3,95,4],[101,3,101,4],[86,3,86,4],[87,3,87,4],[88,3,88,4],[89,3,89,4],[90,3,90,4],[81,3,81,4],[82,3,82,4],[83,3,83,4],[84,3,84,4],[85,3,85,4],[76,3,76,4],[77,3,77,4],[78,3,78,4],[79,3,79,4],[80,3,80,4],[71,3,71,4],[72,3,72,4],[73,3,73,4],[74,3,74,4],[75,3,75,4],[66,3,66,4],[67,3,67,4],[68,3,68,4],[69,3,69,4],[70,3,70,4],[61,3,61,4],[62,3,62,4],[63,3,63,4],[64,3,64,4],[65,3,65,4],[56,3,56,4],[57,3,57,4],[58,3,58,4],[59,3,59,4],[60,3,60,4],[51,3,51,4],[52,3,52,4],[53,3,53,4],[54,3,54,4],[55,3,55,4],[46,3,46,4],[47,3,47,4],[48,3,48,4],[49,3,49,4],[50,3,50,4],[41,3,41,4],[42,3,42,4],[43,3,43,4],[44,3,44,4],[45,3,45,4],[25,3,25,4],[36,3,36,4],[37,3,37,4],[38,3,38,4],[39,3,39,4],[40,3,40,4],[31,3,31,4],[32,3,32,4],[33,3,33,4],[34,3,34,4],[35,3,35,4],[10,13,10,19],[10,21,10,27],[1,4,1,8],[2,4,2,8],[3,4,3,8],[4,4,4,8],[5,4,5,8],[6,4,6,8],[11,3,11,4],[12,1,106,1],[7,4,7,8],[8,3,8,5],[8,6,8,8],[10,2,10,11],[104,3,104,4],[13,3,13,4],[12,3,12,4],[14,3,14,4],[15,3,15,4],[16,3,16,4],[17,3,17,4],[18,3,18,4],[19,3,19,4],[20,3,20,4],[26,3,26,4],[27,3,27,4],[28,3,28,4],[29,3,29,4],[30,3,30,4],[21,3,21,4],[22,3,22,4],[23,3,23,4],[24,3,24,4]]}
[]
[null,null,null,"Dealer Name",{"$f":"Summary!F2","v":"Winchester Garden Machinery Ltd - Arb"}]
[null,null,null,"Dealer Postcode",{"$f":"Summary!F3","v":"SO21 1HF"}]
[null,null,null,"Account Number",{"$f":"Summary!F4","v":28400505}]
[null,null,null,"Order Number",{"$f":"Summary!F5","v":0}]
[null,null,null,"Project Code",{"$f":"Summary!F6","v":"PSO2024"}]
[null,null,null,"Order Date",{"$f":"Summary!F7","v":"00:00:00"}]
[null,null,null,"ABM",{"$f":"Summary!F8","v":"Francesca_Bosley"}]
[null,null,null,"PSO minimum 40% of turnover = Additional 2% terms",null,null,{"$f":"Summary!I9","v":0.02}]
[]
[null,null,"Trousers",null,null,null,null,null,null,null,null,null,null,"Order Quantity",null,null,null,null,null,null,null,"Order Value"]
[null,null,"Product Type","Model Description",null,"PNC","Size","Replaces","Box Qty","List Price 2024 Ex VAT","Discount","Dealer Net Price",null,"January","February","March","April","May","June","Total Qty",null,"January","February","March","April","May","June","Total Value"]
[null,"PPE","Trousers","Classic Chainsaw Trousers Waist 20A 44",null,529518944,null,595001444,{"$f":"IFERROR(_xlfn.XLOOKUP(F13,Sheet47!F:F,Sheet47!G:G),\"\")","v":1},{"$f":"_xlfn.XLOOKUP(F13,Pricing!A:A,Pricing!B:B)","v":99.16},{"$f":"Summary!$L$32","v":0.5},{"$f":"J13-(J13*K13)","v":49.58},null,null,null,null,null,null,null,{"$f":"SUM(N13:S13)","v":0},null,{"$f":"L13*N13","v":0},{"$f":"L13*O13","v":0},{"$f":"L13*P13","v":0},{"$f":"$L13*Q13","v":0},{"$f":"$L13*R13","v":0},0,{"$f":"SUM(V13:AA13)","v":0}]
[null,null,"Trousers","Classic Chainsaw Trousers Waist 20A 46",null,529518946,null,595001446,{"$f":"IFERROR(_xlfn.XLOOKUP(F14,Sheet47!F:F,Sheet47!G:G),\"\")","v":1},{"$f":"_xlfn.XLOOKUP(F14,Pricing!A:A,Pricing!B:B)","v":99.16},{"$f":"Summary!$L$32","v":0.5},{"$f":"J14-(J14*K14)","v":49.58},null,4,null,null,4,null,null,{"$f":"SUM(N14:S14)","v":8},null,{"$f":"L14*N14","v":198.32},{"$f":"L14*O14","v":0},{"$f":"L14*P14","v":0},{"$f":"L14*Q14","v":198.32},{"$f":"$L14*R14","v":0},{"$f":"$L14*S14","v":0},{"$f":"SUM(V14:AA14)","v":396.64}]
[null,null,"Trousers","Classic Chainsaw Trousers Waist 20A 48",null,529518948,null,595001448,{"$f":"IFERROR(_xlfn.XLOOKUP(F15,Sheet47!F:F,Sheet47!G:G),\"\")","v":1},{"$f":"_xlfn.XLOOKUP(F15,Pricing!A:A,Pricing!B:B)","v":99.16},{"$f":"Summary!$L$32","v":0.5},49.58,null,4,null,4,null,4,null,{"$f":"SUM(N15:S15)","v":12},null,198.32,0,198.32,0,198.32,0,594.96]
[null,null,"Trousers","Classic Chainsaw Trousers Waist 20A 50",null,529518950,null,595001450,{"$f":"IFERROR(_xlfn.XLOOKUP(F16,Sheet47!F:F,Sheet47!G:G),\"\")","v":1},{"$f":"_xlfn.XLOOKUP(F16,Pricing!A:A,Pricing!B:B)","v":99.16},{"$f":"Summary!$L$32","v":0.5},49.58,null,4,null,4,null,4,null,12,null,198.32,0,198.32,0,198.32,0,594.96]
[null,null,"Trousers","Classic Chainsaw Trousers Waist 20A 52",null,529518952,null,595001452,{"$f":"IFERROR(_xlfn.XLOOKUP(F17,Sheet47!F:F,Sheet47!G:G),\"\")","v":1},{"$f":"_xlfn.XLOOKUP(F17,Pricing!A:A,Pricing!B:B)","v":99.16},{"$f":"Summary!$L$32","v":0.5},49.58,null,4,null,4,null,4,null,12,null,198.32,0,198.32,0,198.32,0,594.96]
[null,null,"Trousers","Classic Chainsaw Trousers Waist 20A 54",null,529518954,null,595001454,{"$f":"IFERROR(_xlfn.XLOOKUP(F18,Sheet47!F:F,Sheet47!G:G),\"\")","v":1},{"$f":"_xlfn.XLOOKUP(F18,Pricing!A:A,Pricing!B:B)","v":99.16},{"$f":"Summary!$L$32","v":0.5},49.58,null,null,null,null,null,null,null,0,null,0,0,0,0,0,0,0]
[null,null,"Trousers","Classic Chainsaw Trousers Waist 20A 56",null,529518956,null,595001456,{"$f":"IFERROR(_xlfn.XLOOKUP(F19,Sheet47!F:F,Sheet47!G:G),\"\")","v":1},{"$f":"_xlfn.XLOOKUP(F19,Pricing!A:A,Pricing!B:B)","v":99.16},{"$f":"Summary!$L$32","v":0.5},49.58,null,null,null,null,null,null,null,0,null,0,0,0,0,0,0,0]
[null,null,"Trousers","Classic Chainsaw Trousers Waist 20A 58",null,529518958,null,595001458,{"$f":"IFERROR(_xlfn.XLOOKUP(F20,Sheet47!F:F,Sheet47!G:G),\"\")","v":1},{"$f":"_xlfn.XLOOKUP(F20,Pricing!A:A,Pricing!B:B)","v":99.16},{"$f":"Summary!$L$32","v":0.5},49.58,null,null,null,null,null,null,null,0,null,0,0,0,0,0,0,0]
[null,null,"Trousers","Classic Chainsaw Trousers Waist 20A 60",null,529518960,null,595001460,{"$f":"IFERROR(_xlfn.XLOOKUP(F21,Sheet47!F:F,Sheet47!G:G),\"\")","v":1},{"$f":"_xlfn.XLOOKUP(F21,Pricing!A:A,Pricing!B:B)","v":99.16},{"$f":"Summary!$L$32","v":0.5},49.58,null,null,null,null,null,null,null,0,null,0,0,0,0,0,0,0]
[null,null,"Trousers","Classic Chainsaw Trousers Waist 20A 62",null,529518962,null,595001462,{"$f":"IFERROR(_xlfn.XLOOKUP(F22,Sheet47!F:F,Sheet47!G:G),\"\")","v":1},{"$f":"_xlfn.XLOOKUP(F22,Pricing!A:A,Pricing!B:B)","v":99.16},{"$f":"Summary!$L$32","v":0.5},49.58,null,null,null,null,null,null,null,0,null,0,0,0,0,0,0,0]
[null,null,"Trousers","Classic Chainsaw Trousers Waist 20A 64",null,529518964,null,595001464,{"$f":"IFERROR(_xlfn.XLOOKUP(F23,Sheet47!F:F,Sheet47!G:G),\"\")","v":1},{"$f":"_xlfn.XLOOKUP(F23,Pricing!A:A,Pricing!B:B)","v":99.16},{"$f":"Summary!$L$32","v":0.5},49.58,null,null,null,null,null,null,null,0,null,0,0,0,0,0,0,0]
[null,null,"Trousers","Functional Chainsaw Trousers Chaps 20A 46",null,529518646,null,596304546,{"$f":"IFERROR(_xlfn.XLOOKUP(F24,Sheet47!F:F,Sheet47!G:G),\"\")","v":5},{"$f":"_xlfn.XLOOKUP(F24,Pricing!A:A,Pricing!B:B)","v":174.17},{"$f":"Summary!$L$32","v":0.5},87.084999999999994,null,null,null,null,null,null,null,0,null,0,0,0,0,0,0,0]
[null,null,"Trousers","Functional Chainsaw Trousers Chaps 20A 48",null,529518648,null,596304548,{"$f":"IFERROR(_xlfn.XLOOKUP(F25,Sheet47!F:F,Sheet47!G:G),\"\")","v":5},{"$f":"_xlfn.XLOOKUP(F25,Pricing!A:A,Pricing!B:B)","v":174.17},{"$f":"Summary!$L$32","v":0.5},87.084999999999994,null,null,null,null,null,null,null,0,null,0,0,0,0,0,0,0]
[null,null,"Trousers","Functional Chainsaw Trousers Chaps 20A 50",null,529518650,null,596304550,{"$f":"IFERROR(_xlfn.XLOOKUP(F26,Sheet47!F:F,Sheet47!G:G),\"\")","v":5},{"$f":"_xlfn.XLOOKUP(F26,Pricing!A:A,Pricing!B:B)","v":174.17},{"$f":"Summary!$L$32","v":0.5},87.084999999999994,null,null,null,null,null,null,null,0,null,0,0,0,0,0,0,0]
[null,null,"Trousers","Functional Chainsaw Trousers Chaps 20A 52",null,529518652,null,596304552,{"$f":"IFERROR(_xlfn.XLOOKUP(F27,Sheet47!F:F,Sheet47!G:G),\"\")","v":5},{"$f":"_xlfn.XLOOKUP(F27,Pricing!A:A,Pricing!B:B)","v":174.17},{"$f":"Summary!$L$32","v":0.5},87.084999999999994,null,null,null,null,null,null,null,0,null,0,0,0,0,0,0,0]
[null,null,"Trousers","Functional Chainsaw Trousers Chaps 20A 54",null,529518654,null,596304554,{"$f":"IFERROR(_xlfn.XLOOKUP(F28,Sheet47!F:F,Sheet47!G:G),\"\")","v":5},{"$f":"_xlfn.XLOOKUP(F28,Pricing!A:A,Pricing!B:B)","v":174.17},{"$f":"Summary!$L$32","v":0.5},87.084999999999994,null,null,null,null,null,null,null,0,null,0,0,0,0,0,0,0]
[null,null,"Trousers","Functional Chainsaw Trousers Chaps 20A 56",null,529518656,null,596304556,{"$f":"IFERROR(_xlfn.XLOOKUP(F29,Sheet47!F:F,Sheet47!G:G),\"\")","v":5},{"$f":"_xlfn.XLOOKUP(F29,Pricing!A:A,Pricing!B:B)","v":174.17},{"$f":"Summary!$L$32","v":0.5},87.084999999999994,null,null,null,null,null,null,null,0,null,0,0,0,0,0,0,0]
[null,null,"Trousers","Functional Chainsaw Trousers Chaps 20A 58",null,529518658,null,596304558,{"$f":"IFERROR(_xlfn.XLOOKUP(F30,Sheet47!F:F,Sheet47!G:G),\"\")","v":5},{"$f":"_xlfn.XLOOKUP(F30,Pricing!A:A,Pricing!B:B)","v":174.17},{"$f":"Summary!$L$32","v":0.5},87.084999999999994,null,null,null,null,null,null,null,0,null,0,0,0,0,0,0,0]
[null,null,"Trousers","Functional Chainsaw Trousers Chaps 20A 60",null,529518660,null,596304560,{"$f":"IFERROR(_xlfn.XLOOKUP(F31,Sheet47!F:F,Sheet47!G:G),\"\")","v":5},{"$f":"_xlfn.XLOOKUP(F31,Pricing!A:A,Pricing!B:B)","v":174.17},{"$f":"Summary!$L$32","v":0.5},87.084999999999994,null,null,null,null,null,null,null,0,null,0,0,0,0,0,0,0]
[null,null,"Trousers","Functional Chainsaw Trousers Chaps 20A 62",null,529518662,null,596304562,{"$f":"IFERROR(_xlfn.XLOOKUP(F32,Sheet47!F:F,Sheet47!G:G),\"\")","v":5},{"$f":"_xlfn.XLOOKUP(F32,Pricing!A:A,Pricing!B:B)","v":174.17},{"$f":"Summary!$L$32","v":0.5},87.084999999999994,null,null,null,null,null,null,null,0,null,0,0,0,0,0,0,0]
[null,null,"Trousers","Functional Chainsaw Trousers Waist 20A 46",null,529518546,null,595000846,{"$f":"IFERROR(_xlfn.XLOOKUP(F33,Sheet47!F:F,Sheet47!G:G),\"\")","v":5},{"$f":"_xlfn.XLOOKUP(F33,Pricing!A:A,Pricing!B:B)","v":156.66},{"$f":"Summary!$L$32","v":0.5},78.33,null,null,null,null,null,null,null,0,null,0,0,0,0,0,0,0]
[null,null,"Trousers","Functional Chainsaw Trousers Waist 20A 48",null,529518548,null,595000848,{"$f":"IFERROR(_xlfn.XLOOKUP(F34,Sheet47!F:F,Sheet47!G:G),\"\")","v":5},{"$f":"_xlfn.XLOOKUP(F34,Pricing!A:A,Pricing!B:B)","v":156.66},{"$f":"Summary!$L$32","v":0.5},78.33,null,null,null,null,null,null,null,0,null,0,0,0,0,0,0,0]
[null,null,"Trousers","Functional Chainsaw Trousers Waist 20A 50",null,529518550,null,595000850,{"$f":"IFERROR(_xlfn.XLOOKUP(F35,Sheet47!F:F,Sheet47!G:G),\"\")","v":5},{"$f":"_xlfn.XLOOKUP(F35,Pricing!A:A,Pricing!B:B)","v":156.66},{"$f":"Summary!$L$32","v":0.5},78.33,null,null,null,null,null,null,null,0,null,0,0,0,0,0,0,0]
[null,null,"Trousers","Functional Chainsaw Trousers Waist 20A 52",null,529518552,null,595000852,{"$f":"IFERROR(_xlfn.XLOOKUP(F36,Sheet47!F:F,Sheet47!G:G),\"\")","v":5},{"$f":"_xlfn.XLOOKUP(F36,Pricing!A:A,Pricing!B:B)","v":156.66},{"$f":"Summary!$L$32","v":0.5},78.33,null,null,null,null,null,null,null,0,null,0,0,0,0,0,0,0]
[null,null,"Trousers","Functional Chainsaw Trousers Waist 20A 54",null,529518554,null,595000854,{"$f":"IFERROR(_xlfn.XLOOKUP(F37,Sheet47!F:F,Sheet47!G:G),\"\")","v":5},{"$f":"_xlfn.XLOOKUP(F37,Pricing!A:A,Pricing!B:B)","v":156.66},{"$f":"Summary!$L$32","v":0.5},78.33,null,null,null,null,null,null,null,0,null,0,0,0,0,0,0,0]
[null,null,"Trousers","Functional Chainsaw Trousers Waist 20A 56",null,529518556,null,595000856,{"$f":"IFERROR(_xlfn.XLOOKUP(F38,Sheet47!F:F,Sheet47!G:G),\"\")","v":5},{"$f":"_xlfn.XLOOKUP(F38,Pricing!A:A,Pricing!B:B)","v":156.66},{"$f":"Summary!$L$32","v":0.5},78.33,null,null,null,null,null,null,null,0,null,0,0,0,0,0,0,0]
[null,null,"Trousers","Functional Chainsaw Trousers Waist 20A 58",null,529518558,null,595000858,{"$f":"IFERROR(_xlfn.XLOOKUP(F39,Sheet47!F:F,Sheet47!G:G),\"\")","v":5},{"$f":"_xlfn.XLOOKUP(F39,Pricing!A:A,Pricing!B:B)","v":156.66},{"$f":"Summary!$L$32","v":0.5},78.33,null,null,null,null,null,null,null,0,null,0,0,0,0,0,0,0]
[null,null,"Trousers","Functional Chainsaw Trousers Waist 20A 60",null,529518560,null,595000860,{"$f":"IFERROR(_xlfn.XLOOKUP(F40,Sheet47!F:F,Sheet47!G:G),\"\")","v":5},{"$f":"_xlfn.XLOOKUP(F40,Pricing!A:A,Pricing!B:B)","v":156.66},{"$f":"Summary!$L$32","v":0.5},78.33,null,null,null,null,null,null,null,0,null,0,0,0,0,0,0,0]
[null,null,"Trousers","Functional Chainsaw Trousers Waist 20A 62",null,529518562,null,595000862,{"$f":"IFERROR(_xlfn.XLOOKUP(F41,Sheet47!F:F,Sheet47!G:G),\"\")","v":5},{"$f":"_xlfn.XLOOKUP(F41,Pricing!A:A,Pricing!B:B)","v":156.66},{"$f":"Summary!$L$32","v":0.5},78.33,null,null,null,null,null,null,null,0,null,0,0,0,0,0,0,0]
[null,null,"Trousers","Functional Chainsaw Trousers Waist 24A 46",null,529518846,null,595001046,{"$f":"IFERROR(_xlfn.XLOOKUP(F42,Sheet47!F:F,Sheet47!G:G),\"\")","v":5},{"$f":"_xlfn.XLOOKUP(F42,Pricing!A:A,Pricing!B:B)","v":199.17},{"$f":"Summary!$L$32","v":0.5},99.584999999999994,null,null,null,null,null,null,null,0,null,0,0,0,0,0,0,0]
[null,null,"Trousers","Functional Chainsaw Trousers Waist 24A 50",null,529518850,null,595001050,{"$f":"IFERROR(_xlfn.XLOOKUP(F43,Sheet47!F:F,Sheet47!G:G),\"\")","v":5},{"$f":"_xlfn.XLOOKUP(F43,Pricing!A:A,Pricing!B:B)","v":199.17},{"$f":"Summary!$L$32","v":0.5},99.584999999999994,null,null,null,null,null,null,null,0,null,0,0,0,0,0,0,0]
[null,null,"Trousers","Functional Chainsaw Trousers Waist 24A 54",null,529518854,null,595001054,{"$f":"IFERROR(_xlfn.XLOOKUP(F44,Sheet47!F:F,Sheet47!G:G),\"\")","v":5},{"$f":"_xlfn.XLOOKUP(F44,Pricing!A:A,Pricing!B:B)","v":199.17},{"$f":"Summary!$L$32","v":0.5},99.584999999999994,null,null,null,null,null,null,null,0,null,0,0,0,0,0,0,0]
[null,null,"Trousers","Functional Chainsaw Trousers Waist 24A 58",null,529518858,null,595001058,{"$f":"IFERROR(_xlfn.XLOOKUP(F45,Sheet47!F:F,Sheet47!G:G),\"\")","v":5},{"$f":"_xlfn.XLOOKUP(F45,Pricing!A:A,Pricing!B:B)","v":199.17},{"$f":"Summary!$L$32","v":0.5},99.584999999999994,null,null,null,null,null,null,null,0,null,0,0,0,0,0,0,0]
[null,null,"Trousers","Functional Chainsaw Trousers Waist 24A 62",null,529518862,null,595001062,{"$f":"IFERROR(_xlfn.XLOOKUP(F46,Sheet47!F:F,Sheet47!G:G),\"\")","v":5},{"$f":"_xlfn.XLOOKUP(F46,Pricing!A:A,Pricing!B:B)","v":199.17},{"$f":"Summary!$L$32","v":0.5},99.584999999999994,null,null,null,null,null,null,null,0,null,0,0,0,0,0,0,0]
[null,null,"Trousers","Functional Chainsaw Chaps M",null,529880002,null,null,{"$f":"IFERROR(_xlfn.XLOOKUP(F47,Sheet47!F:F,Sheet47!G:G),\"\")","v":1},{"$f":"_xlfn.XLOOKUP(F47,Pricing!A:A,Pricing!B:B)","v":134.99},{"$f":"Summary!$L$32","v":0.5},{"$f":"J47-(J47*K47)","v":67.495000000000005},null,null,null,null,null,null,null,{"$f":"SUM(N47:S47)","v":0},null,{"$f":"L47*N47","v":0},{"$f":"L47*O47","v":0},{"$f":"L47*P47","v":0},{"$f":"L47*Q47","v":0},{"$f":"$L47*R47","v":0},{"$f":"$L47*S47","v":0},{"$f":"SUM(V47:AA47)","v":0}]
[null,null,"Trousers","Functional Chainsaw Chaps S",null,529880001,null,null,{"$f":"IFERROR(_xlfn.XLOOKUP(F48,Sheet47!F:F,Sheet47!G:G),\"\")","v":1},{"$f":"_xlfn.XLOOKUP(F48,Pricing!A:A,Pricing!B:B)","v":134.99},{"$f":"Summary!$L$32","v":0.5},67.495000000000005,null,null,null,null,null,null,null,0,null,0,0,0,0,0,0,0]
[null,null,"Trousers","Functional Chainsaw Chaps L",null,529880003,null,null,{"$f":"IFERROR(_xlfn.XLOOKUP(F49,Sheet47!F:F,Sheet47!G:G),\"\")","v":1},{"$f":"_xlfn.XLOOKUP(F49,Pricing!A:A,Pricing!B:B)","v":134.99},{"$f":"Summary!$L$32","v":0.5},67.495000000000005,null,null,null,null,null,null,null,0,null,0,0,0,0,0,0,0]
[null,null,"PPE Kit","PROTECTIVE KIT Helmet classic,functional chap,gloves 10",null,529520101,null,null,{"$f":"IFERROR(_xlfn.XLOOKUP(F50,Sheet47!F:F,Sheet47!G:G),\"\")","v":1},{"$f":"_xlfn.XLOOKUP(F50,Pricing!A:A,Pricing!B:B)","v":166.66},{"$f":"Summary!$L$32","v":0.5},83.33,null,null,null,null,null,null,null,0,null,0,0,0,0,0,0,0]
[null,null,"Trousers","Functional Chaps L",null,531080403,null,null,{"$f":"IFERROR(_xlfn.XLOOKUP(F51,Sheet47!F:F,Sheet47!G:G),\"\")","v":1},{"$f":"_xlfn.XLOOKUP(F51,Pricing!A:A,Pricing!B:B)","v":116.66},{"$f":"Summary!$L$32","v":0.5},{"$f":"J51-(J51*K51)","v":58.33},null,null,null,null,null,null,null,{"$f":"SUM(N51:S51)","v":0},null,{"$f":"L51*N51","v":0},{"$f":"L51*O51","v":0},{"$f":"L51*P51","v":0},{"$f":"L51*Q51","v":0},{"$f":"$L51*R51","v":0},{"$f":"$L51*S51","v":0},{"$f":"SUM(V51:AA51)","v":0}]
[null,null,"Trousers","CHAINSAW CHAPS Functional chaps - S",null,531080401,null,null,{"$f":"IFERROR(_xlfn.XLOOKUP(F52,Sheet47!F:F,Sheet47!G:G),\"\")","v":1},{"$f":"_xlfn.XLOOKUP(F52,Pricing!A:A,Pricing!B:B)","v":116.66},{"$f":"Summary!$L$32","v":0.5},58.33,null,null,null,null,null,null,null,0,null,0,0,0,0,0,0,0]
[null,null,"Trousers","CHAINSAW CHAPS Functional chaps - M",null,531080402,null,null,{"$f":"IFERROR(_xlfn.XLOOKUP(F53,Sheet47!F:F,Sheet47!G:G),\"\")","v":1},{"$f":"_xlfn.XLOOKUP(F53,Pricing!A:A,Pricing!B:B)","v":116.66},{"$f":"Summary!$L$32","v":0.5},58.33,null,null,null,null,null,null,null,0,null,0,0,0,0,0,0,0]
[null,null,"Trousers","Hi-Vis Brushcutter & Trimming Trousers 46",null,597246246,null,null,{"$f":"IFERROR(_xlfn.XLOOKUP(F54,Sheet47!F:F,Sheet47!G:G),\"\")","v":8},{"$f":"_xlfn.XLOOKUP(F54,Pricing!A:A,Pricing!B:B)","v":133.33000000000001},{"$f":"Summary!$L$32","v":0.5},66.665000000000006,null,null,null,null,null,null,null,0,null,0,0,0,0,0,0,0]
[null,null,"Trousers","Hi-Vis Brushcutter & Trimming Trousers 48",null,597246248,null,null,{"$f":"IFERROR(_xlfn.XLOOKUP(F55,Sheet47!F:F,Sheet47!G:G),\"\")","v":8},{"$f":"_xlfn.XLOOKUP(F55,Pricing!A:A,Pricing!B:B)","v":133.33000000000001},{"$f":"Summary!$L$32","v":0.5},66.665000000000006,null,null,null,null,null,null,null,0,null,0,0,0,0,0,0,0]
[null,null,"Trousers","Hi-Vis Brushcutter & Trimming Trousers 50",null,597246250,null,null,{"$f":"IFERROR(_xlfn.XLOOKUP(F56,Sheet47!F:F,Sheet47!G:G),\"\")","v":8},{"$f":"_xlfn.XLOOKUP(F56,Pricing!A:A,Pricing!B:B)","v":133.33000000000001},{"$f":"Summary!$L$32","v":0.5},66.665000000000006,null,null,null,null,null,null,null,0,null,0,0,0,0,0,0,0]
[null,null,"Trousers","Hi-Vis Brushcutter & Trimming Trousers 52",null,597246252,null,null,{"$f":"IFERROR(_xlfn.XLOOKUP(F57,Sheet47!F:F,Sheet47!G:G),\"\")","v":8},{"$f":"_xlfn.XLOOKUP(F57,Pricing!A:A,Pricing!B:B)","v":133.33000000000001},{"$f":"Summary!$L$32","v":0.5},66.665000000000006,null,null,null,null,null,null,null,0,null,0,0,0,0,0,0,0]
[null,null,"Trousers","Hi-Vis Brushcutter & Trimming Trousers 54",null,597246254,null,null,{"$f":"IFERROR(_xlfn.XLOOKUP(F58,Sheet47!F:F,Sheet47!G:G),\"\")","v":8},{"$f":"_xlfn.XLOOKUP(F58,Pricing!A:A,Pricing!B:B)","v":133.33000000000001},{"$f":"Summary!$L$32","v":0.5},66.665000000000006,null,null,null,null,null,null,null,0,null,0,0,0,0,0,0,0]
[null,null,"Trousers","Hi-Vis Brushcutter & Trimming Trousers 56",null,597246256,null,null,{"$f":"IFERROR(_xlfn.XLOOKUP(F59,Sheet47!F:F,Sheet47!G:G),\"\")","v":8},{"$f":"_xlfn.XLOOKUP(F59,Pricing!A:A,Pricing!B:B)","v":133.33000000000001},{"$f":"Summary!$L$32","v":0.5},66.665000000000006,null,null,null,null,null,null,null,0,null,0,0,0,0,0,0,0]
[null,null,"Trousers","Hi-Vis Brushcutter & Trimming Trousers 58",null,597246258,null,null,{"$f":"IFERROR(_xlfn.XLOOKUP(F60,Sheet47!F:F,Sheet47!G:G),\"\")","v":8},{"$f":"_xlfn.XLOOKUP(F60,Pricing!A:A,Pricing!B:B)","v":133.33000000000001},{"$f":"Summary!$L$32","v":0.5},66.665000000000006,null,null,null,null,null,null,null,0,null,0,0,0,0,0,0,0]
[null,null,"Trousers","Hi-Vis Brushcutter & Trimming Trousers 60",null,597246260,null,null,{"$f":"IFERROR(_xlfn.XLOOKUP(F61,Sheet47!F:F,Sheet47!G:G),\"\")","v":8},{"$f":"_xlfn.XLOOKUP(F61,Pricing!A:A,Pricing!B:B)","v":133.33000000000001},{"$f":"Summary!$L$32","v":0.5},66.665000000000006,null,null,null,null,null,null,null,0,null,0,0,0,0,0,0,0]
[null,null,"Trousers","Rain Trousers Protect High-Viz, Functional L",null,597662954,null,523080554,{"$f":"IFERROR(_xlfn.XLOOKUP(F62,Sheet47!F:F,Sheet47!G:G),\"\")","v":14},{"$f":"_xlfn.XLOOKUP(F62,Pricing!A:A,Pricing!B:B)","v":76.66},{"$f":"Summary!$L$32","v":0.5},38.33,null,null,null,null,null,null,null,0,null,0,0,0,0,0,0,0]
[null,null,"Trousers","Rain Trousers Protect High-Viz, Functional M",null,597662950,null,523080550,{"$f":"IFERROR(_xlfn.XLOOKUP(F63,Sheet47!F:F,Sheet47!G:G),\"\")","v":14},{"$f":"_xlfn.XLOOKUP(F63,Pricing!A:A,Pricing!B:B)","v":76.66},{"$f":"Summary!$L$32","v":0.5},38.33,null,null,null,null,null,null,null,0,null,0,0,0,0,0,0,0]
[null,null,"Trousers","Rain Trousers Protect High-Viz, Functional S",null,597662946,null,523080546,{"$f":"IFERROR(_xlfn.XLOOKUP(F64,Sheet47!F:F,Sheet47!G:G),\"\")","v":14},{"$f":"_xlfn.XLOOKUP(F64,Pricing!A:A,Pricing!B:B)","v":76.66},{"$f":"Summary!$L$32","v":0.5},38.33,null,null,null,null,null,null,null,0,null,0,0,0,0,0,0,0]
[null,null,"Trousers","Rain Trousers Protect High-Viz, Functional XL",null,597662958,null,523080558,{"$f":"IFERROR(_xlfn.XLOOKUP(F65,Sheet47!F:F,Sheet47!G:G),\"\")","v":14},{"$f":"_xlfn.XLOOKUP(F65,Pricing!A:A,Pricing!B:B)","v":76.66},{"$f":"Summary!$L$32","v":0.5},38.33,null,null,null,null,null,null,null,0,null,0,0,0,0,0,0,0]
[null,null,"Trousers","Rain Trousers Protect High-Viz, Functional XS",null,597662942,null,null,{"$f":"IFERROR(_xlfn.XLOOKUP(F66,Sheet47!F:F,Sheet47!G:G),\"\")","v":14},{"$f":"_xlfn.XLOOKUP(F66,Pricing!A:A,Pricing!B:B)","v":76.66},{"$f":"Summary!$L$32","v":0.5},38.33,null,null,null,null,null,null,null,0,null,0,0,0,0,0,0,0]
[null,null,"Trousers","Rain Trousers Vent, Technical L",null,597662754,null,580687954,{"$f":"IFERROR(_xlfn.XLOOKUP(F67,Sheet47!F:F,Sheet47!G:G),\"\")","v":10},{"$f":"_xlfn.XLOOKUP(F67,Pricing!A:A,Pricing!B:B)","v":103.33},{"$f":"Summary!$L$32","v":0.5},51.664999999999999,null,null,null,null,null,null,null,0,null,0,0,0,0,0,0,0]
[null,null,"Trousers","Rain Trousers Vent, Technical M",null,597662750,null,580687950,{"$f":"IFERROR(_xlfn.XLOOKUP(F68,Sheet47!F:F,Sheet47!G:G),\"\")","v":10},{"$f":"_xlfn.XLOOKUP(F68,Pricing!A:A,Pricing!B:B)","v":103.33},{"$f":"Summary!$L$32","v":0.5},51.664999999999999,null,null,null,null,null,null,null,0,null,0,0,0,0,0,0,0]
[null,null,"Trousers","Rain Trousers Vent, Technical S",null,597662746,null,580687946,{"$f":"IFERROR(_xlfn.XLOOKUP(F69,Sheet47!F:F,Sheet47!G:G),\"\")","v":10},{"$f":"_xlfn.XLOOKUP(F69,Pricing!A:A,Pricing!B:B)","v":103.33},{"$f":"Summary!$L$32","v":0.5},51.664999999999999,null,null,null,null,null,null,null,0,null,0,0,0,0,0,0,0]
[null,null,"Trousers","Rain Trousers Vent, Technical XL",null,597662758,null,580687958,{"$f":"IFERROR(_xlfn.XLOOKUP(F70,Sheet47!F:F,Sheet47!G:G),\"\")","v":10},{"$f":"_xlfn.XLOOKUP(F70,Pricing!A:A,Pricing!B:B)","v":103.33},{"$f":"Summary!$L$32","v":0.5},51.664999999999999,null,null,null,null,null,null,null,0,null,0,0,0,0,0,0,0]
[null,null,"Trousers","Rain Trousers Vent, Technical XS",null,597662742,null,null,{"$f":"IFERROR(_xlfn.XLOOKUP(F71,Sheet47!F:F,Sheet47!G:G),\"\")","v":10},{"$f":"_xlfn.XLOOKUP(F71,Pricing!A:A,Pricing!B:B)","v":103.33},{"$f":"Summary!$L$32","v":0.5},51.664999999999999,null,null,null,null,null,null,null,0,null,0,0,0,0,0,0,0]
[null,null,"Trousers","Rain Trousers Vent, Technical XXL",null,597662762,null,580687962,{"$f":"IFERROR(_xlfn.XLOOKUP(F72,Sheet47!F:F,Sheet47!G:G),\"\")","v":10},{"$f":"_xlfn.XLOOKUP(F72,Pricing!A:A,Pricing!B:B)","v":103.33},{"$f":"Summary!$L$32","v":0.5},51.664999999999999,null,null,null,null,null,null,null,0,null,0,0,0,0,0,0,0]
[null,null,"Trousers","Technical Brushcutter & Trimming Trousers 32\"",null,597660646,null,580688146,{"$f":"IFERROR(_xlfn.XLOOKUP(F73,Sheet47!F:F,Sheet47!G:G),\"\")","v":8},{"$f":"_xlfn.XLOOKUP(F73,Pricing!A:A,Pricing!B:B)","v":112.49},{"$f":"Summary!$L$32","v":0.5},56.244999999999997,null,null,null,null,null,null,null,0,null,0,0,0,0,0,0,0]
[null,null,"Trousers","Technical Brushcutter & Trimming Trousers 34\"",null,597660648,null,580688148,{"$f":"IFERROR(_xlfn.XLOOKUP(F74,Sheet47!F:F,Sheet47!G:G),\"\")","v":8},{"$f":"_xlfn.XLOOKUP(F74,Pricing!A:A,Pricing!B:B)","v":112.49},{"$f":"Summary!$L$32","v":0.5},56.244999999999997,null,null,null,null,null,null,null,0,null,0,0,0,0,0,0,0]
[null,null,"Trousers","Technical Brushcutter & Trimming Trousers 35\"",null,597660650,null,580688150,{"$f":"IFERROR(_xlfn.XLOOKUP(F75,Sheet47!F:F,Sheet47!G:G),\"\")","v":8},{"$f":"_xlfn.XLOOKUP(F75,Pricing!A:A,Pricing!B:B)","v":112.49},{"$f":"Summary!$L$32","v":0.5},56.244999999999997,null,null,null,null,null,null,null,0,null,0,0,0,0,0,0,0]
[null,null,"Trousers","Technical Brushcutter & Trimming Trousers 36\"",null,597660652,null,580688152,{"$f":"IFERROR(_xlfn.XLOOKUP(F76,Sheet47!F:F,Sheet47!G:G),\"\")","v":8},{"$f":"_xlfn.XLOOKUP(F76,Pricing!A:A,Pricing!B:B)","v":112.49},{"$f":"Summary!$L$32","v":0.5},56.244999999999997,null,null,null,null,null,null,null,0,null,0,0,0,0,0,0,0]
[null,null,"Trousers","Technical Brushcutter & Trimming Trousers 37\"",null,597660654,null,580688154,{"$f":"IFERROR(_xlfn.XLOOKUP(F77,Sheet47!F:F,Sheet47!G:G),\"\")","v":8},{"$f":"_xlfn.XLOOKUP(F77,Pricing!A:A,Pricing!B:B)","v":112.49},{"$f":"Summary!$L$32","v":0.5},56.244999999999997,null,null,null,null,null,null,null,0,null,0,0,0,0,0,0,0]
[null,null,"Trousers","Technical Brushcutter & Trimming Trousers 38\"",null,597660656,null,580688156,{"$f":"IFERROR(_xlfn.XLOOKUP(F78,Sheet47!F:F,Sheet47!G:G),\"\")","v":8},{"$f":"_xlfn.XLOOKUP(F78,Pricing!A:A,Pricing!B:B)","v":112.49},{"$f":"Summary!$L$32","v":0.5},56.244999999999997,null,null,null,null,null,null,null,0,null,0,0,0,0,0,0,0]
[null,null,"Trousers","Technical Brushcutter & Trimming Trousers 39\"",null,597660658,null,580688158,{"$f":"IFERROR(_xlfn.XLOOKUP(F79,Sheet47!F:F,Sheet47!G:G),\"\")","v":8},{"$f":"_xlfn.XLOOKUP(F79,Pricing!A:A,Pricing!B:B)","v":112.49},{"$f":"Summary!$L$32","v":0.5},56.244999999999997,null,null,null,null,null,null,null,0,null,0,0,0,0,0,0,0]
[null,null,"Trousers","Technical Brushcutter & Trimming Trousers 40\"",null,597660660,null,580688160,{"$f":"IFERROR(_xlfn.XLOOKUP(F80,Sheet47!F:F,Sheet47!G:G),\"\")","v":8},{"$f":"_xlfn.XLOOKUP(F80,Pricing!A:A,Pricing!B:B)","v":112.49},{"$f":"Summary!$L$32","v":0.5},56.244999999999997,null,null,null,null,null,null,null,0,null,0,0,0,0,0,0,0]
[null,null,"Trousers","Technical Chainsaw Trousers Waist 20A L Long",null,529516455,null,594999055,{"$f":"IFERROR(_xlfn.XLOOKUP(F81,Sheet47!F:F,Sheet47!G:G),\"\")","v":5},{"$f":"_xlfn.XLOOKUP(F81,Pricing!A:A,Pricing!B:B)","v":257.5},{"$f":"Summary!$L$32","v":0.5},128.75,null,null,null,null,null,null,null,0,null,0,0,0,0,0,0,0]
[null,null,"Trousers","Technical Chainsaw Trousers Waist 20A L Short",null,529516453,null,594999053,{"$f":"IFERROR(_xlfn.XLOOKUP(F82,Sheet47!F:F,Sheet47!G:G),\"\")","v":5},{"$f":"_xlfn.XLOOKUP(F82,Pricing!A:A,Pricing!B:B)","v":257.5},{"$f":"Summary!$L$32","v":0.5},128.75,null,null,null,null,null,null,null,0,null,0,0,0,0,0,0,0]
[null,null,"Trousers","Technical Chainsaw Trousers Waist 20A L Standard",null,529516454,null,594999054,{"$f":"IFERROR(_xlfn.XLOOKUP(F83,Sheet47!F:F,Sheet47!G:G),\"\")","v":5},{"$f":"_xlfn.XLOOKUP(F83,Pricing!A:A,Pricing!B:B)","v":257.5},{"$f":"Summary!$L$32","v":0.5},128.75,null,null,null,null,null,null,null,0,null,0,0,0,0,0,0,0]
[null,null,"Trousers","Technical Chainsaw Trousers Waist 20A M Long",null,529516451,null,594999051,{"$f":"IFERROR(_xlfn.XLOOKUP(F84,Sheet47!F:F,Sheet47!G:G),\"\")","v":5},{"$f":"_xlfn.XLOOKUP(F84,Pricing!A:A,Pricing!B:B)","v":257.5},{"$f":"Summary!$L$32","v":0.5},128.75,null,null,null,null,null,null,null,0,null,0,0,0,0,0,0,0]
[null,null,"Trousers","Technical Chainsaw Trousers Waist 20A M Short",null,529516449,null,594999049,{"$f":"IFERROR(_xlfn.XLOOKUP(F85,Sheet47!F:F,Sheet47!G:G),\"\")","v":5},{"$f":"_xlfn.XLOOKUP(F85,Pricing!A:A,Pricing!B:B)","v":257.5},{"$f":"Summary!$L$32","v":0.5},{"$f":"J85-(J85*K85)","v":128.75},null,null,null,null,null,null,null,0,null,{"$f":"L85*N85","v":0},{"$f":"L85*O85","v":0},{"$f":"L85*P85","v":0},{"$f":"L85*Q85","v":0},{"$f":"$L85*R85","v":0},{"$f":"$L85*S85","v":0},{"$f":"SUM(V85:AA85)","v":0}]
[null,null,"Trousers","Technical Chainsaw Trousers Waist 20A M Standard",null,529516450,null,594999050,{"$f":"IFERROR(_xlfn.XLOOKUP(F86,Sheet47!F:F,Sheet47!G:G),\"\")","v":5},{"$f":"_xlfn.XLOOKUP(F86,Pricing!A:A,Pricing!B:B)","v":257.5},{"$f":"Summary!$L$32","v":0.5},128.75,null,null,null,null,null,null,null,{"$f":"SUM(N86:S86)","v":0},null,0,0,0,0,0,0,0]
[null,null,"Trousers","Technical Chainsaw Trousers Waist 20A S Long",null,529516447,null,594999047,{"$f":"IFERROR(_xlfn.XLOOKUP(F87,Sheet47!F:F,Sheet47!G:G),\"\")","v":5},{"$f":"_xlfn.XLOOKUP(F87,Pricing!A:A,Pricing!B:B)","v":257.5},{"$f":"Summary!$L$32","v":0.5},128.75,null,null,null,null,null,null,null,0,null,0,0,0,0,0,0,0]
[null,null,"Trousers","Technical Chainsaw Trousers Waist 20A S Short",null,529516445,null,594999045,{"$f":"IFERROR(_xlfn.XLOOKUP(F88,Sheet47!F:F,Sheet47!G:G),\"\")","v":5},{"$f":"_xlfn.XLOOKUP(F88,Pricing!A:A,Pricing!B:B)","v":257.5},{"$f":"Summary!$L$32","v":0.5},128.75,null,null,null,null,null,null,null,0,null,0,0,0,0,0,0,0]
[null,null,"Trousers","Technical Chainsaw Trousers Waist 20A S Standard",null,529516446,null,594999046,{"$f":"IFERROR(_xlfn.XLOOKUP(F89,Sheet47!F:F,Sheet47!G:G),\"\")","v":5},{"$f":"_xlfn.XLOOKUP(F89,Pricing!A:A,Pricing!B:B)","v":257.5},{"$f":"Summary!$L$32","v":0.5},128.75,null,null,null,null,null,null,null,0,null,0,0,0,0,0,0,0]
[null,null,"Trousers","Technical Chainsaw Trousers Waist 20A XL Long",null,529516459,null,594999059,{"$f":"IFERROR(_xlfn.XLOOKUP(F90,Sheet47!F:F,Sheet47!G:G),\"\")","v":5},{"$f":"_xlfn.XLOOKUP(F90,Pricing!A:A,Pricing!B:B)","v":257.5},{"$f":"Summary!$L$32","v":0.5},128.75,null,null,null,null,null,null,null,0,null,0,0,0,0,0,0,0]
[null,null,"Trousers","Technical Chainsaw Trousers Waist 20A XL Short",null,529516457,null,594999057,{"$f":"IFERROR(_xlfn.XLOOKUP(F91,Sheet47!F:F,Sheet47!G:G),\"\")","v":5},{"$f":"_xlfn.XLOOKUP(F91,Pricing!A:A,Pricing!B:B)","v":257.5},{"$f":"Summary!$L$32","v":0.5},128.75,null,null,null,null,null,null,null,0,null,0,0,0,0,0,0,0]
[null,null,"Trousers","Technical Chainsaw Trousers Waist 20A XL Standard",null,529516458,null,594999058,{"$f":"IFERROR(_xlfn.XLOOKUP(F92,Sheet47!F:F,Sheet47!G:G),\"\")","v":5},{"$f":"_xlfn.XLOOKUP(F92,Pricing!A:A,Pricing!B:B)","v":257.5},{"$f":"Summary!$L$32","v":0.5},128.75,null,null,null,null,null,null,null,0,null,0,0,0,0,0,0,0]
[null,null,"Trousers","Technical Chainsaw Trousers Waist 20A XXL Short",null,529516461,null,594999061,{"$f":"IFERROR(_xlfn.XLOOKUP(F93,Sheet47!F:F,Sheet47!G:G),\"\")","v":5},{"$f":"_xlfn.XLOOKUP(F93,Pricing!A:A,Pricing!B:B)","v":257.5},{"$f":"Summary!$L$32","v":0.5},128.75,null,null,null,null,null,null,null,0,null,0,0,0,0,0,0,0]
[null,null,"Trousers","Technical Chainsaw Trousers Waist 20A XXL Standard",null,529516462,null,594999062,{"$f":"IFERROR(_xlfn.XLOOKUP(F94,Sheet47!F:F,Sheet47!G:G),\"\")","v":5},{"$f":"_xlfn.XLOOKUP(F94,Pricing!A:A,Pricing!B:B)","v":257.5},{"$f":"Summary!$L$32","v":0.5},128.75,null,null,null,null,null,null,null,0,null,0,0,0,0,0,0,0]
[null,null,"Trousers","Technical Chainsaw Trousers Waist 20C L",null,529518154,null,595000754,{"$f":"IFERROR(_xlfn.XLOOKUP(F95,Sheet47!F:F,Sheet47!G:G),\"\")","v":8},{"$f":"_xlfn.XLOOKUP(F95,Pricing!A:A,Pricing!B:B)","v":307.5},{"$f":"Summary!$L$32","v":0.5},153.75,null,null,4,null,null,null,null,4,null,0,615,0,0,0,0,615]
[null,null,"Trousers","Technical Chainsaw Trousers Waist 20C M",null,529518150,null,595000750,{"$f":"IFERROR(_xlfn.XLOOKUP(F96,Sheet47!F:F,Sheet47!G:G),\"\")","v":8},{"$f":"_xlfn.XLOOKUP(F96,Pricing!A:A,Pricing!B:B)","v":307.5},{"$f":"Summary!$L$32","v":0.5},153.75,null,4,null,4,null,null,null,8,null,615,0,615,0,0,0,1230]
[null,null,"Trousers","Technical Chainsaw Trousers Waist 20C S",null,529518146,null,595000746,{"$f":"IFERROR(_xlfn.XLOOKUP(F97,Sheet47!F:F,Sheet47!G:G),\"\")","v":8},{"$f":"_xlfn.XLOOKUP(F97,Pricing!A:A,Pricing!B:B)","v":307.5},{"$f":"Summary!$L$32","v":0.5},153.75,null,4,null,4,null,null,null,8,null,615,0,615,0,0,0,1230]
[null,null,"Trousers","Technical Chainsaw Trousers Waist 20C XL",null,529518158,null,595000758,{"$f":"IFERROR(_xlfn.XLOOKUP(F98,Sheet47!F:F,Sheet47!G:G),\"\")","v":8},{"$f":"_xlfn.XLOOKUP(F98,Pricing!A:A,Pricing!B:B)","v":307.5},{"$f":"Summary!$L$32","v":0.5},153.75,null,null,1,null,null,null,null,1,null,0,153.75,0,0,0,0,153.75]
[null,null,"Trousers","Technical Chainsaw Trousers Waist 20C XXL",null,529518162,null,595000762,{"$f":"IFERROR(_xlfn.XLOOKUP(F99,Sheet47!F:F,Sheet47!G:G),\"\")","v":8},{"$f":"_xlfn.XLOOKUP(F99,Pricing!A:A,Pricing!B:B)","v":307.5},{"$f":"Summary!$L$32","v":0.5},153.75,null,null,null,null,null,null,null,0,null,0,0,0,0,0,0,0]
[null,null,"Trousers","Technical Waist Hi-Viz Trousers 20A EN Iso 20471 - Waist 32\"",null,529518346,null,595087246,{"$f":"IFERROR(_xlfn.XLOOKUP(F100,Sheet47!F:F,Sheet47!G:G),\"\")","v":6},{"$f":"_xlfn.XLOOKUP(F100,Pricing!A:A,Pricing!B:B)","v":257.5},{"$f":"Summary!$L$32","v":0.5},128.75,null,null,null,null,null,null,null,0,null,0,0,0,0,0,0,0]
[null,null,"Trousers","Technical Waist Hi-Viz Trousers 20A EN Iso 20471 - Waist 35\"",null,529518350,null,595087250,{"$f":"IFERROR(_xlfn.XLOOKUP(F101,Sheet47!F:F,Sheet47!G:G),\"\")","v":6},{"$f":"_xlfn.XLOOKUP(F101,Pricing!A:A,Pricing!B:B)","v":257.5},{"$f":"Summary!$L$32","v":0.5},128.75,null,null,null,null,null,null,null,0,null,0,0,0,0,0,0,0]
[null,null,"Trousers","Technical Waist Hi-Viz Trousers 20A EN Iso 20471 - Waist 37\"",null,529518354,null,595087254,{"$f":"IFERROR(_xlfn.XLOOKUP(F102,Sheet47!F:F,Sheet47!G:G),\"\")","v":6},{"$f":"_xlfn.XLOOKUP(F102,Pricing!A:A,Pricing!B:B)","v":257.5},{"$f":"Summary!$L$32","v":0.5},{"$f":"J102-(J102*K102)","v":128.75},null,null,null,null,null,null,null,0,null,{"$f":"L102*N102","v":0},{"$f":"L102*O102","v":0},{"$f":"L102*P102","v":0},{"$f":"L102*Q102","v":0},0,0,0]
[null,null,"Trousers","Technical Waist Hi-Viz Trousers 20A EN Iso 20471 - Waist 39\"",null,529518358,null,595087258,{"$f":"IFERROR(_xlfn.XLOOKUP(F103,Sheet47!F:F,Sheet47!G:G),\"\")","v":6},{"$f":"_xlfn.XLOOKUP(F103,Pricing!A:A,Pricing!B:B)","v":257.5},{"$f":"Summary!$L$32","v":0.5},128.75,null,null,null,null,null,null,null,0,null,0,0,0,0,0,0,0]
[null,null,"Trousers","Technical Waist Hi-Viz Trousers 20A EN Iso 20471 - Waist 42\"",null,529518362,null,595087262,{"$f":"IFERROR(_xlfn.XLOOKUP(F104,Sheet47!F:F,Sheet47!G:G),\"\")","v":6},{"$f":"_xlfn.XLOOKUP(F104,Pricing!A:A,Pricing!B:B)","v":257.5},{"$f":"Summary!$L$32","v":0.5},128.75,null,null,null,null,null,null,null,0,null,0,0,0,0,0,0,0]
[null,null,"Trousers","Rain Back Protector Protect, Functional",null,597663210,null,null,1,{"$f":"_xlfn.XLOOKUP(F105,Pricing!A:A,Pricing!B:B)","v":63.33},{"$f":"Summary!$L$32","v":0.5},{"$f":"J105-(J105*K105)","v":31.664999999999999},null,null,null,null,null,null,null,0,null,{"$f":"L105*N105","v":0},{"$f":"L105*O105","v":0},{"$f":"L105*P105","v":0},{"$f":"L105*Q105","v":0},{"$f":"$L105*R105","v":0},{"$f":"$L105*S105","v":0},{"$f":"SUM(V105:AA105)","v":0}]
[null,null,"Trousers","Trousers B&T 42",null,597660642,null,null,{"$f":"IFERROR(_xlfn.XLOOKUP(F106,Sheet47!F:F,Sheet47!G:G),\"\")","v":1},{"$f":"_xlfn.XLOOKUP(F106,Pricing!A:A,Pricing!B:B)","v":112.49},{"$f":"Summary!$L$32","v":0.5},56.244999999999997,null,null,null,null,null,null,null,0,null,0,0,0,0,0,0,0]
[null,null,"Trousers","Trousers B&T High Viz 42",null,597246242,null,null,{"$f":"IFERROR(_xlfn.XLOOKUP(F107,Sheet47!F:F,Sheet47!G:G),\"\")","v":1},{"$f":"_xlfn.XLOOKUP(F107,Pricing!A:A,Pricing!B:B)","v":127.49},{"$f":"Summary!$L$32","v":0.5},63.744999999999997,null,null,null,null,null,null,null,0,null,0,0,0,0,0,0,0]

{"sheet":"Jackets","index":36,"n_rows":73,"n_cols":28,"rows_kept":73,"cut":false,"hidden":false,"merged":[[10,13,10,19],[10,21,10,27],[1,4,1,8],[2,4,2,8],[3,4,3,8],[4,4,4,8],[5,4,5,8],[6,4,6,8],[11,3,11,4],[12,1,72,1],[12,3,12,4],[7,4,7,8],[8,3,8,5],[8,6,8,8],[10,2,10,11],[24,3,24,4],[13,3,13,4],[14,3,14,4],[15,3,15,4],[16,3,16,4],[17,3,17,4],[18,3,18,4],[19,3,19,4],[20,3,20,4],[21,3,21,4],[22,3,22,4],[23,3,23,4],[36,3,36,4],[25,3,25,4],[26,3,26,4],[27,3,27,4],[28,3,28,4],[29,3,29,4],[30,3,30,4],[31,3,31,4],[32,3,32,4],[33,3,33,4],[34,3,34,4],[35,3,35,4],[58,3,58,4],[47,3,47,4],[37,3,37,4],[38,3,38,4],[39,3,39,4],[40,3,40,4],[41,3,41,4],[42,3,42,4],[43,3,43,4],[44,3,44,4],[45,3,45,4],[46,3,46,4],[53,3,53,4],[54,3,54,4],[55,3,55,4],[56,3,56,4],[57,3,57,4],[48,3,48,4],[49,3,49,4],[50,3,50,4],[51,3,51,4],[52,3,52,4],[66,3,66,4],[59,3,59,4],[60,3,60,4],[61,3,61,4],[62,3,62,4],[63,3,63,4],[64,3,64,4],[65,3,65,4],[68,3,68,4],[70,3,70,4],[71,3,71,4],[72,3,72,4],[67,3,67,4],[69,3,69,4]]}
[]
[null,null,null,"Dealer Name",{"$f":"Summary!F2","v":"Winchester Garden Machinery Ltd - Arb"}]
[null,null,null,"Dealer Postcode",{"$f":"Summary!F3","v":"SO21 1HF"}]
[null,null,null,"Account Number",{"$f":"Summary!F4","v":28400505}]
[null,null,null,"Order Number",{"$f":"Summary!F5","v":0}]
[null,null,null,"Project Code",{"$f":"Summary!F6","v":"PSO2024"}]
[null,null,null,"Order Date",{"$f":"Summary!F7","v":"00:00:00"}]
[null,null,null,"ABM",{"$f":"Summary!F8","v":"Francesca_Bosley"}]
[null,null,null,"PSO minimum 40% of turnover = Additional 2% terms",null,null,{"$f":"Summary!I9","v":0.02}]
[]
[null,null,"Jackets",null,null,null,null,null,null,null,null,null,null,"Order Quantity",null,null,null,null,null,null,null,"Order Value"]
[null,null,"Product Type","Model Description",null,"PNC","Size","Replaces","Box Qty","List Price 2024 Ex VAT","Discount","Dealer Net Price",null,"January","February","March","April","May","June","Total Qty",null,"January","February","March","April","May","June","Total Value"]
[null,"PPE","Jackets","RAIN JACKET XS Vent High-Viz W, Technical",null,546342630,null,536930242,{"$f":"IFERROR(_xlfn.XLOOKUP(F13,Sheet47!F:F,Sheet47!G:G),\"\")","v":1},{"$f":"_xlfn.XLOOKUP(F13,Pricing!A:A,Pricing!B:B)","v":104.16},{"$f":"Summary!$L$32","v":0.5},{"$f":"J13-(J13*K13)","v":52.08},null,null,null,null,null,null,null,{"$f":"SUM(N13:S13)","v":0},null,{"$f":"L13*N13","v":0},{"$f":"L13*O13","v":0},{"$f":"L13*P13","v":0},{"$f":"$L13*Q13","v":0},{"$f":"$L13*R13","v":0},0,{"$f":"SUM(V13:AA13)","v":0}]
[null,null,"Jackets","RAIN JACKET S Vent High-Viz W, Technical",null,546342634,null,536930246,{"$f":"IFERROR(_xlfn.XLOOKUP(F14,Sheet47!F:F,Sheet47!G:G),\"\")","v":1},{"$f":"_xlfn.XLOOKUP(F14,Pricing!A:A,Pricing!B:B)","v":104.99},{"$f":"Summary!$L$32","v":0.5},{"$f":"J14-(J14*K14)","v":52.494999999999997},null,null,null,null,null,null,null,{"$f":"SUM(N14:S14)","v":0},null,{"$f":"L14*N14","v":0},{"$f":"L14*O14","v":0},{"$f":"L14*P14","v":0},{"$f":"L14*Q14","v":0},{"$f":"$L14*R14","v":0},{"$f":"$L14*S14","v":0},{"$f":"SUM(V14:AA14)","v":0}]
[null,null,"Jackets","RAIN JACKET M Vent High-Viz W, Technical",null,546342638,null,536930250,{"$f":"IFERROR(_xlfn.XLOOKUP(F15,Sheet47!F:F,Sheet47!G:G),\"\")","v":1},{"$f":"_xlfn.XLOOKUP(F15,Pricing!A:A,Pricing!B:B)","v":105.83},{"$f":"Summary!$L$32","v":0.5},52.914999999999999,null,null,null,null,null,null,null,{"$f":"SUM(N15:S15)","v":0},null,0,0,0,0,0,0,0]
[null,null,"Jackets","RAIN JACKET L Vent High-Viz W, Technical",null,546342642,null,536930254,{"$f":"IFERROR(_xlfn.XLOOKUP(F16,Sheet47!F:F,Sheet47!G:G),\"\")","v":1},{"$f":"_xlfn.XLOOKUP(F16,Pricing!A:A,Pricing!B:B)","v":106.66},{"$f":"Summary!$L$32","v":0.5},53.33,null,null,null,null,null,null,null,0,null,0,0,0,0,0,0,0]
[null,null,"Jackets","RAIN JACKET XL Vent High-Viz W, Technical",null,546342646,null,536930258,{"$f":"IFERROR(_xlfn.XLOOKUP(F17,Sheet47!F:F,Sheet47!G:G),\"\")","v":1},{"$f":"_xlfn.XLOOKUP(F17,Pricing!A:A,Pricing!B:B)","v":107.49},{"$f":"Summary!$L$32","v":0.5},53.744999999999997,null,null,null,null,null,null,null,0,null,0,0,0,0,0,0,0]
[null,null,"Jackets","Jacket B&T High Viz XS EN20471",null,597245942,null,null,{"$f":"IFERROR(_xlfn.XLOOKUP(F18,Sheet47!F:F,Sheet47!G:G),\"\")","v":1},{"$f":"_xlfn.XLOOKUP(F18,Pricing!A:A,Pricing!B:B)","v":136.66},{"$f":"Summary!$L$32","v":0.5},68.33,null,null,null,null,null,null,null,0,null,0,0,0,0,0,0,0]
[null,null,"Jackets","Classic Forest Jacket L",null,582335154,null,null,{"$f":"IFERROR(_xlfn.XLOOKUP(F19,Sheet47!F:F,Sheet47!G:G),\"\")","v":1},{"$f":"_xlfn.XLOOKUP(F19,Pricing!A:A,Pricing!B:B)","v":62.49},{"$f":"Summary!$L$32","v":0.5},31.245000000000001,null,null,null,null,null,null,null,0,null,0,0,0,0,0,0,0]
[null,null,"Jackets","Classic Forest Jacket M",null,582335150,null,null,{"$f":"IFERROR(_xlfn.XLOOKUP(F20,Sheet47!F:F,Sheet47!G:G),\"\")","v":1},{"$f":"_xlfn.XLOOKUP(F20,Pricing!A:A,Pricing!B:B)","v":62.49},{"$f":"Summary!$L$32","v":0.5},31.245000000000001,null,null,null,null,null,null,null,0,null,0,0,0,0,0,0,0]
[null,null,"Jackets","Classic Forest Jacket S",null,582335146,null,null,{"$f":"IFERROR(_xlfn.XLOOKUP(F21,Sheet47!F:F,Sheet47!G:G),\"\")","v":1},{"$f":"_xlfn.XLOOKUP(F21,Pricing!A:A,Pricing!B:B)","v":62.49},{"$f":"Summary!$L$32","v":0.5},31.245000000000001,null,null,null,null,null,null,null,0,null,0,0,0,0,0,0,0]
[null,null,"Jackets","Classic Forest Jacket XL",null,582335158,null,null,{"$f":"IFERROR(_xlfn.XLOOKUP(F22,Sheet47!F:F,Sheet47!G:G),\"\")","v":1},{"$f":"_xlfn.XLOOKUP(F22,Pricing!A:A,Pricing!B:B)","v":62.49},{"$f":"Summary!$L$32","v":0.5},31.245000000000001,null,null,null,null,null,null,null,0,null,0,0,0,0,0,0,0]
[null,null,"Jackets","Classic Forest Jacket XXL",null,582335162,null,null,{"$f":"IFERROR(_xlfn.XLOOKUP(F23,Sheet47!F:F,Sheet47!G:G),\"\")","v":1},{"$f":"_xlfn.XLOOKUP(F23,Pricing!A:A,Pricing!B:B)","v":62.49},{"$f":"Summary!$L$32","v":0.5},31.245000000000001,null,null,null,null,null,null,null,0,null,0,0,0,0,0,0,0]
[null,null,"Jackets","Classic Jacket High Viz L EN20471",null,596304654,null,582337054,{"$f":"IFERROR(_xlfn.XLOOKUP(F24,Sheet47!F:F,Sheet47!G:G),\"\")","v":10},{"$f":"_xlfn.XLOOKUP(F24,Pricing!A:A,Pricing!B:B)","v":103.33},{"$f":"Summary!$L$32","v":0.5},51.664999999999999,null,null,null,null,null,null,null,0,null,0,0,0,0,0,0,0]
[null,null,"Jackets","Classic Jacket High Viz M EN20471",null,596304650,null,582337050,{"$f":"IFERROR(_xlfn.XLOOKUP(F25,Sheet47!F:F,Sheet47!G:G),\"\")","v":10},{"$f":"_xlfn.XLOOKUP(F25,Pricing!A:A,Pricing!B:B)","v":103.33},{"$f":"Summary!$L$32","v":0.5},51.664999999999999,null,null,null,null,null,null,null,0,null,0,0,0,0,0,0,0]
[null,null,"Jackets","Classic Jacket High Viz S EN20471",null,596304646,null,582337046,{"$f":"IFERROR(_xlfn.XLOOKUP(F26,Sheet47!F:F,Sheet47!G:G),\"\")","v":10},{"$f":"_xlfn.XLOOKUP(F26,Pricing!A:A,Pricing!B:B)","v":103.33},{"$f":"Summary!$L$32","v":0.5},51.664999999999999,null,null,null,null,null,null,null,0,null,0,0,0,0,0,0,0]
[null,null,"Jackets","Classic Jacket High Viz XL EN20471",null,596304658,null,582337058,{"$f":"IFERROR(_xlfn.XLOOKUP(F27,Sheet47!F:F,Sheet47!G:G),\"\")","v":10},{"$f":"_xlfn.XLOOKUP(F27,Pricing!A:A,Pricing!B:B)","v":103.33},{"$f":"Summary!$L$32","v":0.5},51.664999999999999,null,null,null,null,null,null,null,0,null,0,0,0,0,0,0,0]
[null,null,"Jackets","Classic Jacket High Viz XXL EN20471",null,596304662,null,582337062,{"$f":"IFERROR(_xlfn.XLOOKUP(F28,Sheet47!F:F,Sheet47!G:G),\"\")","v":10},{"$f":"_xlfn.XLOOKUP(F28,Pricing!A:A,Pricing!B:B)","v":103.33},{"$f":"Summary!$L$32","v":0.5},51.664999999999999,null,null,null,null,null,null,null,0,null,0,0,0,0,0,0,0]
[null,null,"Jackets","Classic Jacket High Viz XXXL EN20471",null,596304666,null,582337066,{"$f":"IFERROR(_xlfn.XLOOKUP(F29,Sheet47!F:F,Sheet47!G:G),\"\")","v":10},{"$f":"_xlfn.XLOOKUP(F29,Pricing!A:A,Pricing!B:B)","v":103.33},{"$f":"Summary!$L$32","v":0.5},51.664999999999999,null,null,null,null,null,null,null,0,null,0,0,0,0,0,0,0]
[null,null,"Jackets","Functional Forest Jacket L",null,582331454,null,null,{"$f":"IFERROR(_xlfn.XLOOKUP(F30,Sheet47!F:F,Sheet47!G:G),\"\")","v":10},{"$f":"_xlfn.XLOOKUP(F30,Pricing!A:A,Pricing!B:B)","v":112.49},{"$f":"Summary!$L$32","v":0.5},56.244999999999997,null,null,null,null,null,null,null,0,null,0,0,0,0,0,0,0]
[null,null,"Jackets","Functional Forest Jacket M",null,582331450,null,null,{"$f":"IFERROR(_xlfn.XLOOKUP(F31,Sheet47!F:F,Sheet47!G:G),\"\")","v":10},{"$f":"_xlfn.XLOOKUP(F31,Pricing!A:A,Pricing!B:B)","v":112.49},{"$f":"Summary!$L$32","v":0.5},56.244999999999997,null,null,null,null,null,null,null,0,null,0,0,0,0,0,0,0]
[null,null,"Jackets","Functional Forest Jacket S",null,582331446,null,null,{"$f":"IFERROR(_xlfn.XLOOKUP(F32,Sheet47!F:F,Sheet47!G:G),\"\")","v":10},{"$f":"_xlfn.XLOOKUP(F32,Pricing!A:A,Pricing!B:B)","v":112.49},{"$f":"Summary!$L$32","v":0.5},56.244999999999997,null,null,null,null,null,null,null,0,null,0,0,0,0,0,0,0]
[null,null,"Jackets","Functional Forest Jacket XL",null,582331458,null,null,{"$f":"IFERROR(_xlfn.XLOOKUP(F33,Sheet47!F:F,Sheet47!G:G),\"\")","v":10},{"$f":"_xlfn.XLOOKUP(F33,Pricing!A:A,Pricing!B:B)","v":112.49},{"$f":"Summary!$L$32","v":0.5},56.244999999999997,null,null,null,null,null,null,null,0,null,0,0,0,0,0,0,0]
[null,null,"Jackets","Functional Forest Jacket XXL",null,582331462,null,null,{"$f":"IFERROR(_xlfn.XLOOKUP(F34,Sheet47!F:F,Sheet47!G:G),\"\")","v":10},{"$f":"_xlfn.XLOOKUP(F34,Pricing!A:A,Pricing!B:B)","v":112.49},{"$f":"Summary!$L$32","v":0.5},56.244999999999997,null,null,null,null,null,null,null,0,null,0,0,0,0,0,0,0]
[null,null,"Jackets","Hi-Vis Brushcutter & Trimming Jacket L",null,597245954,null,null,{"$f":"IFERROR(_xlfn.XLOOKUP(F35,Sheet47!F:F,Sheet47!G:G),\"\")","v":8},{"$f":"_xlfn.XLOOKUP(F35,Pricing!A:A,Pricing!B:B)","v":136.66},{"$f":"Summary!$L$32","v":0.5},68.33,null,null,null,null,null,null,null,0,null,0,0,0,0,0,0,0]
[null,null,"Jackets","Hi-Vis Brushcutter & Trimming Jacket M",null,597245950,null,null,{"$f":"IFERROR(_xlfn.XLOOKUP(F36,Sheet47!F:F,Sheet47!G:G),\"\")","v":8},{"$f":"_xlfn.XLOOKUP(F36,Pricing!A:A,Pricing!B:B)","v":136.66},{"$f":"Summary!$L$32","v":0.5},68.33,null,null,null,null,null,null,null,0,null,0,0,0,0,0,0,0]
[null,null,"Jackets","Hi-Vis Brushcutter & Trimming Jacket S",null,597245946,null,null,{"$f":"IFERROR(_xlfn.XLOOKUP(F37,Sheet47!F:F,Sheet47!G:G),\"\")","v":8},{"$f":"_xlfn.XLOOKUP(F37,Pricing!A:A,Pricing!B:B)","v":136.66},{"$f":"Summary!$L$32","v":0.5},68.33,null,null,null,null,null,null,null,0,null,0,0,0,0,0,0,0]
[null,null,"Jackets","Hi-Vis Brushcutter & Trimming Jacket XL",null,597245958,null,null,{"$f":"IFERROR(_xlfn.XLOOKUP(F38,Sheet47!F:F,Sheet47!G:G),\"\")","v":8},{"$f":"_xlfn.XLOOKUP(F38,Pricing!A:A,Pricing!B:B)","v":136.66},{"$f":"Summary!$L$32","v":0.5},68.33,null,null,null,null,null,null,null,0,null,0,0,0,0,0,0,0]
[null,null,"Jackets","Hi-Vis Brushcutter & Trimming Jacket XXL",null,597245962,null,null,{"$f":"IFERROR(_xlfn.XLOOKUP(F39,Sheet47!F:F,Sheet47!G:G),\"\")","v":8},{"$f":"_xlfn.XLOOKUP(F39,Pricing!A:A,Pricing!B:B)","v":136.66},{"$f":"Summary!$L$32","v":0.5},68.33,null,null,null,null,null,null,null,0,null,0,0,0,0,0,0,0]
[null,null,"Jackets","Rain Jacket Protect High-Viz, Functional L",null,597662854,null,523079254,{"$f":"IFERROR(_xlfn.XLOOKUP(F40,Sheet47!F:F,Sheet47!G:G),\"\")","v":14},{"$f":"_xlfn.XLOOKUP(F40,Pricing!A:A,Pricing!B:B)","v":121.66},{"$f":"Summary!$L$32","v":0.5},60.83,null,null,null,null,null,null,null,0,null,0,0,0,0,0,0,0]
[null,null,"Jackets","Rain Jacket Protect High-Viz, Functional M",null,597662850,null,523079250,{"$f":"IFERROR(_xlfn.XLOOKUP(F41,Sheet47!F:F,Sheet47!G:G),\"\")","v":14},{"$f":"_xlfn.XLOOKUP(F41,Pricing!A:A,Pricing!B:B)","v":121.66},{"$f":"Summary!$L$32","v":0.5},60.83,null,null,null,null,null,null,null,0,null,0,0,0,0,0,0,0]
[null,null,"Jackets","Rain Jacket Protect High-Viz, Functional S",null,597662846,null,523079246,{"$f":"IFERROR(_xlfn.XLOOKUP(F42,Sheet47!F:F,Sheet47!G:G),\"\")","v":14},{"$f":"_xlfn.XLOOKUP(F42,Pricing!A:A,Pricing!B:B)","v":121.66},{"$f":"Summary!$L$32","v":0.5},60.83,null,null,null,null,null,null,null,0,null,0,0,0,0,0,0,0]
[null,null,"Jackets","Rain Jacket Protect High-Viz, Functional XL",null,597662858,null,523079258,{"$f":"IFERROR(_xlfn.XLOOKUP(F43,Sheet47!F:F,Sheet47!G:G),\"\")","v":14},{"$f":"_xlfn.XLOOKUP(F43,Pricing!A:A,Pricing!B:B)","v":121.66},{"$f":"Summary!$L$32","v":0.5},60.83,null,null,null,null,null,null,null,0,null,0,0,0,0,0,0,0]
[null,null,"Jackets","Rain Jacket Protect High-Viz, Functional XS",null,597662842,null,null,{"$f":"IFERROR(_xlfn.XLOOKUP(F44,Sheet47!F:F,Sheet47!G:G),\"\")","v":14},{"$f":"_xlfn.XLOOKUP(F44,Pricing!A:A,Pricing!B:B)","v":121.66},{"$f":"Summary!$L$32","v":0.5},60.83,null,null,null,null,null,null,null,0,null,0,0,0,0,0,0,0]
[null,null,"Jackets","Rain Jacket Vent High-Viz, Technical L",null,597662654,null,580688054,{"$f":"IFERROR(_xlfn.XLOOKUP(F45,Sheet47!F:F,Sheet47!G:G),\"\")","v":10},{"$f":"_xlfn.XLOOKUP(F45,Pricing!A:A,Pricing!B:B)","v":199.17},{"$f":"Summary!$L$32","v":0.5},99.584999999999994,null,null,null,null,null,null,null,0,null,0,0,0,0,0,0,0]
[null,null,"Jackets","Rain Jacket Vent High-Viz, Technical M",null,597662650,null,580688050,{"$f":"IFERROR(_xlfn.XLOOKUP(F46,Sheet47!F:F,Sheet47!G:G),\"\")","v":10},{"$f":"_xlfn.XLOOKUP(F46,Pricing!A:A,Pricing!B:B)","v":199.17},{"$f":"Summary!$L$32","v":0.5},99.584999999999994,null,null,null,null,null,null,null,0,null,0,0,0,0,0,0,0]
[null,null,"Jackets","Rain Jacket Vent High-Viz, Technical S",null,597662646,null,580688046,{"$f":"IFERROR(_xlfn.XLOOKUP(F47,Sheet47!F:F,Sheet47!G:G),\"\")","v":10},{"$f":"_xlfn.XLOOKUP(F47,Pricing!A:A,Pricing!B:B)","v":199.17},{"$f":"Summary!$L$32","v":0.5},99.584999999999994,null,null,null,null,null,null,null,0,null,0,0,0,0,0,0,0]
[null,null,"Jackets","Rain Jacket Vent High-Viz, Technical XL",null,597662658,null,580688058,{"$f":"IFERROR(_xlfn.XLOOKUP(F48,Sheet47!F:F,Sheet47!G:G),\"\")","v":10},{"$f":"_xlfn.XLOOKUP(F48,Pricing!A:A,Pricing!B:B)","v":199.17},{"$f":"Summary!$L$32","v":0.5},99.584999999999994,null,null,null,null,null,null,null,0,null,0,0,0,0,0,0,0]
[null,null,"Jackets","Rain Jacket Vent High-Viz, Technical XS",null,597662642,null,null,{"$f":"IFERROR(_xlfn.XLOOKUP(F49,Sheet47!F:F,Sheet47!G:G),\"\")","v":10},{"$f":"_xlfn.XLOOKUP(F49,Pricing!A:A,Pricing!B:B)","v":199.17},{"$f":"Summary!$L$32","v":0.5},99.584999999999994,null,null,null,null,null,null,null,0,null,0,0,0,0,0,0,0]
[null,null,"Jackets","Rain Jacket Vent High-Viz, Technical XXL",null,597662662,null,580688062,{"$f":"IFERROR(_xlfn.XLOOKUP(F50,Sheet47!F:F,Sheet47!G:G),\"\")","v":10},{"$f":"_xlfn.XLOOKUP(F50,Pricing!A:A,Pricing!B:B)","v":199.17},{"$f":"Summary!$L$32","v":0.5},99.584999999999994,null,null,null,null,null,null,null,0,null,0,0,0,0,0,0,0]
[null,null,"Jackets","Technical Brushcutter & Trimming Jacket L",null,597660254,null,580688254,{"$f":"IFERROR(_xlfn.XLOOKUP(F51,Sheet47!F:F,Sheet47!G:G),\"\")","v":8},{"$f":"_xlfn.XLOOKUP(F51,Pricing!A:A,Pricing!B:B)","v":121.66},{"$f":"Summary!$L$32","v":0.5},60.83,null,null,null,null,null,null,null,0,null,0,0,0,0,0,0,0]
[null,null,"Jackets","Technical Brushcutter & Trimming Jacket M",null,597660250,null,580688250,{"$f":"IFERROR(_xlfn.XLOOKUP(F52,Sheet47!F:F,Sheet47!G:G),\"\")","v":8},{"$f":"_xlfn.XLOOKUP(F52,Pricing!A:A,Pricing!B:B)","v":121.66},{"$f":"Summary!$L$32","v":0.5},60.83,null,null,null,null,null,null,null,0,null,0,0,0,0,0,0,0]
[null,null,"Jackets","Technical Brushcutter & Trimming Jacket S",null,597660246,null,580688246,{"$f":"IFERROR(_xlfn.XLOOKUP(F53,Sheet47!F:F,Sheet47!G:G),\"\")","v":8},{"$f":"_xlfn.XLOOKUP(F53,Pricing!A:A,Pricing!B:B)","v":121.66},{"$f":"Summary!$L$32","v":0.5},60.83,null,null,null,null,null,null,null,0,null,0,0,0,0,0,0,0]
[null,null,"Jackets","Technical Brushcutter & Trimming Jacket XL",null,597660258,null,580688258,{"$f":"IFERROR(_xlfn.XLOOKUP(F54,Sheet47!F:F,Sheet47!G:G),\"\")","v":8},{"$f":"_xlfn.XLOOKUP(F54,Pricing!A:A,Pricing!B:B)","v":121.66},{"$f":"Summary!$L$32","v":0.5},60.83,null,null,null,null,null,null,null,0,null,0,0,0,0,0,0,0]
[null,null,"Jackets","Technical Brushcutter & Trimming Jacket XXL",null,597660262,null,580688262,{"$f":"IFERROR(_xlfn.XLOOKUP(F55,Sheet47!F:F,Sheet47!G:G),\"\")","v":8},{"$f":"_xlfn.XLOOKUP(F55,Pricing!A:A,Pricing!B:B)","v":121.66},{"$f":"Summary!$L$32","v":0.5},60.83,null,null,null,null,null,null,null,0,null,0,0,0,0,0,0,0]
[null,null,"Jackets","Technical Chainsaw Jacket Arbor 20 L",null,529516254,null,594998854,{"$f":"IFERROR(_xlfn.XLOOKUP(F56,Sheet47!F:F,Sheet47!G:G),\"\")","v":8},{"$f":"_xlfn.XLOOKUP(F56,Pricing!A:A,Pricing!B:B)","v":307.5},{"$f":"Summary!$L$32","v":0.5},153.75,null,null,null,null,null,null,null,0,null,0,0,0,0,0,0,0]
[null,null,"Jackets","Technical Chainsaw Jacket Arbor 20 M",null,529516250,null,594998850,{"$f":"IFERROR(_xlfn.XLOOKUP(F57,Sheet47!F:F,Sheet47!G:G),\"\")","v":8},{"$f":"_xlfn.XLOOKUP(F57,Pricing!A:A,Pricing!B:B)","v":307.5},{"$f":"Summary!$L$32","v":0.5},153.75,null,null,null,null,null,null,null,0,null,0,0,0,0,0,0,0]
[null,null,"Jackets","Technical Chainsaw Jacket Arbor 20 S",null,529516246,null,594998846,{"$f":"IFERROR(_xlfn.XLOOKUP(F58,Sheet47!F:F,Sheet47!G:G),\"\")","v":8},{"$f":"_xlfn.XLOOKUP(F58,Pricing!A:A,Pricing!B:B)","v":307.5},{"$f":"Summary!$L$32","v":0.5},153.75,null,null,null,null,null,null,null,0,null,0,0,0,0,0,0,0]
[null,null,"Jackets","Technical Chainsaw Jacket Arbor 20 XL",null,529516258,null,594998858,{"$f":"IFERROR(_xlfn.XLOOKUP(F59,Sheet47!F:F,Sheet47!G:G),\"\")","v":8},{"$f":"_xlfn.XLOOKUP(F59,Pricing!A:A,Pricing!B:B)","v":307.5},{"$f":"Summary!$L$32","v":0.5},153.75,null,null,null,null,null,null,null,0,null,0,0,0,0,0,0,0]
[null,null,"Jackets","Technical Extreme Forest Jacket Ladies M",null,582340750,null,null,{"$f":"IFERROR(_xlfn.XLOOKUP(F60,Sheet47!F:F,Sheet47!G:G),\"\")","v":15},{"$f":"_xlfn.XLOOKUP(F60,Pricing!A:A,Pricing!B:B)","v":282.5},{"$f":"Summary!$L$32","v":0.5},141.25,null,null,null,null,null,null,null,0,null,0,0,0,0,0,0,0]
[null,null,"Jackets","Technical Extreme Forest Jacket Ladies S",null,582340746,null,null,{"$f":"IFERROR(_xlfn.XLOOKUP(F61,Sheet47!F:F,Sheet47!G:G),\"\")","v":15},{"$f":"_xlfn.XLOOKUP(F61,Pricing!A:A,Pricing!B:B)","v":282.5},{"$f":"Summary!$L$32","v":0.5},141.25,null,null,null,null,null,null,null,0,null,0,0,0,0,0,0,0]
[null,null,"Jackets","Technical Extreme Forest Jacket Ladies XS",null,582340742,null,null,{"$f":"IFERROR(_xlfn.XLOOKUP(F62,Sheet47!F:F,Sheet47!G:G),\"\")","v":15},{"$f":"_xlfn.XLOOKUP(F62,Pricing!A:A,Pricing!B:B)","v":282.5},{"$f":"Summary!$L$32","v":0.5},141.25,null,null,null,null,null,null,null,0,null,0,0,0,0,0,0,0]
[null,null,"Jackets","Technical Forest Jacket L",null,582332154,null,null,{"$f":"IFERROR(_xlfn.XLOOKUP(F63,Sheet47!F:F,Sheet47!G:G),\"\")","v":10},{"$f":"_xlfn.XLOOKUP(F63,Pricing!A:A,Pricing!B:B)","v":224.17},{"$f":"Summary!$L$32","v":0.5},112.08499999999999,null,null,null,null,null,null,null,0,null,0,0,0,0,0,0,0]
[null,null,"Jackets","Technical Forest Jacket M",null,582332150,null,null,{"$f":"IFERROR(_xlfn.XLOOKUP(F64,Sheet47!F:F,Sheet47!G:G),\"\")","v":10},{"$f":"_xlfn.XLOOKUP(F64,Pricing!A:A,Pricing!B:B)","v":224.17},{"$f":"Summary!$L$32","v":0.5},112.08499999999999,null,null,null,null,null,null,null,0,null,0,0,0,0,0,0,0]
[null,null,"Jackets","Technical Forest Jacket S",null,582332146,null,null,{"$f":"IFERROR(_xlfn.XLOOKUP(F65,Sheet47!F:F,Sheet47!G:G),\"\")","v":10},{"$f":"_xlfn.XLOOKUP(F65,Pricing!A:A,Pricing!B:B)","v":224.17},{"$f":"Summary!$L$32","v":0.5},112.08499999999999,null,null,null,null,null,null,null,0,null,0,0,0,0,0,0,0]
[null,null,"Jackets","Technical Forest Jacket XL",null,582332158,null,null,{"$f":"IFERROR(_xlfn.XLOOKUP(F66,Sheet47!F:F,Sheet47!G:G),\"\")","v":10},{"$f":"_xlfn.XLOOKUP(F66,Pricing!A:A,Pricing!B:B)","v":224.17},{"$f":"Summary!$L$32","v":0.5},112.08499999999999,null,null,null,null,null,null,null,0,null,0,0,0,0,0,0,0]
[null,null,"Jackets","Technical Forest Jacket XXL",null,582332162,null,null,{"$f":"IFERROR(_xlfn.XLOOKUP(F67,Sheet47!F:F,Sheet47!G:G),\"\")","v":10},{"$f":"_xlfn.XLOOKUP(F67,Pricing!A:A,Pricing!B:B)","v":224.17},{"$f":"Summary!$L$32","v":0.5},112.08499999999999,null,null,null,null,null,null,null,0,null,0,0,0,0,0,0,0]
[null,null,"Jackets","Technical Vent Jacket L",null,582334354,null,null,{"$f":"IFERROR(_xlfn.XLOOKUP(F68,Sheet47!F:F,Sheet47!G:G),\"\")","v":10},{"$f":"_xlfn.XLOOKUP(F68,Pricing!A:A,Pricing!B:B)","v":104.16},{"$f":"Summary!$L$32","v":0.5},{"$f":"J68-(J68*K68)","v":52.08},null,null,null,null,null,null,null,{"$f":"SUM(N68:S68)","v":0},null,{"$f":"L68*N68","v":0},{"$f":"L68*O68","v":0},{"$f":"L68*P68","v":0},{"$f":"L68*Q68","v":0},{"$f":"$L68*R68","v":0},{"$f":"$L68*S68","v":0},{"$f":"SUM(V68:AA68)","v":0}]
[null,null,"Jackets","Technical Vent Jacket M",null,582334350,null,null,{"$f":"IFERROR(_xlfn.XLOOKUP(F69,Sheet47!F:F,Sheet47!G:G),\"\")","v":10},{"$f":"_xlfn.XLOOKUP(F69,Pricing!A:A,Pricing!B:B)","v":104.16},{"$f":"Summary!$L$32","v":0.5},52.08,null,null,null,null,null,null,null,0,null,0,0,0,0,0,0,0]
[null,null,"Jackets","Rain Back Protector Protect, Functional",null,597663310,null,null,null,{"$f":"_xlfn.XLOOKUP(F70,Pricing!A:A,Pricing!B:B)","v":54.16},{"$f":"Summary!$L$32","v":0.5},{"$f":"J70-(J70*K70)","v":27.08},null,null,null,null,null,null,null,{"$f":"SUM(N70:S70)","v":0},null,{"$f":"L70*N70","v":0},{"$f":"L70*O70","v":0},{"$f":"L70*P70","v":0},{"$f":"L70*Q70","v":0},{"$f":"$L70*R70","v":0},{"$f":"$L70*S70","v":0},{"$f":"SUM(V70:AA70)","v":0}]
[null,null,"Jackets","Technical Vent Jacket S",null,582334346,null,null,{"$f":"IFERROR(_xlfn.XLOOKUP(F71,Sheet47!F:F,Sheet47!G:G),\"\")","v":10},{"$f":"_xlfn.XLOOKUP(F71,Pricing!A:A,Pricing!B:B)","v":104.16},{"$f":"Summary!$L$32","v":0.5},52.08,null,null,null,null,null,null,null,0,null,0,0,0,0,0,0,0]
[null,null,"Jackets","Technical Vent Jacket XL",null,582334358,null,null,{"$f":"IFERROR(_xlfn.XLOOKUP(F72,Sheet47!F:F,Sheet47!G:G),\"\")","v":10},{"$f":"_xlfn.XLOOKUP(F72,Pricing!A:A,Pricing!B:B)","v":104.16},{"$f":"Summary!$L$32","v":0.5},52.08,null,null,null,null,null,null,null,0,null,0,0,0,0,0,0,0]
[null,null,"Jackets","Technical Vent Jacket XXL",null,582334362,null,null,{"$f":"IFERROR(_xlfn.XLOOKUP(F73,Sheet47!F:F,Sheet47!G:G),\"\")","v":10},{"$f":"_xlfn.XLOOKUP(F73,Pricing!A:A,Pricing!B:B)","v":104.16},{"$f":"Summary!$L$32","v":0.5},52.08,null,null,null,null,null,null,null,0,null,0,0,0,0,0,0,0]

{"sheet":"Gloves","index":37,"n_rows":58,"n_cols":28,"rows_kept":58,"cut":false,"hidden":false,"merged":[[10,21,10,27],[1,4,1,8],[2,4,2,8],[3,4,3,8],[4,4,4,8],[5,4,5,8],[6,4,6,8],[7,4,7,8],[8,3,8,5],[8,6,8,8],[10,2,10,11],[10,13,10,19],[11,3,11,4],[12,1,57,1],[12,3,12,4],[13,3,13,4],[37,3,37,4],[38,3,38,4],[39,3,39,4],[40,3,40,4],[41,3,41,4],[42,3,42,4],[19,3,19,4],[55,3,55,4],[56,3,56,4],[57,3,57,4],[49,3,49,4],[50,3,50,4],[51,3,51,4],[52,3,52,4],[53,3,53,4],[54,3,54,4],[43,3,43,4],[44,3,44,4],[45,3,45,4],[46,3,46,4],[47,3,47,4],[48,3,48,4],[14,3,14,4],[15,3,15,4],[16,3,16,4],[17,3,17,4],[18,3,18,4],[31,3,31,4],[20,3,20,4],[21,3,21,4],[22,3,22,4],[23,3,23,4],[24,3,24,4],[25,3,25,4],[26,3,26,4],[27,3,27,4],[28,3,28,4],[29,3,29,4],[30,3,30,4],[32,3,32,4],[33,3,33,4],[34,3,34,4],[35,3,35,4],[36,3,36,4]]}
[]
[null,null,null,"Dealer Name",{"$f":"Summary!F2","v":"Winchester Garden Machinery Ltd - Arb"}]
[null,null,null,"Dealer Postcode",{"$f":"Summary!F3","v":"SO21 1HF"}]
[null,null,null,"Account Number",{"$f":"Summary!F4","v":28400505}]
[null,null,null,"Order Number",{"$f":"Summary!F5","v":0}]
[null,null,null,"Project Code",{"$f":"Summary!F6","v":"PSO2024"}]
[null,null,null,"Order Date",{"$f":"Summary!F7","v":"00:00:00"}]
[null,null,null,"ABM",{"$f":"Summary!F8","v":"Francesca_Bosley"}]
[null,null,null,"PSO minimum 40% of turnover = Additional 2% terms",null,null,{"$f":"Summary!I9","v":0.02}]
[]
[null,null,"Gloves",null,null,null,null,null,null,null,null,null,null,"Order Quantity",null,null,null,null,null,null,null,"Order Value"]
[null,null,"Product Type","Model Description",null,"PNC","Size","Replaces","Box Qty","List Price 2024 Ex VAT","Discount","Dealer Net Price",null,"January","February","March","April","May","June","Total Qty",null,"January","February","March","April","May","June","Total Value"]
[null,"PPE","Gloves","Gloves Functional Grip Winter 12",null,529880412,null,null,{"$f":"IFERROR(_xlfn.XLOOKUP(F13,Sheet47!F:F,Sheet47!G:G),\"\")","v":1},{"$f":"_xlfn.XLOOKUP(F13,Pricing!A:A,Pricing!B:B)","v":8.33},{"$f":"Summary!$L$32","v":0.5},{"$f":"J13-(J13*K13)","v":4.165},null,null,null,null,null,null,null,{"$f":"SUM(N13:S13)","v":0},null,{"$f":"L13*N13","v":0},{"$f":"L13*O13","v":0},{"$f":"L13*P13","v":0},{"$f":"$L13*Q13","v":0},{"$f":"$L13*R13","v":0},0,{"$f":"SUM(V13:AA13)","v":0}]
[null,null,"Gloves","Gloves Functional Light Non-slip 7",null,529880207,null,null,{"$f":"IFERROR(_xlfn.XLOOKUP(F14,Sheet47!F:F,Sheet47!G:G),\"\")","v":1},{"$f":"_xlfn.XLOOKUP(F14,Pricing!A:A,Pricing!B:B)","v":19.989999999999998},{"$f":"Summary!$L$32","v":0.5},{"$f":"J14-(J14*K14)","v":9.9949999999999992},null,null,null,null,null,null,null,{"$f":"SUM(N14:S14)","v":0},null,{"$f":"L14*N14","v":0},{"$f":"L14*O14","v":0},{"$f":"L14*P14","v":0},{"$f":"L14*Q14","v":0},{"$f":"$L14*R14","v":0},{"$f":"$L14*S14","v":0},{"$f":"SUM(V14:AA14)","v":0}]
[null,null,"Gloves","Gloves Functional Light Non-slip 8",null,529880208,null,null,{"$f":"IFERROR(_xlfn.XLOOKUP(F15,Sheet47!F:F,Sheet47!G:G),\"\")","v":1},{"$f":"_xlfn.XLOOKUP(F15,Pricing!A:A,Pricing!B:B)","v":19.989999999999998},{"$f":"Summary!$L$32","v":0.5},{"$f":"J15-(J15*K15)","v":9.9949999999999992},null,null,null,null,null,null,null,{"$f":"SUM(N15:S15)","v":0},null,{"$f":"L15*N15","v":0},{"$f":"L15*O15","v":0},{"$f":"L15*P15","v":0},{"$f":"L15*Q15","v":0},0,0,0]
[null,null,"Gloves","Gloves Functional Light Non-slip 9",null,529880209,null,null,{"$f":"IFERROR(_xlfn.XLOOKUP(F16,Sheet47!F:F,Sheet47!G:G),\"\")","v":1},{"$f":"_xlfn.XLOOKUP(F16,Pricing!A:A,Pricing!B:B)","v":19.989999999999998},{"$f":"Summary!$L$32","v":0.5},9.9949999999999992,null,null,null,null,null,null,null,0,null,0,0,0,0,0,0,0]
[null,null,"Gloves","Gloves Functional Light Non-slip 10",null,529880210,null,null,{"$f":"IFERROR(_xlfn.XLOOKUP(F17,Sheet47!F:F,Sheet47!G:G),\"\")","v":1},{"$f":"_xlfn.XLOOKUP(F17,Pricing!A:A,Pricing!B:B)","v":19.989999999999998},{"$f":"Summary!$L$32","v":0.5},9.9949999999999992,null,null,null,null,null,null,null,0,null,0,0,0,0,0,0,0]
[null,null,"Gloves","Gloves Functional Light Vent 7",null,529880107,null,null,{"$f":"IFERROR(_xlfn.XLOOKUP(F18,Sheet47!F:F,Sheet47!G:G),\"\")","v":1},{"$f":"_xlfn.XLOOKUP(F18,Pricing!A:A,Pricing!B:B)","v":19.989999999999998},{"$f":"Summary!$L$32","v":0.5},9.9949999999999992,null,null,null,null,null,null,null,0,null,0,0,0,0,0,0,0]
[null,null,"Gloves","Gloves Functional Light Vent 8",null,529880108,null,null,{"$f":"IFERROR(_xlfn.XLOOKUP(F19,Sheet47!F:F,Sheet47!G:G),\"\")","v":1},{"$f":"_xlfn.XLOOKUP(F19,Pricing!A:A,Pricing!B:B)","v":19.989999999999998},{"$f":"Summary!$L$32","v":0.5},9.9949999999999992,null,null,null,null,null,null,null,0,null,0,0,0,0,0,0,0]
[null,null,"Gloves","Gloves Functional Light Vent 9",null,529880109,null,null,{"$f":"IFERROR(_xlfn.XLOOKUP(F20,Sheet47!F:F,Sheet47!G:G),\"\")","v":1},{"$f":"_xlfn.XLOOKUP(F20,Pricing!A:A,Pricing!B:B)","v":19.989999999999998},{"$f":"Summary!$L$32","v":0.5},9.9949999999999992,null,null,null,null,null,null,null,0,null,0,0,0,0,0,0,0]
[null,null,"Gloves","Gloves Functional Light Vent 10",null,529880110,null,null,{"$f":"IFERROR(_xlfn.XLOOKUP(F21,Sheet47!F:F,Sheet47!G:G),\"\")","v":1},{"$f":"_xlfn.XLOOKUP(F21,Pricing!A:A,Pricing!B:B)","v":19.989999999999998},{"$f":"Summary!$L$32","v":0.5},9.9949999999999992,null,null,null,null,null,null,null,0,null,0,0,0,0,0,0,0]
[null,null,"Gloves","Gloves Functional Grip Winter 8",null,529880408,null,null,{"$f":"IFERROR(_xlfn.XLOOKUP(F22,Sheet47!F:F,Sheet47!G:G),\"\")","v":1},{"$f":"_xlfn.XLOOKUP(F22,Pricing!A:A,Pricing!B:B)","v":8.33},{"$f":"Summary!$L$32","v":0.5},4.165,null,null,null,null,null,null,null,0,null,0,0,0,0,0,0,0]
[null,null,"Gloves","Gloves Functional Grip Winter 9",null,529880409,null,null,{"$f":"IFERROR(_xlfn.XLOOKUP(F23,Sheet47!F:F,Sheet47!G:G),\"\")","v":1},{"$f":"_xlfn.XLOOKUP(F23,Pricing!A:A,Pricing!B:B)","v":8.33},{"$f":"Summary!$L$32","v":0.5},4.165,null,null,null,null,null,null,null,0,null,0,0,0,0,0,0,0]
[null,null,"Gloves","Gloves Functional Grip Winter 10",null,529880410,null,null,{"$f":"IFERROR(_xlfn.XLOOKUP(F24,Sheet47!F:F,Sheet47!G:G),\"\")","v":1},{"$f":"_xlfn.XLOOKUP(F24,Pricing!A:A,Pricing!B:B)","v":8.33},{"$f":"Summary!$L$32","v":0.5},4.165,null,null,null,null,null,null,null,0,null,0,0,0,0,0,0,0]
[null,null,"Gloves","Gloves Functional Light Comfort 6",null,599649406,null,596310606,{"$f":"IFERROR(_xlfn.XLOOKUP(F25,Sheet47!F:F,Sheet47!G:G),\"\")","v":1},{"$f":"_xlfn.XLOOKUP(F25,Pricing!A:A,Pricing!B:B)","v":19.989999999999998},{"$f":"Summary!$L$32","v":0.5},9.9949999999999992,null,null,null,null,null,null,null,0,null,0,0,0,0,0,0,0]
[null,null,"Gloves","Gloves Functional Light Comfort 7",null,599649407,null,596310607,{"$f":"IFERROR(_xlfn.XLOOKUP(F26,Sheet47!F:F,Sheet47!G:G),\"\")","v":1},{"$f":"_xlfn.XLOOKUP(F26,Pricing!A:A,Pricing!B:B)","v":19.989999999999998},{"$f":"Summary!$L$32","v":0.5},9.9949999999999992,null,null,null,null,null,null,null,0,null,0,0,0,0,0,0,0]
[null,null,"Gloves","Gloves Functional Light Comfort 8",null,599649408,null,596310608,{"$f":"IFERROR(_xlfn.XLOOKUP(F27,Sheet47!F:F,Sheet47!G:G),\"\")","v":1},{"$f":"_xlfn.XLOOKUP(F27,Pricing!A:A,Pricing!B:B)","v":19.989999999999998},{"$f":"Summary!$L$32","v":0.5},9.9949999999999992,null,null,null,null,null,null,null,0,null,0,0,0,0,0,0,0]
[null,null,"Gloves","Gloves Functional Light Comfort 9",null,599649409,null,596310609,{"$f":"IFERROR(_xlfn.XLOOKUP(F28,Sheet47!F:F,Sheet47!G:G),\"\")","v":1},{"$f":"_xlfn.XLOOKUP(F28,Pricing!A:A,Pricing!B:B)","v":19.989999999999998},{"$f":"Summary!$L$32","v":0.5},9.9949999999999992,null,null,null,null,null,null,null,0,null,0,0,0,0,0,0,0]
[null,null,"Gloves","Gloves Functional Light Comfort 10",null,599649410,null,596310610,{"$f":"IFERROR(_xlfn.XLOOKUP(F29,Sheet47!F:F,Sheet47!G:G),\"\")","v":1},{"$f":"_xlfn.XLOOKUP(F29,Pricing!A:A,Pricing!B:B)","v":19.989999999999998},{"$f":"Summary!$L$32","v":0.5},9.9949999999999992,null,null,null,null,null,null,null,0,null,0,0,0,0,0,0,0]
[null,null,"Gloves","Gloves Functional Light Comfort 12",null,599649412,null,null,{"$f":"IFERROR(_xlfn.XLOOKUP(F30,Sheet47!F:F,Sheet47!G:G),\"\")","v":1},{"$f":"_xlfn.XLOOKUP(F30,Pricing!A:A,Pricing!B:B)","v":19.989999999999998},{"$f":"Summary!$L$32","v":0.5},9.9949999999999992,null,null,null,null,null,null,null,0,null,0,0,0,0,0,0,0]
[null,null,"Gloves","Gloves Functional 7",null,599649807,null,596309407,{"$f":"IFERROR(_xlfn.XLOOKUP(F31,Sheet47!F:F,Sheet47!G:G),\"\")","v":1},{"$f":"_xlfn.XLOOKUP(F31,Pricing!A:A,Pricing!B:B)","v":24.99},{"$f":"Summary!$L$32","v":0.5},12.494999999999999,null,null,null,null,null,null,null,0,null,0,0,0,0,0,0,0]
[null,null,"Gloves","Gloves Functional 8",null,599649808,null,596309408,{"$f":"IFERROR(_xlfn.XLOOKUP(F32,Sheet47!F:F,Sheet47!G:G),\"\")","v":1},{"$f":"_xlfn.XLOOKUP(F32,Pricing!A:A,Pricing!B:B)","v":24.99},{"$f":"Summary!$L$32","v":0.5},12.494999999999999,null,null,null,null,null,null,null,0,null,0,0,0,0,0,0,0]
[null,null,"Gloves","Gloves Functional 9",null,599649809,null,596309409,{"$f":"IFERROR(_xlfn.XLOOKUP(F33,Sheet47!F:F,Sheet47!G:G),\"\")","v":1},{"$f":"_xlfn.XLOOKUP(F33,Pricing!A:A,Pricing!B:B)","v":24.99},{"$f":"Summary!$L$32","v":0.5},12.494999999999999,null,null,null,null,null,null,null,0,null,0,0,0,0,0,0,0]
[null,null,"Gloves","Gloves Functional 10",null,599649810,null,596309410,{"$f":"IFERROR(_xlfn.XLOOKUP(F34,Sheet47!F:F,Sheet47!G:G),\"\")","v":1},{"$f":"_xlfn.XLOOKUP(F34,Pricing!A:A,Pricing!B:B)","v":24.99},{"$f":"Summary!$L$32","v":0.5},12.494999999999999,null,null,null,null,null,null,null,0,null,0,0,0,0,0,0,0]
[null,null,"Gloves","Gloves Functional 12",null,599649812,null,596309412,{"$f":"IFERROR(_xlfn.XLOOKUP(F35,Sheet47!F:F,Sheet47!G:G),\"\")","v":1},{"$f":"_xlfn.XLOOKUP(F35,Pricing!A:A,Pricing!B:B)","v":24.99},{"$f":"Summary!$L$32","v":0.5},12.494999999999999,null,null,null,null,null,null,null,0,null,0,0,0,0,0,0,0]
[null,null,"Gloves","Gloves Technical light 8",null,599651108,null,596309208,{"$f":"IFERROR(_xlfn.XLOOKUP(F36,Sheet47!F:F,Sheet47!G:G),\"\")","v":1},{"$f":"_xlfn.XLOOKUP(F36,Pricing!A:A,Pricing!B:B)","v":24.99},{"$f":"Summary!$L$32","v":0.5},12.494999999999999,null,null,null,null,null,null,null,0,null,0,0,0,0,0,0,0]
[null,null,"Gloves","Gloves Technical light 9",null,599651109,null,596309209,{"$f":"IFERROR(_xlfn.XLOOKUP(F37,Sheet47!F:F,Sheet47!G:G),\"\")","v":1},{"$f":"_xlfn.XLOOKUP(F37,Pricing!A:A,Pricing!B:B)","v":24.99},{"$f":"Summary!$L$32","v":0.5},12.494999999999999,null,null,null,null,null,null,null,0,null,0,0,0,0,0,0,0]
[null,null,"Gloves","Gloves Technical light 10",null,599651110,null,596309210,{"$f":"IFERROR(_xlfn.XLOOKUP(F38,Sheet47!F:F,Sheet47!G:G),\"\")","v":1},{"$f":"_xlfn.XLOOKUP(F38,Pricing!A:A,Pricing!B:B)","v":24.99},{"$f":"Summary!$L$32","v":0.5},12.494999999999999,null,null,null,null,null,null,null,0,null,0,0,0,0,0,0,0]
[null,null,"Gloves","Gloves Technical light 12",null,599651112,null,null,{"$f":"IFERROR(_xlfn.XLOOKUP(F39,Sheet47!F:F,Sheet47!G:G),\"\")","v":1},{"$f":"_xlfn.XLOOKUP(F39,Pricing!A:A,Pricing!B:B)","v":24.99},{"$f":"Summary!$L$32","v":0.5},12.494999999999999,null,null,null,null,null,null,null,0,null,0,0,0,0,0,0,0]
[null,null,"Gloves","Gloves Technical 9",null,599650309,null,596306709,{"$f":"IFERROR(_xlfn.XLOOKUP(F40,Sheet47!F:F,Sheet47!G:G),\"\")","v":1},{"$f":"_xlfn.XLOOKUP(F40,Pricing!A:A,Pricing!B:B)","v":29.99},{"$f":"Summary!$L$32","v":0.5},14.994999999999999,null,null,null,null,null,null,null,0,null,0,0,0,0,0,0,0]
[null,null,"Gloves","Gloves Technical 10",null,599650310,null,596306710,{"$f":"IFERROR(_xlfn.XLOOKUP(F41,Sheet47!F:F,Sheet47!G:G),\"\")","v":1},{"$f":"_xlfn.XLOOKUP(F41,Pricing!A:A,Pricing!B:B)","v":29.99},{"$f":"Summary!$L$32","v":0.5},14.994999999999999,null,null,null,null,null,null,null,0,null,0,0,0,0,0,0,0]
[null,null,"Gloves","Gloves Technical 12",null,599650312,null,596306712,{"$f":"IFERROR(_xlfn.XLOOKUP(F42,Sheet47!F:F,Sheet47!G:G),\"\")","v":1},{"$f":"_xlfn.XLOOKUP(F42,Pricing!A:A,Pricing!B:B)","v":29.99},{"$f":"Summary!$L$32","v":0.5},14.994999999999999,null,null,null,null,null,null,null,0,null,0,0,0,0,0,0,0]
[null,null,"Gloves","Gloves Functional winter 8",null,599649708,null,596309308,{"$f":"IFERROR(_xlfn.XLOOKUP(F43,Sheet47!F:F,Sheet47!G:G),\"\")","v":1},{"$f":"_xlfn.XLOOKUP(F43,Pricing!A:A,Pricing!B:B)","v":38.33},{"$f":"Summary!$L$32","v":0.5},19.164999999999999,null,null,null,null,null,null,null,0,null,0,0,0,0,0,0,0]
[null,null,"Gloves","Gloves Functional winter 10",null,599649710,null,596309310,{"$f":"IFERROR(_xlfn.XLOOKUP(F44,Sheet47!F:F,Sheet47!G:G),\"\")","v":1},{"$f":"_xlfn.XLOOKUP(F44,Pricing!A:A,Pricing!B:B)","v":38.33},{"$f":"Summary!$L$32","v":0.5},19.164999999999999,null,null,null,null,null,null,null,0,null,0,0,0,0,0,0,0]
[null,null,"Gloves","Gloves Functional winter 12",null,599649712,null,596309312,{"$f":"IFERROR(_xlfn.XLOOKUP(F45,Sheet47!F:F,Sheet47!G:G),\"\")","v":1},{"$f":"_xlfn.XLOOKUP(F45,Pricing!A:A,Pricing!B:B)","v":38.33},{"$f":"Summary!$L$32","v":0.5},19.164999999999999,null,null,null,null,null,null,null,0,null,0,0,0,0,0,0,0]
[null,null,"Gloves","Gloves Technical Grip 7",null,529880307,null,null,{"$f":"IFERROR(_xlfn.XLOOKUP(F46,Sheet47!F:F,Sheet47!G:G),\"\")","v":1},{"$f":"_xlfn.XLOOKUP(F46,Pricing!A:A,Pricing!B:B)","v":8.33},{"$f":"Summary!$L$32","v":0.5},4.165,null,null,null,null,null,null,null,0,null,0,0,0,0,0,0,0]
[null,null,"Gloves","Gloves Technical Grip 8",null,529880308,null,null,{"$f":"IFERROR(_xlfn.XLOOKUP(F47,Sheet47!F:F,Sheet47!G:G),\"\")","v":1},{"$f":"_xlfn.XLOOKUP(F47,Pricing!A:A,Pricing!B:B)","v":8.33},{"$f":"Summary!$L$32","v":0.5},4.165,null,null,null,null,null,null,null,0,null,0,0,0,0,0,0,0]
[null,null,"Gloves","Gloves Technical Grip 9",null,529880309,null,null,{"$f":"IFERROR(_xlfn.XLOOKUP(F48,Sheet47!F:F,Sheet47!G:G),\"\")","v":1},{"$f":"_xlfn.XLOOKUP(F48,Pricing!A:A,Pricing!B:B)","v":8.33},{"$f":"Summary!$L$32","v":0.5},4.165,null,null,null,null,null,null,null,0,null,0,0,0,0,0,0,0]
[null,null,"Gloves","Gloves Technical Grip 10",null,529880310,null,null,{"$f":"IFERROR(_xlfn.XLOOKUP(F49,Sheet47!F:F,Sheet47!G:G),\"\")","v":1},{"$f":"_xlfn.XLOOKUP(F49,Pricing!A:A,Pricing!B:B)","v":8.33},{"$f":"Summary!$L$32","v":0.5},4.165,null,null,null,null,null,null,null,0,null,0,0,0,0,0,0,0]
[null,null,"Gloves","Gloves Technical Grip 12",null,529880312,null,null,{"$f":"IFERROR(_xlfn.XLOOKUP(F50,Sheet47!F:F,Sheet47!G:G),\"\")","v":1},{"$f":"_xlfn.XLOOKUP(F50,Pricing!A:A,Pricing!B:B)","v":8.33},{"$f":"Summary!$L$32","v":0.5},{"$f":"J50-(J50*K50)","v":4.165},null,null,null,null,null,null,null,0,null,0,0,0,0,0,0,0]
[null,null,"Gloves with protection","Functional Gloves 16 Class 0 16 M/S On Left Hand 7",null,599651607,null,595003907,{"$f":"IFERROR(_xlfn.XLOOKUP(F51,Sheet47!F:F,Sheet47!G:G),\"\")","v":1},{"$f":"_xlfn.XLOOKUP(F51,Pricing!A:A,Pricing!B:B)","v":30.83},{"$f":"Summary!$L$32","v":0.5},{"$f":"J51-(J51*K51)","v":15.414999999999999},null,null,null,null,null,null,null,0,null,0,0,0,0,0,0,0]
[null,null,"Gloves with protection","Functional Gloves 16 Class 0 16 M/S On Left Hand 8",null,599651608,null,595003908,{"$f":"IFERROR(_xlfn.XLOOKUP(F52,Sheet47!F:F,Sheet47!G:G),\"\")","v":1},{"$f":"_xlfn.XLOOKUP(F52,Pricing!A:A,Pricing!B:B)","v":30.83},{"$f":"Summary!$L$32","v":0.5},15.414999999999999,null,6,6,6,6,null,null,24,null,92.49,92.49,92.49,92.49,0,0,369.96]
[null,null,"Gloves with protection","Functional Gloves 16 Class 0 16 M/S On Left Hand 9",null,599651609,null,595003909,{"$f":"IFERROR(_xlfn.XLOOKUP(F53,Sheet47!F:F,Sheet47!G:G),\"\")","v":1},{"$f":"_xlfn.XLOOKUP(F53,Pricing!A:A,Pricing!B:B)","v":30.83},{"$f":"Summary!$L$32","v":0.5},15.414999999999999,null,12,12,12,12,null,null,48,null,184.98,184.98,184.98,184.98,0,0,739.92]
[null,null,"Gloves with protection","Functional Gloves 16 Class 0 16 M/S On Left Hand 10",null,599651610,null,595003910,{"$f":"IFERROR(_xlfn.XLOOKUP(F54,Sheet47!F:F,Sheet47!G:G),\"\")","v":1},{"$f":"_xlfn.XLOOKUP(F54,Pricing!A:A,Pricing!B:B)","v":30.83},{"$f":"Summary!$L$32","v":0.5},15.414999999999999,null,6,6,6,6,null,null,24,null,92.49,92.49,92.49,92.49,0,0,369.96]
[null,null,"Gloves with protection","Functional Gloves 16 Class 0 16 M/S On Left Hand 12",null,599651612,null,595003912,{"$f":"IFERROR(_xlfn.XLOOKUP(F55,Sheet47!F:F,Sheet47!G:G),\"\")","v":1},{"$f":"_xlfn.XLOOKUP(F55,Pricing!A:A,Pricing!B:B)","v":30.83},{"$f":"Summary!$L$32","v":0.5},15.414999999999999,null,null,null,null,null,null,null,0,null,0,0,0,0,0,0,0]
[null,null,"Gloves with protection","Technical Gloves 20 Class 1 20 M/S On Left Hand 8",null,599651208,null,595003408,{"$f":"IFERROR(_xlfn.XLOOKUP(F56,Sheet47!F:F,Sheet47!G:G),\"\")","v":1},{"$f":"_xlfn.XLOOKUP(F56,Pricing!A:A,Pricing!B:B)","v":45.83},{"$f":"Summary!$L$32","v":0.5},22.914999999999999,null,null,null,null,null,null,null,0,null,0,0,0,0,0,0,0]
[null,null,"Gloves with protection","Technical Gloves 20 Class 1 20 M/S On Left Hand 9",null,599651209,null,595003409,{"$f":"IFERROR(_xlfn.XLOOKUP(F57,Sheet47!F:F,Sheet47!G:G),\"\")","v":1},{"$f":"_xlfn.XLOOKUP(F57,Pricing!A:A,Pricing!B:B)","v":45.83},{"$f":"Summary!$L$32","v":0.5},22.914999999999999,null,null,null,null,null,null,null,0,null,0,0,0,0,0,0,0]
[null,null,"Gloves with protection","Technical Gloves 20 Class 1 20 M/S On Left Hand 10",null,599651210,null,595003410,{"$f":"IFERROR(_xlfn.XLOOKUP(F58,Sheet47!F:F,Sheet47!G:G),\"\")","v":1},{"$f":"_xlfn.XLOOKUP(F58,Pricing!A:A,Pricing!B:B)","v":45.83},{"$f":"Summary!$L$32","v":0.5},22.914999999999999,null,null,null,null,null,null,null,0,null,0,0,0,0,0,0,0]

{"sheet":"T-Shirts","index":38,"n_rows":40,"n_cols":28,"rows_kept":40,"cut":false,"hidden":false,"merged":[[10,21,10,27],[1,4,1,8],[2,4,2,8],[3,4,3,8],[4,4,4,8],[5,4,5,8],[6,4,6,8],[7,4,7,8],[8,3,8,5],[8,6,8,8],[10,2,10,11],[10,13,10,19],[25,3,25,4],[11,3,11,4],[12,1,39,1],[12,3,12,4],[13,3,13,4],[14,3,14,4],[15,3,15,4],[16,3,16,4],[17,3,17,4],[18,3,18,4],[19,3,19,4],[20,3,20,4],[21,3,21,4],[22,3,22,4],[23,3,23,4],[24,3,24,4],[39,3,39,4],[26,3,26,4],[27,3,27,4],[28,3,28,4],[29,3,29,4],[30,3,30,4],[31,3,31,4],[37,3,37,4],[38,3,38,4],[32,3,32,4],[33,3,33,4],[34,3,34,4],[35,3,35,4],[36,3,36,4]]}
[]
[null,null,null,"Dealer Name",{"$f":"Summary!F2","v":"Winchester Garden Machinery Ltd - Arb"}]
[null,null,null,"Dealer Postcode",{"$f":"Summary!F3","v":"SO21 1HF"}]
[null,null,null,"Account Number",{"$f":"Summary!F4","v":28400505}]
[null,null,null,"Order Number",{"$f":"Summary!F5","v":0}]
[null,null,null,"Project Code",{"$f":"Summary!F6","v":"PSO2024"}]
[null,null,null,"Order Date",{"$f":"Summary!F7","v":"00:00:00"}]
[null,null,null,"ABM",{"$f":"Summary!F8","v":"Francesca_Bosley"}]
[null,null,null,"PSO minimum 40% of turnover = Additional 2% terms",null,null,{"$f":"Summary!I9","v":0.02}]
[]
[null,null,"T-Shirts",null,null,null,null,null,null,null,null,null,null,"Order Quantity",null,null,null,null,null,null,null,"Order Value"]
[null,null,"Product Type","Model Description",null,"PNC","Size","Replaces","Box Qty","List Price 2024 Ex VAT","Discount","Dealer Net Price",null,"January","February","March","April","May","June","Total Qty",null,"January","February","March","April","May","June","Total Value"]
[null,"PPE","PPE","Technical T-Shirt Long Sleeve XS",null,597661242,null,null,{"$f":"IFERROR(_xlfn.XLOOKUP(F13,Sheet47!F:F,Sheet47!G:G),\"\")","v":35},{"$f":"_xlfn.XLOOKUP(F13,Pricing!A:A,Pricing!B:B)","v":49.99},{"$f":"Summary!$L$32","v":0.5},{"$f":"J13-(J13*K13)","v":24.995000000000001},null,null,null,null,null,null,null,{"$f":"SUM(N13:S13)","v":0},null,{"$f":"L13*N13","v":0},{"$f":"L13*O13","v":0},{"$f":"L13*P13","v":0},{"$f":"$L13*Q13","v":0},{"$f":"$L13*R13","v":0},0,{"$f":"SUM(V13:AA13)","v":0}]
[null,null,"PPE ","Technical T-Shirt Short Sleeve XS",null,597661142,null,null,{"$f":"IFERROR(_xlfn.XLOOKUP(F14,Sheet47!F:F,Sheet47!G:G),\"\")","v":40},{"$f":"_xlfn.XLOOKUP(F14,Pricing!A:A,Pricing!B:B)","v":38.33},{"$f":"Summary!$L$32","v":0.5},{"$f":"J14-(J14*K14)","v":19.164999999999999},null,null,null,null,null,null,null,{"$f":"SUM(N14:S14)","v":0},null,{"$f":"L14*N14","v":0},{"$f":"L14*O14","v":0},{"$f":"L14*P14","v":0},{"$f":"L14*Q14","v":0},{"$f":"$L14*R14","v":0},{"$f":"$L14*S14","v":0},{"$f":"SUM(V14:AA14)","v":0}]
[null,null,"PPE ","Technical T-Shirt Short Sleeve S",null,597661146,null,null,{"$f":"IFERROR(_xlfn.XLOOKUP(F15,Sheet47!F:F,Sheet47!G:G),\"\")","v":40},{"$f":"_xlfn.XLOOKUP(F15,Pricing!A:A,Pricing!B:B)","v":38.33},{"$f":"Summary!$L$32","v":0.5},19.164999999999999,null,null,null,null,null,null,null,{"$f":"SUM(N15:S15)","v":0},null,0,0,0,0,0,0,0]
[null,null,"PPE ","Technical T-Shirt Short Sleeve M",null,597661150,null,null,{"$f":"IFERROR(_xlfn.XLOOKUP(F16,Sheet47!F:F,Sheet47!G:G),\"\")","v":40},{"$f":"_xlfn.XLOOKUP(F16,Pricing!A:A,Pricing!B:B)","v":38.33},{"$f":"Summary!$L$32","v":0.5},19.164999999999999,null,null,null,null,null,null,null,0,null,0,0,0,0,0,0,0]
[null,null,"PPE ","Technical T-Shirt Short Sleeve L",null,597661154,null,null,{"$f":"IFERROR(_xlfn.XLOOKUP(F17,Sheet47!F:F,Sheet47!G:G),\"\")","v":40},{"$f":"_xlfn.XLOOKUP(F17,Pricing!A:A,Pricing!B:B)","v":38.33},{"$f":"Summary!$L$32","v":0.5},19.164999999999999,null,null,null,null,null,null,null,0,null,0,0,0,0,0,0,0]
[null,null,"PPE ","Technical T-Shirt Short Sleeve XL",null,597661158,null,null,{"$f":"IFERROR(_xlfn.XLOOKUP(F18,Sheet47!F:F,Sheet47!G:G),\"\")","v":40},{"$f":"_xlfn.XLOOKUP(F18,Pricing!A:A,Pricing!B:B)","v":38.33},{"$f":"Summary!$L$32","v":0.5},19.164999999999999,null,null,null,null,null,null,null,0,null,0,0,0,0,0,0,0]
[null,null,"PPE ","Technical T-Shirt Short Sleeve XXL",null,597661162,null,null,{"$f":"IFERROR(_xlfn.XLOOKUP(F19,Sheet47!F:F,Sheet47!G:G),\"\")","v":40},{"$f":"_xlfn.XLOOKUP(F19,Pricing!A:A,Pricing!B:B)","v":38.33},{"$f":"Summary!$L$32","v":0.5},19.164999999999999,null,null,null,null,null,null,null,0,null,0,0,0,0,0,0,0]
[null,null,"PPE ","Technical T-Shirt Short Sleeve XXXL",null,597661166,null,null,{"$f":"IFERROR(_xlfn.XLOOKUP(F20,Sheet47!F:F,Sheet47!G:G),\"\")","v":40},{"$f":"_xlfn.XLOOKUP(F20,Pricing!A:A,Pricing!B:B)","v":38.33},{"$f":"Summary!$L$32","v":0.5},19.164999999999999,null,null,null,null,null,null,null,0,null,0,0,0,0,0,0,0]
[null,null,"PPE ","Technical T-Shirt Long Sleeve S",null,597661246,null,null,{"$f":"IFERROR(_xlfn.XLOOKUP(F21,Sheet47!F:F,Sheet47!G:G),\"\")","v":35},{"$f":"_xlfn.XLOOKUP(F21,Pricing!A:A,Pricing!B:B)","v":49.99},{"$f":"Summary!$L$32","v":0.5},24.995000000000001,null,null,null,null,null,null,null,0,null,0,0,0,0,0,0,0]
[null,null,"PPE ","Technical T-Shirt Long Sleeve M",null,597661250,null,null,{"$f":"IFERROR(_xlfn.XLOOKUP(F22,Sheet47!F:F,Sheet47!G:G),\"\")","v":35},{"$f":"_xlfn.XLOOKUP(F22,Pricing!A:A,Pricing!B:B)","v":49.99},{"$f":"Summary!$L$32","v":0.5},24.995000000000001,null,null,null,null,null,null,null,0,null,0,0,0,0,0,0,0]
[null,null,"PPE ","Technical T-Shirt Long Sleeve L",null,597661254,null,null,{"$f":"IFERROR(_xlfn.XLOOKUP(F23,Sheet47!F:F,Sheet47!G:G),\"\")","v":35},{"$f":"_xlfn.XLOOKUP(F23,Pricing!A:A,Pricing!B:B)","v":49.99},{"$f":"Summary!$L$32","v":0.5},24.995000000000001,null,null,null,null,null,null,null,0,null,0,0,0,0,0,0,0]
[null,null,"PPE ","Technical T-Shirt Long Sleeve XL",null,597661258,null,null,{"$f":"IFERROR(_xlfn.XLOOKUP(F24,Sheet47!F:F,Sheet47!G:G),\"\")","v":35},{"$f":"_xlfn.XLOOKUP(F24,Pricing!A:A,Pricing!B:B)","v":49.99},{"$f":"Summary!$L$32","v":0.5},24.995000000000001,null,null,null,null,null,null,null,0,null,0,0,0,0,0,0,0]
[null,null,"PPE ","Technical T-Shirt Long Sleeve XXL",null,597661262,null,null,{"$f":"IFERROR(_xlfn.XLOOKUP(F25,Sheet47!F:F,Sheet47!G:G),\"\")","v":35},{"$f":"_xlfn.XLOOKUP(F25,Pricing!A:A,Pricing!B:B)","v":49.99},{"$f":"Summary!$L$32","v":0.5},24.995000000000001,null,null,null,null,null,null,null,0,null,0,0,0,0,0,0,0]
[null,null,"PPE ","Technical T-Shirt Long Sleeve XXXL",null,597661266,null,null,{"$f":"IFERROR(_xlfn.XLOOKUP(F26,Sheet47!F:F,Sheet47!G:G),\"\")","v":35},{"$f":"_xlfn.XLOOKUP(F26,Pricing!A:A,Pricing!B:B)","v":49.99},{"$f":"Summary!$L$32","v":0.5},24.995000000000001,null,null,null,null,null,null,null,0,null,0,0,0,0,0,0,0]
[null,null,"PPE ","Technical T-Shirt HiVis Long Sleeve S EN20471",null,596303846,null,null,{"$f":"IFERROR(_xlfn.XLOOKUP(F27,Sheet47!F:F,Sheet47!G:G),\"\")","v":40},{"$f":"_xlfn.XLOOKUP(F27,Pricing!A:A,Pricing!B:B)","v":56.66},{"$f":"Summary!$L$32","v":0.5},{"$f":"J27-(J27*K27)","v":28.33},null,null,null,null,null,null,null,0,null,0,0,0,0,0,0,0]
[null,null,"PPE ","Technical T-Shirt HiVis Long Sleeve M EN20471",null,596303850,null,null,{"$f":"IFERROR(_xlfn.XLOOKUP(F28,Sheet47!F:F,Sheet47!G:G),\"\")","v":40},{"$f":"_xlfn.XLOOKUP(F28,Pricing!A:A,Pricing!B:B)","v":56.66},{"$f":"Summary!$L$32","v":0.5},{"$f":"J28-(J28*K28)","v":28.33},null,null,null,null,null,null,null,0,null,0,0,0,0,0,0,0]
[null,null,"PPE ","Technical T-Shirt HiVis Long Sleeve L EN20471",null,596303854,null,null,{"$f":"IFERROR(_xlfn.XLOOKUP(F29,Sheet47!F:F,Sheet47!G:G),\"\")","v":40},{"$f":"_xlfn.XLOOKUP(F29,Pricing!A:A,Pricing!B:B)","v":56.66},{"$f":"Summary!$L$32","v":0.5},28.33,null,null,null,null,null,null,null,0,null,0,0,0,0,0,0,0]
[null,null,"PPE ","Technical T-Shirt HiVis Long Sleeve XL EN20471",null,596303858,null,null,{"$f":"IFERROR(_xlfn.XLOOKUP(F30,Sheet47!F:F,Sheet47!G:G),\"\")","v":40},{"$f":"_xlfn.XLOOKUP(F30,Pricing!A:A,Pricing!B:B)","v":56.66},{"$f":"Summary!$L$32","v":0.5},28.33,null,null,null,null,null,null,null,0,null,0,0,0,0,0,0,0]
[null,null,"PPE ","Technical T-Shirt HiVis Long Sleeve XXL EN20471",null,596303862,null,null,{"$f":"IFERROR(_xlfn.XLOOKUP(F31,Sheet47!F:F,Sheet47!G:G),\"\")","v":40},{"$f":"_xlfn.XLOOKUP(F31,Pricing!A:A,Pricing!B:B)","v":56.66},{"$f":"Summary!$L$32","v":0.5},28.33,null,null,null,null,null,null,null,0,null,0,0,0,0,0,0,0]
[null,null,"PPE ","Technical T-Shirt HiVis Long Sleeve XXXL EN20471",null,596303866,null,null,{"$f":"IFERROR(_xlfn.XLOOKUP(F32,Sheet47!F:F,Sheet47!G:G),\"\")","v":40},{"$f":"_xlfn.XLOOKUP(F32,Pricing!A:A,Pricing!B:B)","v":56.66},{"$f":"Summary!$L$32","v":0.5},28.33,null,null,null,null,null,null,null,0,null,0,0,0,0,0,0,0]
[null,null,"PPE ","Technical T-Shirt HiVis Short Sleeve S EN20471",null,596303946,null,null,{"$f":"IFERROR(_xlfn.XLOOKUP(F33,Sheet47!F:F,Sheet47!G:G),\"\")","v":35},{"$f":"_xlfn.XLOOKUP(F33,Pricing!A:A,Pricing!B:B)","v":45.83},{"$f":"Summary!$L$32","v":0.5},22.914999999999999,null,null,null,null,null,null,null,0,null,0,0,0,0,0,0,0]
[null,null,"PPE ","Technical T-Shirt HiVis Short Sleeve M EN20471",null,596303950,null,null,{"$f":"IFERROR(_xlfn.XLOOKUP(F34,Sheet47!F:F,Sheet47!G:G),\"\")","v":35},{"$f":"_xlfn.XLOOKUP(F34,Pricing!A:A,Pricing!B:B)","v":45.83},{"$f":"Summary!$L$32","v":0.5},22.914999999999999,null,null,null,null,null,null,null,0,null,0,0,0,0,0,0,0]
[null,null,"PPE ","Technical T-Shirt HiVis Short Sleeve L EN20471",null,596303954,null,null,{"$f":"IFERROR(_xlfn.XLOOKUP(F35,Sheet47!F:F,Sheet47!G:G),\"\")","v":30},{"$f":"_xlfn.XLOOKUP(F35,Pricing!A:A,Pricing!B:B)","v":45.83},{"$f":"Summary!$L$32","v":0.5},22.914999999999999,null,null,null,null,null,null,null,0,null,0,0,0,0,0,0,0]
[null,null,"PPE ","Technical T-Shirt HiVis Short Sleeve XL EN20471",null,596303958,null,null,{"$f":"IFERROR(_xlfn.XLOOKUP(F36,Sheet47!F:F,Sheet47!G:G),\"\")","v":30},{"$f":"_xlfn.XLOOKUP(F36,Pricing!A:A,Pricing!B:B)","v":45.83},{"$f":"Summary!$L$32","v":0.5},{"$f":"J36-(J36*K36)","v":22.914999999999999},null,null,null,null,null,null,null,0,null,{"$f":"L36*N36","v":0},{"$f":"L36*O36","v":0},{"$f":"L36*P36","v":0},{"$f":"L36*Q36","v":0},0,0,0]
[null,null,"PPE ","Technical T-Shirt HiVis Short Sleeve XXL EN20471",null,596303962,null,null,{"$f":"IFERROR(_xlfn.XLOOKUP(F37,Sheet47!F:F,Sheet47!G:G),\"\")","v":25},{"$f":"_xlfn.XLOOKUP(F37,Pricing!A:A,Pricing!B:B)","v":45.83},{"$f":"Summary!$L$32","v":0.5},22.914999999999999,null,null,null,null,null,null,null,0,null,0,0,0,0,0,0,0]
[null,null,"PPE ","Technical T-Shirt HiVis Short Sleeve XXXL EN20471",null,596303966,null,null,{"$f":"IFERROR(_xlfn.XLOOKUP(F38,Sheet47!F:F,Sheet47!G:G),\"\")","v":25},{"$f":"_xlfn.XLOOKUP(F38,Pricing!A:A,Pricing!B:B)","v":45.83},{"$f":"Summary!$L$32","v":0.5},22.914999999999999,null,null,null,null,null,null,null,0,null,0,0,0,0,0,0,0]
[null,null,"Workwear","T-Shirt Technical HV Short SL XS",null,596303942,null,null,{"$f":"IFERROR(_xlfn.XLOOKUP(F39,Sheet47!F:F,Sheet47!G:G),\"\")","v":1},{"$f":"_xlfn.XLOOKUP(F39,Pricing!A:A,Pricing!B:B)","v":45.83},{"$f":"Summary!$L$32","v":0.5},22.914999999999999,null,null,null,null,null,null,null,0,null,0,0,0,0,0,0,0]
[null,null,"Workwear","T-Shirt Technical HV Long sl XS EN20471",null,596303842,null,null,{"$f":"IFERROR(_xlfn.XLOOKUP(F40,Sheet47!F:F,Sheet47!G:G),\"\")","v":1},{"$f":"_xlfn.XLOOKUP(F40,Pricing!A:A,Pricing!B:B)","v":56.66},{"$f":"Summary!$L$32","v":0.5},28.33,null,null,null,null,null,null,null,0,null,0,0,0,0,0,0,0]

{"sheet":"Direct shipment","index":39,"n_rows":2270,"n_cols":106,"rows_kept":562,"cut":true,"hidden":true,"merged":[],"bounds":{"rows_first":250,"rows_last":62,"rows_between":250,"halvings":3}}
[null,"Forecast and Loading Guide 2024\n             ",null,null,null,null,null,null,null,null,null,null,null,null,null,null,null,null,null,null,null,null,null,null,"Container Fill Rate (Filter on column \"Factory\", n.b. one factory at the time)",null,null,null,null,null,null,null,null,null,null,null,null,null,null,null,null,null,null,null,null,null,null,null,null,null,null,null,null,null,null,null,null,null,null,null,null,null,null,null,null,null,null,null,null,null,null,null,null,null,null,null,null,null,null,null,null,null,null,null,null,null,null,null,null,null,null,null,null,null,null,null,null,null,null,null,null,null,null,null,"PNC","QTY/pallet"]
[null,null,null,null,null,null,null,null,null,null,null,null,null,null,null,null,null,null,null,null,null,null,null,"20'",{"$f":"IF($AQ$8=1,AR8,\"N/A\")","v":"N/A"},{"$f":"IF($AQ$8=1,AS8,\"N/A\")","v":"N/A"},{"$f":"IF($AQ$8=1,AT8,\"N/A\")","v":"N/A"},{"$f":"IF($AQ$8=1,AU8,\"N/A\")","v":"N/A"},{"$f":"IF($AQ$8=1,AV8,\"N/A\")","v":"N/A"},"N/A","N/A","N/A","N/A","N/A","N/A","N/A","N/A","N/A","N/A",null,null,null,null,null,null,null,null,null,null,null,null,null,null,null,null,null,null,null,null,null,null,null,null,null,null,null,null,null,null,null,null,null,null,null,null,null,null,null,null,null,null,null,null,null,null,null,null,null,null,null,null,null,null,null,null,null,null,null,null,null,null,null,null,null,967178402,1]
[null,null,null,null,null,null,null,null,null,null,null,null,null,null,null,null,null,null,null,null,null,null,null,"40'",{"$f":"IF($AQ$8=1,BG8,\"N/A\")","v":"N/A"},{"$f":"IF($AQ$8=1,BH8,\"N/A\")","v":"N/A"},{"$f":"IF($AQ$8=1,BI8,\"N/A\")","v":"N/A"},{"$f":"IF($AQ$8=1,BJ8,\"N/A\")","v":"N/A"},{"$f":"IF($AQ$8=1,BK8,\"N/A\")","v":"N/A"},"N/A","N/A","N/A","N/A","N/A","N/A","N/A","N/A","N/A","N/A",null,null,null,"Calculations",null,null,null,null,null,null,null,null,null,null,null,null,null,null,null,null,null,null,null,null,null,null,null,null,null,null,null,null,null,null,null,null,null,null,null,null,null,null,null,null,null,null,null,null,null,null,null,null,null,null,null,null,null,null,null,null,null,null,null,null,null,967178502,1]
[null,null,null,null,null,null,null,null,null,null,null,null,null,null,null,null,null,null,null,null,null,null,null,"40'",{"$f":"IF($AQ$8=1,BV8,\"N/A\")","v":"N/A"},{"$f":"IF($AQ$8=1,BW8,\"N/A\")","v":"N/A"},{"$f":"IF($AQ$8=1,BX8,\"N/A\")","v":"N/A"},{"$f":"IF($AQ$8=1,BY8,\"N/A\")","v":"N/A"},{"$f":"IF($AQ$8=1,BZ8,\"N/A\")","v":"N/A"},"N/A","N/A","N/A","N/A","N/A","N/A","N/A","N/A","N/A","N/A",null,null,null,"# Factories","Fillrate 20'",null,null,null,null,null,null,null,null,null,null,null,null,null,null,"Fillrate 40'",null,null,null,null,null,null,null,null,null,null,null,null,null,null,"Fillrate 40' HC",null,null,null,null,null,null,null,null,null,null,null,null,null,null,"Fillrate FTL",null,null,null,null,null,null,null,null,null,null,null,null,null,null,null,967648401,1]
[null,null,null,null,null,null,null,null,null,null,null,null,null,null,null,null,null,null,null,null,null,null,null,"FTL",{"$f":"IF($AQ$8=1,CK8,\"N/A\")","v":"N/A"},{"$f":"IF($AQ$8=1,CL8,\"N/A\")","v":"N/A"},"N/A","N/A","N/A","N/A","N/A","N/A","N/A","N/A","N/A","N/A","N/A","N/A","N/A",null,{"$f":"L1239","v":0},null,null,null,null,null,null,null,null,null,null,null,null,null,null,null,null,null,null,null,null,null,null,null,null,null,null,null,null,null,null,null,null,null,null,null,null,null,null,null,null,null,null,null,null,null,null,null,null,null,null,null,null,null,null,null,null,null,null,null,null,null,null,null,967985201,1]
[null,null,null,null,null,null,null,null,null,null,null,null,null,null,null,null,null,null,null,null,null,null,null,null,null,null,null,null,null,null,null,null,null,null,null,null,null,null,null,null,null,null,null,null,null,null,null,null,null,null,null,null,null,null,null,null,null,null,null,null,null,null,null,null,null,null,null,null,null,null,null,null,null,null,null,null,null,null,null,null,null,null,null,null,null,null,null,null,null,null,null,null,null,null,null,null,null,null,null,null,null,null,null,null,967985301,1]
[null,null,null,null,null,null,null,null,null,null,null,null,null,null,null,null,null,null,null,null,null,null,null,null,null,null,null,null,null,null,null,null,null,null,null,null,null,null,null,null,null,null,null,null,null,null,null,null,null,null,null,null,null,null,null,null,null,null,null,null,null,null,null,null,null,null,null,null,null,null,null,null,null,null,null,null,null,null,null,null,null,null,null,null,null,null,null,null,null,null,null,null,null,null,null,null,null,null,null,null,null,null,null,null,967985401,1]
[null,"Date Updated\n(wk, year)","Model","PNC","Brand","S. Cat.","Product group","Producing\n-Country","Origin \n-Factory","Version / Language","SSG\nSale start gate","Sales Companies C2 Start of placing Delivery plans","Replacement for","Hva CS packed at DHL? (COs placed on OT10 against 13)","Active at CDC (Torsvik, Sweden)","Active at ADC (Shanghai, China)","Additional Info","Order to Prod. Lead Time (wks)","QTY/20' container","QTY/40' cont","QTY/40' HC cont","FTL","QTY/pallet","Qty per layer on pallet",null,null,null,null,null,null,null,null,null,null,null,null,null,null,null,null,null,null,{"$f":"SUBTOTAL(9,AQ11:AQ2407)","v":139},{"$f":"SUBTOTAL(9,AR11:AR2572)","v":0},0,0,0,0,0,0,0,0,0,0,0,0,0,0,0,0,0,0,0,0,0,0,0,0,0,0,0,0,0,0,0,0,0,0,0,0,0,0,0,0,0,0,0,0,0,0,0,0,0,0,0,0,0,0,0,0,0,0,0,null,967985503,1]
[null,"wk19, 2023","PK4 attachment ",529351901,"HUS","H","HBP_C","CN","Daye",null,null,null,null,null,"YES","NO",null,8,1008,2016,2304,null,{"$f":"_xlfn.XLOOKUP(D9,DA:DA,DB:DB)","v":0},null,null,null,null,null,null,null,null,null,null,null,null,null,null,null,null,null,null,null,{"$f":"IF(I9<>0,IF(H9&I9<>H8&I8,1,\"\"),\"\")","v":1},{"$f":"IF($S9>0,Y9/$S9,\"\")","v":0},{"$f":"IF($S9>0,Z9/$S9,\"\")","v":0},{"$f":"IF($S9>0,AA9/$S9,\"\")","v":0},{"$f":"IF($S9>0,AB9/$S9,\"\")","v":0},{"$f":"IF($S9>0,AC9/$S9,\"\")","v":0},{"$f":"IF($S9>0,AD9/$S9,\"\")","v":0},{"$f":"IF($S9>0,AE9/$S9,\"\")","v":0},{"$f":"IF($S9>0,AF9/$S9,\"\")","v":0},{"$f":"IF($S9>0,AG9/$S9,\"\")","v":0},{"$f":"IF($S9>0,AH9/$S9,\"\")","v":0},{"$f":"IF($S9>0,AI9/$S9,\"\")","v":0},{"$f":"IF($S9>0,AJ9/$S9,\"\")","v":0},{"$f":"IF($S9>0,AK9/$S9,\"\")","v":0},{"$f":"IF($S9>0,AL9/$S9,\"\")","v":0},{"$f":"IF($S9>0,AM9/$S9,\"\")","v":0},{"$f":"IF($T9>0,Y9/$T9,\"\")","v":0},{"$f":"IF($T9>0,Z9/$T9,\"\")","v":0},{"$f":"IF($T9>0,AA9/$T9,\"\")","v":0},{"$f":"IF($T9>0,AB9/$T9,\"\")","v":0},{"$f":"IF($T9>0,AC9/$T9,\"\")","v":0},{"$f":"IF($T9>0,AD9/$T9,\"\")","v":0},{"$f":"IF($T9>0,AE9/$T9,\"\")","v":0},{"$f":"IF($T9>0,AF9/$T9,\"\")","v":0},{"$f":"IF($T9>0,AG9/$T9,\"\")","v":0},{"$f":"IF($T9>0,AH9/$T9,\"\")","v":0},{"$f":"IF($T9>0,AI9/$T9,\"\")","v":0},{"$f":"IF($T9>0,AJ9/$T9,\"\")","v":0},{"$f":"IF($T9>0,AK9/$T9,\"\")","v":0},{"$f":"IF($T9>0,AL9/$T9,\"\")","v":0},{"$f":"IF($T9>0,AM9/$T9,\"\")","v":0},{"$f":"IF($U9>0,Y9/$U9,\"\")","v":0},{"$f":"IF($U9>0,Z9/$U9,\"\")","v":0},{"$f":"IF($U9>0,AA9/$U9,\"\")","v":0},{"$f":"IF($U9>0,AB9/$U9,\"\")","v":0},{"$f":"IF($U9>0,AC9/$U9,\"\")","v":0},{"$f":"IF($U9>0,AD9/$U9,\"\")","v":0},{"$f":"IF($U9>0,AE9/$U9,\"\")","v":0},{"$f":"IF($U9>0,AF9/$U9,\"\")","v":0},{"$f":"IF($U9>0,AG9/$U9,\"\")","v":0},{"$f":"IF($U9>0,AH9/$U9,\"\")","v":0},{"$f":"IF($U9>0,AI9/$U9,\"\")","v":0},{"$f":"IF($U9>0,AJ9/$U9,\"\")","v":0},{"$f":"IF($U9>0,AK9/$U9,\"\")","v":0},{"$f":"IF($U9>0,AL9/$U9,\"\")","v":0},{"$f":"IF($U9>0,AM9/$U9,\"\")","v":0},{"$f":"IF($V9>0,Y9/$V9,\"\")","v":""},{"$f":"IF($V9>0,Z9/$V9,\"\")","v":""},{"$f":"IF($V9>0,AA9/$V9,\"\")","v":""},{"$f":"IF($V9>0,AB9/$V9,\"\")","v":""},{"$f":"IF($V9>0,AC9/$V9,\"\")","v":""},{"$f":"IF($V9>0,AD9/$V9,\"\")","v":""},{"$f":"IF($V9>0,AE9/$V9,\"\")","v":""},{"$f":"IF($V9>0,AF9/$V9,\"\")","v":""},{"$f":"IF($V9>0,AG9/$V9,\"\")","v":""},{"$f":"IF($V9>0,AH9/$V9,\"\")","v":""},{"$f":"IF($V9>0,AI9/$V9,\"\")","v":""},{"$f":"IF($V9>0,AJ9/$V9,\"\")","v":""},{"$f":"IF($V9>0,AK9/$V9,\"\")","v":""},{"$f":"IF($V9>0,AL9/$V9,\"\")","v":""},{"$f":"IF($V9>0,AM9/$V9,\"\")","v":""},null,970519401,1]
[null,"wk19, 2023","HK4 attachment",529351902,"HUS","H","HBH_C","CN","Daye",null,null,null,null,null,"YES","NO",null,8,972,1944,1944,null,{"$f":"_xlfn.XLOOKUP(D10,DA:DA,DB:DB)","v":0},null,null,null,null,null,null,null,null,null,null,null,null,null,null,null,null,null,null,null,"",0,0,0,0,0,0,0,0,0,0,0,0,0,0,0,0,0,0,0,0,0,0,0,0,0,0,0,0,0,0,0,0,0,0,0,0,0,0,0,0,0,0,0,0,0,"","","","","","","","","","","","","","","",null,970542101,1]
[null,"wk19, 2023","P21",535545301,"HUS","R","ARL_C","ES","IKOR Spain",null,null,null,null,null,"YES","NO","No DS only from Torsvik",4,null,null,null,null,60,null,null,null,null,null,null,null,null,null,null,null,null,null,null,null,null,null,null,null,1,"","","","","","","","","","","","","","","","","","","","","","","","","","","","","","","","","","","","","","","","","","","","","","","","","","","","","","","","","","","","",null,970542201,1]
[null,"wk19, 2023","AM ACC",535545303,"HUS","R","ARL_C","ES","IKOR Spain","NZ",null,null,null,null,"NO","NO","No DS only from Torsvik",4,null,null,null,null,35,null,null,null,null,null,null,null,null,null,null,null,null,null,null,null,null,null,null,null,"","","","","","","","","","","","","","","","","","","","","","","","","","","","","","","","","","","","","","","","","","","","","","","","","","","","","","","","","","","","","",null,970542301,1]
[null,"wk19, 2023","AM ACC",546258201,"HUS","R","ARL_C","PL","Fideltronik",null,null,null,null,null,"YES","NO","CEPOS P21 MODULE",4,null,null,null,null,0,null,null,null,null,null,null,null,null,null,null,null,null,null,null,null,null,null,null,null,1,"","","","","","","","","","","","","","","","","","","","","","","","","","","","","","","","","","","","","","","","","","","","","","","","","","","","","","","","","","","","",null,970542401,1]
[null,"wk19, 2023","Collector",582559601,"HUS","L","ROP_C","US","Orangeburg",null,null,null,null,null,"NO","NO",null,4,36,null,108,null,1,null,null,null,null,null,null,null,null,null,null,null,null,null,null,null,null,null,null,null,1,0,0,0,0,0,0,0,0,0,0,0,0,0,0,0,"","","","","","","","","","","","","","","",0,0,0,0,0,0,0,0,0,0,0,0,0,0,0,"","","","","","","","","","","","","","","",null,970542501,1]
[null,"wk19, 2023","Collector",582559701,"HUS","L","ROP_C","US","Orangeburg",null,null,null,null,null,"NO","NO",null,4,36,null,108,null,1,null,null,null,null,null,null,null,null,null,null,null,null,null,null,null,null,null,null,null,"",0,0,0,0,0,0,0,0,0,0,0,0,0,0,0,"","","","","","","","","","","","","","","",0,0,0,0,0,0,0,0,0,0,0,0,0,0,0,"","","","","","","","","","","","","","","",null,970542601,1]
[null,"wk19, 2023","Collector",582559801,"HUS","L","ROP_C","US","Orangeburg",null,null,null,null,null,"NO","NO",null,4,36,null,108,null,1,null,null,null,null,null,null,null,null,null,null,null,null,null,null,null,null,null,null,null,"",0,0,0,0,0,0,0,0,0,0,0,0,0,0,0,"","","","","","","","","","","","","","","",0,0,0,0,0,0,0,0,0,0,0,0,0,0,0,"","","","","","","","","","","","","","","",null,970542701,1]
[null,"wk19, 2023","Aspire",536661801,"HUS","R","ARL_C","GB","Aycliffe",null,null,null,null,null,"YES","NO",null,4,null,null,null,null,20,null,null,null,null,null,null,null,null,null,null,null,null,null,null,null,null,null,null,null,1,"","","","","","","","","","","","","","","","","","","","","","","","","","","","","","","","","","","","","","","","","","","","","","","","","","","","","","","","","","","","",null,970542801,1]
[null,"wk19, 2023","P21",536664101,"HUS","R","ARL_C","GB","Aycliffe",null,null,null,null,null,"YES","NO",null,4,72,144,null,198,8,null,null,null,null,null,null,null,null,null,null,null,null,null,null,null,null,null,null,null,"",0,0,0,0,0,0,0,0,0,0,0,0,0,0,0,0,0,0,0,0,0,0,0,0,0,0,0,0,0,0,"","","","","","","","","","","","","","","",0,0,0,0,0,0,0,0,0,0,0,0,0,0,0,null,970542901,1]
[null,"wk19, 2023","P2/G3",585019401,"HUS","R","ARL_C","GB","Aycliffe",null,null,null,null,null,"YES","YES",null,4,null,null,null,396,12,null,null,null,null,null,null,null,null,null,null,null,null,null,null,null,null,null,null,null,"","","","","","","","","","","","","","","","","","","","","","","","","","","","","","","","","","","","","","","","","","","","","","",0,0,0,0,0,0,0,0,0,0,0,0,0,0,0,null,970544901,1]
[null,"wk19, 2023","P2/G3",585019410,"HUS","R","ARL_C","GB","Aycliffe","US;CA",null,null,null,null,"NO","NO",null,4,null,null,null,null,12,null,null,null,null,null,null,null,null,null,null,null,null,null,null,null,null,null,null,null,"","","","","","","","","","","","","","","","","","","","","","","","","","","","","","","","","","","","","","","","","","","","","","","","","","","","","","","","","","","","","",null,970569101,1]
[null,"wk19, 2023","P15/G3",587236101,"HUS","R","ARL_C","GB","Aycliffe",null,null,null,null,null,"YES","NO",null,4,null,null,null,396,12,null,null,null,null,null,null,null,null,null,null,null,null,null,null,null,null,null,null,null,"","","","","","","","","","","","","","","","","","","","","","","","","","","","","","","","","","","","","","","","","","","","","","",0,0,0,0,0,0,0,0,0,0,0,0,0,0,0,null,970601501,1]
[null,"wk19, 2023","P15/G3",587236110,"HUS","R","ARL_C","GB","Aycliffe","US;CA",null,null,null,null,"NO","NO",null,4,null,null,null,null,12,null,null,null,null,null,null,null,null,null,null,null,null,null,null,null,null,null,null,null,"","","","","","","","","","","","","","","","","","","","","","","","","","","","","","","","","","","","","","","","","","","","","","","","","","","","","","","","","","","","","",null,970601601,1]
[null,"wk19, 2023","P2/G3",597635201,"HUS","R","ARL_C","GB","Aycliffe",null,null,null,null,null,"NO","NO",null,4,null,null,null,null,8,null,null,null,null,null,null,null,null,null,null,null,null,null,null,null,null,null,null,null,"","","","","","","","","","","","","","","","","","","","","","","","","","","","","","","","","","","","","","","","","","","","","","","","","","","","","","","","","","","","","",null,970601701,1]
[null,"wk19, 2023","P25",597635301,"HUS","R","ARL_C","GB","Aycliffe",null,null,null,null,null,"YES","NO",null,4,null,null,null,null,8,null,null,null,null,null,null,null,null,null,null,null,null,null,null,null,null,null,null,null,"","","","","","","","","","","","","","","","","","","","","","","","","","","","","","","","","","","","","","","","","","","","","","","","","","","","","","","","","","","","","",null,970621101,1]
[null,"wk19, 2023","P25",597635310,"HUS","R","ARL_C","GB","Aycliffe",null,null,null,null,null,"NO","NO",null,4,null,null,null,null,8,null,null,null,null,null,null,null,null,null,null,null,null,null,null,null,null,null,null,null,"","","","","","","","","","","","","","","","","","","","","","","","","","","","","","","","","","","","","","","","","","","","","","","","","","","","","","","","","","","","","",null,970621201,1]
[null,"wk19, 2023","AM430X",967852805,"HUS","R","LRL_C","GB","Aycliffe","US;CA",null,null,null,null,"NO","NO",null,4,null,null,null,null,12,null,null,null,null,null,null,null,null,null,null,null,null,null,null,null,null,null,null,null,"","","","","","","","","","","","","","","","","","","","","","","","","","","","","","","","","","","","","","","","","","","","","","","","","","","","","","","","","","","","","",null,970649901,1]
[null,"wk19, 2023","AM430X",967852826,"HUS","R","LRL_C","GB","Aycliffe","AR",null,null,null,null,"NO","NO",null,4,null,null,null,null,12,null,null,null,null,null,null,null,null,null,null,null,null,null,null,null,null,null,null,null,"","","","","","","","","","","","","","","","","","","","","","","","","","","","","","","","","","","","","","","","","","","","","","","","","","","","","","","","","","","","","",null,970728702,1]
[null,"wk20,2023","AM430X",967852825,"HUS","R","LRL_C","GB","Aycliffe","CL;PY;UY;BR",null,null,null,null,"NO","NO",null,4,null,null,null,null,12,null,null,null,null,null,null,null,null,null,null,null,null,null,null,null,null,null,null,null,"","","","","","","","","","","","","","","","","","","","","","","","","","","","","","","","","","","","","","","","","","","","","","","","","","","","","","","","","","","","","",null,970467901,3]
[null,"wk20,2023","AM430X",967852828,"HUS","R","LRL_C","GB","Aycliffe","CO, EC, PE, CR, DR",null,null,null,null,"NO","NO",null,4,null,null,null,null,12,null,null,null,null,null,null,null,null,null,null,null,null,null,null,null,null,null,null,null,"","","","","","","","","","","","","","","","","","","","","","","","","","","","","","","","","","","","","","","","","","","","","","","","","","","","","","","","","","","","","",null,970467905,3]
[null,"wk19, 2023","AM430X",967852845,"HUS","R","LRL_C","GB","Aycliffe","US;CA",null,null,null,null,"NO","NO",null,4,null,null,null,null,8,null,null,null,null,null,null,null,null,null,null,null,null,null,null,null,null,null,null,null,"","","","","","","","","","","","","","","","","","","","","","","","","","","","","","","","","","","","","","","","","","","","","","","","","","","","","","","","","","","","","",null,970467906,3]
[null,"wk19, 2023","AM430XH",967852905,"HUS","R","LRL_C","GB","Aycliffe","US;CA",null,null,null,null,"NO","NO",null,4,60,120,null,null,5,null,null,null,null,null,null,null,null,null,null,null,null,null,null,null,null,null,null,null,"",0,0,0,0,0,0,0,0,0,0,0,0,0,0,0,0,0,0,0,0,0,0,0,0,0,0,0,0,0,0,"","","","","","","","","","","","","","","","","","","","","","","","","","","","","","",null,970467907,3]
[null,"wk19, 2023","AM430XH",967852945,"HUS","R","LRL_C","GB","Aycliffe","US;CA",null,null,null,null,"NO","NO",null,4,null,null,null,null,8,null,null,null,null,null,null,null,null,null,null,null,null,null,null,null,null,null,null,null,"","","","","","","","","","","","","","","","","","","","","","","","","","","","","","","","","","","","","","","","","","","","","","","","","","","","","","","","","","","","","",null,970549001,3]
[null,"wk19, 2023","AM450X",967853005,"HUS","R","LRL_C","GB","Aycliffe","US;CA",null,null,null,null,"NO","NO",null,4,null,null,null,null,12,null,null,null,null,null,null,null,null,null,null,null,null,null,null,null,null,null,null,null,"","","","","","","","","","","","","","","","","","","","","","","","","","","","","","","","","","","","","","","","","","","","","","","","","","","","","","","","","","","","","",null,970549005,3]
[null,"wk19, 2023","AM450XH",967853105,"HUS","R","LRL_C","GB","Aycliffe","US;CA",null,null,null,null,"NO","NO",null,4,60,120,null,null,5,null,null,null,null,null,null,null,null,null,null,null,null,null,null,null,null,null,null,null,"",0,0,0,0,0,0,0,0,0,0,0,0,0,0,0,0,0,0,0,0,0,0,0,0,0,0,0,0,0,0,"","","","","","","","","","","","","","","","","","","","","","","","","","","","","","",null,970549006,3]
[null,"wk19, 2023","AM430X",967852833,"HUS","R","LRL_C","GB","Aycliffe","KR",null,null,null,null,"NO","NO",null,4,null,null,null,null,12,null,null,null,null,null,null,null,null,null,null,null,null,null,null,null,null,null,null,null,"","","","","","","","","","","","","","","","","","","","","","","","","","","","","","","","","","","","","","","","","","","","","","","","","","","","","","","","","","","","","",null,970549007,3]
[null,"wk19, 2023","AM430X",967852834,"HUS","R","LRL_C","GB","Aycliffe","TW",null,null,null,null,"NO","NO",null,4,null,null,null,null,12,null,null,null,null,null,null,null,null,null,null,null,null,null,null,null,null,null,null,null,"","","","","","","","","","","","","","","","","","","","","","","","","","","","","","","","","","","","","","","","","","","","","","","","","","","","","","","","","","","","","",null,967152201,3]
[null,"wk19, 2023","AM450X",967853033,"HUS","R","LRL_C","GB","Aycliffe","KR",null,null,null,null,"NO","NO",null,4,null,null,null,null,12,null,null,null,null,null,null,null,null,null,null,null,null,null,null,null,null,null,null,null,"","","","","","","","","","","","","","","","","","","","","","","","","","","","","","","","","","","","","","","","","","","","","","","","","","","","","","","","","","","","","",null,967152301,3]
[null,"wk19, 2023","AM450X",967853034,"HUS","R","LRL_C","GB","Aycliffe","TW",null,null,null,null,"NO","NO",null,4,null,null,null,null,12,null,null,null,null,null,null,null,null,null,null,null,null,null,null,null,null,null,null,null,"","","","","","","","","","","","","","","","","","","","","","","","","","","","","","","","","","","","","","","","","","","","","","","","","","","","","","","","","","","","","",null,967152401,3]
[null,"wk19, 2023","AM435XAWD",967853303,"HUS","R","LRL_C","GB","Aycliffe","GB;IE",null,null,null,null,"NO","NO",null,4,null,null,null,165,5,null,null,null,null,null,null,null,null,null,null,null,null,null,null,null,null,null,null,null,"","","","","","","","","","","","","","","","","","","","","","","","","","","","","","","","","","","","","","","","","","","","","","",0,0,0,0,0,0,0,0,0,0,0,0,0,0,0,null,967152601,3]
[null,"wk19, 2023","AM435XAWD",967853304,"HUS","R","LRL_C","GB","Aycliffe","CH",null,null,null,null,"NO","NO",null,4,null,null,null,165,5,null,null,null,null,null,null,null,null,null,null,null,null,null,null,null,null,null,null,null,"","","","","","","","","","","","","","","","","","","","","","","","","","","","","","","","","","","","","","","","","","","","","","",0,0,0,0,0,0,0,0,0,0,0,0,0,0,0,null,967188501,3]
[null,"wk19, 2023","AM435XAWD",967853305,"HUS","R","LRL_C","GB","Aycliffe","US;CA",null,null,null,null,"NO","NO",null,4,60,120,null,null,5,null,null,null,null,null,null,null,null,null,null,null,null,null,null,null,null,null,null,null,"",0,0,0,0,0,0,0,0,0,0,0,0,0,0,0,0,0,0,0,0,0,0,0,0,0,0,0,0,0,0,"","","","","","","","","","","","","","","","","","","","","","","","","","","","","","",null,967649101,3]
[null,"wk19, 2023","AM435XAWD",967853306,"HUS","R","LRL_C","GB","Aycliffe","AU;NZ",null,null,null,null,"NO","NO",null,4,null,null,null,165,5,null,null,null,null,null,null,null,null,null,null,null,null,null,null,null,null,null,null,null,"","","","","","","","","","","","","","","","","","","","","","","","","","","","","","","","","","","","","","","","","","","","","","",0,0,0,0,0,0,0,0,0,0,0,0,0,0,0,null,967978101,3]
[null,"wk19, 2023","AM435XAWD",967853308,"HUS","R","LRL_C","GB","Aycliffe",null,null,null,null,null,"NO","NO",null,4,null,null,null,165,5,null,null,null,null,null,null,null,null,null,null,null,null,null,null,null,null,null,null,null,"","","","","","","","","","","","","","","","","","","","","","","","","","","","","","","","","","","","","","","","","","","","","","",0,0,0,0,0,0,0,0,0,0,0,0,0,0,0,null,967978201,3]
[null,"wk19, 2023","AM435XAWD",967853311,"HUS","R","LRL_C","GB","Aycliffe",null,null,null,null,null,"YES","NO",null,4,null,null,null,165,5,null,null,null,null,null,null,null,null,null,null,null,null,null,null,null,null,null,null,null,"","","","","","","","","","","","","","","","","","","","","","","","","","","","","","","","","","","","","","","","","","","","","","",0,0,0,0,0,0,0,0,0,0,0,0,0,0,0,null,967978301,3]
[null,"wk19, 2023","AM435XAWD",967853312,"HUS","R","LRL_C","GB","Aycliffe",null,null,null,null,null,"NO","NO",null,4,null,null,null,165,5,null,null,null,null,null,null,null,null,null,null,null,null,null,null,null,null,null,null,null,"","","","","","","","","","","","","","","","","","","","","","","","","","","","","","","","","","","","","","","","","","","","","","",0,0,0,0,0,0,0,0,0,0,0,0,0,0,0,null,967978401,3]
[null,"wk19, 2023","AM435XAWD",967853321,"HUS","R","LRL_C","GB","Aycliffe",null,null,null,null,null,"YES","NO",null,4,null,null,null,165,5,null,null,null,null,null,null,null,null,null,null,null,null,null,null,null,null,null,null,null,"","","","","","","","","","","","","","","","","","","","","","","","","","","","","","","","","","","","","","","","","","","","","","",0,0,0,0,0,0,0,0,0,0,0,0,0,0,0,null,967978501,3]
[null,"wk19, 2023","AM435XAWD",967853329,"HUS","R","LRL_C","GB","Aycliffe","JP",null,null,null,null,"NO","NO",null,4,null,null,null,165,5,null,null,null,null,null,null,null,null,null,null,null,null,null,null,null,null,null,null,null,"","","","","","","","","","","","","","","","","","","","","","","","","","","","","","","","","","","","","","","","","","","","","","",0,0,0,0,0,0,0,0,0,0,0,0,0,0,0,null,967978601,3]
[null,"wk19, 2023","AM435XAWD",967853333,"HUS","R","LRL_C","GB","Aycliffe",null,null,null,null,null,"NO","NO",null,4,null,null,null,165,5,null,null,null,null,null,null,null,null,null,null,null,null,null,null,null,null,null,null,null,"","","","","","","","","","","","","","","","","","","","","","","","","","","","","","","","","","","","","","","","","","","","","","",0,0,0,0,0,0,0,0,0,0,0,0,0,0,0,null,970612001,3]
[null,"wk19, 2023","115H",967951105,"HUS","R","LRL_C","GB","Aycliffe",null,null,null,null,null,"NO","NO",null,4,144,288,null,null,12,null,null,null,null,null,null,null,null,null,null,null,null,null,null,null,null,null,null,null,"",0,0,0,0,0,0,0,0,0,0,0,0,0,0,0,0,0,0,0,0,0,0,0,0,0,0,0,0,0,0,"","","","","","","","","","","","","","","","","","","","","","","","","","","","","","",null,970626201,3]
[null,"wk19, 2023","AM ACC",967972101,"HUS","R","ARL_C","GB","Aycliffe",null,null,null,null,null,"YES","NO",null,4,900,1800,null,null,90,null,null,null,null,null,null,null,null,null,null,null,null,null,null,null,null,null,null,null,"",0,0,0,0,0,0,0,0,0,0,0,0,0,0,0,0,0,0,0,0,0,0,0,0,0,0,0,0,0,0,"","","","","","","","","","","","","","","","","","","","","","","","","","","","","","",null,970626301,3]
[null,"wk19, 2023","AM ACC",967972102,"HUS","R","ARL_C","GB","Aycliffe",null,null,null,null,null,"NO","NO",null,4,900,1800,null,null,90,null,null,null,null,null,null,null,null,null,null,null,null,null,null,null,null,null,null,null,"",0,0,0,0,0,0,0,0,0,0,0,0,0,0,0,0,0,0,0,0,0,0,0,0,0,0,0,0,0,0,"","","","","","","","","","","","","","","","","","","","","","","","","","","","","","",null,970650001,3]
[null,"wk19, 2023","AM ACC",967972201,"HUS","R","ARL_C","GB","Aycliffe",null,null,null,null,null,"YES","NO",null,4,528,1152,null,null,48,null,null,null,null,null,null,null,null,null,null,null,null,null,null,null,null,null,null,null,"",0,0,0,0,0,0,0,0,0,0,0,0,0,0,0,0,0,0,0,0,0,0,0,0,0,0,0,0,0,0,"","","","","","","","","","","","","","","","","","","","","","","","","","","","","","",null,970650101,3]
[null,"wk19, 2023","AM ACC",967972202,"HUS","R","ARL_C","GB","Aycliffe",null,null,null,null,null,"NO","NO",null,4,528,1152,null,null,48,null,null,null,null,null,null,null,null,null,null,null,null,null,null,null,null,null,null,null,"",0,0,0,0,0,0,0,0,0,0,0,0,0,0,0,0,0,0,0,0,0,0,0,0,0,0,0,0,0,0,"","","","","","","","","","","","","","","","","","","","","","","","","","","","","","",null,970727101,3]
[null,"wk19, 2023","AM ACC",967972301,"HUS","R","ARL_C","GB","Aycliffe",null,null,null,null,null,"YES","NO",null,4,420,840,null,null,42,null,null,null,null,null,null,null,null,null,null,null,null,null,null,null,null,null,null,null,"",0,0,0,0,0,0,0,0,0,0,0,0,0,0,0,0,0,0,0,0,0,0,0,0,0,0,0,0,0,0,"","","","","","","","","","","","","","","","","","","","","","","","","","","","","","",null,970727201,3]
[null,"wk19, 2023","AM ACC",967972302,"HUS","R","ARL_C","GB","Aycliffe",null,null,null,null,null,"NO","NO",null,4,420,840,null,null,42,null,null,null,null,null,null,null,null,null,null,null,null,null,null,null,null,null,null,null,"",0,0,0,0,0,0,0,0,0,0,0,0,0,0,0,0,0,0,0,0,0,0,0,0,0,0,0,0,0,0,"","","","","","","","","","","","","","","","","","","","","","","","","","","","","","",null,970727001,3]
[null,"wk19, 2023","AM305",967974003,"HUS","R","LRL_C","GB","Aycliffe","GB;IE;SG;MT",null,null,null,null,"NO","NO",null,4,null,null,null,396,12,null,null,null,null,null,null,null,null,null,null,null,null,null,null,null,null,null,null,null,"","","","","","","","","","","","","","","","","","","","","","","","","","","","","","","","","","","","","","","","","","","","","","",0,0,0,0,0,0,0,0,0,0,0,0,0,0,0,null,970652901,3]
[null,"wk19, 2023","AM305",967974006,"HUS","R","LRL_C","GB","Aycliffe","AU;NZ",null,null,null,null,"NO","NO",null,4,144,288,null,null,12,null,null,null,null,null,null,null,null,null,null,null,null,null,null,null,null,null,null,null,"",0,0,0,0,0,0,0,0,0,0,0,0,0,0,0,0,0,0,0,0,0,0,0,0,0,0,0,0,0,0,"","","","","","","","","","","","","","","","","","","","","","","","","","","","","","",null,967985601,3]
[null,"wk19, 2023","AM305",967974008,"HUS","R","LRL_C","GB","Aycliffe",null,null,null,null,null,"NO","NO",null,4,null,null,null,396,12,null,null,null,null,null,null,null,null,null,null,null,null,null,null,null,null,null,null,null,"","","","","","","","","","","","","","","","","","","","","","","","","","","","","","","","","","","","","","","","","","","","","","",0,0,0,0,0,0,0,0,0,0,0,0,0,0,0,null,970468001,4]
[null,"wk19, 2023","AM305",967974021,"HUS","R","LRL_C","GB","Aycliffe",null,null,null,null,null,"YES","NO",null,4,null,null,null,396,12,null,null,null,null,null,null,null,null,null,null,null,null,null,null,null,null,null,null,null,"","","","","","","","","","","","","","","","","","","","","","","","","","","","","","","","","","","","","","","","","","","","","","",0,0,0,0,0,0,0,0,0,0,0,0,0,0,0,null,970468002,4]
[null,"wk19, 2023","AM305",967974025,"HUS","R","LRL_C","GB","Aycliffe",null,null,null,null,null,"NO","NO",null,4,144,288,null,null,12,null,null,null,null,null,null,null,null,null,null,null,null,null,null,null,null,null,null,null,"",0,0,0,0,0,0,0,0,0,0,0,0,0,0,0,0,0,0,0,0,0,0,0,0,0,0,0,0,0,0,"","","","","","","","","","","","","","","","","","","","","","","","","","","","","","",null,970468101,4]
[null,"wk19, 2023","AM305",967974026,"HUS","R","LRL_C","GB","Aycliffe","AR",null,null,null,null,"NO","NO",null,4,144,288,null,null,12,null,null,null,null,null,null,null,null,null,null,null,null,null,null,null,null,null,null,null,"",0,0,0,0,0,0,0,0,0,0,0,0,0,0,0,0,0,0,0,0,0,0,0,0,0,0,0,0,0,0,"","","","","","","","","","","","","","","","","","","","","","","","","","","","","","",null,970468103,4]
[null,"wk19, 2023","AM305",967974027,"HUS","R","LRL_C","GB","Aycliffe","CN",null,null,null,null,"NO","NO",null,4,144,288,null,null,12,null,null,null,null,null,null,null,null,null,null,null,null,null,null,null,null,null,null,null,"",0,0,0,0,0,0,0,0,0,0,0,0,0,0,0,0,0,0,0,0,0,0,0,0,0,0,0,0,0,0,"","","","","","","","","","","","","","","","","","","","","","","","","","","","","","",null,970468104,4]
[null,"wk19, 2023","AM305",967974029,"HUS","R","LRL_C","GB","Aycliffe","JP",null,null,null,null,"NO","NO",null,4,144,288,null,null,12,null,null,null,null,null,null,null,null,null,null,null,null,null,null,null,null,null,null,null,"",0,0,0,0,0,0,0,0,0,0,0,0,0,0,0,0,0,0,0,0,0,0,0,0,0,0,0,0,0,0,"","","","","","","","","","","","","","","","","","","","","","","","","","","","","","",null,970468105,4]
[null,"wk19, 2023","AM305",967974033,"HUS","R","LRL_C","GB","Aycliffe",null,null,null,null,null,"NO","NO",null,4,144,288,null,null,12,null,null,null,null,null,null,null,null,null,null,null,null,null,null,null,null,null,null,null,"",0,0,0,0,0,0,0,0,0,0,0,0,0,0,0,0,0,0,0,0,0,0,0,0,0,0,0,0,0,0,"","","","","","","","","","","","","","","","","","","","","","","","","","","","","","",null,970468106,4]
[null,"wk19, 2023","AM305",967974034,"HUS","R","LRL_C","GB","Aycliffe","TW",null,null,null,null,"NO","NO",null,4,null,null,null,396,12,null,null,null,null,null,null,null,null,null,null,null,null,null,null,null,null,null,null,null,"","","","","","","","","","","","","","","","","","","","","","","","","","","","","","","","","","","","","","","","","","","","","","",0,0,0,0,0,0,0,0,0,0,0,0,0,0,0,null,970614401,4]
[null,"wk19, 2023","AM305",967974040,"HUS","R","LRL_C","GB","Aycliffe",null,null,null,null,null,"YES","NO",null,4,null,null,null,396,12,null,null,null,null,null,null,null,null,null,null,null,null,null,null,null,null,null,null,null,"","","","","","","","","","","","","","","","","","","","","","","","","","","","","","","","","","","","","","","","","","","","","","",0,0,0,0,0,0,0,0,0,0,0,0,0,0,0,null,970614405,4]
[null,"wk19, 2023","AM305",967974046,"HUS","R","LRL_C","GB","Aycliffe","GB;IE",null,null,null,null,"NO","NO",null,4,null,null,null,396,12,null,null,null,null,null,null,null,null,null,null,null,null,null,null,null,null,null,null,null,"","","","","","","","","","","","","","","","","","","","","","","","","","","","","","","","","","","","","","","","","","","","","","",0,0,0,0,0,0,0,0,0,0,0,0,0,0,0,null,967852905,5]
[null,"wk19, 2023","AM405X",970456203,"HUS","R","LRL_C","GB","Aycliffe","GB;IE",null,null,null,null,"NO","NO",null,4,null,null,null,396,12,null,null,null,null,null,null,null,null,null,null,null,null,null,null,null,null,null,null,null,"","","","","","","","","","","","","","","","","","","","","","","","","","","","","","","","","","","","","","","","","","","","","","",0,0,0,0,0,0,0,0,0,0,0,0,0,0,0,null,967853105,5]
[null,"wk19, 2023","AM405X",970456205,"HUS","R","LRL_C","GB","Aycliffe",null,null,null,null,null,"NO","NO",null,4,144,288,null,null,12,null,null,null,null,null,null,null,null,null,null,null,null,null,null,null,null,null,null,null,"",0,0,0,0,0,0,0,0,0,0,0,0,0,0,0,0,0,0,0,0,0,0,0,0,0,0,0,0,0,0,"","","","","","","","","","","","","","","","","","","","","","","","","","","","","","",null,967853303,5]
[null,"wk19, 2023","AM405X",970456206,"HUS","R","LRL_C","GB","Aycliffe","AU;NZ",null,null,null,null,"NO","NO",null,4,144,288,null,null,12,null,null,null,null,null,null,null,null,null,null,null,null,null,null,null,null,null,null,null,"",0,0,0,0,0,0,0,0,0,0,0,0,0,0,0,0,0,0,0,0,0,0,0,0,0,0,0,0,0,0,"","","","","","","","","","","","","","","","","","","","","","","","","","","","","","",null,967853304,5]
[null,"wk19, 2023","AM405X",970456208,"HUS","R","LRL_C","GB","Aycliffe",null,null,null,null,null,"NO","NO",null,4,null,null,null,396,12,null,null,null,null,null,null,null,null,null,null,null,null,null,null,null,null,null,null,null,"","","","","","","","","","","","","","","","","","","","","","","","","","","","","","","","","","","","","","","","","","","","","","",0,0,0,0,0,0,0,0,0,0,0,0,0,0,0,null,967853305,5]
[null,"wk19, 2023","AM405X",970456221,"HUS","R","LRL_C","GB","Aycliffe",null,null,null,null,null,"YES","NO",null,4,null,null,null,396,12,null,null,null,null,null,null,null,null,null,null,null,null,null,null,null,null,null,null,null,"","","","","","","","","","","","","","","","","","","","","","","","","","","","","","","","","","","","","","","","","","","","","","",0,0,0,0,0,0,0,0,0,0,0,0,0,0,0,null,967853306,5]
[null,"wk19, 2023","AM405X",970456225,"HUS","R","LRL_C","GB","Aycliffe",null,null,null,null,null,"NO","NO",null,4,144,288,null,null,12,null,null,null,null,null,null,null,null,null,null,null,null,null,null,null,null,null,null,null,{"$f":"IF(I73<>0,IF(H73&I73<>H72&I72,1,\"\"),\"\")","v":""},{"$f":"IF($S73>0,Y73/$S73,\"\")","v":0},{"$f":"IF($S73>0,Z73/$S73,\"\")","v":0},{"$f":"IF($S73>0,AA73/$S73,\"\")","v":0},{"$f":"IF($S73>0,AB73/$S73,\"\")","v":0},{"$f":"IF($S73>0,AC73/$S73,\"\")","v":0},{"$f":"IF($S73>0,AD73/$S73,\"\")","v":0},{"$f":"IF($S73>0,AE73/$S73,\"\")","v":0},{"$f":"IF($S73>0,AF73/$S73,\"\")","v":0},{"$f":"IF($S73>0,AG73/$S73,\"\")","v":0},{"$f":"IF($S73>0,AH73/$S73,\"\")","v":0},{"$f":"IF($S73>0,AI73/$S73,\"\")","v":0},{"$f":"IF($S73>0,AJ73/$S73,\"\")","v":0},{"$f":"IF($S73>0,AK73/$S73,\"\")","v":0},{"$f":"IF($S73>0,AL73/$S73,\"\")","v":0},{"$f":"IF($S73>0,AM73/$S73,\"\")","v":0},{"$f":"IF($T73>0,Y73/$T73,\"\")","v":0},{"$f":"IF($T73>0,Z73/$T73,\"\")","v":0},{"$f":"IF($T73>0,AA73/$T73,\"\")","v":0},{"$f":"IF($T73>0,AB73/$T73,\"\")","v":0},{"$f":"IF($T73>0,AC73/$T73,\"\")","v":0},{"$f":"IF($T73>0,AD73/$T73,\"\")","v":0},{"$f":"IF($T73>0,AE73/$T73,\"\")","v":0},{"$f":"IF($T73>0,AF73/$T73,\"\")","v":0},{"$f":"IF($T73>0,AG73/$T73,\"\")","v":0},{"$f":"IF($T73>0,AH73/$T73,\"\")","v":0},{"$f":"IF($T73>0,AI73/$T73,\"\")","v":0},{"$f":"IF($T73>0,AJ73/$T73,\"\")","v":0},{"$f":"IF($T73>0,AK73/$T73,\"\")","v":0},{"$f":"IF($T73>0,AL73/$T73,\"\")","v":0},{"$f":"IF($T73>0,AM73/$T73,\"\")","v":0},{"$f":"IF($U73>0,Y73/$U73,\"\")","v":""},{"$f":"IF($U73>0,Z73/$U73,\"\")","v":""},{"$f":"IF($U73>0,AA73/$U73,\"\")","v":""},{"$f":"IF($U73>0,AB73/$U73,\"\")","v":""},{"$f":"IF($U73>0,AC73/$U73,\"\")","v":""},{"$f":"IF($U73>0,AD73/$U73,\"\")","v":""},{"$f":"IF($U73>0,AE73/$U73,\"\")","v":""},{"$f":"IF($U73>0,AF73/$U73,\"\")","v":""},{"$f":"IF($U73>0,AG73/$U73,\"\")","v":""},{"$f":"IF($U73>0,AH73/$U73,\"\")","v":""},{"$f":"IF($U73>0,AI73/$U73,\"\")","v":""},{"$f":"IF($U73>0,AJ73/$U73,\"\")","v":""},{"$f":"IF($U73>0,AK73/$U73,\"\")","v":""},{"$f":"IF($U73>0,AL73/$U73,\"\")","v":""},{"$f":"IF($U73>0,AM73/$U73,\"\")","v":""},{"$f":"IF($V73>0,Y73/$V73,\"\")","v":""},{"$f":"IF($V73>0,Z73/$V73,\"\")","v":""},{"$f":"IF($V73>0,AA73/$V73,\"\")","v":""},{"$f":"IF($V73>0,AB73/$V73,\"\")","v":""},{"$f":"IF($V73>0,AC73/$V73,\"\")","v":""},{"$f":"IF($V73>0,AD73/$V73,\"\")","v":""},{"$f":"IF($V73>0,AE73/$V73,\"\")","v":""},{"$f":"IF($V73>0,AF73/$V73,\"\")","v":""},{"$f":"IF($V73>0,AG73/$V73,\"\")","v":""},{"$f":"IF($V73>0,AH73/$V73,\"\")","v":""},{"$f":"IF($V73>0,AI73/$V73,\"\")","v":""},{"$f":"IF($V73>0,AJ73/$V73,\"\")","v":""},{"$f":"IF($V73>0,AK73/$V73,\"\")","v":""},{"$f":"IF($V73>0,AL73/$V73,\"\")","v":""},{"$f":"IF($V73>0,AM73/$V73,\"\")","v":""},null,967853308,5]
[null,"wk19, 2023","AM405X",970456226,"HUS","R","LRL_C","GB","Aycliffe","AR",null,null,null,null,"NO","NO",null,4,144,288,null,null,12,null,null,null,null,null,null,null,null,null,null,null,null,null,null,null,null,null,null,null,"",0,0,0,0,0,0,0,0,0,0,0,0,0,0,0,0,0,0,0,0,0,0,0,0,0,0,0,0,0,0,"","","","","","","","","","","","","","","","","","","","","","","","","","","","","","",null,967853311,5]
[null,"wk19, 2023","AM405X",970456229,"HUS","R","LRL_C","GB","Aycliffe","JP",null,null,null,null,"NO","NO",null,4,144,288,null,null,12,null,null,null,null,null,null,null,null,null,null,null,null,null,null,null,null,null,null,null,"",0,0,0,0,0,0,0,0,0,0,0,0,0,0,0,0,0,0,0,0,0,0,0,0,0,0,0,0,0,0,"","","","","","","","","","","","","","","","","","","","","","","","","","","","","","",null,967853312,5]
[null,"wk19, 2023","AM405X",970456233,"HUS","R","LRL_C","GB","Aycliffe",null,null,null,null,null,"NO","NO",null,4,144,288,null,null,12,null,null,null,null,null,null,null,null,null,null,null,null,null,null,null,null,null,null,null,"",0,0,0,0,0,0,0,0,0,0,0,0,0,0,0,0,0,0,0,0,0,0,0,0,0,0,0,0,0,0,"","","","","","","","","","","","","","","","","","","","","","","","","","","","","","",null,967853321,5]
[null,"wk19, 2023","AM405X",970456240,"HUS","R","LRL_C","GB","Aycliffe",null,null,null,null,null,"NO","NO",null,4,null,null,null,396,12,null,null,null,null,null,null,null,null,null,null,null,null,null,null,null,null,null,null,null,"","","","","","","","","","","","","","","","","","","","","","","","","","","","","","","","","","","","","","","","","","","","","","",0,0,0,0,0,0,0,0,0,0,0,0,0,0,0,null,967853329,5]
[null,"wk19, 2023","AM405X",970456246,"HUS","R","LRL_C","GB","Aycliffe","IE;GB",null,null,null,null,"NO","NO",null,4,null,null,null,396,12,null,null,null,null,null,null,null,null,null,null,null,null,null,null,null,null,null,null,null,"","","","","","","","","","","","","","","","","","","","","","","","","","","","","","","","","","","","","","","","","","","","","","",0,0,0,0,0,0,0,0,0,0,0,0,0,0,0,null,967853333,5]
[null,"wk19, 2023","AM405X",970456247,"HUS","R","LRL_C","GB","Aycliffe","AU;NZ",null,null,null,null,"NO","NO",null,4,null,null,null,396,12,null,null,null,null,null,null,null,null,null,null,null,null,null,null,null,null,null,null,null,"","","","","","","","","","","","","","","","","","","","","","","","","","","","","","","","","","","","","","","","","","","","","","",0,0,0,0,0,0,0,0,0,0,0,0,0,0,0,null,970651702,5]
[null,"wk19, 2023","CEORA 546 EPOS",970467901,"HUS","R","LRL_P","GB","Aycliffe","CEORA",null,null,null,null,"YES","NO","Be careful with your Logility plans. Comp. Lead time +12 months. ",4,null,null,null,135,3,null,null,null,null,null,null,null,null,null,null,null,null,null,null,null,null,null,null,null,"","","","","","","","","","","","","","","","","","","","","","","","","","","","","","","","","","","","","","","","","","","","","","",0,0,0,0,0,0,0,0,0,0,0,0,0,0,0,null,970651703,5]
[null,"wk19, 2023","CEORA 546 EPOS",970467905,"HUS","R","LRL_P","GB","Aycliffe","CEORA US",null,null,null,null,"NO","NO","Be careful with your Logility plans. Comp. Lead time +12 months. ",4,null,null,null,null,3,null,null,null,null,null,null,null,null,null,null,null,null,null,null,null,null,null,null,null,"","","","","","","","","","","","","","","","","","","","","","","","","","","","","","","","","","","","","","","","","","","","","","","","","","","","","","","","","","","","","",null,970651704,5]
[null,"wk19, 2023","CEORA 546 EPOS",970467906,"HUS","R","LRL_P","GB","Aycliffe","CEORA NZ",null,null,null,null,"NO","NO","Be careful with your Logility plans. Comp. Lead time +12 months. ",4,null,null,null,null,3,null,null,null,null,null,null,null,null,null,null,null,null,null,null,null,null,null,null,null,"","","","","","","","","","","","","","","","","","","","","","","","","","","","","","","","","","","","","","","","","","","","","","","","","","","","","","","","","","","","","",null,970651705,5]
[null,"wk19, 2023","CEORA 546 EPOS",970467907,"HUS","R","LRL_P","GB","Aycliffe","CEORA AU",null,null,null,null,"NO","NO","Be careful with your Logility plans. Comp. Lead time +12 months. ",4,null,null,null,null,3,null,null,null,null,null,null,null,null,null,null,null,null,null,null,null,null,null,null,null,"","","","","","","","","","","","","","","","","","","","","","","","","","","","","","","","","","","","","","","","","","","","","","","","","","","","","","","","","","","","","",null,970651706,5]
[null,"wk19, 2023","CEORA Razor 43M",970468001,"HUS","R","LRL_P","GB","Aycliffe","CEORA",null,null,null,null,"YES","NO","Be careful with your Logility plans. Comp. Lead time +12 months. ",4,null,null,null,104,4,null,null,null,null,null,null,null,null,null,null,null,null,null,null,null,null,null,null,null,"","","","","","","","","","","","","","","","","","","","","","","","","","","","","","","","","","","","","","","","","","","","","","",0,0,0,0,0,0,0,0,0,0,0,0,0,0,0,null,970651708,5]
[null,"wk19, 2023","CEORA Razor 43M",970468002,"HUS","R","LRL_P","GB","Aycliffe","CEORA US",null,null,null,null,"NO","NO","Be careful with your Logility plans. Comp. Lead time +12 months. ",4,null,80,null,null,4,null,null,null,null,null,null,null,null,null,null,null,null,null,null,null,null,null,null,null,"","","","","","","","","","","","","","","","",0,0,0,0,0,0,0,0,0,0,0,0,0,0,0,"","","","","","","","","","","","","","","","","","","","","","","","","","","","","","",null,970651711,5]
[null,"wk19, 2023","CEORA CS4",970468101,"HUS","R","LRL_P","GB","Aycliffe","CEORA",null,null,null,null,"YES","NO","Be careful with your Logility plans. Comp. Lead time +12 months. ",4,null,null,null,132,4,null,null,null,null,null,null,null,null,null,null,null,null,null,null,null,null,null,null,null,"","","","","","","","","","","","","","","","","","","","","","","","","","","","","","","","","","","","","","","","","","","","","","",0,0,0,0,0,0,0,0,0,0,0,0,0,0,0,null,970651712,5]
[null,"wk19, 2023","CEORA CS4",970468103,"HUS","R","LRL_P","GB","Aycliffe","CEORA IE/GB",null,null,null,null,"NO","NO","Be careful with your Logility plans. Comp. Lead time +12 months. ",4,null,null,null,132,4,null,null,null,null,null,null,null,null,null,null,null,null,null,null,null,null,null,null,null,"","","","","","","","","","","","","","","","","","","","","","","","","","","","","","","","","","","","","","","","","","","","","","",0,0,0,0,0,0,0,0,0,0,0,0,0,0,0,null,970651721,5]
[null,"wk19, 2023","CEORA CS4",970468104,"HUS","R","LRL_P","GB","Aycliffe","CEORA CH",null,null,null,null,"NO","NO","Be careful with your Logility plans. Comp. Lead time +12 months. ",4,null,null,null,132,4,null,null,null,null,null,null,null,null,null,null,null,null,null,null,null,null,null,null,null,"","","","","","","","","","","","","","","","","","","","","","","","","","","","","","","","","","","","","","","","","","","","","","",0,0,0,0,0,0,0,0,0,0,0,0,0,0,0,null,970651729,5]
[null,"wk19, 2023","CEORA CS4",970468105,"HUS","R","LRL_P","GB","Aycliffe","CEORA US",null,null,null,null,"NO","NO","Be careful with your Logility plans. Comp. Lead time +12 months. ",4,null,null,null,null,4,null,null,null,null,null,null,null,null,null,null,null,null,null,null,null,null,null,null,null,"","","","","","","","","","","","","","","","","","","","","","","","","","","","","","","","","","","","","","","","","","","","","","","","","","","","","","","","","","","","","",null,970656405,5]
[null,"wk19, 2023","CEORA CS4",970468106,"HUS","R","LRL_P","GB","Aycliffe","CEORA AU/NZ",null,null,null,null,"NO","NO","Be careful with your Logility plans. Comp. Lead time +12 months. ",4,null,null,null,null,4,null,null,null,null,null,null,null,null,null,null,null,null,null,null,null,null,null,null,null,"","","","","","","","","","","","","","","","","","","","","","","","","","","","","","","","","","","","","","","","","","","","","","","","","","","","","","","","","","","","","",null,970656605,5]
[null,"wk19, 2023","Reference station",970468201,"HUS","R","LRL_P","GB","Aycliffe","CEORA",null,null,null,null,"YES","NO","Be careful with your Logility plans. Comp. Lead time +12 months. ",4,null,null,null,1248,24,null,null,null,null,null,null,null,null,null,null,null,null,null,null,null,null,null,null,null,"","","","","","","","","","","","","","","","","","","","","","","","","","","","","","","","","","","","","","","","","","","","","","",0,0,0,0,0,0,0,0,0,0,0,0,0,0,0,null,970656805,5]
[null,"wk19, 2023","Reference station",970468203,"HUS","R","LRL_P","GB","Aycliffe","CEORA GB/IE",null,null,null,null,"NO","NO","Be careful with your Logility plans. Comp. Lead time +12 months. ",4,null,null,null,1248,24,null,null,null,null,null,null,null,null,null,null,null,null,null,null,null,null,null,null,null,"","","","","","","","","","","","","","","","","","","","","","","","","","","","","","","","","","","","","","","","","","","","","","",0,0,0,0,0,0,0,0,0,0,0,0,0,0,0,null,970657405,5]
[null,"wk19, 2023","Reference station",970468204,"HUS","R","LRL_P","GB","Aycliffe","CEORA CH",null,null,null,null,"NO","NO","Be careful with your Logility plans. Comp. Lead time +12 months. ",4,null,null,null,1248,24,null,null,null,null,null,null,null,null,null,null,null,null,null,null,null,null,null,null,null,"","","","","","","","","","","","","","","","","","","","","","","","","","","","","","","","","","","","","","","","","","","","","","",0,0,0,0,0,0,0,0,0,0,0,0,0,0,0,null,967963502,6]
[null,"wk19, 2023","Reference station",970468205,"HUS","R","LRL_P","GB","Aycliffe","CEORA US; CA",null,null,null,null,"NO","NO","Be careful with your Logility plans. Comp. Lead time +12 months. ",4,null,624,null,null,24,null,null,null,null,null,null,null,null,null,null,null,null,null,null,null,null,null,null,null,"","","","","","","","","","","","","","","","",0,0,0,0,0,0,0,0,0,0,0,0,0,0,0,"","","","","","","","","","","","","","","","","","","","","","","","","","","","","","",null,967963503,6]
[null,"wk19, 2023","Reference station",970468206,"HUS","R","LRL_P","GB","Aycliffe","CEORA NZ",null,null,null,null,"NO","NO","Be careful with your Logility plans. Comp. Lead time +12 months. ",4,null,624,null,null,24,null,null,null,null,null,null,null,null,null,null,null,null,null,null,null,null,null,null,null,"","","","","","","","","","","","","","","","",0,0,0,0,0,0,0,0,0,0,0,0,0,0,0,"","","","","","","","","","","","","","","","","","","","","","","","","","","","","","",null,970549301,6]
[null,"wk19, 2023","Reference station",970468207,"HUS","R","LRL_P","GB","Aycliffe","CEORA AU",null,null,null,null,"NO","NO","Be careful with your Logility plans. Comp. Lead time +12 months. ",4,null,624,null,null,24,null,null,null,null,null,null,null,null,null,null,null,null,null,null,null,null,null,null,null,"","","","","","","","","","","","","","","","",0,0,0,0,0,0,0,0,0,0,0,0,0,0,0,"","","","","","","","","","","","","","","","","","","","","","","","","","","","","","",null,967681204,6]
[null,"wk19, 2023","AM415X",970471703,"HUS","R","LRL_C","GB","Aycliffe","GB;IE",null,null,null,null,"NO","NO",null,4,null,null,null,396,12,null,null,null,null,null,null,null,null,null,null,null,null,null,null,null,null,null,null,null,"","","","","","","","","","","","","","","","","","","","","","","","","","","","","","","","","","","","","","","","","","","","","","",0,0,0,0,0,0,0,0,0,0,0,0,0,0,0,null,967796203,6]
[null,"wk19, 2023","AM415X",970471705,"HUS","R","LRL_C","GB","Aycliffe",null,null,null,null,null,"NO","NO",null,4,144,288,null,null,12,null,null,null,null,null,null,null,null,null,null,null,null,null,null,null,null,null,null,null,"",0,0,0,0,0,0,0,0,0,0,0,0,0,0,0,0,0,0,0,0,0,0,0,0,0,0,0,0,0,0,"","","","","","","","","","","","","","","","","","","","","","","","","","","","","","",null,967681103,6]
[null,"wk19, 2023","AM415X",970471706,"HUS","R","LRL_C","GB","Aycliffe","AU;NZ",null,null,null,null,"NO","NO",null,4,144,288,null,null,12,null,null,null,null,null,null,null,null,null,null,null,null,null,null,null,null,null,null,null,"",0,0,0,0,0,0,0,0,0,0,0,0,0,0,0,0,0,0,0,0,0,0,0,0,0,0,0,0,0,0,"","","","","","","","","","","","","","","","","","","","","","","","","","","","","","",null,967681104,6]
[null,"wk19, 2023","AM415X",970471708,"HUS","R","LRL_C","GB","Aycliffe",null,null,null,null,null,"NO","NO",null,4,null,null,null,396,12,null,null,null,null,null,null,null,null,null,null,null,null,null,null,null,null,null,null,null,"","","","","","","","","","","","","","","","","","","","","","","","","","","","","","","","","","","","","","","","","","","","","","",0,0,0,0,0,0,0,0,0,0,0,0,0,0,0,null,967681105,6]
[null,"wk19, 2023","AM415X",970471725,"HUS","R","LRL_C","GB","Aycliffe",null,null,null,null,null,"NO","NO",null,4,144,288,null,null,12,null,null,null,null,null,null,null,null,null,null,null,null,null,null,null,null,null,null,null,"",0,0,0,0,0,0,0,0,0,0,0,0,0,0,0,0,0,0,0,0,0,0,0,0,0,0,0,0,0,0,"","","","","","","","","","","","","","","","","","","","","","","","","","","","","","",null,970468301,6]
[null,"wk19, 2023","AM415X",970471726,"HUS","R","LRL_C","GB","Aycliffe","AR",null,null,null,null,"NO","NO",null,4,144,288,null,null,12,null,null,null,null,null,null,null,null,null,null,null,null,null,null,null,null,null,null,null,"",0,0,0,0,0,0,0,0,0,0,0,0,0,0,0,0,0,0,0,0,0,0,0,0,0,0,0,0,0,0,"","","","","","","","","","","","","","","","","","","","","","","","","","","","","","",null,970468302,6]
[null,"wk19, 2023","AM415X",970471729,"HUS","R","LRL_C","GB","Aycliffe","JP",null,null,null,null,"NO","NO",null,4,144,288,null,null,12,null,null,null,null,null,null,null,null,null,null,null,null,null,null,null,null,null,null,null,"",0,0,0,0,0,0,0,0,0,0,0,0,0,0,0,0,0,0,0,0,0,0,0,0,0,0,0,0,0,0,"","","","","","","","","","","","","","","","","","","","","","","","","","","","","","",null,970468320,6]
[null,"wk19, 2023","AM415X",970471733,"HUS","R","LRL_C","GB","Aycliffe",null,null,null,null,null,"NO","NO",null,4,144,288,null,null,12,null,null,null,null,null,null,null,null,null,null,null,null,null,null,null,null,null,null,null,"",0,0,0,0,0,0,0,0,0,0,0,0,0,0,0,0,0,0,0,0,0,0,0,0,0,0,0,0,0,0,"","","","","","","","","","","","","","","","","","","","","","","","","","","","","","",null,970468401,6]
[null,"wk19, 2023","AM415X",970471740,"HUS","R","LRL_C","GB","Aycliffe",null,null,null,null,null,"NO","NO",null,4,null,null,null,396,12,null,null,null,null,null,null,null,null,null,null,null,null,null,null,null,null,null,null,null,"","","","","","","","","","","","","","","","","","","","","","","","","","","","","","","","","","","","","","","","","","","","","","",0,0,0,0,0,0,0,0,0,0,0,0,0,0,0,null,970468402,6]
[null,"wk19, 2023","AM415X",970471745,"HUS","R","LRL_C","GB","Aycliffe",null,null,null,null,null,"NO","NO",null,4,null,null,null,null,10,null,null,null,null,null,null,null,null,null,null,null,null,null,null,null,null,null,null,null,"","","","","","","","","","","","","","","","","","","","","","","","","","","","","","","","","","","","","","","","","","","","","","","","","","","","","","","","","","","","","",null,970652801,6]
[null,"wk19, 2023","AM415X",970471746,"HUS","R","LRL_C","GB","Aycliffe","IE;GB",null,null,null,null,"NO","NO",null,4,null,null,null,396,12,null,null,null,null,null,null,null,null,null,null,null,null,null,null,null,null,null,null,null,"","","","","","","","","","","","","","","","","","","","","","","","","","","","","","","","","","","","","","","","","","","","","","",0,0,0,0,0,0,0,0,0,0,0,0,0,0,0,null,536664101,8]
[null,"wk19, 2023","AM415X",970471747,"HUS","R","LRL_C","GB","Aycliffe","AU;NZ",null,null,null,null,"NO","NO",null,4,null,null,null,396,12,null,null,null,null,null,null,null,null,null,null,null,null,null,null,null,null,null,null,null,"","","","","","","","","","","","","","","","","","","","","","","","","","","","","","","","","","","","","","","","","","","","","","",0,0,0,0,0,0,0,0,0,0,0,0,0,0,0,null,597635201,8]
[null,"wk19, 2023","AM310 Mark II",970526703,"HUS","R","LRL_C","GB","Aycliffe","GB;IE;MT",null,null,null,null,"NO","NO",null,4,null,null,null,396,12,null,null,null,null,null,null,null,null,null,null,null,null,null,null,null,null,null,null,null,"","","","","","","","","","","","","","","","","","","","","","","","","","","","","","","","","","","","","","","","","","","","","","",0,0,0,0,0,0,0,0,0,0,0,0,0,0,0,null,597635301,8]
[null,"wk19, 2023","AM310 Mark II",970526706,"HUS","R","LRL_C","GB","Aycliffe","AU;NZ",null,null,null,null,"NO","NO",null,4,144,288,null,null,12,null,null,null,null,null,null,null,null,null,null,null,null,null,null,null,null,null,null,null,"",0,0,0,0,0,0,0,0,0,0,0,0,0,0,0,0,0,0,0,0,0,0,0,0,0,0,0,0,0,0,"","","","","","","","","","","","","","","","","","","","","","","","","","","","","","",null,597635310,8]
[null,"wk19, 2023","AM310 Mark II",970526708,"HUS","R","LRL_C","GB","Aycliffe",null,null,null,null,null,"NO","NO",null,4,null,null,null,396,12,null,null,null,null,null,null,null,null,null,null,null,null,null,null,null,null,null,null,null,"","","","","","","","","","","","","","","","","","","","","","","","","","","","","","","","","","","","","","","","","","","","","","",0,0,0,0,0,0,0,0,0,0,0,0,0,0,0,null,967852845,8]
[null,"wk19, 2023","AM310 Mark II",970526721,"HUS","R","LRL_C","GB","Aycliffe",null,null,null,null,null,"YES","NO",null,4,null,null,null,396,12,null,null,null,null,null,null,null,null,null,null,null,null,null,null,null,null,null,null,null,"","","","","","","","","","","","","","","","","","","","","","","","","","","","","","","","","","","","","","","","","","","","","","",0,0,0,0,0,0,0,0,0,0,0,0,0,0,0,null,967852945,8]
[null,"wk19, 2023","AM310 Mark II",970526733,"HUS","R","LRL_C","GB","Aycliffe",null,null,null,null,null,"NO","NO",null,4,144,288,null,null,12,null,null,null,null,null,null,null,null,null,null,null,null,null,null,null,null,null,null,null,"",0,0,0,0,0,0,0,0,0,0,0,0,0,0,0,0,0,0,0,0,0,0,0,0,0,0,0,0,0,0,"","","","","","","","","","","","","","","","","","","","","","","","","","","","","","",null,970461001,8]
[null,"wk19, 2023","AM310 Mark II",970526734,"HUS","R","LRL_C","GB","Aycliffe","TW",null,null,null,null,"NO","NO",null,4,144,288,null,null,12,null,null,null,null,null,null,null,null,null,null,null,null,null,null,null,null,null,null,null,"",0,0,0,0,0,0,0,0,0,0,0,0,0,0,0,0,0,0,0,0,0,0,0,0,0,0,0,0,0,0,"","","","","","","","","","","","","","","","","","","","","","","","","","","","","","",null,970461101,8]
[null,"wk19, 2023","AM310 Mark II",970526740,"HUS","R","LRL_C","GB","Aycliffe",null,null,null,null,null,"YES","NO",null,4,null,null,null,396,12,null,null,null,null,null,null,null,null,null,null,null,null,null,null,null,null,null,null,null,"","","","","","","","","","","","","","","","","","","","","","","","","","","","","","","","","","","","","","","","","","","","","","",0,0,0,0,0,0,0,0,0,0,0,0,0,0,0,null,970461201,8]
[null,"wk19, 2023","AM310 Mark II",970526746,"HUS","R","LRL_C","GB","Aycliffe","GB;IE",null,null,null,null,"NO","NO",null,4,null,null,null,396,12,null,null,null,null,null,null,null,null,null,null,null,null,null,null,null,null,null,null,null,"","","","","","","","","","","","","","","","","","","","","","","","","","","","","","","","","","","","","","","","","","","","","","",0,0,0,0,0,0,0,0,0,0,0,0,0,0,0,null,970609201,8]
[null,"wk19, 2023","AM315 Mark II",970526803,"HUS","R","LRL_C","GB","Aycliffe","GB;IE;MT",null,null,null,null,"NO","NO",null,4,null,null,null,396,12,null,null,null,null,null,null,null,null,null,null,null,null,null,null,null,null,null,null,null,"","","","","","","","","","","","","","","","","","","","","","","","","","","","","","","","","","","","","","","","","","","","","","",0,0,0,0,0,0,0,0,0,0,0,0,0,0,0,null,970647901,8]
[null,"wk19, 2023","AM315 Mark II",970526806,"HUS","R","LRL_C","GB","Aycliffe","AU;NZ",null,null,null,null,"NO","NO",null,4,null,null,null,396,12,null,null,null,null,null,null,null,null,null,null,null,null,null,null,null,null,null,null,null,"","","","","","","","","","","","","","","","","","","","","","","","","","","","","","","","","","","","","","","","","","","","","","",0,0,0,0,0,0,0,0,0,0,0,0,0,0,0,null,970466903,8]
[null,"wk19, 2023","AM315 Mark II",970526808,"HUS","R","LRL_C","GB","Aycliffe",null,null,null,null,null,"NO","NO",null,4,null,null,null,396,12,null,null,null,null,null,null,null,null,null,null,null,null,null,null,null,null,null,null,null,"","","","","","","","","","","","","","","","","","","","","","","","","","","","","","","","","","","","","","","","","","","","","","",0,0,0,0,0,0,0,0,0,0,0,0,0,0,0,null,967977301,8]
[null,"wk19, 2023","AM315 Mark II",970526811,"HUS","R","LRL_C","GB","Aycliffe",null,null,null,null,null,"YES","NO",null,4,null,null,null,396,12,null,null,null,null,null,null,null,null,null,null,null,null,null,null,null,null,null,null,null,"","","","","","","","","","","","","","","","","","","","","","","","","","","","","","","","","","","","","","","","","","","","","","",0,0,0,0,0,0,0,0,0,0,0,0,0,0,0,null,970481801,8]
[null,"wk19, 2023","AM315 Mark II",970526821,"HUS","R","LRL_C","GB","Aycliffe",null,null,null,null,null,"YES","NO",null,4,null,null,null,396,12,null,null,null,null,null,null,null,null,null,null,null,null,null,null,null,null,null,null,null,"","","","","","","","","","","","","","","","","","","","","","","","","","","","","","","","","","","","","","","","","","","","","","",0,0,0,0,0,0,0,0,0,0,0,0,0,0,0,null,970481901,8]
[null,"wk19, 2023","AM315 Mark II",970526827,"HUS","R","LRL_C","GB","Aycliffe","CN",null,null,null,null,"NO","NO",null,4,144,288,null,null,12,null,null,null,null,null,null,null,null,null,null,null,null,null,null,null,null,null,null,null,"",0,0,0,0,0,0,0,0,0,0,0,0,0,0,0,0,0,0,0,0,0,0,0,0,0,0,0,0,0,0,"","","","","","","","","","","","","","","","","","","","","","","","","","","","","","",null,970482001,8]
[null,"wk19, 2023","AM315 Mark II",970526829,"HUS","R","LRL_C","GB","Aycliffe","JP",null,null,null,null,"NO","NO",null,4,144,288,null,null,12,null,null,null,null,null,null,null,null,null,null,null,null,null,null,null,null,null,null,null,"",0,0,0,0,0,0,0,0,0,0,0,0,0,0,0,0,0,0,0,0,0,0,0,0,0,0,0,0,0,0,"","","","","","","","","","","","","","","","","","","","","","","","","","","","","","",null,970482301,8]
[null,"wk19, 2023","AM315 Mark II",970526833,"HUS","R","LRL_C","GB","Aycliffe",null,null,null,null,null,"NO","NO",null,4,144,288,null,null,12,null,null,null,null,null,null,null,null,null,null,null,null,null,null,null,null,null,null,null,"",0,0,0,0,0,0,0,0,0,0,0,0,0,0,0,0,0,0,0,0,0,0,0,0,0,0,0,0,0,0,"","","","","","","","","","","","","","","","","","","","","","","","","","","","","","",null,970482401,8]
[null,"wk19, 2023","AM315 Mark II",970526834,"HUS","R","LRL_C","GB","Aycliffe","TW",null,null,null,null,"NO","NO",null,4,144,288,null,null,12,null,null,null,null,null,null,null,null,null,null,null,null,null,null,null,null,null,null,null,"",0,0,0,0,0,0,0,0,0,0,0,0,0,0,0,0,0,0,0,0,0,0,0,0,0,0,0,0,0,0,"","","","","","","","","","","","","","","","","","","","","","","","","","","","","","",null,970525701,8]
[null,"wk19, 2023","AM315 Mark II",970526840,"HUS","R","LRL_C","GB","Aycliffe",null,null,null,null,null,"YES","NO",null,4,null,null,null,396,12,null,null,null,null,null,null,null,null,null,null,null,null,null,null,null,null,null,null,null,"","","","","","","","","","","","","","","","","","","","","","","","","","","","","","","","","","","","","","","","","","","","","","",0,0,0,0,0,0,0,0,0,0,0,0,0,0,0,null,970608501,8]
[null,"wk19, 2023","AM315 Mark II",970526846,"HUS","R","LRL_C","GB","Aycliffe","GB;IE",null,null,null,null,"NO","NO",null,4,null,null,null,396,12,null,null,null,null,null,null,null,null,null,null,null,null,null,null,null,null,null,null,null,"","","","","","","","","","","","","","","","","","","","","","","","","","","","","","","","","","","","","","","","","","","","","","",0,0,0,0,0,0,0,0,0,0,0,0,0,0,0,null,970608701,8]
[null,"wk19, 2023","AM320 NERA",970535103,"HUS","R","LRL_C","GB","Aycliffe","GB;IE",null,null,null,null,"NO","NO",null,4,null,null,null,260,10,null,null,null,null,null,null,null,null,null,null,null,null,null,null,null,null,null,null,null,"","","","","","","","","","","","","","","","","","","","","","","","","","","","","","","","","","","","","","","","","","","","","","",0,0,0,0,0,0,0,0,0,0,0,0,0,0,0,null,970608801,8]
[null,"wk19, 2023","AM320 NERA",970535106,"HUS","R","LRL_C","GB","Aycliffe","AU;NZ",null,null,null,null,"NO","NO",null,4,100,200,null,260,10,null,null,null,null,null,null,null,null,null,null,null,null,null,null,null,null,null,null,null,"",0,0,0,0,0,0,0,0,0,0,0,0,0,0,0,0,0,0,0,0,0,0,0,0,0,0,0,0,0,0,"","","","","","","","","","","","","","","",0,0,0,0,0,0,0,0,0,0,0,0,0,0,0,null,970608901,8]
[null,"wk19, 2023","AM320 NERA",970535108,"HUS","R","LRL_C","GB","Aycliffe",null,null,null,null,null,"NO","NO",null,4,null,null,null,260,10,null,null,null,null,null,null,null,null,null,null,null,null,null,null,null,null,null,null,null,"","","","","","","","","","","","","","","","","","","","","","","","","","","","","","","","","","","","","","","","","","","","","","",0,0,0,0,0,0,0,0,0,0,0,0,0,0,0,null,970609001,8]
[null,"wk19, 2023","AM320 NERA",970535111,"HUS","R","LRL_C","GB","Aycliffe",null,null,null,null,null,"YES","NO",null,4,null,null,null,260,10,null,null,null,null,null,null,null,null,null,null,null,null,null,null,null,null,null,null,null,"","","","","","","","","","","","","","","","","","","","","","","","","","","","","","","","","","","","","","","","","","","","","","",0,0,0,0,0,0,0,0,0,0,0,0,0,0,0,null,970609101,8]
[null,"wk19, 2023","AM320 NERA",970535121,"HUS","R","LRL_C","GB","Aycliffe",null,null,null,null,null,"YES","NO",null,4,null,null,null,260,10,null,null,null,null,null,null,null,null,null,null,null,null,null,null,null,null,null,null,null,"","","","","","","","","","","","","","","","","","","","","","","","","","","","","","","","","","","","","","","","","","","","","","",0,0,0,0,0,0,0,0,0,0,0,0,0,0,0,null,966629401,8]
[null,"wk19, 2023","AM430X NERA",970535203,"HUS","R","LRL_C","GB","Aycliffe","GB;IE",null,null,null,null,"NO","NO",null,4,null,null,null,260,10,null,null,null,null,null,null,null,null,null,null,null,null,null,null,null,null,null,null,null,"","","","","","","","","","","","","","","","","","","","","","","","","","","","","","","","","","","","","","","","","","","","","","",0,0,0,0,0,0,0,0,0,0,0,0,0,0,0,null,966629403,8]
[null,"wk19, 2023","AM430X NERA",970535204,"HUS","R","LRL_C","GB","Aycliffe","CH",null,null,null,null,"NO","NO",null,4,null,null,null,260,10,null,null,null,null,null,null,null,null,null,null,null,null,null,null,null,null,null,null,null,"","","","","","","","","","","","","","","","","","","","","","","","","","","","","","","","","","","","","","","","","","","","","","",0,0,0,0,0,0,0,0,0,0,0,0,0,0,0,null,966629601,8]
[null,"wk19, 2023","AM430X NERA",970535206,"HUS","R","LRL_C","GB","Aycliffe","AU;NZ",null,null,null,null,"NO","NO",null,4,100,200,null,null,10,null,null,null,null,null,null,null,null,null,null,null,null,null,null,null,null,null,null,null,"",0,0,0,0,0,0,0,0,0,0,0,0,0,0,0,0,0,0,0,0,0,0,0,0,0,0,0,0,0,0,"","","","","","","","","","","","","","","","","","","","","","","","","","","","","","",null,967144304,8]
[null,"wk19, 2023","AM430X NERA",970535208,"HUS","R","LRL_C","GB","Aycliffe",null,null,null,null,null,"NO","NO",null,4,null,null,null,260,10,null,null,null,null,null,null,null,null,null,null,null,null,null,null,null,null,null,null,null,"","","","","","","","","","","","","","","","","","","","","","","","","","","","","","","","","","","","","","","","","","","","","","",0,0,0,0,0,0,0,0,0,0,0,0,0,0,0,null,967851302,8]
[null,"wk19, 2023","AM430X NERA",970535211,"HUS","R","LRL_C","GB","Aycliffe",null,null,null,null,null,"YES","NO",null,4,null,null,null,260,10,null,null,null,null,null,null,null,null,null,null,null,null,null,null,null,null,null,null,null,{"$f":"IF(I137<>0,IF(H137&I137<>H136&I136,1,\"\"),\"\")","v":""},{"$f":"IF($S137>0,Y137/$S137,\"\")","v":""},{"$f":"IF($S137>0,Z137/$S137,\"\")","v":""},{"$f":"IF($S137>0,AA137/$S137,\"\")","v":""},{"$f":"IF($S137>0,AB137/$S137,\"\")","v":""},{"$f":"IF($S137>0,AC137/$S137,\"\")","v":""},{"$f":"IF($S137>0,AD137/$S137,\"\")","v":""},{"$f":"IF($S137>0,AE137/$S137,\"\")","v":""},{"$f":"IF($S137>0,AF137/$S137,\"\")","v":""},{"$f":"IF($S137>0,AG137/$S137,\"\")","v":""},{"$f":"IF($S137>0,AH137/$S137,\"\")","v":""},{"$f":"IF($S137>0,AI137/$S137,\"\")","v":""},{"$f":"IF($S137>0,AJ137/$S137,\"\")","v":""},{"$f":"IF($S137>0,AK137/$S137,\"\")","v":""},{"$f":"IF($S137>0,AL137/$S137,\"\")","v":""},{"$f":"IF($S137>0,AM137/$S137,\"\")","v":""},{"$f":"IF($T137>0,Y137/$T137,\"\")","v":""},{"$f":"IF($T137>0,Z137/$T137,\"\")","v":""},{"$f":"IF($T137>0,AA137/$T137,\"\")","v":""},{"$f":"IF($T137>0,AB137/$T137,\"\")","v":""},{"$f":"IF($T137>0,AC137/$T137,\"\")","v":""},{"$f":"IF($T137>0,AD137/$T137,\"\")","v":""},{"$f":"IF($T137>0,AE137/$T137,\"\")","v":""},{"$f":"IF($T137>0,AF137/$T137,\"\")","v":""},{"$f":"IF($T137>0,AG137/$T137,\"\")","v":""},{"$f":"IF($T137>0,AH137/$T137,\"\")","v":""},{"$f":"IF($T137>0,AI137/$T137,\"\")","v":""},{"$f":"IF($T137>0,AJ137/$T137,\"\")","v":""},{"$f":"IF($T137>0,AK137/$T137,\"\")","v":""},{"$f":"IF($T137>0,AL137/$T137,\"\")","v":""},{"$f":"IF($T137>0,AM137/$T137,\"\")","v":""},{"$f":"IF($U137>0,Y137/$U137,\"\")","v":""},{"$f":"IF($U137>0,Z137/$U137,\"\")","v":""},{"$f":"IF($U137>0,AA137/$U137,\"\")","v":""},{"$f":"IF($U137>0,AB137/$U137,\"\")","v":""},{"$f":"IF($U137>0,AC137/$U137,\"\")","v":""},{"$f":"IF($U137>0,AD137/$U137,\"\")","v":""},{"$f":"IF($U137>0,AE137/$U137,\"\")","v":""},{"$f":"IF($U137>0,AF137/$U137,\"\")","v":""},{"$f":"IF($U137>0,AG137/$U137,\"\")","v":""},{"$f":"IF($U137>0,AH137/$U137,\"\")","v":""},{"$f":"IF($U137>0,AI137/$U137,\"\")","v":""},{"$f":"IF($U137>0,AJ137/$U137,\"\")","v":""},{"$f":"IF($U137>0,AK137/$U137,\"\")","v":""},{"$f":"IF($U137>0,AL137/$U137,\"\")","v":""},{"$f":"IF($U137>0,AM137/$U137,\"\")","v":""},{"$f":"IF($V137>0,Y137/$V137,\"\")","v":0},{"$f":"IF($V137>0,Z137/$V137,\"\")","v":0},{"$f":"IF($V137>0,AA137/$V137,\"\")","v":0},{"$f":"IF($V137>0,AB137/$V137,\"\")","v":0},{"$f":"IF($V137>0,AC137/$V137,\"\")","v":0},{"$f":"IF($V137>0,AD137/$V137,\"\")","v":0},{"$f":"IF($V137>0,AE137/$V137,\"\")","v":0},{"$f":"IF($V137>0,AF137/$V137,\"\")","v":0},{"$f":"IF($V137>0,AG137/$V137,\"\")","v":0},{"$f":"IF($V137>0,AH137/$V137,\"\")","v":0},{"$f":"IF($V137>0,AI137/$V137,\"\")","v":0},{"$f":"IF($V137>0,AJ137/$V137,\"\")","v":0},{"$f":"IF($V137>0,AK137/$V137,\"\")","v":0},{"$f":"IF($V137>0,AL137/$V137,\"\")","v":0},{"$f":"IF($V137>0,AM137/$V137,\"\")","v":0},null,970449001,8]
[null,"wk19, 2023","AM430X NERA",970535212,"HUS","R","LRL_C","GB","Aycliffe",null,null,null,null,null,"NO","NO",null,4,null,null,null,260,10,null,null,null,null,null,null,null,null,null,null,null,null,null,null,null,null,null,null,null,"","","","","","","","","","","","","","","","","","","","","","","","","","","","","","","","","","","","","","","","","","","","","","",0,0,0,0,0,0,0,0,0,0,0,0,0,0,0,null,970471745,10]
[null,"wk19, 2023","AM430X NERA",970535221,"HUS","R","LRL_C","GB","Aycliffe",null,null,null,null,null,"YES","NO",null,4,null,null,null,260,10,null,null,null,null,null,null,null,null,null,null,null,null,null,null,null,null,null,null,null,"","","","","","","","","","","","","","","","","","","","","","","","","","","","","","","","","","","","","","","","","","","","","","",0,0,0,0,0,0,0,0,0,0,0,0,0,0,0,null,970535103,10]
[null,"wk19, 2023","AM450X NERA",970535303,"HUS","R","LRL_C","GB","Aycliffe","GB;IE",null,null,null,null,"NO","NO",null,4,null,null,null,260,10,null,null,null,null,null,null,null,null,null,null,null,null,null,null,null,null,null,null,null,"","","","","","","","","","","","","","","","","","","","","","","","","","","","","","","","","","","","","","","","","","","","","","",0,0,0,0,0,0,0,0,0,0,0,0,0,0,0,null,970535106,10]
[null,"wk19, 2023","AM450X NERA",970535304,"HUS","R","LRL_C","GB","Aycliffe","CH",null,null,null,null,"NO","NO",null,4,null,null,null,260,10,null,null,null,null,null,null,null,null,null,null,null,null,null,null,null,null,null,null,null,"","","","","","","","","","","","","","","","","","","","","","","","","","","","","","","","","","","","","","","","","","","","","","",0,0,0,0,0,0,0,0,0,0,0,0,0,0,0,null,970535108,10]
[null,"wk19, 2023","AM450X NERA",970535306,"HUS","R","LRL_C","GB","Aycliffe","AU;NZ",null,null,null,null,"NO","NO",null,4,100,200,null,null,10,null,null,null,null,null,null,null,null,null,null,null,null,null,null,null,null,null,null,null,"",0,0,0,0,0,0,0,0,0,0,0,0,0,0,0,0,0,0,0,0,0,0,0,0,0,0,0,0,0,0,"","","","","","","","","","","","","","","","","","","","","","","","","","","","","","",null,970535111,10]
[null,"wk19, 2023","AM450X NERA",970535308,"HUS","R","LRL_C","GB","Aycliffe",null,null,null,null,null,"NO","NO",null,4,null,null,null,260,10,null,null,null,null,null,null,null,null,null,null,null,null,null,null,null,null,null,null,null,"","","","","","","","","","","","","","","","","","","","","","","","","","","","","","","","","","","","","","","","","","","","","","",0,0,0,0,0,0,0,0,0,0,0,0,0,0,0,null,970535121,10]
[null,"wk19, 2023","AM450X NERA",970535311,"HUS","R","LRL_C","GB","Aycliffe",null,null,null,null,null,"YES","NO",null,4,null,null,null,260,10,null,null,null,null,null,null,null,null,null,null,null,null,null,null,null,null,null,null,null,"","","","","","","","","","","","","","","","","","","","","","","","","","","","","","","","","","","","","","","","","","","","","","",0,0,0,0,0,0,0,0,0,0,0,0,0,0,0,null,970535203,10]
[null,"wk19, 2023","AM450X NERA",970535312,"HUS","R","LRL_C","GB","Aycliffe",null,null,null,null,null,"NO","NO",null,4,null,null,null,260,10,null,null,null,null,null,null,null,null,null,null,null,null,null,null,null,null,null,null,null,"","","","","","","","","","","","","","","","","","","","","","","","","","","","","","","","","","","","","","","","","","","","","","",0,0,0,0,0,0,0,0,0,0,0,0,0,0,0,null,970535204,10]
[null,"wk19, 2023","AM450X NERA",970535321,"HUS","R","LRL_C","GB","Aycliffe",null,null,null,null,null,"YES","NO",null,4,null,null,null,260,10,null,null,null,null,null,null,null,null,null,null,null,null,null,null,null,null,null,null,null,"","","","","","","","","","","","","","","","","","","","","","","","","","","","","","","","","","","","","","","","","","","","","","",0,0,0,0,0,0,0,0,0,0,0,0,0,0,0,null,970535206,10]
[null,"wk19, 2023","AM430X NERA",970535229,"HUS","R","LRL_C","GB","Aycliffe","JP","2024-03-01",null,null,null,"NO","NO",null,4,null,null,null,null,10,null,null,null,null,null,null,null,null,null,null,null,null,null,null,null,null,null,null,null,"","","","","","","","","","","","","","","","","","","","","","","","","","","","","","","","","","","","","","","","","","","","","","","","","","","","","","","","","","","","","",null,970535208,10]
[null,"wk19, 2023","AM450X NERA",970535329,"HUS","R","LRL_C","GB","Aycliffe","JP","2024-03-01",null,null,null,"NO","NO",null,4,null,null,null,null,10,null,null,null,null,null,null,null,null,null,null,null,null,null,null,null,null,null,null,null,"","","","","","","","","","","","","","","","","","","","","","","","","","","","","","","","","","","","","","","","","","","","","","","","","","","","","","","","","","","","","",null,970535211,10]
[null,"wk19, 2023","CEORA 544 EPOS",970549001,"HUS","R","LRL_P","GB","Aycliffe","CEORA",null,null,null,null,"YES","NO","Be careful with your Logility plans. Comp. Lead time +12 months. ",4,null,null,null,4,3,null,null,null,null,null,null,null,null,null,null,null,null,null,null,null,null,null,null,null,"","","","","","","","","","","","","","","","","","","","","","","","","","","","","","","","","","","","","","","","","","","","","","",0,0,0,0,0,0,0,0,0,0,0,0,0,0,0,null,970535212,10]
[null,"wk19, 2023","CEORA 544 EPOS",970549005,"HUS","R","LRL_P","GB","Aycliffe","CEORA US",null,null,null,null,"NO","NO","Be careful with your Logility plans. Comp. Lead time +12 months. ",4,null,null,null,null,3,null,null,null,null,null,null,null,null,null,null,null,null,null,null,null,null,null,null,null,"","","","","","","","","","","","","","","","","","","","","","","","","","","","","","","","","","","","","","","","","","","","","","","","","","","","","","","","","","","","","",null,970535221,10]
[null,"wk19, 2023","CEORA 544 EPOS",970549006,"HUS","R","LRL_P","GB","Aycliffe","CEORA NZ",null,null,null,null,"NO","NO","Be careful with your Logility plans. Comp. Lead time +12 months. ",4,null,null,null,null,3,null,null,null,null,null,null,null,null,null,null,null,null,null,null,null,null,null,null,null,"","","","","","","","","","","","","","","","","","","","","","","","","","","","","","","","","","","","","","","","","","","","","","","","","","","","","","","","","","","","","",null,970535303,10]
[null,"wk19, 2023","CEORA 544 EPOS",970549007,"HUS","R","LRL_P","GB","Aycliffe","CEORA AU",null,null,null,null,"NO","NO","Be careful with your Logility plans. Comp. Lead time +12 months. ",4,null,null,null,null,3,null,null,null,null,null,null,null,null,null,null,null,null,null,null,null,null,null,null,null,"","","","","","","","","","","","","","","","","","","","","","","","","","","","","","","","","","","","","","","","","","","","","","","","","","","","","","","","","","","","","",null,970535304,10]
[null,"wk19, 2023","Aspire R4",970568503,"HUS","R","LRL_C","GB","Aycliffe","GB;IE",null,null,null,null,"NO","NO",null,4,null,null,null,396,12,null,null,null,null,null,null,null,null,null,null,null,null,null,null,null,null,null,null,null,"","","","","","","","","","","","","","","","","","","","","","","","","","","","","","","","","","","","","","","","","","","","","","",0,0,0,0,0,0,0,0,0,0,0,0,0,0,0,null,970535306,10]
[null,"wk19, 2023","Aspire R4",970568504,"HUS","R","LRL_C","GB","Aycliffe","CH",null,null,null,null,"NO","NO",null,4,null,null,null,396,12,null,null,null,null,null,null,null,null,null,null,null,null,null,null,null,null,null,null,null,"","","","","","","","","","","","","","","","","","","","","","","","","","","","","","","","","","","","","","","","","","","","","","",0,0,0,0,0,0,0,0,0,0,0,0,0,0,0,null,970535308,10]
[null,"wk19, 2023","Aspire R4",970568508,"HUS","R","LRL_C","GB","Aycliffe",null,null,null,null,null,"NO","NO",null,4,null,null,null,396,12,null,null,null,null,null,null,null,null,null,null,null,null,null,null,null,null,null,null,null,"","","","","","","","","","","","","","","","","","","","","","","","","","","","","","","","","","","","","","","","","","","","","","",0,0,0,0,0,0,0,0,0,0,0,0,0,0,0,null,970535311,10]
[null,"wk19, 2023","Aspire R4",970568511,"HUS","R","LRL_C","GB","Aycliffe",null,null,null,null,null,"YES","NO",null,4,null,null,null,396,12,null,null,null,null,null,null,null,null,null,null,null,null,null,null,null,null,null,null,null,"","","","","","","","","","","","","","","","","","","","","","","","","","","","","","","","","","","","","","","","","","","","","","",0,0,0,0,0,0,0,0,0,0,0,0,0,0,0,null,970535312,10]
[null,"wk19, 2023","Aspire R4",970568512,"HUS","R","LRL_C","GB","Aycliffe",null,null,null,null,null,"NO","NO",null,4,null,null,null,396,12,null,null,null,null,null,null,null,null,null,null,null,null,null,null,null,null,null,null,null,"","","","","","","","","","","","","","","","","","","","","","","","","","","","","","","","","","","","","","","","","","","","","","",0,0,0,0,0,0,0,0,0,0,0,0,0,0,0,null,970535321,10]
[null,"wk19, 2023","Aspire R4",970568521,"HUS","R","LRL_C","GB","Aycliffe",null,null,null,null,null,"YES","NO",null,4,null,null,null,396,12,null,null,null,null,null,null,null,null,null,null,null,null,null,null,null,null,null,null,null,"","","","","","","","","","","","","","","","","","","","","","","","","","","","","","","","","","","","","","","","","","","","","","",0,0,0,0,0,0,0,0,0,0,0,0,0,0,0,null,970656703,10]
[null,"wk19, 2023","Aspire R4",970568529,"HUS","R","LRL_C","GB","Aycliffe","JP",null,null,null,null,"NO","NO",null,4,144,288,null,null,12,null,null,null,null,null,null,null,null,null,null,null,null,null,null,null,null,null,null,null,"",0,0,0,0,0,0,0,0,0,0,0,0,0,0,0,0,0,0,0,0,0,0,0,0,0,0,0,0,0,0,"","","","","","","","","","","","","","","","","","","","","","","","","","","","","","",null,970656704,10]
[null,"wk19, 2023","Aspire R4",970568540,"HUS","R","LRL_C","GB","Aycliffe",null,null,null,null,null,"YES","NO",null,4,null,null,null,396,12,null,null,null,null,null,null,null,null,null,null,null,null,null,null,null,null,null,null,null,"","","","","","","","","","","","","","","","","","","","","","","","","","","","","","","","","","","","","","","","","","","","","","",0,0,0,0,0,0,0,0,0,0,0,0,0,0,0,null,970656705,10]
[null,"wk19, 2023","Aspire R4",970568546,"HUS","R","LRL_C","GB","Aycliffe","GB;IE",null,null,null,null,"NO","NO",null,4,null,null,null,396,12,null,null,null,null,null,null,null,null,null,null,null,null,null,null,null,null,null,null,null,"","","","","","","","","","","","","","","","","","","","","","","","","","","","","","","","","","","","","","","","","","","","","","",0,0,0,0,0,0,0,0,0,0,0,0,0,0,0,null,970656706,10]
[null,"wk24, 2023","Aspire R4",970568533,"HUS","R","LRL_C","GB","Aycliffe","KR",null,null,null,null,"NO","NO",null,4,null,null,null,396,12,null,null,null,null,null,null,null,null,null,null,null,null,null,null,null,null,null,null,null,"","","","","","","","","","","","","","","","","","","","","","","","","","","","","","","","","","","","","","","","","","","","","","",0,0,0,0,0,0,0,0,0,0,0,0,0,0,0,null,970656707,10]
[null,"wk19, 2023","Aspire R4",970568547,"HUS","R","LRL_C","GB","Aycliffe","AU;NZ",null,null,null,null,"NO","NO",null,4,144,288,null,null,12,null,null,null,null,null,null,null,null,null,null,null,null,null,null,null,null,null,null,null,"",0,0,0,0,0,0,0,0,0,0,0,0,0,0,0,0,0,0,0,0,0,0,0,0,0,0,0,0,0,0,"","","","","","","","","","","","","","","","","","","","","","","","","","","","","","",null,970656708,10]
[null,"wk19, 2023","CEORA Razor 43L",970614401,"HUS","R","LRL_P","GB","Aycliffe","CEORA",null,null,null,null,"YES","NO","Be careful with your Logility plans. Comp. Lead time +12 months. ",4,null,null,null,104,4,null,null,null,null,null,null,null,null,null,null,null,null,null,null,null,null,null,null,null,"","","","","","","","","","","","","","","","","","","","","","","","","","","","","","","","","","","","","","","","","","","","","","",0,0,0,0,0,0,0,0,0,0,0,0,0,0,0,null,970656711,10]
[null,"wk19, 2023","CEORA Razor 43L",970614405,"HUS","R","LRL_P","GB","Aycliffe","CEORA US; CA",null,null,null,null,"NO","NO","Be careful with your Logility plans. Comp. Lead time +12 months. ",4,null,80,null,null,4,null,null,null,null,null,null,null,null,null,null,null,null,null,null,null,null,null,null,null,"","","","","","","","","","","","","","","","",0,0,0,0,0,0,0,0,0,0,0,0,0,0,0,"","","","","","","","","","","","","","","","","","","","","","","","","","","","","","",null,970656712,10]
[null,"wk19, 2023","AM535AWD",970651702,"HUS","R","LRL_P","GB","Aycliffe","AM500 Base model",null,null,null,null,"NO","NO","Be careful with your Logility plans. Comp. Lead time +12 months. ",4,null,null,null,165,5,null,null,null,null,null,null,null,null,null,null,null,null,null,null,null,null,null,null,null,"","","","","","","","","","","","","","","","","","","","","","","","","","","","","","","","","","","","","","","","","","","","","","",0,0,0,0,0,0,0,0,0,0,0,0,0,0,0,null,970656721,10]
[null,"wk19, 2023","AM535AWD",970651703,"HUS","R","LRL_P","GB","Aycliffe","AM500 GB/IE",null,null,null,null,"NO","NO","Be careful with your Logility plans. Comp. Lead time +12 months. ",4,null,null,null,165,5,null,null,null,null,null,null,null,null,null,null,null,null,null,null,null,null,null,null,null,"","","","","","","","","","","","","","","","","","","","","","","","","","","","","","","","","","","","","","","","","","","","","","",0,0,0,0,0,0,0,0,0,0,0,0,0,0,0,null,970657305,10]
[null,"wk19, 2023","AM535AWD",970651704,"HUS","R","LRL_P","GB","Aycliffe","AM500 CH",null,null,null,null,"NO","NO","Be careful with your Logility plans. Comp. Lead time +12 months. ",4,null,null,null,165,5,null,null,null,null,null,null,null,null,null,null,null,null,null,null,null,null,null,null,null,"","","","","","","","","","","","","","","","","","","","","","","","","","","","","","","","","","","","","","","","","","","","","","",0,0,0,0,0,0,0,0,0,0,0,0,0,0,0,null,970609301,10]
[null,"wk19, 2023","AM535AWD",970651705,"HUS","R","LRL_P","GB","Aycliffe","AM500 US/CA",null,null,null,null,"NO","NO","Be careful with your Logility plans. Comp. Lead time +12 months. ",4,60,120,null,null,5,null,null,null,null,null,null,null,null,null,null,null,null,null,null,null,null,null,null,null,"",0,0,0,0,0,0,0,0,0,0,0,0,0,0,0,0,0,0,0,0,0,0,0,0,0,0,0,0,0,0,"","","","","","","","","","","","","","","","","","","","","","","","","","","","","","",null,967862001,10]
[null,"wk19, 2023","AM535AWD",970651706,"HUS","R","LRL_P","GB","Aycliffe","AM500 AU/NZ",null,null,null,null,"NO","NO","Be careful with your Logility plans. Comp. Lead time +12 months. ",4,null,null,null,165,5,null,null,null,null,null,null,null,null,null,null,null,null,null,null,null,null,null,null,null,"","","","","","","","","","","","","","","","","","","","","","","","","","","","","","","","","","","","","","","","","","","","","","",0,0,0,0,0,0,0,0,0,0,0,0,0,0,0,null,967862301,10]
[null,"wk19, 2023","AM535AWD",970651708,"HUS","R","LRL_P","GB","Aycliffe","AM500",null,null,null,null,"NO","NO","Be careful with your Logility plans. Comp. Lead time +12 months. ",4,null,null,null,165,5,null,null,null,null,null,null,null,null,null,null,null,null,null,null,null,null,null,null,null,"","","","","","","","","","","","","","","","","","","","","","","","","","","","","","","","","","","","","","","","","","","","","","",0,0,0,0,0,0,0,0,0,0,0,0,0,0,0,null,967862302,10]
[null,"wk19, 2023","AM535AWD",970651711,"HUS","R","LRL_P","GB","Aycliffe","AM500",null,null,null,null,"YES","NO","Be careful with your Logility plans. Comp. Lead time +12 months. ",4,null,null,null,165,5,null,null,null,null,null,null,null,null,null,null,null,null,null,null,null,null,null,null,null,"","","","","","","","","","","","","","","","","","","","","","","","","","","","","","","","","","","","","","","","","","","","","","",0,0,0,0,0,0,0,0,0,0,0,0,0,0,0,null,970541101,10]
[null,"wk19, 2023","AM535AWD",970651712,"HUS","R","LRL_P","GB","Aycliffe","AM500",null,null,null,null,"NO","NO","Be careful with your Logility plans. Comp. Lead time +12 months. ",4,null,null,null,165,5,null,null,null,null,null,null,null,null,null,null,null,null,null,null,null,null,null,null,null,"","","","","","","","","","","","","","","","","","","","","","","","","","","","","","","","","","","","","","","","","","","","","","",0,0,0,0,0,0,0,0,0,0,0,0,0,0,0,null,970541201,10]
[null,"wk19, 2023","AM535AWD",970651721,"HUS","R","LRL_P","GB","Aycliffe","AM500",null,null,null,null,"YES","NO","Be careful with your Logility plans. Comp. Lead time +12 months. ",4,null,null,null,165,5,null,null,null,null,null,null,null,null,null,null,null,null,null,null,null,null,null,null,null,"","","","","","","","","","","","","","","","","","","","","","","","","","","","","","","","","","","","","","","","","","","","","","",0,0,0,0,0,0,0,0,0,0,0,0,0,0,0,null,970541301,10]
[null,"wk19, 2023","AM535AWD",970651729,"HUS","R","LRL_P","GB","Aycliffe","AM500 JP",null,null,null,null,"NO","NO","Be careful with your Logility plans. Comp. Lead time +12 months. ",4,null,null,null,165,5,null,null,null,null,null,null,null,null,null,null,null,null,null,null,null,null,null,null,null,"","","","","","","","","","","","","","","","","","","","","","","","","","","","","","","","","","","","","","","","","","","","","","",0,0,0,0,0,0,0,0,0,0,0,0,0,0,0,null,970541401,10]
[null,"wk19, 2023","AM310E NERA",970654103,"HUS","R","LRL_C","GB","Aycliffe","GB;IE","2024-03-04","2024-02-19",null,null,"NO","NO","SOP week 4",4,null,null,null,312,12,null,null,null,null,null,null,null,null,null,null,null,null,null,null,null,null,null,null,null,"","","","","","","","","","","","","","","","","","","","","","","","","","","","","","","","","","","","","","","","","","","","","","",0,0,0,0,0,0,0,0,0,0,0,0,0,0,0,null,970541501,10]
[null,"wk19, 2023","AM310E NERA",970654104,"HUS","R","LRL_C","GB","Aycliffe","CH","2024-03-04","2024-02-19",null,null,"NO","NO","SOP week 4",4,null,null,null,312,12,null,null,null,null,null,null,null,null,null,null,null,null,null,null,null,null,null,null,null,"","","","","","","","","","","","","","","","","","","","","","","","","","","","","","","","","","","","","","","","","","","","","","",0,0,0,0,0,0,0,0,0,0,0,0,0,0,0,null,970541601,10]
[null,"wk19, 2023","AM310E NERA",970654106,"HUS","R","LRL_C","GB","Aycliffe","AU;NZ","2024-03-04","2024-02-19",null,null,"NO","NO","SOP week 4",4,null,null,null,312,12,null,null,null,null,null,null,null,null,null,null,null,null,null,null,null,null,null,null,null,"","","","","","","","","","","","","","","","","","","","","","","","","","","","","","","","","","","","","","","","","","","","","","",0,0,0,0,0,0,0,0,0,0,0,0,0,0,0,null,970541701,10]
[null,"wk19, 2023","AM310E NERA",970654108,"HUS","R","LRL_C","GB","Aycliffe",null,"2024-03-04","2024-02-19",null,null,"NO","NO","SOP week 4",4,null,null,null,312,12,null,null,null,null,null,null,null,null,null,null,null,null,null,null,null,null,null,null,null,"","","","","","","","","","","","","","","","","","","","","","","","","","","","","","","","","","","","","","","","","","","","","","",0,0,0,0,0,0,0,0,0,0,0,0,0,0,0,null,970542001,10]
[null,"wk19, 2023","AM310E NERA",970654111,"HUS","R","LRL_C","GB","Aycliffe",null,"2024-03-04","2024-02-19",null,null,"YES","NO","SOP week 4",4,null,null,null,312,12,null,null,null,null,null,null,null,null,null,null,null,null,null,null,null,null,null,null,null,"","","","","","","","","","","","","","","","","","","","","","","","","","","","","","","","","","","","","","","","","","","","","","",0,0,0,0,0,0,0,0,0,0,0,0,0,0,0,null,970609401,10]
[null,"wk19, 2023","AM310E NERA",970654112,"HUS","R","LRL_C","GB","Aycliffe",null,"2024-03-04","2024-02-19",null,null,"NO","NO","SOP week 4",4,null,null,null,312,12,null,null,null,null,null,null,null,null,null,null,null,null,null,null,null,null,null,null,null,"","","","","","","","","","","","","","","","","","","","","","","","","","","","","","","","","","","","","","","","","","","","","","",0,0,0,0,0,0,0,0,0,0,0,0,0,0,0,null,970617501,10]
[null,"wk19, 2023","AM310E NERA",970654121,"HUS","R","LRL_C","GB","Aycliffe",null,"2024-03-04","2024-02-19",null,null,"YES","NO","SOP week 4",4,null,null,null,312,12,null,null,null,null,null,null,null,null,null,null,null,null,null,null,null,null,null,null,null,"","","","","","","","","","","","","","","","","","","","","","","","","","","","","","","","","","","","","","","","","","","","","","",0,0,0,0,0,0,0,0,0,0,0,0,0,0,0,null,970621701,10]
[null,"wk19, 2023","AM410XE NERA",970654403,"HUS","R","LRL_C","GB","Aycliffe","GB;IE","2024-03-04","2024-02-19",null,null,"NO","NO","SOP week 4",4,null,null,null,312,12,null,null,null,null,null,null,null,null,null,null,null,null,null,null,null,null,null,null,null,"","","","","","","","","","","","","","","","","","","","","","","","","","","","","","","","","","","","","","","","","","","","","","",0,0,0,0,0,0,0,0,0,0,0,0,0,0,0,null,970621801,10]
[null,"wk19, 2023","AM410XE NERA",970654404,"HUS","R","LRL_C","GB","Aycliffe","CH","2024-03-04","2024-02-19",null,null,"NO","NO","SOP week 4",4,null,null,null,312,12,null,null,null,null,null,null,null,null,null,null,null,null,null,null,null,null,null,null,null,"","","","","","","","","","","","","","","","","","","","","","","","","","","","","","","","","","","","","","","","","","","","","","",0,0,0,0,0,0,0,0,0,0,0,0,0,0,0,null,970626001,10]
[null,"wk19, 2023","AM410XE NERA",970654406,"HUS","R","LRL_C","GB","Aycliffe","CH","2024-03-04","2024-02-19",null,null,"NO","NO","SOP week 4",4,null,null,null,312,12,null,null,null,null,null,null,null,null,null,null,null,null,null,null,null,null,null,null,null,"","","","","","","","","","","","","","","","","","","","","","","","","","","","","","","","","","","","","","","","","","","","","","",0,0,0,0,0,0,0,0,0,0,0,0,0,0,0,null,970535104,10]
[null,"wk19, 2023","AM410XE NERA",970654408,"HUS","R","LRL_C","GB","Aycliffe","AU;NZ","2024-03-04","2024-02-19",null,null,"NO","NO","SOP week 4",4,null,null,null,312,12,null,null,null,null,null,null,null,null,null,null,null,null,null,null,null,null,null,null,null,"","","","","","","","","","","","","","","","","","","","","","","","","","","","","","","","","","","","","","","","","","","","","","",0,0,0,0,0,0,0,0,0,0,0,0,0,0,0,null,970535112,10]
[null,"wk19, 2023","AM410XE NERA",970654411,"HUS","R","LRL_C","GB","Aycliffe",null,"2024-03-04","2024-02-19",null,null,"NO","NO","SOP week 4",4,null,null,null,312,12,null,null,null,null,null,null,null,null,null,null,null,null,null,null,null,null,null,null,null,"","","","","","","","","","","","","","","","","","","","","","","","","","","","","","","","","","","","","","","","","","","","","","",0,0,0,0,0,0,0,0,0,0,0,0,0,0,0,null,967639003,10]
[null,"wk19, 2023","AM410XE NERA",970654412,"HUS","R","LRL_C","GB","Aycliffe",null,"2024-03-04","2024-02-19",null,null,"NO","NO","SOP week 4",4,null,null,null,312,12,null,null,null,null,null,null,null,null,null,null,null,null,null,null,null,null,null,null,null,"","","","","","","","","","","","","","","","","","","","","","","","","","","","","","","","","","","","","","","","","","","","","","",0,0,0,0,0,0,0,0,0,0,0,0,0,0,0,null,967639103,10]
[null,"wk19, 2023","AM410XE NERA",970654421,"HUS","R","LRL_C","GB","Aycliffe",null,"2024-03-04","2024-02-19",null,null,"YES","NO","SOP week 4",4,null,null,null,312,12,null,null,null,null,null,null,null,null,null,null,null,null,null,null,null,null,null,null,null,"","","","","","","","","","","","","","","","","","","","","","","","","","","","","","","","","","","","","","","","","","","","","","",0,0,0,0,0,0,0,0,0,0,0,0,0,0,0,null,967665007,10]
[null,"wk19, 2023","AM520",970656303,"HUS","R","LRL_P","GB","Aycliffe","AM500 GB/IE",null,null,null,null,"NO","NO","Be careful with your Logility plans. Comp. Lead time +12 months. ",4,null,null,null,312,12,null,null,null,null,null,null,null,null,null,null,null,null,null,null,null,null,null,null,null,"","","","","","","","","","","","","","","","","","","","","","","","","","","","","","","","","","","","","","","","","","","","","","",0,0,0,0,0,0,0,0,0,0,0,0,0,0,0,null,967665107,10]
[null,"wk19, 2023","AM520",970656304,"HUS","R","LRL_P","GB","Aycliffe","AM500 CH",null,null,null,null,"NO","NO","Be careful with your Logility plans. Comp. Lead time +12 months. ",4,null,null,null,312,12,null,null,null,null,null,null,null,null,null,null,null,null,null,null,null,null,null,null,null,"","","","","","","","","","","","","","","","","","","","","","","","","","","","","","","","","","","","","","","","","","","","","","",0,0,0,0,0,0,0,0,0,0,0,0,0,0,0,null,585019401,12]
[null,"wk19, 2023","AM520",970656305,"HUS","R","LRL_P","GB","Aycliffe","AM500 US/CA",null,null,null,null,"NO","NO","Be careful with your Logility plans. Comp. Lead time +12 months. ",4,120,240,null,null,12,null,null,null,null,null,null,null,null,null,null,null,null,null,null,null,null,null,null,null,"",0,0,0,0,0,0,0,0,0,0,0,0,0,0,0,0,0,0,0,0,0,0,0,0,0,0,0,0,0,0,"","","","","","","","","","","","","","","","","","","","","","","","","","","","","","",null,585019410,12]
[null,"wk19, 2023","AM520",970656306,"HUS","R","LRL_P","GB","Aycliffe","AM500 AU/NZ",null,null,null,null,"NO","NO","Be careful with your Logility plans. Comp. Lead time +12 months. ",4,null,null,null,312,12,null,null,null,null,null,null,null,null,null,null,null,null,null,null,null,null,null,null,null,"","","","","","","","","","","","","","","","","","","","","","","","","","","","","","","","","","","","","","","","","","","","","","",0,0,0,0,0,0,0,0,0,0,0,0,0,0,0,null,587236101,12]
[null,"wk19, 2023","AM520",970656308,"HUS","R","LRL_P","GB","Aycliffe","AM500",null,null,null,null,"NO","NO","Be careful with your Logility plans. Comp. Lead time +12 months. ",4,null,null,null,312,12,null,null,null,null,null,null,null,null,null,null,null,null,null,null,null,null,null,null,null,"","","","","","","","","","","","","","","","","","","","","","","","","","","","","","","","","","","","","","","","","","","","","","",0,0,0,0,0,0,0,0,0,0,0,0,0,0,0,null,587236110,12]
[null,"wk19, 2023","AM520",970656311,"HUS","R","LRL_P","GB","Aycliffe","AM500",null,null,null,null,"YES","NO","Be careful with your Logility plans. Comp. Lead time +12 months. ",4,null,null,null,312,12,null,null,null,null,null,null,null,null,null,null,null,null,null,null,null,null,null,null,null,"","","","","","","","","","","","","","","","","","","","","","","","","","","","","","","","","","","","","","","","","","","","","","",0,0,0,0,0,0,0,0,0,0,0,0,0,0,0,null,967852805,12]
[null,"wk19, 2023","AM520",970656312,"HUS","R","LRL_P","GB","Aycliffe","AM500",null,null,null,null,"NO","NO","Be careful with your Logility plans. Comp. Lead time +12 months. ",4,null,null,null,312,12,null,null,null,null,null,null,null,null,null,null,null,null,null,null,null,null,null,null,null,"","","","","","","","","","","","","","","","","","","","","","","","","","","","","","","","","","","","","","","","","","","","","","",0,0,0,0,0,0,0,0,0,0,0,0,0,0,0,null,967852826,12]
[null,"wk19, 2023","AM520",970656321,"HUS","R","LRL_P","GB","Aycliffe","AM500",null,null,null,null,"YES","NO","Be careful with your Logility plans. Comp. Lead time +12 months. ",4,null,null,null,312,12,null,null,null,null,null,null,null,null,null,null,null,null,null,null,null,null,null,null,null,"","","","","","","","","","","","","","","","","","","","","","","","","","","","","","","","","","","","","","","","","","","","","","",0,0,0,0,0,0,0,0,0,0,0,0,0,0,0,null,967853005,12]
[null,"wk19, 2023","AM520",970656325,"HUS","R","LRL_P","GB","Aycliffe","AM500 BR",null,null,null,null,"NO","NO","Be careful with your Logility plans. Comp. Lead time +12 months. ",4,null,null,null,null,12,null,null,null,null,null,null,null,null,null,null,null,null,null,null,null,null,null,null,null,"","","","","","","","","","","","","","","","","","","","","","","","","","","","","","","","","","","","","","","","","","","","","","","","","","","","","","","","","","","","","",null,967951105,12]
[null,"wk19, 2023","AM520",970656329,"HUS","R","LRL_P","GB","Aycliffe","AM500 JP",null,null,null,null,"NO","NO","Be careful with your Logility plans. Comp. Lead time +12 months. ",4,null,null,null,null,12,null,null,null,null,null,null,null,null,null,null,null,null,null,null,null,null,null,null,null,"","","","","","","","","","","","","","","","","","","","","","","","","","","","","","","","","","","","","","","","","","","","","","","","","","","","","","","","","","","","","",null,967974003,12]
[null,"wk19, 2023","AM520H",970656405,"HUS","R","LRL_P","GB","Aycliffe","AM500 US/CA",null,null,null,null,"NO","NO","Be careful with your Logility plans. Comp. Lead time +12 months. ",4,60,120,null,null,5,null,null,null,null,null,null,null,null,null,null,null,null,null,null,null,null,null,null,null,"",0,0,0,0,0,0,0,0,0,0,0,0,0,0,0,0,0,0,0,0,0,0,0,0,0,0,0,0,0,0,"","","","","","","","","","","","","","","","","","","","","","","","","","","","","","",null,967974006,12]
[null,"wk19, 2023","AM550",970656503,"HUS","R","LRL_P","GB","Aycliffe","AM500 GB/IE",null,null,null,null,"NO","NO","Be careful with your Logility plans. Comp. Lead time +12 months. ",4,null,null,null,312,12,null,null,null,null,null,null,null,null,null,null,null,null,null,null,null,null,null,null,null,{"$f":"IF(I201<>0,IF(H201&I201<>H200&I200,1,\"\"),\"\")","v":""},{"$f":"IF($S201>0,Y201/$S201,\"\")","v":""},{"$f":"IF($S201>0,Z201/$S201,\"\")","v":""},{"$f":"IF($S201>0,AA201/$S201,\"\")","v":""},{"$f":"IF($S201>0,AB201/$S201,\"\")","v":""},{"$f":"IF($S201>0,AC201/$S201,\"\")","v":""},{"$f":"IF($S201>0,AD201/$S201,\"\")","v":""},{"$f":"IF($S201>0,AE201/$S201,\"\")","v":""},{"$f":"IF($S201>0,AF201/$S201,\"\")","v":""},{"$f":"IF($S201>0,AG201/$S201,\"\")","v":""},{"$f":"IF($S201>0,AH201/$S201,\"\")","v":""},{"$f":"IF($S201>0,AI201/$S201,\"\")","v":""},{"$f":"IF($S201>0,AJ201/$S201,\"\")","v":""},{"$f":"IF($S201>0,AK201/$S201,\"\")","v":""},{"$f":"IF($S201>0,AL201/$S201,\"\")","v":""},{"$f":"IF($S201>0,AM201/$S201,\"\")","v":""},{"$f":"IF($T201>0,Y201/$T201,\"\")","v":""},{"$f":"IF($T201>0,Z201/$T201,\"\")","v":""},{"$f":"IF($T201>0,AA201/$T201,\"\")","v":""},{"$f":"IF($T201>0,AB201/$T201,\"\")","v":""},{"$f":"IF($T201>0,AC201/$T201,\"\")","v":""},{"$f":"IF($T201>0,AD201/$T201,\"\")","v":""},{"$f":"IF($T201>0,AE201/$T201,\"\")","v":""},{"$f":"IF($T201>0,AF201/$T201,\"\")","v":""},{"$f":"IF($T201>0,AG201/$T201,\"\")","v":""},{"$f":"IF($T201>0,AH201/$T201,\"\")","v":""},{"$f":"IF($T201>0,AI201/$T201,\"\")","v":""},{"$f":"IF($T201>0,AJ201/$T201,\"\")","v":""},{"$f":"IF($T201>0,AK201/$T201,\"\")","v":""},{"$f":"IF($T201>0,AL201/$T201,\"\")","v":""},{"$f":"IF($T201>0,AM201/$T201,\"\")","v":""},{"$f":"IF($U201>0,Y201/$U201,\"\")","v":""},{"$f":"IF($U201>0,Z201/$U201,\"\")","v":""},{"$f":"IF($U201>0,AA201/$U201,\"\")","v":""},{"$f":"IF($U201>0,AB201/$U201,\"\")","v":""},{"$f":"IF($U201>0,AC201/$U201,\"\")","v":""},{"$f":"IF($U201>0,AD201/$U201,\"\")","v":""},{"$f":"IF($U201>0,AE201/$U201,\"\")","v":""},{"$f":"IF($U201>0,AF201/$U201,\"\")","v":""},{"$f":"IF($U201>0,AG201/$U201,\"\")","v":""},{"$f":"IF($U201>0,AH201/$U201,\"\")","v":""},{"$f":"IF($U201>0,AI201/$U201,\"\")","v":""},{"$f":"IF($U201>0,AJ201/$U201,\"\")","v":""},{"$f":"IF($U201>0,AK201/$U201,\"\")","v":""},{"$f":"IF($U201>0,AL201/$U201,\"\")","v":""},{"$f":"IF($U201>0,AM201/$U201,\"\")","v":""},{"$f":"IF($V201>0,Y201/$V201,\"\")","v":0},{"$f":"IF($V201>0,Z201/$V201,\"\")","v":0},{"$f":"IF($V201>0,AA201/$V201,\"\")","v":0},{"$f":"IF($V201>0,AB201/$V201,\"\")","v":0},{"$f":"IF($V201>0,AC201/$V201,\"\")","v":0},{"$f":"IF($V201>0,AD201/$V201,\"\")","v":0},{"$f":"IF($V201>0,AE201/$V201,\"\")","v":0},{"$f":"IF($V201>0,AF201/$V201,\"\")","v":0},{"$f":"IF($V201>0,AG201/$V201,\"\")","v":0},{"$f":"IF($V201>0,AH201/$V201,\"\")","v":0},{"$f":"IF($V201>0,AI201/$V201,\"\")","v":0},{"$f":"IF($V201>0,AJ201/$V201,\"\")","v":0},{"$f":"IF($V201>0,AK201/$V201,\"\")","v":0},{"$f":"IF($V201>0,AL201/$V201,\"\")","v":0},{"$f":"IF($V201>0,AM201/$V201,\"\")","v":0},null,967974008,12]
[null,"wk19, 2023","AM550",970656504,"HUS","R","LRL_P","GB","Aycliffe","AM500 CH",null,null,null,null,"NO","NO","Be careful with your Logility plans. Comp. Lead time +12 months. ",4,null,null,null,312,12,null,null,null,null,null,null,null,null,null,null,null,null,null,null,null,null,null,null,null,"","","","","","","","","","","","","","","","","","","","","","","","","","","","","","","","","","","","","","","","","","","","","","",0,0,0,0,0,0,0,0,0,0,0,0,0,0,0,null,967974021,12]
[null,"wk19, 2023","AM550",970656505,"HUS","R","LRL_P","GB","Aycliffe","AM500 US/CA",null,null,null,null,"NO","NO","Be careful with your Logility plans. Comp. Lead time +12 months. ",4,120,240,null,null,12,null,null,null,null,null,null,null,null,null,null,null,null,null,null,null,null,null,null,null,"",0,0,0,0,0,0,0,0,0,0,0,0,0,0,0,0,0,0,0,0,0,0,0,0,0,0,0,0,0,0,"","","","","","","","","","","","","","","","","","","","","","","","","","","","","","",null,967974025,12]
[null,"wk19, 2023","AM550",970656506,"HUS","R","LRL_P","GB","Aycliffe","AM500 AU/NZ",null,null,null,null,"NO","NO","Be careful with your Logility plans. Comp. Lead time +12 months. ",4,null,null,null,null,12,null,null,null,null,null,null,null,null,null,null,null,null,null,null,null,null,null,null,null,"","","","","","","","","","","","","","","","","","","","","","","","","","","","","","","","","","","","","","","","","","","","","","","","","","","","","","","","","","","","","",null,967974026,12]
[null,"wk19, 2023","AM550",970656508,"HUS","R","LRL_P","GB","Aycliffe","AM500",null,null,null,null,"NO","NO","Be careful with your Logility plans. Comp. Lead time +12 months. ",4,null,null,null,312,12,null,null,null,null,null,null,null,null,null,null,null,null,null,null,null,null,null,null,null,"","","","","","","","","","","","","","","","","","","","","","","","","","","","","","","","","","","","","","","","","","","","","","",0,0,0,0,0,0,0,0,0,0,0,0,0,0,0,null,967974027,12]
[null,"wk19, 2023","AM550",970656511,"HUS","R","LRL_P","GB","Aycliffe","AM500",null,null,null,null,"YES","NO","Be careful with your Logility plans. Comp. Lead time +12 months. ",4,null,null,null,312,12,null,null,null,null,null,null,null,null,null,null,null,null,null,null,null,null,null,null,null,"","","","","","","","","","","","","","","","","","","","","","","","","","","","","","","","","","","","","","","","","","","","","","",0,0,0,0,0,0,0,0,0,0,0,0,0,0,0,null,967974029,12]
[null,"wk19, 2023","AM550",970656512,"HUS","R","LRL_P","GB","Aycliffe","AM500",null,null,null,null,"NO","NO","Be careful with your Logility plans. Comp. Lead time +12 months. ",4,null,null,null,312,12,null,null,null,null,null,null,null,null,null,null,null,null,null,null,null,null,null,null,null,"","","","","","","","","","","","","","","","","","","","","","","","","","","","","","","","","","","","","","","","","","","","","","",0,0,0,0,0,0,0,0,0,0,0,0,0,0,0,null,967974033,12]
[null,"wk19, 2023","AM550",970656521,"HUS","R","LRL_P","GB","Aycliffe","AM500",null,null,null,null,"YES","NO","Be careful with your Logility plans. Comp. Lead time +12 months. ",4,null,null,null,312,12,null,null,null,null,null,null,null,null,null,null,null,null,null,null,null,null,null,null,null,"","","","","","","","","","","","","","","","","","","","","","","","","","","","","","","","","","","","","","","","","","","","","","",0,0,0,0,0,0,0,0,0,0,0,0,0,0,0,null,967974034,12]
[null,"wk19, 2023","AM550",970656525,"HUS","R","LRL_P","GB","Aycliffe","AM500 BR",null,null,null,null,"NO","NO","Be careful with your Logility plans. Comp. Lead time +12 months. ",4,null,null,null,null,12,null,null,null,null,null,null,null,null,null,null,null,null,null,null,null,null,null,null,null,"","","","","","","","","","","","","","","","","","","","","","","","","","","","","","","","","","","","","","","","","","","","","","","","","","","","","","","","","","","","","",null,967974040,12]
[null,"wk19, 2023","AM550",970656526,"HUS","R","LRL_P","GB","Aycliffe","AM500 AR",null,null,null,null,"NO","NO","Be careful with your Logility plans. Comp. Lead time +12 months. ",4,null,null,null,null,12,null,null,null,null,null,null,null,null,null,null,null,null,null,null,null,null,null,null,null,"","","","","","","","","","","","","","","","","","","","","","","","","","","","","","","","","","","","","","","","","","","","","","","","","","","","","","","","","","","","","",null,967974046,12]
[null,"wk19, 2023","AM550",970656527,"HUS","R","LRL_P","GB","Aycliffe","AM500 CN",null,null,null,null,"NO","NO","Be careful with your Logility plans. Comp. Lead time +12 months. ",4,null,null,null,null,12,null,null,null,null,null,null,null,null,null,null,null,null,null,null,null,null,null,null,null,"","","","","","","","","","","","","","","","","","","","","","","","","","","","","","","","","","","","","","","","","","","","","","","","","","","","","","","","","","","","","",null,970456203,12]
[null,"wk19, 2023","AM550",970656528,"HUS","R","LRL_P","GB","Aycliffe","AM500",null,null,null,null,"NO","NO","Be careful with your Logility plans. Comp. Lead time +12 months. ",4,null,null,null,null,12,null,null,null,null,null,null,null,null,null,null,null,null,null,null,null,null,null,null,null,"","","","","","","","","","","","","","","","","","","","","","","","","","","","","","","","","","","","","","","","","","","","","","","","","","","","","","","","","","","","","",null,970456205,12]
[null,"wk19, 2023","AM550",970656529,"HUS","R","LRL_P","GB","Aycliffe","AM500 JP",null,null,null,null,"NO","NO","Be careful with your Logility plans. Comp. Lead time +12 months. ",4,null,null,null,null,12,null,null,null,null,null,null,null,null,null,null,null,null,null,null,null,null,null,null,null,"","","","","","","","","","","","","","","","","","","","","","","","","","","","","","","","","","","","","","","","","","","","","","","","","","","","","","","","","","","","","",null,970456206,12]
[null,"wk19, 2023","AM550H",970656605,"HUS","R","LRL_P","GB","Aycliffe","AM500 US/CA",null,null,null,null,"NO","NO","Be careful with your Logility plans. Comp. Lead time +12 months. ",4,60,120,null,null,5,null,null,null,null,null,null,null,null,null,null,null,null,null,null,null,null,null,null,null,"",0,0,0,0,0,0,0,0,0,0,0,0,0,0,0,0,0,0,0,0,0,0,0,0,0,0,0,0,0,0,"","","","","","","","","","","","","","","","","","","","","","","","","","","","","","",null,970456208,12]
[null,"wk19, 2023","AM550 EPOS",970656703,"HUS","R","LRL_P","GB","Aycliffe","AM500 GB/IE",null,null,null,null,"NO","NO","Be careful with your Logility plans. Comp. Lead time +12 months. ",4,null,null,null,260,10,null,null,null,null,null,null,null,null,null,null,null,null,null,null,null,null,null,null,null,"","","","","","","","","","","","","","","","","","","","","","","","","","","","","","","","","","","","","","","","","","","","","","",0,0,0,0,0,0,0,0,0,0,0,0,0,0,0,null,970456221,12]
[null,"wk19, 2023","AM550 EPOS",970656704,"HUS","R","LRL_P","GB","Aycliffe","AM500 CH",null,null,null,null,"NO","NO","Be careful with your Logility plans. Comp. Lead time +12 months. ",4,null,null,null,260,10,null,null,null,null,null,null,null,null,null,null,null,null,null,null,null,null,null,null,null,"","","","","","","","","","","","","","","","","","","","","","","","","","","","","","","","","","","","","","","","","","","","","","",0,0,0,0,0,0,0,0,0,0,0,0,0,0,0,null,970456225,12]
[null,"wk19, 2023","AM550 EPOS",970656705,"HUS","R","LRL_P","GB","Aycliffe","AM500 US/CA",null,null,null,null,"NO","NO","Be careful with your Logility plans. Comp. Lead time +12 months. ",4,null,200,null,null,10,null,null,null,null,null,null,null,null,null,null,null,null,null,null,null,null,null,null,null,"","","","","","","","","","","","","","","","",0,0,0,0,0,0,0,0,0,0,0,0,0,0,0,"","","","","","","","","","","","","","","","","","","","","","","","","","","","","","",null,970456226,12]
[null,"wk19, 2023","AM550 EPOS",970656706,"HUS","R","LRL_P","GB","Aycliffe","AM500 NZ",null,null,null,null,"NO","NO","Be careful with your Logility plans. Comp. Lead time +12 months. ",4,null,null,null,null,10,null,null,null,null,null,null,null,null,null,null,null,null,null,null,null,null,null,null,null,"","","","","","","","","","","","","","","","","","","","","","","","","","","","","","","","","","","","","","","","","","","","","","","","","","","","","","","","","","","","","",null,970456229,12]
[null,"wk19, 2023","AM550 EPOS",970656707,"HUS","R","LRL_P","GB","Aycliffe","AM500 AU",null,null,null,null,"NO","NO","Be careful with your Logility plans. Comp. Lead time +12 months. ",4,null,null,null,null,10,null,null,null,null,null,null,null,null,null,null,null,null,null,null,null,null,null,null,null,"","","","","","","","","","","","","","","","","","","","","","","","","","","","","","","","","","","","","","","","","","","","","","","","","","","","","","","","","","","","","",null,970456233,12]
[null,"wk19, 2023","AM550 EPOS",970656708,"HUS","R","LRL_P","GB","Aycliffe","AM500",null,null,null,null,"NO","NO","Be careful with your Logility plans. Comp. Lead time +12 months. ",4,null,null,null,260,10,null,null,null,null,null,null,null,null,null,null,null,null,null,null,null,null,null,null,null,"","","","","","","","","","","","","","","","","","","","","","","","","","","","","","","","","","","","","","","","","","","","","","",0,0,0,0,0,0,0,0,0,0,0,0,0,0,0,null,970456240,12]
[null,"wk19, 2023","AM550 EPOS",970656711,"HUS","R","LRL_P","GB","Aycliffe","AM500",null,null,null,null,"YES","NO","Be careful with your Logility plans. Comp. Lead time +12 months. ",4,null,null,null,260,10,null,null,null,null,null,null,null,null,null,null,null,null,null,null,null,null,null,null,null,"","","","","","","","","","","","","","","","","","","","","","","","","","","","","","","","","","","","","","","","","","","","","","",0,0,0,0,0,0,0,0,0,0,0,0,0,0,0,null,970456246,12]
[null,"wk19, 2023","AM550 EPOS",970656712,"HUS","R","LRL_P","GB","Aycliffe","AM500",null,null,null,null,"NO","NO","Be careful with your Logility plans. Comp. Lead time +12 months. ",4,null,null,null,260,10,null,null,null,null,null,null,null,null,null,null,null,null,null,null,null,null,null,null,null,"","","","","","","","","","","","","","","","","","","","","","","","","","","","","","","","","","","","","","","","","","","","","","",0,0,0,0,0,0,0,0,0,0,0,0,0,0,0,null,970456247,12]
[null,"wk19, 2023","AM550 EPOS",970656721,"HUS","R","LRL_P","GB","Aycliffe","AM500",null,null,null,null,"YES","NO","Be careful with your Logility plans. Comp. Lead time +12 months. ",4,null,null,null,260,10,null,null,null,null,null,null,null,null,null,null,null,null,null,null,null,null,null,null,null,"","","","","","","","","","","","","","","","","","","","","","","","","","","","","","","","","","","","","","","","","","","","","","",0,0,0,0,0,0,0,0,0,0,0,0,0,0,0,null,970471703,12]
[null,"wk19, 2023","AM550H EPOS",970656805,"HUS","R","LRL_P","GB","Aycliffe","AM500 US/CA",null,null,null,null,"NO","NO","Be careful with your Logility plans. Comp. Lead time +12 months. ",4,60,120,null,null,5,null,null,null,null,null,null,null,null,null,null,null,null,null,null,null,null,null,null,null,"",0,0,0,0,0,0,0,0,0,0,0,0,0,0,0,0,0,0,0,0,0,0,0,0,0,0,0,0,0,0,"","","","","","","","","","","","","","","","","","","","","","","","","","","","","","",null,970471705,12]
[null,"wk19, 2023","AM450X EPOS",970657305,"HUS","R","LRL_C","GB","Aycliffe",null,null,null,null,null,"NO","NO",null,4,null,210,null,null,10,null,null,null,null,null,null,null,null,null,null,null,null,null,null,null,null,null,null,null,"","","","","","","","","","","","","","","","",0,0,0,0,0,0,0,0,0,0,0,0,0,0,0,"","","","","","","","","","","","","","","","","","","","","","","","","","","","","","",null,970471706,12]
[null,"wk19, 2023","AM450XH EPOS",970657405,"HUS","R","LRL_C","GB","Aycliffe",null,null,null,null,null,"NO","NO",null,4,null,120,null,null,5,null,null,null,null,null,null,null,null,null,null,null,null,null,null,null,null,null,null,null,"","","","","","","","","","","","","","","","",0,0,0,0,0,0,0,0,0,0,0,0,0,0,0,"","","","","","","","","","","","","","","","","","","","","","","","","","","","","","",null,970471708,12]
[null,"wk19, 2023","AM ACC",970663401,"HUS","R","ARL_C","GB","Aycliffe",null,null,null,null,null,"YES","NO","EPOS MODULE KIT",4,null,null,null,null,18,null,null,null,null,null,null,null,null,null,null,null,null,null,null,null,null,null,null,null,"","","","","","","","","","","","","","","","","","","","","","","","","","","","","","","","","","","","","","","","","","","","","","","","","","","","","","","","","","","","","",null,970471725,12]
[null,"wk19, 2023","AM ACC",970663403,"HUS","R","ARL_C","GB","Aycliffe","IE;GB",null,null,null,null,"NO","NO","EPOS MODULE KIT",4,null,null,null,null,18,null,null,null,null,null,null,null,null,null,null,null,null,null,null,null,null,null,null,null,"","","","","","","","","","","","","","","","","","","","","","","","","","","","","","","","","","","","","","","","","","","","","","","","","","","","","","","","","","","","","",null,970471726,12]
[null,"wk19, 2023","AM ACC",970663404,"HUS","R","ARL_C","GB","Aycliffe","CH",null,null,null,null,"NO","NO","EPOS MODULE KIT",4,null,null,null,null,18,null,null,null,null,null,null,null,null,null,null,null,null,null,null,null,null,null,null,null,"","","","","","","","","","","","","","","","","","","","","","","","","","","","","","","","","","","","","","","","","","","","","","","","","","","","","","","","","","","","","",null,970471729,12]
[null,"wk19, 2023","AM ACC",970663406,"HUS","R","ARL_C","GB","Aycliffe","NZ",null,null,null,null,"NO","NO","EPOS MODULE KIT",4,null,null,null,null,18,null,null,null,null,null,null,null,null,null,null,null,null,null,null,null,null,null,null,null,"","","","","","","","","","","","","","","","","","","","","","","","","","","","","","","","","","","","","","","","","","","","","","","","","","","","","","","","","","","","","",null,970471733,12]
[null,"wk19, 2023","AM ACC",970663407,"HUS","R","ARL_C","GB","Aycliffe","AU",null,null,null,null,"NO","NO","EPOS MODULE KIT",4,null,null,null,null,18,null,null,null,null,null,null,null,null,null,null,null,null,null,null,null,null,null,null,null,"","","","","","","","","","","","","","","","","","","","","","","","","","","","","","","","","","","","","","","","","","","","","","","","","","","","","","","","","","","","","",null,970471740,12]
[null,"wk19, 2023","AM520 EPOS",970717803,"HUS","R","LRL_P","GB","Aycliffe","AM500 GB/IE","SSG W6, 2024","2024 February ",null,null,"NO","NO","Be careful with your Logility plans. Comp. Lead time +12 months. ",4,100,null,200,260,10,null,null,null,null,null,null,null,null,null,null,null,null,null,null,null,null,null,null,null,"",0,0,0,0,0,0,0,0,0,0,0,0,0,0,0,"","","","","","","","","","","","","","","",0,0,0,0,0,0,0,0,0,0,0,0,0,0,0,0,0,0,0,0,0,0,0,0,0,0,0,0,0,0,null,970471746,12]
[null,"wk19, 2023","AM520 EPOS",970717804,"HUS","R","LRL_P","GB","Aycliffe","AM500 CH","SSG W6, 2024","2024 February ",null,null,"NO","NO","Be careful with your Logility plans. Comp. Lead time +12 months. ",4,100,null,200,260,10,null,null,null,null,null,null,null,null,null,null,null,null,null,null,null,null,null,null,null,"",0,0,0,0,0,0,0,0,0,0,0,0,0,0,0,"","","","","","","","","","","","","","","",0,0,0,0,0,0,0,0,0,0,0,0,0,0,0,0,0,0,0,0,0,0,0,0,0,0,0,0,0,0,null,970471747,12]
[null,"wk19, 2023","AM520 EPOS",970717805,"HUS","R","LRL_P","GB","Aycliffe","AM500 US/CA","SSG W6, 2024","2024 February ",null,null,"NO","NO","Be careful with your Logility plans. Comp. Lead time +12 months. ",4,100,null,200,260,10,null,null,null,null,null,null,null,null,null,null,null,null,null,null,null,null,null,null,null,"",0,0,0,0,0,0,0,0,0,0,0,0,0,0,0,"","","","","","","","","","","","","","","",0,0,0,0,0,0,0,0,0,0,0,0,0,0,0,0,0,0,0,0,0,0,0,0,0,0,0,0,0,0,null,970526703,12]
[null,"wk19, 2023","AM520 EPOS",970717806,"HUS","R","LRL_P","GB","Aycliffe","AM500 NZ","SSG W6, 2024","2024 February ",null,null,"NO","NO","Be careful with your Logility plans. Comp. Lead time +12 months. ",4,100,null,200,260,10,null,null,null,null,null,null,null,null,null,null,null,null,null,null,null,null,null,null,null,"",0,0,0,0,0,0,0,0,0,0,0,0,0,0,0,"","","","","","","","","","","","","","","",0,0,0,0,0,0,0,0,0,0,0,0,0,0,0,0,0,0,0,0,0,0,0,0,0,0,0,0,0,0,null,970526706,12]
[null,"wk19, 2023","AM520 EPOS",970717807,"HUS","R","LRL_P","GB","Aycliffe","AM500 AU","SSG W6, 2024","2024 February ",null,null,"NO","NO","Be careful with your Logility plans. Comp. Lead time +12 months. ",4,100,null,200,260,10,null,null,null,null,null,null,null,null,null,null,null,null,null,null,null,null,null,null,null,"",0,0,0,0,0,0,0,0,0,0,0,0,0,0,0,"","","","","","","","","","","","","","","",0,0,0,0,0,0,0,0,0,0,0,0,0,0,0,0,0,0,0,0,0,0,0,0,0,0,0,0,0,0,null,970526708,12]
[null,"wk19, 2023","AM520 EPOS",970717808,"HUS","R","LRL_P","GB","Aycliffe","AM500","SSG W6, 2024","2024 February ",null,null,"NO","NO","Be careful with your Logility plans. Comp. Lead time +12 months. ",4,100,null,200,260,10,null,null,null,null,null,null,null,null,null,null,null,null,null,null,null,null,null,null,null,"",0,0,0,0,0,0,0,0,0,0,0,0,0,0,0,"","","","","","","","","","","","","","","",0,0,0,0,0,0,0,0,0,0,0,0,0,0,0,0,0,0,0,0,0,0,0,0,0,0,0,0,0,0,null,970526721,12]
[null,"wk19, 2023","AM520 EPOS",970717811,"HUS","R","LRL_P","GB","Aycliffe","AM500","SSG W6, 2024","2024 February ",null,null,"YES","NO","Be careful with your Logility plans. Comp. Lead time +12 months. ",4,100,null,200,260,10,null,null,null,null,null,null,null,null,null,null,null,null,null,null,null,null,null,null,null,"",0,0,0,0,0,0,0,0,0,0,0,0,0,0,0,"","","","","","","","","","","","","","","",0,0,0,0,0,0,0,0,0,0,0,0,0,0,0,0,0,0,0,0,0,0,0,0,0,0,0,0,0,0,null,970526733,12]
[null,"wk19, 2023","AM520 EPOS",970717812,"HUS","R","LRL_P","GB","Aycliffe","AM500","SSG W6, 2024","2024 February ",null,null,"NO","NO","Be careful with your Logility plans. Comp. Lead time +12 months. ",4,100,null,200,260,10,null,null,null,null,null,null,null,null,null,null,null,null,null,null,null,null,null,null,null,"",0,0,0,0,0,0,0,0,0,0,0,0,0,0,0,"","","","","","","","","","","","","","","",0,0,0,0,0,0,0,0,0,0,0,0,0,0,0,0,0,0,0,0,0,0,0,0,0,0,0,0,0,0,null,970526734,12]
[null,"wk19, 2023","AM520 EPOS",970717821,"HUS","R","LRL_P","GB","Aycliffe","AM500","SSG W6, 2024","2024 February ",null,null,"YES","NO","Be careful with your Logility plans. Comp. Lead time +12 months. ",4,100,null,200,260,10,null,null,null,null,null,null,null,null,null,null,null,null,null,null,null,null,null,null,null,"",0,0,0,0,0,0,0,0,0,0,0,0,0,0,0,"","","","","","","","","","","","","","","",0,0,0,0,0,0,0,0,0,0,0,0,0,0,0,0,0,0,0,0,0,0,0,0,0,0,0,0,0,0,null,970526740,12]
[null,"wk19, 2023","AM520H EPOS",970717905,"HUS","R","LRL_P","GB","Aycliffe","AM500 US/CA","SSG W6, 2024","2024 February ",null,null,"NO","NO","Be careful with your Logility plans. Comp. Lead time +12 months. ",4,100,null,200,null,5,null,null,null,null,null,null,null,null,null,null,null,null,null,null,null,null,null,null,null,"",0,0,0,0,0,0,0,0,0,0,0,0,0,0,0,"","","","","","","","","","","","","","","",0,0,0,0,0,0,0,0,0,0,0,0,0,0,0,"","","","","","","","","","","","","","","",null,970526746,12]
[null,"wk19, 2023","Collector",587412401,"HUS","L","ROP_C","US","Orangeburg",null,null,null,null,null,"NO","NO",null,4,36,null,108,null,{"$f":"_xlfn.XLOOKUP(D242,DA:DA,DB:DB)","v":1},null,null,null,null,null,null,null,null,null,null,null,null,null,null,null,null,null,null,null,1,0,0,0,0,0,0,0,0,0,0,0,0,0,0,0,"","","","","","","","","","","","","","","",0,0,0,0,0,0,0,0,0,0,0,0,0,0,0,"","","","","","","","","","","","","","","",null,970526803,12]
[null,"wk19, 2023","Collector",587412701,"HUS","L","ROP_C","US","Orangeburg",null,null,null,null,null,"NO","NO",null,4,36,null,108,null,1,null,null,null,null,null,null,null,null,null,null,null,null,null,null,null,null,null,null,null,"",0,0,0,0,0,0,0,0,0,0,0,0,0,0,0,"","","","","","","","","","","","","","","",0,0,0,0,0,0,0,0,0,0,0,0,0,0,0,"","","","","","","","","","","","","","","",null,970526806,12]
[null,"wk19, 2023","Collector",587960201,"HUS","L","ROP_C","US","Orangeburg","AU;NZ;ZA",null,null,null,null,"NO","NO",null,4,36,null,81,null,1,null,null,null,null,null,null,null,null,null,null,null,null,null,null,null,null,null,null,null,"",0,0,0,0,0,0,0,0,0,0,0,0,0,0,0,"","","","","","","","","","","","","","","",0,0,0,0,0,0,0,0,0,0,0,0,0,0,0,"","","","","","","","","","","","","","","",null,970526808,12]
[null,"wk19, 2023","Collector",587960401,"HUS","L","ROP_C","US","Orangeburg",null,null,null,null,null,"NO","NO",null,4,36,null,108,null,1,null,null,null,null,null,null,null,null,null,null,null,null,null,null,null,null,null,null,null,"",0,0,0,0,0,0,0,0,0,0,0,0,0,0,0,"","","","","","","","","","","","","","","",0,0,0,0,0,0,0,0,0,0,0,0,0,0,0,"","","","","","","","","","","","","","","",null,970526811,12]
[null,"wk19, 2023","BC-EX850",590684601,"RedMax","H","HPT_P","US","Nashville","US;CA;AU",null,null,null,null,"NO","NO","ATTACHMENT",4,null,null,null,null,32,null,null,null,null,null,null,null,null,null,null,null,null,null,null,null,null,null,null,null,1,"","","","","","","","","","","","","","","","","","","","","","","","","","","","","","","","","","","","","","","","","","","","","","","","","","","","","","","","","","","","",null,970526821,12]
[null,"wk19, 2023","Collector",591111301,"HUS","L","ROP_C","US","Orangeburg",null,null,null,null,null,"NO","NO",null,4,57,null,144,null,1,null,null,null,null,null,null,null,null,null,null,null,null,null,null,null,null,null,null,null,1,0,0,0,0,0,0,0,0,0,0,0,0,0,0,0,"","","","","","","","","","","","","","","",0,0,0,0,0,0,0,0,0,0,0,0,0,0,0,"","","","","","","","","","","","","","","",null,970526827,12]
[null,"wk19, 2023","Collector",591111401,"HUS","L","ROP_C","US","Orangeburg",null,null,null,null,null,"NO","NO",null,4,36,null,96,null,1,null,null,null,null,null,null,null,null,null,null,null,null,null,null,null,null,null,null,null,"",0,0,0,0,0,0,0,0,0,0,0,0,0,0,0,"","","","","","","","","","","","","","","",0,0,0,0,0,0,0,0,0,0,0,0,0,0,0,"","","","","","","","","","","","","","","",null,970526829,12]
[null,"wk19, 2023","Collector",591111501,"HUS","L","ROP_C","US","Orangeburg",null,null,null,null,null,"NO","NO",null,4,36,null,96,null,1,null,null,null,null,null,null,null,null,null,null,null,null,null,null,null,null,null,null,null,"",0,0,0,0,0,0,0,0,0,0,0,0,0,0,0,"","","","","","","","","","","","","","","",0,0,0,0,0,0,0,0,0,0,0,0,0,0,0,"","","","","","","","","","","","","","","",null,970526833,12]
[null,"wk19, 2023","Collector",592620801,"HUS","L","ROP_C","US","Orangeburg",null,null,null,null,null,"NO","NO",null,4,36,null,108,null,1,null,null,null,null,null,null,null,null,null,null,null,null,null,null,null,null,null,null,null,"",0,0,0,0,0,0,0,0,0,0,0,0,0,0,0,"","","","","","","","","","","","","","","",0,0,0,0,0,0,0,0,0,0,0,0,0,0,0,"","","","","","","","","","","","","","","",null,970526834,12]
[null,"wk19, 2023","TS 242D",960410442,"HUS","L","RPS_C","US","Orangeburg",null,null,null,null,null,"NO","NO","Can not be bought from US",4,null,null,null,null,1,null,null,null,null,null,null,null,null,null,null,null,null,null,null,null,null,null,null,null,"","","","","","","","","","","","","","","","","","","","","","","","","","","","","","","","","","","","","","","","","","","","","","","","","","","","","","","","","","","","","",null,970568508,12]
[null,"wk19, 2023","TS 138",960410456,"HUS","L","RPS_C","US","Orangeburg","AU;NZ",null,null,null,null,"NO","NO","Can not be bought from US",4,null,null,null,null,1,null,null,null,null,null,null,null,null,null,null,null,null,null,null,null,null,null,null,null,"","","","","","","","","","","","","","","","","","","","","","","","","","","","","","","","","","","","","","","","","","","","","","","","","","","","","","","","","","","","","",null,970568540,12]
[null,"wk19, 2023","QC330",967091404,"HUS","H","EEC_P","CN","BMZ CN","330W Quick Charger JP",null,null,"966730604",null,"NO","NO",null,12,1584,3168,null,3168,144,24,null,null,null,null,null,null,null,null,null,null,null,null,null,null,null,null,null,null,{"$f":"IF(I269<>0,IF(H269&I269<>H268&I268,1,\"\"),\"\")","v":""},0,0,0,0,0,0,0,0,0,0,0,0,0,0,0,0,0,0,0,0,0,0,0,0,0,0,0,0,0,0,"","","","","","","","","","","","","","","",0,0,0,0,0,0,0,0,0,0,0,0,0,0,0,null,970654404,12]
[null,"wk19, 2023","QC500",970449505,"HUS","H","EEC_P","CN","BMZ CN","500W Quick charger, AU/NZ/AR",null,null,"967091505",null,"NO","NO",null,12,1584,3168,null,3168,144,24,null,null,null,null,null,null,null,null,null,null,null,null,null,null,null,null,null,null,"",0,0,0,0,0,0,0,0,0,0,0,0,0,0,0,0,0,0,0,0,0,0,0,0,0,0,0,0,0,0,"","","","","","","","","","","","","","","",0,0,0,0,0,0,0,0,0,0,0,0,0,0,0,null,970656308,12]
[null,"wk19, 2023","BLi200",967091902,"HUS","H","EEB_P","PL","BMZ PL","36V, 5.2Ah, professional, US/CA",null,null,null,null,"YES","NO","Minimum Qty for DS = FCL. Smaller quantities can be ordered from CDC.",4,2112,4224,null,4224,192,48,null,null,null,null,null,null,null,null,null,null,null,null,null,null,null,null,null,null,"",0,0,0,0,0,0,0,0,0,0,0,0,0,0,0,0,0,0,0,0,0,0,0,0,0,0,0,0,0,0,"","","","","","","","","","","","","","","",0,0,0,0,0,0,0,0,0,0,0,0,0,0,0,null,970656506,12]
[null,"wk19, 2023","LC 419A",970461101,"HUS","L","LPL_P","CN","Changjiang","AU;NC;NZ;ZA;MM;MY;SG;TH;TW;TL;VN;VU;ID;IL;PH;PF;PG;HK;KE;KH;KR;FJ;LA",null,null,null,null,"NO","YES","Special loading NZ",8,96,260,260,null,8,null,null,null,null,null,null,null,null,null,null,null,null,null,null,null,null,null,null,null,"",0,0,0,0,0,0,0,0,0,0,0,0,0,0,0,0,0,0,0,0,0,0,0,0,0,0,0,0,0,0,0,0,0,0,0,0,0,0,0,0,0,0,0,0,0,"","","","","","","","","","","","","","","",null,970656526,12]
[null,"wk19, 2023","G3LS",966206702,"ZEN","H","HOP_P","CN","Changzhou",null,null,null,"966206701",null,"NO","NO",null,4,810,1800,1800,null,45,null,null,null,null,null,null,null,null,null,null,null,null,null,null,null,null,null,null,null,"",0,0,0,0,0,0,0,0,0,0,0,0,0,0,0,0,0,0,0,0,0,0,0,0,0,0,0,0,0,0,0,0,0,0,0,0,0,0,0,0,0,0,0,0,0,"","","","","","","","","","","","","","","",null,"970571908",12]
[null,"wk19, 2023","G4LS",966228102,"ZEN","H","HOP_P","CN","Changzhou",null,null,null,"966228101",null,"NO","NO",null,4,810,1800,1800,null,45,null,null,null,null,null,null,null,null,null,null,null,null,null,null,null,null,null,null,null,"",0,0,0,0,0,0,0,0,0,0,0,0,0,0,0,0,0,0,0,0,0,0,0,0,0,0,0,0,0,0,0,0,0,0,0,0,0,0,0,0,0,0,0,0,0,"","","","","","","","","","","","","","","",null,"970572005",12]
[null,"wk19, 2023","YTH24V48",960450063,"HUS","L","RPS_C","US","Orangeburg",null,null,null,null,null,"NO","NO",null,4,4,null,18,null,1,null,null,null,null,null,null,null,null,null,null,null,null,null,null,null,null,null,null,null,"",0,0,0,0,0,0,0,0,0,0,0,0,0,0,0,"","","","","","","","","","","","","","","",0,0,0,0,0,0,0,0,0,0,0,0,0,0,0,"","","","","","","","","","","","","","","",null,967307702,12]
[null,"wk19, 2023","TC 238T",960510190,"HUS","L","RPR_C","US","Orangeburg",null,null,null,null,null,"NO","NO","Can not be bought from US",4,null,null,null,null,{"$f":"_xlfn.XLOOKUP(D323,DA:DA,DB:DB)","v":1},null,null,null,null,null,null,null,null,null,null,null,null,null,null,null,null,null,null,null,1,"","","","","","","","","","","","","","","","","","","","","","","","","","","","","","","","","","","","","","","","","","","","","","","","","","","","","","","","","","","","",null,970515750,12]
[null,"wk19, 2023",125,967068001,"HUS","H","HPC_C","CN","Changzhou",null,null,null,null,null,"NO","YES",null,4,648,1584,1584,null,36,null,null,null,null,null,null,null,null,null,null,null,null,null,null,null,null,null,null,null,"",0,0,0,0,0,0,0,0,0,0,0,0,0,0,0,0,0,0,0,0,0,0,0,0,0,0,0,0,0,0,0,0,0,0,0,0,0,0,0,0,0,0,0,0,0,"","","","","","","","","","","","","","","",null,970648101,12]
[null,"wk19, 2023","130",967108403,"HUS","H","HPC_C","CN","Changzhou",null,null,null,null,null,"NO","NO",null,4,648,1584,1728,null,36,null,null,null,null,null,null,null,null,null,null,null,null,null,null,null,null,null,null,null,"",0,0,0,0,0,0,0,0,0,0,0,0,0,0,0,0,0,0,0,0,0,0,0,0,0,0,0,0,0,0,0,0,0,0,0,0,0,0,0,0,0,0,0,0,0,"","","","","","","","","","","","","","","",null,970725902,12]
[null,"wk19, 2023","525RJD",967210702,"HUS","H","HPT_P","CN","Changzhou",null,null,null,"967210701",null,"NO","NO",null,4,168,364,416,null,16,null,null,null,null,null,null,null,null,null,null,null,null,null,null,null,null,null,null,null,"",0,0,0,0,0,0,0,0,0,0,0,0,0,0,0,0,0,0,0,0,0,0,0,0,0,0,0,0,0,0,0,0,0,0,0,0,0,0,0,0,0,0,0,0,0,"","","","","","","","","","","","","","","",null,970471704,12]
[null,"wk19, 2023","TC 238T",960510201,"HUS","L","RPR_C","US","Orangeburg",null,null,null,null,null,"YES","NO","Can not be bought from US",4,null,null,null,null,1,null,null,null,null,null,null,null,null,null,null,null,null,null,null,null,null,null,null,null,"","","","","","","","","","","","","","","","","","","","","","","","","","","","","","","","","","","","","","","","","","","","","","","","","","","","","","","","","","","","","",null,"967845105",12]
[null,"wk19, 2023","522HD60X",967658701,"HUS","H","HPH_P","CN","Changzhou",null,null,null,null,null,"YES","YES",null,4,540,1260,1380,null,30,null,null,null,null,null,null,null,null,null,null,null,null,null,null,null,null,null,null,null,"",0,0,0,0,0,0,0,0,0,0,0,0,0,0,0,0,0,0,0,0,0,0,0,0,0,0,0,0,0,0,0,0,0,0,0,0,0,0,0,0,0,0,0,0,0,"","","","","","","","","","","","","","","",null,"970572107",12]
[null,"wk19, 2023","522HD60S",967658801,"HUS","H","HPH_P","CN","Changzhou",null,null,null,null,null,"NO","YES",null,4,540,1260,1380,null,30,null,null,null,null,null,null,null,null,null,null,null,null,null,null,null,null,null,null,null,"",0,0,0,0,0,0,0,0,0,0,0,0,0,0,0,0,0,0,0,0,0,0,0,0,0,0,0,0,0,0,0,0,0,0,0,0,0,0,0,0,0,0,0,0,0,"","","","","","","","","","","","","","","",null,"970573207",12]
[null,"wk19, 2023","CHTZ600R",967659401,"RedMax","H","HPH_P","CN","Changzhou","US;CA",null,null,null,null,"NO","YES",null,4,540,1260,1380,null,30,null,null,null,null,null,null,null,null,null,null,null,null,null,null,null,null,null,null,null,"",0,0,0,0,0,0,0,0,0,0,0,0,0,0,0,0,0,0,0,0,0,0,0,0,0,0,0,0,0,0,0,0,0,0,0,0,0,0,0,0,0,0,0,0,0,"","","","","","","","","","","","","","","",null,970466103,15]
[null,"wk19, 2023","Collector",960730038,"HUS","L","ROP_C","US","Orangeburg",null,null,null,null,null,"NO","NO",null,4,36,null,108,null,1,null,null,null,null,null,null,null,null,null,null,null,null,null,null,null,null,null,null,null,"",0,0,0,0,0,0,0,0,0,0,0,0,0,0,0,"","","","","","","","","","","","","","","",0,0,0,0,0,0,0,0,0,0,0,0,0,0,0,"","","","","","","","","","","","","","","",null,970648303,15]
[null,"wk19, 2023","135 Mark II",967861826,"HUS","H","HPC_C","CN","Changzhou",null,null,null,null,null,"NO","YES",null,4,648,1584,1584,null,36,null,null,null,null,null,null,null,null,null,null,null,null,null,null,null,null,null,null,null,"",0,0,0,0,0,0,0,0,0,0,0,0,0,0,0,0,0,0,0,0,0,0,0,0,0,0,0,0,0,0,0,0,0,0,0,0,0,0,0,0,0,0,0,0,0,"","","","","","","","","","","","","","","",null,966779701,16]
[null,"wk19, 2023","120e Mark II",967861910,"HUS","H","HPC_C","CN","Changzhou","JP",null,null,967326502,null,"NO","NO",null,4,648,1584,1584,null,36,null,null,null,null,null,null,null,null,null,null,null,null,null,null,null,null,null,null,null,"",0,0,0,0,0,0,0,0,0,0,0,0,0,0,0,0,0,0,0,0,0,0,0,0,0,0,0,0,0,0,0,0,0,0,0,0,0,0,0,0,0,0,0,0,0,"","","","","","","","","","","","","","","",null,967210803,16]
[null,"wk19, 2023","543RS",966779901,"HUS","H","HPT_P","CN","Changzhou","EN,IT,ES,PT",null,null,"965870801;966779902",null,"YES","NO",null,4,190,440,470,null,20,null,null,null,null,null,null,null,null,null,null,null,null,null,null,null,null,null,null,null,1,0,0,0,0,0,0,0,0,0,0,0,0,0,0,0,0,0,0,0,0,0,0,0,0,0,0,0,0,0,0,0,0,0,0,0,0,0,0,0,0,0,0,0,0,0,"","","","","","","","","","","","","","","",null,967884711,16]
[null,"wk19, 2023","225i  Bare Product, 14\", 3/8\", EU",970547503,"HUS","H","HBC_C","CN","Changzhou",null,null,null,null,null,"YES","NO",null,4,648,1584,1584,null,36,8,null,null,null,null,null,null,null,null,null,null,null,null,null,null,null,null,null,null,"",0,0,0,0,0,0,0,0,0,0,0,0,0,0,0,0,0,0,0,0,0,0,0,0,0,0,0,0,0,0,0,0,0,0,0,0,0,0,0,0,0,0,0,0,0,"","","","","","","","","","","","","","","",null,970663403,18]
[null,"wk19, 2023","240i  Bare Product, 16\", 3/8\", Standard, EU",970601106,"HUS","H","HBC_C","CN","Changzhou",null,null,null,null,null,"YES","NO",null,4,648,1584,1584,null,36,null,null,null,null,null,null,null,null,null,null,null,null,null,null,null,null,null,null,null,"",0,0,0,0,0,0,0,0,0,0,0,0,0,0,0,0,0,0,0,0,0,0,0,0,0,0,0,0,0,0,0,0,0,0,0,0,0,0,0,0,0,0,0,0,0,"","","","","","","","","","","","","","","",null,966604704,18]
[null,"wk19, 2023","350E EasiSaw",970609701,"FLY","H","HEC_C","CN","Changzhou",null,null,null,null,null,"NO","NO",null,4,720,1248,1248,null,24,null,null,null,null,null,null,null,null,null,null,null,null,null,null,null,null,null,null,null,"",0,0,0,0,0,0,0,0,0,0,0,0,0,0,0,0,0,0,0,0,0,0,0,0,0,0,0,0,0,0,0,0,0,0,0,0,0,0,0,0,0,0,0,0,0,"","","","","","","","","","","","","","","",null,966604802,18]
[null,"wk19, 2023","HB281",967008301,"RedMax","H","HPB_C","US","Nashville","AU",null,null,null,null,"NO","NO","RM HB281 HVA BLOWER US/CAN",4,null,null,null,null,8,null,null,null,null,null,null,null,null,null,null,null,null,null,null,null,null,null,null,null,1,"","","","","","","","","","","","","","","","","","","","","","","","","","","","","","","","","","","","","","","","","","","","","","","","","","","","","","","","","","","","",null,966629105,18]
[null,"wk 22, 2023","Aspire P5-P4A",970621309,"HUS","H","HBP_C","CN","CIXI CITY BEST POWER TOOLS CO.,LTD","JP",null,null,null,null,"NO","NO","kitted locally",8,540,null,2400,null,60,null,null,null,null,null,null,null,null,null,null,null,null,null,null,null,null,null,null,null,"",0,0,0,0,0,0,0,0,0,0,0,0,0,0,0,"","","","","","","","","","","","","","","",0,0,0,0,0,0,0,0,0,0,0,0,0,0,0,"","","","","","","","","","","","","","","",null,967176506,18]
[null,"wk19, 2023","LC141C",967099301,"HUS","L","LBL_C","CN","Daye",null,null,null,null,null,"YES","YES",null,8,145,300,360,null,0,null,null,null,null,null,null,null,null,null,null,null,null,null,null,null,null,null,null,null,1,0,0,0,0,0,0,0,0,0,0,0,0,0,0,0,0,0,0,0,0,0,0,0,0,0,0,0,0,0,0,0,0,0,0,0,0,0,0,0,0,0,0,0,0,0,"","","","","","","","","","","","","","","",null,967894002,18]
[null,"wk19, 2023","BA101",967286401,"HUS","H","HPT_P","JP","Taisei Monac",null,null,null,null,null,"YES","NO",null,8,920,null,2010,null,0,null,null,null,null,null,null,null,null,null,null,null,null,null,null,null,null,null,null,null,1,0,0,0,0,0,0,0,0,0,0,0,0,0,0,0,"","","","","","","","","","","","","","","",0,0,0,0,0,0,0,0,0,0,0,0,0,0,0,"","","","","","","","","","","","","","","",null,536661801,20]
[null,"wk19, 2023"," LB 256SP",970488501,"HUS","L","LPL_C","CN","Daye",null,null,null,null,null,"YES","NO",null,8,64,144,180,null,"8 or 10",null,null,null,null,null,null,null,null,null,null,null,null,null,null,null,null,null,null,null,"",0,0,0,0,0,0,0,0,0,0,0,0,0,0,0,0,0,0,0,0,0,0,0,0,0,0,0,0,0,0,0,0,0,0,0,0,0,0,0,0,0,0,0,0,0,"","","","","","","","","","","","","","","",null,967885102,20]
[null,"wk19, 2023","TF 230",967316704,"HUS","L","LPT_P","CN","Weima",null,null,null,null,null,"NO","NO","Max.5pnc per order, ",5,93,196,198,null,0,null,null,null,null,null,null,null,null,null,null,null,null,null,null,null,null,null,null,null,"",0,0,0,0,0,0,0,0,0,0,0,0,0,0,0,0,0,0,0,0,0,0,0,0,0,0,0,0,0,0,0,0,0,0,0,0,0,0,0,0,0,0,0,0,0,"","","","","","","","","","","","","","","",null,967971203,20]
[null,"wk19, 2023","CL 400",967963502,"HUS","L","LOP_P","IT","Ecotech",null,null,null,null,null,"YES","NO",null,20,null,null,null,192,6,null,null,null,null,null,null,null,null,null,null,null,null,null,null,null,null,null,null,null,1,"","","","","","","","","","","","","","","","","","","","","","","","","","","","","","","","","","","","","","","","","","","","","",0,0,0,0,0,0,0,0,0,0,0,0,0,0,0,null,970468205,24]
[null,"wk19, 2023","CL 400",967963503,"HUS","L","LOP_P","IT","Ecotech",null,null,null,"967963501",null,"YES","NO",null,20,null,null,null,192,6,null,null,null,null,null,null,null,null,null,null,null,null,null,null,null,null,null,null,null,"","","","","","","","","","","","","","","","","","","","","","","","","","","","","","","","","","","","","","","","","","","","","","",0,0,0,0,0,0,0,0,0,0,0,0,0,0,0,null,970468206,24]
[null,"wk19, 2023","40-C80",970487806,"HUS","H","EEC_C","VN","Friwo VN","BR",null,null,967335681,null,"NO","NO","Must order 432pcs as MoQ for direct shipment",16,4752,10368,null,null,216,72,null,null,null,null,null,null,null,null,null,null,null,null,null,null,null,null,null,null,"",0,0,0,0,0,0,0,0,0,0,0,0,0,0,0,0,0,0,0,0,0,0,0,0,0,0,0,0,0,0,"","","","","","","","","","","","","","","","","","","","","","","","","","","","","","",null,967659201,24]
[null,"wk19, 2023","120iB",967976101,"HUS","H","HBB_C","SE","Huskvarna_Bat",null,null,null,null,null,"NO","NO","Blower 120iB bare tool, All excl USA/CAN, no battery no charger",4,600,1260,1320,null,24,8,null,null,null,null,null,null,null,null,null,null,null,null,null,null,null,null,null,null,{"$f":"IF(I511<>0,IF(H511&I511<>H510&I510,1,\"\"),\"\")","v":""},0,0,0,0,0,0,0,0,0,0,0,0,0,0,0,0,0,0,0,0,0,0,0,0,0,0,0,0,0,0,0,0,0,0,0,0,0,0,0,0,0,0,0,0,0,"","","","","","","","","","","","","","","",null,967976103,24]
[null,"wk19, 2023","522iHD75",970466103,"HUS","H","HBH_P","SE","Huskvarna_Bat","US;CA",null,null,null,null,"NO","NO","MOQ 15 pcs for orders against NDC-13",4,240,510,null,null,15,3,null,null,null,null,null,null,null,null,null,null,null,null,null,null,null,null,null,null,"",0,0,0,0,0,0,0,0,0,0,0,0,0,0,0,0,0,0,0,0,0,0,0,0,0,0,0,0,0,0,"","","","","","","","","","","","","","","","","","","","","","","","","","","","","","",null,967814801,24]
[null,"wk19, 2023","T540i XPG",970568114,"HUS","H","HBC_P","SE","Huskvarna_Bat",null,"2023-10-02",null,null,null,"NO","YES","heated handle, No battery, no charger. 14\" SP21G. Bluetooth",4,960,2112,null,null,96,12,null,null,null,null,null,null,null,null,null,null,null,null,null,null,null,null,null,null,"",0,0,0,0,0,0,0,0,0,0,0,0,0,0,0,0,0,0,0,0,0,0,0,0,0,0,0,0,0,0,"","","","","","","","","","","","","","","","","","","","","","","","","","","","","","",null,590684501,24]
[null,"wk19, 2023","540iXP",970572414,"HUS","H","HBC_P","SE","Huskvarna_Bat",null,"2023-07-10",null,"967864014",null,"NO","NO","No battery, no charger. 14\" SP21G. Bluetooth, Oil sensor",4,960,2112,null,null,96,12,null,null,null,null,null,null,null,null,null,null,null,null,null,null,null,null,null,null,"",0,0,0,0,0,0,0,0,0,0,0,0,0,0,0,0,0,0,0,0,0,0,0,0,0,0,0,0,0,0,"","","","","","","","","","","","","","","","","","","","","","","","","","","","","","",null,"970571705",24]
[null,"wk19, 2023","540iXP",970572716,"HUS","H","HBC_P","SE","Huskvarna_Bat",null,"2023-07-10",null,"967983916",null,"NO","NO","No battery, no charger. 16\" SP21G, Oil sensor",4,960,2112,null,null,96,12,null,null,null,null,null,null,null,null,null,null,null,null,null,null,null,null,null,null,"",0,0,0,0,0,0,0,0,0,0,0,0,0,0,0,0,0,0,0,0,0,0,0,0,0,0,0,0,0,0,"","","","","","","","","","","","","","","","","","","","","","","","","","","","","","",null,537183326,28]
[null,"wk19, 2023","T540i XPG",970634101,"HUS","H","HBC_P","SE","Huskvarna_Bat",null,"2023-10-02",null,null,null,"NO","NO","Powerhead",4,960,2112,null,null,96,12,null,null,null,null,null,null,null,null,null,null,null,null,null,null,null,null,null,null,"",0,0,0,0,0,0,0,0,0,0,0,0,0,0,0,0,0,0,0,0,0,0,0,0,0,0,0,0,0,0,"","","","","","","","","","","","","","","","","","","","","","","","","","","","","","",null,"970462808",28]
[null,"wk19, 2023","T540i XPG",970634112,"HUS","H","HBC_P","SE","Huskvarna_Bat",null,"2023-10-02",null,null,null,"NO","NO","No battery, no charger. 12\" H00 1/4, Heated handle",4,960,2112,null,null,96,12,null,null,null,null,null,null,null,null,null,null,null,null,null,null,null,null,null,null,"",0,0,0,0,0,0,0,0,0,0,0,0,0,0,0,0,0,0,0,0,0,0,0,0,0,0,0,0,0,0,"","","","","","","","","","","","","","","","","","","","","","","","","","","","","","",null,"970462905",28]
[null,"wk19, 2023","542i XP",970647014,"HUS","H","HBC_P","SE","Huskvarna_Bat",null,"2023-10-02",null,null,null,"NO","NO","X-Precision, SP21G 14\", Bluetooth",4,960,2112,null,null,96,12,null,null,null,null,null,null,null,null,null,null,null,null,null,null,null,null,null,null,"",0,0,0,0,0,0,0,0,0,0,0,0,0,0,0,0,0,0,0,0,0,0,0,0,0,0,0,0,0,0,"","","","","","","","","","","","","","","","","","","","","","","","","","","","","","",null,967658502,30]
[null,"wk19, 2023","T542i XP",970666312,"HUS","H","HBC_P","SE","Huskvarna_Bat",null,"2023-10-02",null,null,null,"NO","NO","X-Precision, SP21G 12\"",4,960,2112,null,null,96,12,null,null,null,null,null,null,null,null,null,null,null,null,null,null,null,null,null,null,"",0,0,0,0,0,0,0,0,0,0,0,0,0,0,0,0,0,0,0,0,0,0,0,0,0,0,0,0,0,0,"","","","","","","","","","","","","","","","","","","","","","","","","","","","","","",null,970621408,30]
[null,"wk19, 2023","T542i XPG",970666412,"HUS","H","HBC_P","SE","Huskvarna_Bat",null,"2023-10-02",null,null,null,"NO","NO","X-Precision, SP21G 12\"",4,960,2112,null,null,96,12,null,null,null,null,null,null,null,null,null,null,null,null,null,null,null,null,null,null,"",0,0,0,0,0,0,0,0,0,0,0,0,0,0,0,0,0,0,0,0,0,0,0,0,0,0,0,0,0,0,"","","","","","","","","","","","","","","","","","","","","","","","","","","","","","",null,970656102,30]
[null,"wk19, 2023","542i XP",970666518,"HUS","H","HBC_P","SE","Huskvarna_Bat","US;CA","2023-10-02",null,null,null,"NO","NO","X-Precision, SP21G 14\" kit",4,960,2112,null,null,96,12,null,null,null,null,null,null,null,null,null,null,null,null,null,null,null,null,null,null,"",0,0,0,0,0,0,0,0,0,0,0,0,0,0,0,0,0,0,0,0,0,0,0,0,0,0,0,0,0,0,"","","","","","","","","","","","","","","","","","","","","","","","","","","","","","",null,970621404,30]
[null,"wk19, 2023","542i XPG",970666613,"HUS","H","HBC_P","SE","Huskvarna_Bat",null,"2023-10-02",null,null,null,"NO","NO","X-force bar, SP33G 13\"",4,960,2112,null,null,96,12,null,null,null,null,null,null,null,null,null,null,null,null,null,null,null,null,null,null,"",0,0,0,0,0,0,0,0,0,0,0,0,0,0,0,0,0,0,0,0,0,0,0,0,0,0,0,0,0,0,"","","","","","","","","","","","","","","","","","","","","","","","","","","","","","",null,970536501,32]
[null,"wk19, 2023","372XP",965702918,"HUS","H","HPC_P","SE","Huskvarna_CS","3/8\" C85 SN",null,null,null,"YES","NO","NO",null,4,540,1320,null,null,60,12,null,null,null,null,null,null,null,null,null,null,null,null,null,null,null,null,null,null,1,0,0,0,0,0,0,0,0,0,0,0,0,0,0,0,0,0,0,0,0,0,0,0,0,0,0,0,0,0,0,"","","","","","","","","","","","","","","","","","","","","","","","","","","","","","",null,970620401,32]
[null,"wk19, 2023","372XP",965968138,"HUS","H","HPC_P","SE","Huskvarna_CS",null,null,null,null,"YES","NO","NO",null,4,720,1584,null,null,72,12,null,null,null,null,null,null,null,null,null,null,null,null,null,null,null,null,null,null,"",0,0,0,0,0,0,0,0,0,0,0,0,0,0,0,0,0,0,0,0,0,0,0,0,0,0,0,0,0,0,"","","","","","","","","","","","","","","","","","","","","","","","","","","","","","",null,966776145,36]
[null,"wk19, 2023",365,966428320,"HUS","H","HPC_P","SE","Huskvarna_CS",null,null,null,null,"YES","NO","NO",null,4,720,1584,null,null,72,12,null,null,null,null,null,null,null,null,null,null,null,null,null,null,null,null,null,null,"",0,0,0,0,0,0,0,0,0,0,0,0,0,0,0,0,0,0,0,0,0,0,0,0,0,0,0,0,0,0,"","","","","","","","","","","","","","","","","","","","","","","","","","","","","","",null,967068001,36]
[null,"wk19, 2023",365,966428623,"HUS","H","HPC_P","SE","Huskvarna_CS","CA;PM;TW;US",null,null,null,"YES","NO","NO",null,4,720,1584,null,null,72,12,null,null,null,null,null,null,null,null,null,null,null,null,null,null,null,null,null,null,"",0,0,0,0,0,0,0,0,0,0,0,0,0,0,0,0,0,0,0,0,0,0,0,0,0,0,0,0,0,0,"","","","","","","","","","","","","","","","","","","","","","","","","","","","","","",null,967108405,36]
[null,"wk19, 2023","572XP",966733190,"HUS","H","HPC_P","SE","Huskvarna_CS",null,null,null,null,"YES","NO","NO",null,4,540,1320,null,null,60,10,null,null,null,null,null,null,null,null,null,null,null,null,null,null,null,null,null,null,"",0,0,0,0,0,0,0,0,0,0,0,0,0,0,0,0,0,0,0,0,0,0,0,0,0,0,0,0,0,0,"","","","","","","","","","","","","","","","","","","","","","","","","","","","","","",null,967861904,36]
[null,"wk19, 2023",365,967082190,"HUS","H","HPC_P","SE","Huskvarna_CS","3/8\" C85 HN",null,null,null,"YES","NO","NO",null,4,720,1584,null,null,72,12,null,null,null,null,null,null,null,null,null,null,null,null,null,null,null,null,null,null,"",0,0,0,0,0,0,0,0,0,0,0,0,0,0,0,0,0,0,0,0,0,0,0,0,0,0,0,0,0,0,"","","","","","","","","","","","","","","","","","","","","","","","","","","","","","",null,970547508,36]
[null,"wk19, 2023","545 Mark II",967690636,"HUS","H","HPC_P","SE","Huskvarna_CS",null,null,null,"966648581;966648583",null,"NO","NO",null,4,720,1584,null,null,72,12,null,null,null,null,null,null,null,null,null,null,null,null,null,null,null,null,null,null,"",0,0,0,0,0,0,0,0,0,0,0,0,0,0,0,0,0,0,0,0,0,0,0,0,0,0,0,0,0,0,"","","","","","","","","","","","","","","","","","","","","","","","","","","","","","",null,970547511,36]
[null,"wk19, 2023","550XP Mark II",967690833,"HUS","H","HPC_P","SE","Huskvarna_CS",null,null,null,966648173,null,"NO","NO",null,4,720,1584,null,null,72,12,null,null,null,null,null,null,null,null,null,null,null,null,null,null,null,null,null,null,"",0,0,0,0,0,0,0,0,0,0,0,0,0,0,0,0,0,0,0,0,0,0,0,0,0,0,0,0,0,0,"","","","","","","","","","","","","","","","","","","","","","","","","","","","","","",null,952715641,36]
[null,"wk19, 2023","550XP Mark II",967690850,"HUS","H","HPC_P","SE","Huskvarna_CS",null,null,null,null,"YES","NO","NO",null,4,720,1584,null,null,72,12,null,null,null,null,null,null,null,null,null,null,null,null,null,null,null,null,null,null,"",0,0,0,0,0,0,0,0,0,0,0,0,0,0,0,0,0,0,0,0,0,0,0,0,0,0,0,0,0,0,"","","","","","","","","","","","","","","","","","","","","","","","","","","","","","",null,587375004,40]
[null,"wk19, 2023","550XPG Mark II",967690953,"HUS","H","HPC_P","SE","Huskvarna_CS","JP",null,null,null,"YES","NO","NO",null,4,720,1584,null,null,72,12,null,null,null,null,null,null,null,null,null,null,null,null,null,null,null,null,null,null,"",0,0,0,0,0,0,0,0,0,0,0,0,0,0,0,0,0,0,0,0,0,0,0,0,0,0,0,0,0,0,"","","","","","","","","","","","","","","","","","","","","","","","","","","","","","",null,966228102,45]
[null,"wk19, 2023","372XP",967814620,"HUS","H","HPC_P","SE","Huskvarna_CS","20\" HN 3/8\" 1,5 mm C85 CN",null,null,null,"YES","NO","NO","China variant",4,720,1584,null,null,72,12,null,null,null,null,null,null,null,null,null,null,null,null,null,null,null,null,null,null,"",0,0,0,0,0,0,0,0,0,0,0,0,0,0,0,0,0,0,0,0,0,0,0,0,0,0,0,0,0,0,"","","","","","","","","","","","","","","","","","","","","","","","","","","","","","",null,967332904,45]
[null,"wk19, 2023","572XP",967942538,"HUS","H","HPC_P","SE","Huskvarna_CS","Laminated X-force bar CN",null,null,null,"YES","NO","NO","China variant",4,540,1320,null,null,60,10,null,null,null,null,null,null,null,null,null,null,null,null,null,null,null,null,null,null,"",0,0,0,0,0,0,0,0,0,0,0,0,0,0,0,0,0,0,0,0,0,0,0,0,0,0,0,0,0,0,"","","","","","","","","","","","","","","","","","","","","","","","","","","","","","",null,965820494,46]
[null,"wk19, 2023",585,970493032,"HUS","H","HPC_P","SE","Huskvarna_CS",null,null,null,null,"YES","NO","NO",null,4,480,1056,null,null,48,8,null,null,null,null,null,null,null,null,null,null,null,null,null,null,null,null,null,null,"",0,0,0,0,0,0,0,0,0,0,0,0,0,0,0,0,0,0,0,0,0,0,0,0,0,0,0,0,0,0,"","","","","","","","","","","","","","","","","","","","","","","","","","","","","","",null,967307602,48]
[null,"wk19, 2023","592XP",970493144,"HUS","H","HPC_P","SE","Huskvarna_CS",null,null,null,null,"YES","NO","NO",null,4,480,1056,null,null,48,8,null,null,null,null,null,null,null,null,null,null,null,null,null,null,null,null,null,null,"",0,0,0,0,0,0,0,0,0,0,0,0,0,0,0,0,0,0,0,0,0,0,0,0,0,0,0,0,0,0,"","","","","","","","","","","","","","","","","","","","","","","","","","","","","","",null,970493120,48]
[null,"wk19, 2023","592XPG",970493401,"HUS","H","HPC_P","SE","Huskvarna_CS","US;CA",null,null,null,null,"NO","NO",null,4,480,1056,null,null,48,8,null,null,null,null,null,null,null,null,null,null,null,null,null,null,null,null,null,null,"",0,0,0,0,0,0,0,0,0,0,0,0,0,0,0,0,0,0,0,0,0,0,0,0,0,0,0,0,0,0,"","","","","","","","","","","","","","","","","","","","","","","","","","","","","","",null,970493144,48]
[null,"wk19, 2023",555,970501315,"HUS","H","HPC_P","SE","Huskvarna_CS","15\" SN  .325\" S35G (CN)",null,null,null,null,"NO","NO","China variant",4,720,1584,null,null,72,12,null,null,null,null,null,null,null,null,null,null,null,null,null,null,null,null,null,null,"",0,0,0,0,0,0,0,0,0,0,0,0,0,0,0,0,0,0,0,0,0,0,0,0,0,0,0,0,0,0,"","","","","","","","","","","","","","","","","","","","","","","","","","","","","","",null,970493440,48]
[null,"wk19, 2023","592XP",970526324,"HUS","H","HPC_P","SE","Huskvarna_CS","24\" X-Tough HN - 3/8\" - 1,5 mm - X-Cut C85 CN",null,null,null,"YES","NO","NO","China variant",4,480,1056,null,null,48,8,null,null,null,null,null,null,null,null,null,null,null,null,null,null,null,null,null,null,"",0,0,0,0,0,0,0,0,0,0,0,0,0,0,0,0,0,0,0,0,0,0,0,0,0,0,0,0,0,0,"","","","","","","","","","","","","","","","","","","","","","","","","","","","","","",null,970526324,48]
[null,"wk19, 2023","445 II",970558738,"HUS","H","HPC_C","SE","Huskvarna_CS",null,null,null,967156438,null,"NO","YES",null,4,720,1584,null,null,72,12,null,null,null,null,null,null,null,null,null,null,null,null,null,null,null,null,null,null,"",0,0,0,0,0,0,0,0,0,0,0,0,0,0,0,0,0,0,0,0,0,0,0,0,0,0,0,0,0,0,"","","","","","","","","","","","","","","","","","","","","","","","","","","","","","",null,967633310,54]
[null,"wk19, 2023","445 II",970558836,"HUS","H","HPC_C","SE","Huskvarna_CS","16\" .325\" H25, SN, Felt, CN",null,null,null,null,"NO","NO","China variant",4,720,1584,null,null,72,12,null,null,null,null,null,null,null,null,null,null,null,null,null,null,null,null,null,null,"",0,0,0,0,0,0,0,0,0,0,0,0,0,0,0,0,0,0,0,0,0,0,0,0,0,0,0,0,0,0,"","","","","","","","","","","","","","","","","","","","","","","","","","","","","","",null,967633311,54]
[null,"wk19, 2023","445e II",970559055,"HUS","H","HPC_C","SE","Huskvarna_CS","JP",null,null,967156755,null,"NO","NO",null,4,720,1584,null,null,72,12,null,null,null,null,null,null,null,null,null,null,null,null,null,null,null,null,null,null,"",0,0,0,0,0,0,0,0,0,0,0,0,0,0,0,0,0,0,0,0,0,0,0,0,0,0,0,0,0,0,"","","","","","","","","","","","","","","","","","","","","","","","","","","","","","",null,970484212,54]
[null,"wk19, 2023","450 II",970559301,"HUS","H","HPC_C","SE","Huskvarna_CS",null,null,null,967187801,null,"NO","NO",null,4,720,1584,null,null,72,12,null,null,null,null,null,null,null,null,null,null,null,null,null,null,null,null,null,null,"",0,0,0,0,0,0,0,0,0,0,0,0,0,0,0,0,0,0,0,0,0,0,0,0,0,0,0,0,0,0,"","","","","","","","","","","","","","","","","","","","","","","","","","","","","","",null,579822201,56]
[null,"wk19, 2023","450e II",970559538,"HUS","H","HPC_C","SE","Huskvarna_CS",null,null,null,967156938,null,"NO","YES",null,4,720,1584,null,null,72,12,null,null,null,null,null,null,null,null,null,null,null,null,null,null,null,null,null,null,"",0,0,0,0,0,0,0,0,0,0,0,0,0,0,0,0,0,0,0,0,0,0,0,0,0,0,0,0,0,0,"","","","","","","","","","","","","","","","","","","","","","","","","","","","","","",null,966733120,60]
[null,"wk19, 2023","435e II",970559835,"HUS","H","HPC_C","SE","Huskvarna_CS",null,null,null,967788835,null,"NO","NO",null,4,720,1584,null,null,72,12,null,null,null,null,null,null,null,null,null,null,null,null,null,null,null,null,null,null,"",0,0,0,0,0,0,0,0,0,0,0,0,0,0,0,0,0,0,0,0,0,0,0,0,0,0,0,0,0,0,"","","","","","","","","","","","","","","","","","","","","","","","","","","","","","",null,966733418,60]
[null,"wk19, 2023","440e II",970560136,"HUS","H","HPC_C","SE","Huskvarna_CS",null,null,null,null,null,"NO","NO",null,4,720,1584,null,null,72,12,null,null,null,null,null,null,null,null,null,null,null,null,null,null,null,null,null,null,"",0,0,0,0,0,0,0,0,0,0,0,0,0,0,0,0,0,0,0,0,0,0,0,0,0,0,0,0,0,0,"","","","","","","","","","","","","","","","","","","","","","","","","","","","","","",null,967942440,60]
[null,"wk19, 2023","560 XP® G Mark II",970656915,"HUS","H","HPC_P","SE","Huskvarna_CS",null,"2023-07-24",null,970501915,null,"NO","NO",null,4,720,1584,null,null,72,12,null,null,null,null,null,null,null,null,null,null,null,null,null,null,null,null,null,null,"",0,0,0,0,0,0,0,0,0,0,0,0,0,0,0,0,0,0,0,0,0,0,0,0,0,0,0,0,0,0,"","","","","","","","","","","","","","","","","","","","","","","","","","","","","","",null,970510116,60]
[null,"wk19, 2023","562 XP® Mark II",970663570,"HUS","H","HPC_P","SE","Huskvarna_CS","AU;NZ","2023-07-24",null,null,"YES","NO","NO",null,4,720,1584,null,null,72,12,null,null,null,null,null,null,null,null,null,null,null,null,null,null,null,null,null,null,"",0,0,0,0,0,0,0,0,0,0,0,0,0,0,0,0,0,0,0,0,0,0,0,0,0,0,0,0,0,0,"","","","","","","","","","","","","","","","","","","","","","","","","","","","","","",null,970518116,60]
[null,"wk19, 2023","562 XP® Mark II",970696701,"HUS","H","HPC_P","SE","Huskvarna_CS","US;CA","2023-07-24",null,970502101,null,"NO","NO",null,4,720,1584,null,null,72,12,null,null,null,null,null,null,null,null,null,null,null,null,null,null,null,null,null,null,"",0,0,0,0,0,0,0,0,0,0,0,0,0,0,0,0,0,0,0,0,0,0,0,0,0,0,0,0,0,0,"","","","","","","","","","","","","","","","","","","","","","","","","","","","","","",null,970621304,60]
[null,"wk19, 2023","560 XP® Mark II",970699266,"HUS","H","HPC_P","SE","Huskvarna_CS",null,"2023-07-24",null,970501566,null,"NO","NO",null,4,720,1584,null,null,72,12,null,null,null,null,null,null,null,null,null,null,null,null,null,null,null,null,null,null,"",0,0,0,0,0,0,0,0,0,0,0,0,0,0,0,0,0,0,0,0,0,0,0,0,0,0,0,0,0,0,"","","","","","","","","","","","","","","","","","","","","","","","","","","","","","",null,965681618,60]
[null,"wk19, 2023","T525",967633311,"HUS","H","HPC_P","JP","Kawagoe","ES;GR;CY;PT;TR;TW;IL;HK;KR;GB;ZA;HR;FR;TN;IT;IE",null,null,null,null,"NO","NO","10\" 1/4\" carving",4,672,1440,1440,null,54,12,null,null,null,null,null,null,null,null,null,null,null,null,null,null,null,null,null,null,"",0,0,0,0,0,0,0,0,0,0,0,0,0,0,0,0,0,0,0,0,0,0,0,0,0,0,0,0,0,0,0,0,0,0,0,0,0,0,0,0,0,0,0,0,0,"","","","","","","","","","","","","","","",null,967062415,60]
[null,"wk19, 2023","T525",970484110,"HUS","H","HPC_P","JP","Kawagoe","Italy, Spain, Korea, Taiwan, UK",null,null,null,null,"NO","NO","10\" SP, 0.325 mini, SP21G",4,672,1440,1440,null,54,12,null,null,null,null,null,null,null,null,null,null,null,null,null,null,null,null,null,null,"",0,0,0,0,0,0,0,0,0,0,0,0,0,0,0,0,0,0,0,0,0,0,0,0,0,0,0,0,0,0,0,0,0,0,0,0,0,0,0,0,0,0,0,0,0,"","","","","","","","","","","","","","","",null,536144301,60]
[null,"wk19, 2023","540 XP® Mark III",970510116,"HUS","H","HPC_P","JP","Kawagoe","US;CA;PM;MX",null,null,null,null,"NO","NO","16\" SP21G SN .325mini",4,420,900,900,null,60,12,null,null,null,null,null,null,null,null,null,null,null,null,null,null,null,null,null,null,"",0,0,0,0,0,0,0,0,0,0,0,0,0,0,0,0,0,0,0,0,0,0,0,0,0,0,0,0,0,0,0,0,0,0,0,0,0,0,0,0,0,0,0,0,0,"","","","","","","","","","","","","","","",null,965968038,72]
[null,"wk19, 2023","540 XP Mark III",970518114,"HUS","H","HPC_P","JP","Kawagoe",null,null,null,null,null,"YES","YES","14\" SP21G SN",4,420,900,900,null,60,12,null,null,null,null,null,null,null,null,null,null,null,null,null,null,null,null,null,null,"",0,0,0,0,0,0,0,0,0,0,0,0,0,0,0,0,0,0,0,0,0,0,0,0,0,0,0,0,0,0,0,0,0,0,0,0,0,0,0,0,0,0,0,0,0,"","","","","","","","","","","","","","","",null,966428388,72]
[null,"wk19, 2023","T525",970606332,"HUS","H","HPC_P","JP","Kawagoe","NZ;AU",null,null,null,null,"NO","NO","12\" - X-Precision - 1/4\" - SP11G",4,672,1440,1440,null,54,12,null,null,null,null,null,null,null,null,null,null,null,null,null,null,null,null,null,null,"",0,0,0,0,0,0,0,0,0,0,0,0,0,0,0,0,0,0,0,0,0,0,0,0,0,0,0,0,0,0,0,0,0,0,0,0,0,0,0,0,0,0,0,0,0,"","","","","","","","","","","","","","","",null,967082488,72]
[null,"wk19, 2023","541RS",967660803,"HUS","H","HPT_P","CN","Changzhou",null,null,null,null,null,"NO","NO",null,4,425,869,1008,null,0,null,null,null,null,null,null,null,null,null,null,null,null,null,null,null,null,null,null,null,"",0,0,0,0,0,0,0,0,0,0,0,0,0,0,0,0,0,0,0,0,0,0,0,0,0,0,0,0,0,0,0,0,0,0,0,0,0,0,0,0,0,0,0,0,0,"","","","","","","","","","","","","","","",null,967690633,72]
[null,"wk19, 2023","541RST",967660901,"HUS","H","HPT_P","CN","Changzhou",null,null,null,null,null,"NO","NO",null,4,283,579,648,null,0,null,null,null,null,null,null,null,null,null,null,null,null,null,null,null,null,null,null,null,"",0,0,0,0,0,0,0,0,0,0,0,0,0,0,0,0,0,0,0,0,0,0,0,0,0,0,0,0,0,0,0,0,0,0,0,0,0,0,0,0,0,0,0,0,0,"","","","","","","","","","","","","","","",null,967690635,72]
[null,"wk19, 2023","G2500P",967665005,"HUS","L","LOP_P","CN","Weima",null,null,null,null,null,"NO","YES","MOQ 10 pcs, Max. 5 pnc per order",8,160,340,425,null,0,null,null,null,null,null,null,null,null,null,null,null,null,null,null,null,null,null,null,null,"",0,0,0,0,0,0,0,0,0,0,0,0,0,0,0,0,0,0,0,0,0,0,0,0,0,0,0,0,0,0,0,0,0,0,0,0,0,0,0,0,0,0,0,0,0,"","","","","","","","","","","","","","","",null,967690820,72]
[null,"wk19, 2023","P4A 18-B72",970600902,"HUS","H","EEB_C","HU","Kitted in Torsvik (Bosch)"," (BATTERY P4A 18-B72 4.0Ah,JP)","2024-03-18","2024-01-01",null,null,"YES","NO",null,2,null,null,null,15840,576,null,null,null,null,null,null,null,null,null,null,null,null,null,null,null,null,null,null,null,"","","","","","","","","","","","","","","","","","","","","","","","","","","","","","","","","","","","","","","","","","","","","","",0,0,0,0,0,0,0,0,0,0,0,0,0,0,0,null,967690901,72]
[null,"wk19, 2023","Z560X",967669701,"HUS","L","RPZ_P","US","Orangeburg","CA;US",null,null,null,null,"NO","NO",null,4,null,null,null,null,1,null,null,null,null,null,null,null,null,null,null,null,null,null,null,null,null,null,null,null,"","","","","","","","","","","","","","","","","","","","","","","","","","","","","","","","","","","","","","","","","","","","","","","","","","","","","","","","","","","","","",null,967690953,72]
[null,"wk19, 2023","215IL KIT INC B71",970536006,"HUS","H","HBT_C","CN","Kitted in Torsvik (Changzhou)",null,null,null,null,null,"YES","NO",null,2,560,1260,null,null,35,8,null,null,null,null,null,null,null,null,null,null,null,null,null,null,null,null,null,null,"",0,0,0,0,0,0,0,0,0,0,0,0,0,0,0,0,0,0,0,0,0,0,0,0,0,0,0,0,0,0,"","","","","","","","","","","","","","","","","","","","","","","","","","","","","","",null,970501315,72]
[null,"wk19, 2023","970536505 (HEDGE TRIMMER 215iHD55 Kit with Sweeper, incl. B70 and C80 -UK)",970536505,"HUS","H","HBH_C","CN","Kitted in Torsvik (Changzhou)","GB;IE",null,null,null,null,"YES","NO",null,2,576,1280,1280,null,32,null,null,null,null,null,null,null,null,null,null,null,null,null,null,null,null,null,null,null,"",0,0,0,0,0,0,0,0,0,0,0,0,0,0,0,0,0,0,0,0,0,0,0,0,0,0,0,0,0,0,0,0,0,0,0,0,0,0,0,0,0,0,0,0,0,"","","","","","","","","","","","","","","",null,970528433,72]
[null,"wk19, 2023","Z554X",967678602,"HUS","L","RPZ_P","US","Orangeburg","US;US-49",null,null,null,null,"NO","NO",null,4,null,null,null,null,1,null,null,null,null,null,null,null,null,null,null,null,null,null,null,null,null,null,null,null,"","","","","","","","","","","","","","","","","","","","","","","","","","","","","","","","","","","","","","","","","","","","","","","","","","","","","","","","","","","","","",null,970558933,72]
[null,"wk19, 2023","G8500P",967863501,"HUS","L","LOP_P","CN","Weima",null,null,null,null,null,"NO","YES","Max.5pnc per order, ",8,124,256,256,null,40,null,null,null,null,null,null,null,null,null,null,null,null,null,null,null,null,null,null,null,1,0,0,0,0,0,0,0,0,0,0,0,0,0,0,0,0,0,0,0,0,0,0,0,0,0,0,0,0,0,0,0,0,0,0,0,0,0,0,0,0,0,0,0,0,0,"","","","","","","","","","","","","","","",null,970559138,72]
[null,"wk19, 2023","G8500P",967863502,"HUS","L","LOP_P","CN","Weima",null,null,null,null,null,"NO","YES","Max.5pnc per order, ",8,124,256,256,null,40,null,null,null,null,null,null,null,null,null,null,null,null,null,null,null,null,null,null,null,"",0,0,0,0,0,0,0,0,0,0,0,0,0,0,0,0,0,0,0,0,0,0,0,0,0,0,0,0,0,0,0,0,0,0,0,0,0,0,0,0,0,0,0,0,0,"","","","","","","","","","","","","","","",null,970559140,72]
[null,"wk19, 2023","Aspire P5-P4A",970621306,"HUS","H","HBP_C","CN","Kitted in Torsvik (CIXI CITY BEST POWER TOOLS CO.,LTD.)","GB;IE",null,null,null,null,"YES","NO",null,2,540,null,2400,null,60,null,null,null,null,null,null,null,null,null,null,null,null,null,null,null,null,null,null,null,"",0,0,0,0,0,0,0,0,0,0,0,0,0,0,0,"","","","","","","","","","","","","","","",0,0,0,0,0,0,0,0,0,0,0,0,0,0,0,"","","","","","","","","","","","","","","",null,970559438,72]
[null,"wk19, 2023","ECA850",967925501,"HUS","H","HPT_P","US","Nashville","multi language  ",null,null,null,null,"NO","NO","ATTACHMENT Curvd shaft for LK models",4,null,null,null,null,12,null,null,null,null,null,null,null,null,null,null,null,null,null,null,null,null,null,null,null,1,"","","","","","","","","","","","","","","","","","","","","","","","","","","","","","","","","","","","","","","","","","","","","","","","","","","","","","","","","","","","",null,970559833,72]
[null,"wk19, 2023","ESA850",967925604,"HUS","H","HPT_P","US","Nashville","ZW;ZM;YE;EH;WF;VI;VG;VN;VE;UZ;UY;GB;AE;UA;UG;TV;TC;TM;TR;TN;TT;TO;TK;TG;TH;TZ;TJ;TW;SY;CH;SE;SZ;SJ;SR;SD;LK;ES;GS;ZA;SO;SB;SI;SK;SG;SL;SC;RS;SN;SA;ST;SM;WS;VC;PM;LC;KN;SH;RU;RO;RE;QA;PR;PT;PL;PN;PH;PE;PY;PG;PA;PW;PK;OM;PS;NO;MP;NF;NU;NG;NE;NI;NZ;NC;AN;NL;NP;NR;NA;MM;MZ;MA;MS;ME;MN;MC;MD;FM;MX;YT;MU;MR;MQ;MH;MT;ML;MV;MY;MW;MG;MK;MO;LU;LT;LI;LY;LR;LS;LB;LV;LA;KG;KW;KR;KP;KI;KE;KZ;JO;JE;JP;JM;IT;IL;IM;IE;IQ;IR;ID;IN;IS;HU;HK;HN;VA;HM;HT;GY;GW;GN;GG;GT;GU;GP;GD;GL;GR;GI;GH;DE;GE;GM;GA;TF;PF;GF;FR;FI;FJ;FO;FK;ET;EE;ER;GQ;SV;EG;EC;TL;DO;DM;DJ;DK;CZ;CY;CU;HR;CI;CR;CK;CD;CG;KM;CO;CC;CX;CN;CL;TD;CF;KY;CV;CM;KH;BI;BF;BG;BN;IO;BR;BV;BW;BA;BO;BT;BM;BJ;BZ;BE;BY;BB;BD;BH;BS;AZ;AT;AU;AW;AM;AR;AG;AQ;AI;AO;AD;AS;DZ;AL;AX;AF;VU;SS;SX;MF;BL;RW;CW;BQ",null,null,null,null,"YES","NO","Straight shaft for LK models",4,null,null,null,null,0,null,null,null,null,null,null,null,null,null,null,null,null,null,null,null,null,null,null,null,"",{"$f":"IF($S958>0,Y958/$S958,\"\")","v":""},{"$f":"IF($S958>0,Z958/$S958,\"\")","v":""},{"$f":"IF($S958>0,AA958/$S958,\"\")","v":""},{"$f":"IF($S958>0,AB958/$S958,\"\")","v":""},{"$f":"IF($S958>0,AC958/$S958,\"\")","v":""},{"$f":"IF($S958>0,AD958/$S958,\"\")","v":""},{"$f":"IF($S958>0,AE958/$S958,\"\")","v":""},{"$f":"IF($S958>0,AF958/$S958,\"\")","v":""},{"$f":"IF($S958>0,AG958/$S958,\"\")","v":""},{"$f":"IF($S958>0,AH958/$S958,\"\")","v":""},{"$f":"IF($S958>0,AI958/$S958,\"\")","v":""},{"$f":"IF($S958>0,AJ958/$S958,\"\")","v":""},{"$f":"IF($S958>0,AK958/$S958,\"\")","v":""},{"$f":"IF($S958>0,AL958/$S958,\"\")","v":""},{"$f":"IF($S958>0,AM958/$S958,\"\")","v":""},{"$f":"IF($T958>0,Y958/$T958,\"\")","v":""},{"$f":"IF($T958>0,Z958/$T958,\"\")","v":""},{"$f":"IF($T958>0,AA958/$T958,\"\")","v":""},{"$f":"IF($T958>0,AB958/$T958,\"\")","v":""},{"$f":"IF($T958>0,AC958/$T958,\"\")","v":""},{"$f":"IF($T958>0,AD958/$T958,\"\")","v":""},{"$f":"IF($T958>0,AE958/$T958,\"\")","v":""},{"$f":"IF($T958>0,AF958/$T958,\"\")","v":""},{"$f":"IF($T958>0,AG958/$T958,\"\")","v":""},{"$f":"IF($T958>0,AH958/$T958,\"\")","v":""},{"$f":"IF($T958>0,AI958/$T958,\"\")","v":""},{"$f":"IF($T958>0,AJ958/$T958,\"\")","v":""},{"$f":"IF($T958>0,AK958/$T958,\"\")","v":""},{"$f":"IF($T958>0,AL958/$T958,\"\")","v":""},{"$f":"IF($T958>0,AM958/$T958,\"\")","v":""},{"$f":"IF($U958>0,Y958/$U958,\"\")","v":""},{"$f":"IF($U958>0,Z958/$U958,\"\")","v":""},{"$f":"IF($U958>0,AA958/$U958,\"\")","v":""},{"$f":"IF($U958>0,AB958/$U958,\"\")","v":""},{"$f":"IF($U958>0,AC958/$U958,\"\")","v":""},{"$f":"IF($U958>0,AD958/$U958,\"\")","v":""},{"$f":"IF($U958>0,AE958/$U958,\"\")","v":""},{"$f":"IF($U958>0,AF958/$U958,\"\")","v":""},{"$f":"IF($U958>0,AG958/$U958,\"\")","v":""},{"$f":"IF($U958>0,AH958/$U958,\"\")","v":""},{"$f":"IF($U958>0,AI958/$U958,\"\")","v":""},{"$f":"IF($U958>0,AJ958/$U958,\"\")","v":""},{"$f":"IF($U958>0,AK958/$U958,\"\")","v":""},{"$f":"IF($U958>0,AL958/$U958,\"\")","v":""},{"$f":"IF($U958>0,AM958/$U958,\"\")","v":""},{"$f":"IF($V958>0,Y958/$V958,\"\")","v":""},{"$f":"IF($V958>0,Z958/$V958,\"\")","v":""},{"$f":"IF($V958>0,AA958/$V958,\"\")","v":""},{"$f":"IF($V958>0,AB958/$V958,\"\")","v":""},{"$f":"IF($V958>0,AC958/$V958,\"\")","v":""},{"$f":"IF($V958>0,AD958/$V958,\"\")","v":""},{"$f":"IF($V958>0,AE958/$V958,\"\")","v":""},{"$f":"IF($V958>0,AF958/$V958,\"\")","v":""},{"$f":"IF($V958>0,AG958/$V958,\"\")","v":""},{"$f":"IF($V958>0,AH958/$V958,\"\")","v":""},{"$f":"IF($V958>0,AI958/$V958,\"\")","v":""},{"$f":"IF($V958>0,AJ958/$V958,\"\")","v":""},{"$f":"IF($V958>0,AK958/$V958,\"\")","v":""},{"$f":"IF($V958>0,AL958/$V958,\"\")","v":""},{"$f":"IF($V958>0,AM958/$V958,\"\")","v":""},null,970560001,72]
[null,"wk19, 2023","RAIL FIXTURE 40-C80",970621901,"HUS","H","EEC_P","SE","Kitted in Torsvik (Friwo + Sunseeker)",null,null,null,null,null,"YES","NO","Pick kit, 1pcs rail and 8pcs 40-C80 (EU)",2,null,null,null,null,216,72,null,null,null,null,null,null,null,null,null,null,null,null,null,null,null,null,null,null,1,"","","","","","","","","","","","","","","","","","","","","","","","","","","","","","","","","","","","","","","","","","","","","","","","","","","","","","","","","","","","",null,970560236,72]
[null,"wk19, 2023","120iBV Kit with B140 & C80",970649804,"HUS","H","HBB_C","CN","Kitted in Torsvik (YAT ELECTRICAL)",null,"2023-05-22","2023-03-22",null,null,"YES","NO",null,2,312,720,720,null,12,8,null,null,null,null,null,null,null,null,null,null,null,null,null,null,null,null,null,null,"",0,0,0,0,0,0,0,0,0,0,0,0,0,0,0,0,0,0,0,0,0,0,0,0,0,0,0,0,0,0,0,0,0,0,0,0,0,0,0,0,0,0,0,0,0,"","","","","","","","","","","","","","","",null,970657015,72]
[null,"wk19, 2023","Aspire H50-P4A",970620304,"HUS","H","HBH_C","CN","Kitted in Torsvik (ZHEJIANG SUNSEEKER INDUSTRIAL CO. L)","Kit with charger and 2,5Ah Battery",null,null,null,null,"YES","NO",null,2,360,800,800,null,20,null,null,null,null,null,null,null,null,null,null,null,null,null,null,null,null,null,null,null,"",0,0,0,0,0,0,0,0,0,0,0,0,0,0,0,0,0,0,0,0,0,0,0,0,0,0,0,0,0,0,0,0,0,0,0,0,0,0,0,0,0,0,0,0,0,"","","","","","","","","","","","","","","",null,970663618,72]
[null,"wk19, 2023","HH 270MP",970505601,"HUS","L","LOP_P","CN","Loncin (engine)",null,null,null,null,null,"NO","YES","MOQ=480pcs for DS",4,240,null,630,240,"24(20FT & FTL)/30(40HQ)",12,null,null,null,null,null,null,null,null,null,null,null,null,null,null,null,null,null,null,"",0,0,0,0,0,0,0,0,0,0,0,0,0,0,0,"","","","","","","","","","","","","","","",0,0,0,0,0,0,0,0,0,0,0,0,0,0,0,0,0,0,0,0,0,0,0,0,0,0,0,0,0,0,null,970701520,72]
[null,"wk19, 2023","HH 389OB",970505901,"HUS","L","LOP_P","CN","Loncin (engine)",null,null,null,null,null,"NO","YES","MOQ=510pcs for DS",4,192,null,510,192,"24(20FT & FTL)/30(40HQ)",12,null,null,null,null,null,null,null,null,null,null,null,null,null,null,null,null,null,null,"",0,0,0,0,0,0,0,0,0,0,0,0,0,0,0,"","","","","","","","","","","","","","","",0,0,0,0,0,0,0,0,0,0,0,0,0,0,0,0,0,0,0,0,0,0,0,0,0,0,0,0,0,0,null,970650418,72]
[null,"wk19, 2023","333RB Mark II",967968001,"HUS","H","HPT_C","CN","Sunseeker","Backpack Brushcutter, China",null,null,null,null,"NO","NO",null,8,410,850,990,null,0,null,null,null,null,null,null,null,null,null,null,null,null,null,null,null,null,null,null,null,"",0,0,0,0,0,0,0,0,0,0,0,0,0,0,0,0,0,0,0,0,0,0,0,0,0,0,0,0,0,0,0,0,0,0,0,0,0,0,0,0,0,0,0,0,0,"","","","","","","","","","","","","","","",null,970718315,72]
[null,"wk19, 2023","420EL",967205701,"HUS","H","HEC_C","CN","Makita",null,null,null,null,null,"NO","NO",null,19,504,1092,null,null,42,null,null,null,null,null,null,null,null,null,null,null,null,null,null,null,null,null,null,null,1,0,0,0,0,0,0,0,0,0,0,0,0,0,0,0,0,0,0,0,0,0,0,0,0,0,0,0,0,0,0,"","","","","","","","","","","","","","","","","","","","","","","","","","","","","","",null,970718688,72]
[null,"wk19, 2023","R112C5",967178502,"HUS","L","RPF_C","PL","Mielec","Rider",null,null,null,null,"YES","NO",null,3,12,24,36,39,1,null,null,null,null,null,null,null,null,null,null,null,null,null,null,null,null,null,null,null,"",0,0,0,0,0,0,0,0,0,0,0,0,0,0,0,0,0,0,0,0,0,0,0,0,0,0,0,0,0,0,0,0,0,0,0,0,0,0,0,0,0,0,0,0,0,0,0,0,0,0,0,0,0,0,0,0,0,0,0,0,null,970719018,72]
[null,"wk19, 2023","COMBI 132",967978301,"HUS","L","ROA_P","PL","Mielec","Cutting deck",null,null,null,null,"YES","NO",null,3,15,30,30,36,3,null,null,null,null,null,null,null,null,null,null,null,null,null,null,null,null,null,null,null,"",0,0,0,0,0,0,0,0,0,0,0,0,0,0,0,0,0,0,0,0,0,0,0,0,0,0,0,0,0,0,0,0,0,0,0,0,0,0,0,0,0,0,0,0,0,0,0,0,0,0,0,0,0,0,0,0,0,0,0,0,null,590776703,75]
[null,"wk19, 2023","LC 247",970541101,"HUS","L","LPL_C","PL","Mielec","WBH",null,null,null,null,"NO","NO",null,3,100,200,200,240,10,null,null,null,null,null,null,null,null,null,null,null,null,null,null,null,null,null,null,null,"",0,0,0,0,0,0,0,0,0,0,0,0,0,0,0,0,0,0,0,0,0,0,0,0,0,0,0,0,0,0,0,0,0,0,0,0,0,0,0,0,0,0,0,0,0,0,0,0,0,0,0,0,0,0,0,0,0,0,0,0,null,970568012,96]
[null,"wk19, 2023","LC353V",970541601,"HUS","L","LPL_C","PL","Mielec","WBH",null,null,null,null,"NO","NO",null,3,80,180,180,220,10,null,null,null,null,null,null,null,null,null,null,null,null,null,null,null,null,null,null,null,"",0,0,0,0,0,0,0,0,0,0,0,0,0,0,0,0,0,0,0,0,0,0,0,0,0,0,0,0,0,0,0,0,0,0,0,0,0,0,0,0,0,0,0,0,0,0,0,0,0,0,0,0,0,0,0,0,0,0,0,0,null,970568116,96]
[null,"wk19, 2023","R418TsXAWD",970544901,"HUS","L","RPF_P","PL","Mielec","Rider ",null,null,null,null,"YES","NO",null,3,null,null,null,null,1,null,null,null,null,null,null,null,null,null,null,null,null,null,null,null,null,null,null,null,"","","","","","","","","","","","","","","","","","","","","","","","","","","","","","","","","","","","","","","","","","","","","","","","","","","","","","","","","","","","","",null,970572614,96]
[null,"wk19, 2023","R214TC Comfort edition",970569101,"HUS","L","RPF_C","PL","Mielec","Rider",null,null,null,null,"YES","NO",null,3,10,20,20,24,1,null,null,null,null,null,null,null,null,null,null,null,null,null,null,null,null,null,null,null,"",0,0,0,0,0,0,0,0,0,0,0,0,0,0,0,0,0,0,0,0,0,0,0,0,0,0,0,0,0,0,0,0,0,0,0,0,0,0,0,0,0,0,0,0,0,0,0,0,0,0,0,0,0,0,0,0,0,0,0,0,null,970572616,96]
[null,"wk19, 2023","R200iX",970649901,"HUS","L","RBR_C","PL","Mielec","Battery Rider",null,null,null,null,"YES","NO",null,3,null,null,null,24,1,null,null,null,null,null,null,null,null,null,null,null,null,null,null,null,null,null,null,null,"","","","","","","","","","","","","","","","","","","","","","","","","","","","","","","","","","","","","","","","","","","","","","",0,0,0,0,0,0,0,0,0,0,0,0,0,0,0,null,970633201,96]
[null,"wk19, 2023","Klippo LB 453S",970482001,"HUS","L","LPL_P","PL","Mielec","WBH",null,null,null,null,"YES","NO",null,3,96,208,208,240,8,null,null,null,null,null,null,null,null,null,null,null,null,null,null,null,null,null,null,null,"",0,0,0,0,0,0,0,0,0,0,0,0,0,0,0,0,0,0,0,0,0,0,0,0,0,0,0,0,0,0,0,0,0,0,0,0,0,0,0,0,0,0,0,0,0,0,0,0,0,0,0,0,0,0,0,0,0,0,0,0,null,970646916,96]
[null,"wk19, 2023","Klippo LB 553Se",970609101,"HUS","L","LPL_P","PL","Mielec","WBH",null,null,null,null,"YES","NO",null,3,64,144,144,192,8,null,null,null,null,null,null,null,null,null,null,null,null,null,null,null,null,null,null,null,"",0,0,0,0,0,0,0,0,0,0,0,0,0,0,0,0,0,0,0,0,0,0,0,0,0,0,0,0,0,0,0,0,0,0,0,0,0,0,0,0,0,0,0,0,0,0,0,0,0,0,0,0,0,0,0,0,0,0,0,0,null,970647115,96]
[null,"wk19, 2023","W520i",970626101,"HUS","L","LBL_P","PL","Mielec","WBH",null,null,null,null,"NO","NO","MOQ 180 units ",3,null,null,180,null,180,null,null,null,null,null,null,null,null,null,null,null,null,null,null,null,null,null,null,null,"","","","","","","","","","","","","","","","","","","","","","","","","","","","","","","",0,0,0,0,0,0,0,0,0,0,0,0,0,0,0,"","","","","","","","","","","","","","","",null,970666319,96]
[null,"wk19, 2023","325iLK",967850103,"HUS","H","HBT_C","PL","Mielec, HH","Battery HH",null,null,null,null,"YES","NO","Incl Trimmer attachment",3,840,1680,1680,2016,42,null,null,null,null,null,null,null,null,null,null,null,null,null,null,null,null,null,null,null,"",0,0,0,0,0,0,0,0,0,0,0,0,0,0,0,0,0,0,0,0,0,0,0,0,0,0,0,0,0,0,0,0,0,0,0,0,0,0,0,0,0,0,0,0,0,0,0,0,0,0,0,0,0,0,0,0,0,0,0,0,null,970666518,96]
[null,"wk19, 2023","TA850",537353503,"HUS","H","HPT_P","PL","Mielec, HH","TA850/24 for 122LD, 125LDX, 128LDX, 323LD, 324LDX, 325LDX, 326LDX, 327LDX, 525LK",null,null,537353501,null,"YES","YES",null,3,null,null,null,null,28,null,null,null,null,null,null,null,null,null,null,null,null,null,null,null,null,null,null,null,"","","","","","","","","","","","","","","","","","","","","","","","","","","","","","","","","","","","","","","","","","","","","","","","","","","","","","","","","","","","","",null,970666613,96]
[null,"wk19, 2023","LRT-EX860",596316604,"HUS","H","HPT_P","PL","Mielec, HH","AU;CA;US",null,null,596316602,null,"NO","NO",null,3,null,null,null,null,36,null,null,null,null,null,null,null,null,null,null,null,null,null,null,null,null,null,null,null,"","","","","","","","","","","","","","","","","","","","","","","","","","","","","","","","","","","","","","","","","","","","","","","","","","","","","","","","","","","","","",null,967091503,144]
[null,"wk19, 2023","545FX",966015606,"HUS","H","HPT_P","PL","Mielec, HH","China",null,null,966015605,null,"NO","NO",null,3,144,324,324,360,18,null,null,null,null,null,null,null,null,null,null,null,null,null,null,null,null,null,null,null,"",0,0,0,0,0,0,0,0,0,0,0,0,0,0,0,0,0,0,0,0,0,0,0,0,0,0,0,0,0,0,0,0,0,0,0,0,0,0,0,0,0,0,0,0,0,0,0,0,0,0,0,0,0,0,0,0,0,0,0,0,null,967091504,144]
[null,"wk19, 2023","555FX",966629107,"HUS","H","HPT_P","PL","Mielec, HH","Scarlett 225-24 (1\"), CAN, AUS, NZ",null,null,966629103,null,"NO","NO",null,3,144,324,324,360,18,null,null,null,null,null,null,null,null,null,null,null,null,null,null,null,null,null,null,null,"",0,0,0,0,0,0,0,0,0,0,0,0,0,0,0,0,0,0,0,0,0,0,0,0,0,0,0,0,0,0,0,0,0,0,0,0,0,0,0,0,0,0,0,0,0,0,0,0,0,0,0,0,0,0,0,0,0,0,0,0,null,970522205,144]
[null,"wk19, 2023","545RXT",967176704,"HUS","H","HPT_P","PL","Mielec, HH","AutoTune, Balance XT, All ex US 50, CN, Grass knife 300-3T-1\", Trimmy T45X",null,null,967176701,null,"YES","NO",null,3,144,324,324,360,18,null,null,null,null,null,null,null,null,null,null,null,null,null,null,null,null,null,null,null,"",0,0,0,0,0,0,0,0,0,0,0,0,0,0,0,0,0,0,0,0,0,0,0,0,0,0,0,0,0,0,0,0,0,0,0,0,0,0,0,0,0,0,0,0,0,0,0,0,0,0,0,0,0,0,0,0,0,0,0,0,null,967628504,180]
[null,"wk19, 2023","525P5S",967329501,"HUS","H","HPP_P","PL","Mielec, HH","All ex US50/Can",null,null,null,null,"YES","YES",null,3,48,96,192,240,24,null,null,null,null,null,null,null,null,null,null,null,null,null,null,null,null,null,null,null,"",0,0,0,0,0,0,0,0,0,0,0,0,0,0,0,0,0,0,0,0,0,0,0,0,0,0,0,0,0,0,0,0,0,0,0,0,0,0,0,0,0,0,0,0,0,0,0,0,0,0,0,0,0,0,0,0,0,0,0,0,null,970448901,192]
[null,"wk19, 2023","535LK",967688103,"HUS","H","HPT_P","PL","Mielec, HH","T35, All ex US/CA",null,null,967688101,null,"YES","NO",null,3,144,324,324,360,18,null,null,null,null,null,null,null,null,null,null,null,null,null,null,null,null,null,null,null,"",0,0,0,0,0,0,0,0,0,0,0,0,0,0,0,0,0,0,0,0,0,0,0,0,0,0,0,0,0,0,0,0,0,0,0,0,0,0,0,0,0,0,0,0,0,0,0,0,0,0,0,0,0,0,0,0,0,0,0,0,null,970621901,216]
[null,"wk19, 2023","535iRXT",967850607,"HUS","H","HBT_P","PL","Mielec, HH",null,null,null,null,null,"YES","NO","BATTERY BRUSHCUTTER - CL&G",4,144,288,288,336,12,null,null,null,null,null,null,null,null,null,null,null,null,null,null,null,null,null,null,null,"",0,0,0,0,0,0,0,0,0,0,0,0,0,0,0,0,0,0,0,0,0,0,0,0,0,0,0,0,0,0,0,0,0,0,0,0,0,0,0,0,0,0,0,0,0,0,0,0,0,0,0,0,0,0,0,0,0,0,0,0,null,970601002,300]
[null,"wk19, 2023","535LS",967908202,"HUS","H","HPT_P","PL","Mielec, HH","US;CA",null,null,967908201,null,"NO","NO",null,3,144,324,324,360,18,null,null,null,null,null,null,null,null,null,null,null,null,null,null,null,null,null,null,null,"",0,0,0,0,0,0,0,0,0,0,0,0,0,0,0,0,0,0,0,0,0,0,0,0,0,0,0,0,0,0,0,0,0,0,0,0,0,0,0,0,0,0,0,0,0,0,0,0,0,0,0,0,0,0,0,0,0,0,0,0,null,967970106,384]
[null,"wk19, 2023","530iBX",967941407,"HUS","H","HBB_P","PL","Mielec, HH","US;CA",null,null,null,null,"NO","NO","No batt.,no charg., incl.hip pad, US/CA",4,216,504,504,552,24,null,null,null,null,null,null,null,null,null,null,null,null,null,null,null,null,null,null,null,"",0,0,0,0,0,0,0,0,0,0,0,0,0,0,0,0,0,0,0,0,0,0,0,0,0,0,0,0,0,0,0,0,0,0,0,0,0,0,0,0,0,0,0,0,0,0,0,0,0,0,0,0,0,0,0,0,0,0,0,0,null,966780202,"24"]
[null,"wk19, 2023","TR 262",970448501,"HUS","L","LPT_P","CN","Weima",null,null,null,null,null,"NO","YES","Max.5pnc per order, ",5,39,81,108,null,0,null,null,null,null,null,null,null,null,null,null,null,null,null,null,null,null,null,null,null,1,0,0,0,0,0,0,0,0,0,0,0,0,0,0,0,0,0,0,0,0,0,0,0,0,0,0,0,0,0,0,0,0,0,0,0,0,0,0,0,0,0,0,0,0,0,"","","","","","","","","","","","","","","",null,967660602,0]
[null,"wk19, 2023","PSTZ260S",970450001,"RedMax","H","HPP_P","US","Nashville","AU;CA;US;US-50",null,null,null,null,"NO","NO","Telescopic polesaw, 3/8\"",4,null,null,null,null,0,null,null,null,null,null,null,null,null,null,null,null,null,null,null,null,null,null,null,null,1,"","","","","","","","","","","","","","","","","","","","","","","","","","","","","","","","","","","","","","","","","","","","","","","","","","","","","","","","","","","","",null,967660801,0]
[null,"wk19, 2023","525iRXT",970551401,"HUS","H","HBT_P","PL","Mielec, HH",null,null,null,null,null,"YES","NO","BATTERY BRUSHCUTTER 525iRXT",4,210,420,450,null,15,null,null,null,null,null,null,null,null,null,null,null,null,null,null,null,null,null,null,null,"",0,0,0,0,0,0,0,0,0,0,0,0,0,0,0,0,0,0,0,0,0,0,0,0,0,0,0,0,0,0,0,0,0,0,0,0,0,0,0,0,0,0,0,0,0,"","","","","","","","","","","","","","","",null,967933001,0]
[null,"wk19, 2023","Z248F",970458901,"HUS","L","RPZ_C","US","Orangeburg",null,null,null,null,null,"NO","NO",null,4,6,null,21,null,1,null,null,null,null,null,null,null,null,null,null,null,null,null,null,null,null,null,null,null,"",0,0,0,0,0,0,0,0,0,0,0,0,0,0,0,"","","","","","","","","","","","","","","",0,0,0,0,0,0,0,0,0,0,0,0,0,0,0,"","","","","","","","","","","","","","","",null,970505201,0]
[null,"wk21, 2023","535i XP",970716514,"HUS","H","HBC_P","PL","Mielec, HH","MM;LA;TL;KH;AR;CL;CO;EC;UY;DE;CH;AT;FR;SI;IT;PT;ES;GR;TR;HR;SE;NO;DK;FI;EE;LV;LT;PL;CZ;SK;HU;BG;UA;GB;IE;NL;BE;ZA;AU;NZ;JP;CN;HK;PH;MY;SG;HK;TH;ID;VN;PH;TW;KR;PF;PG;FJ;NC;BR;PE;VU;IL;IS;DO;AM;KZ;KG;CR;BL;MK;RS;SA;AE;QA;BH;OM;KW;LB;TN;NI","2023-09-25",null,967893814,null,"YES","NO",null,3,null,null,null,null,96,12,null,null,null,null,null,null,null,null,null,null,null,null,null,null,null,null,null,null,"","","","","","","","","","","","","","","","","","","","","","","","","","","","","","","","","","","","","","","","","","","","","","","","","","","","","","","","","","","","","",null,970488302,"20"]
[null,"wk19, 2023"," LC 140SP ",970488201,"HUS","L","LPL_C","CN","Daye",null,null,null,null,null,"YES","NO",null,8,128,272,340,null,{"$f":"_xlfn.XLOOKUP(D1227,DA:DA,DB:DB)","v":0},null,null,null,null,null,null,null,null,null,null,null,null,null,null,null,null,null,null,null,1,0,0,0,0,0,0,0,0,0,0,0,0,0,0,0,0,0,0,0,0,0,0,0,0,0,0,0,0,0,0,0,0,0,0,0,0,0,0,0,0,0,0,0,0,0,"","","","","","","","","","","","","","","",null,970717803,0]
[null,"wk19, 2023","CZT60X",970497502,"HUS","L","RPZ_P","US","Orangeburg","US-49;US;CA",null,null,null,null,"NO","NO",null,4,null,null,null,null,1,null,null,null,null,null,null,null,null,null,null,null,null,null,null,null,null,null,null,null,"","","","","","","","","","","","","","","","","","","","","","","","","","","","","","","","","","","","","","","","","","","","","","","","","","","","","","","","","","","","","",null,970717905,0]
[null,"wk19, 2023","LC 137i (KIT) UK",970500906,"HUS","L","LBL_C","CN","Kitted in Torsvik (Daye)","GB;IE",null,null,null,null,"YES","NO",null,2,null,null,null,null,1,8,null,null,null,null,null,null,null,null,null,null,null,null,null,null,null,null,null,null,"","","","","","","","","","","","","","","","","","","","","","","","","","","","","","","","","","","","","","","","","","","","","","","","","","","","","","","","","","","","","",null,967658802,0]
[null,"wk19, 2023","Z554L",970505001,"HUS","L","RPZ_P","US","Orangeburg","CA;UM;US",null,null,null,null,"NO","NO",null,4,null,null,null,null,1,null,null,null,null,null,null,null,null,null,null,null,null,null,null,null,null,null,null,null,1,"","","","","","","","","","","","","","","","","","","","","","","","","","","","","","","","","","","","","","","","","","","","","","","","","","","","","","","","","","","","",null,967659301,35]
[null,"wk19, 2023","120ITK4-PH (kit)",970515906,"HUS","H","HBP_C","CN","Kitted in Torsvik (Daye)",null,null,null,null,null,"YES","NO",null,2,352,704,704,null,0,null,null,null,null,null,null,null,null,null,null,null,null,null,null,null,null,null,null,null,"",0,0,0,0,0,0,0,0,0,0,0,0,0,0,0,0,0,0,0,0,0,0,0,0,0,0,0,0,0,0,0,0,0,0,0,0,0,0,0,0,0,0,0,0,0,"","","","","","","","","","","","","","","",null,970716702,0]
[null,"wk19, 2023","ST330",970529101,"HUS","L","LPB_C","US","Orangeburg",null,null,null,null,null,"YES","NO",null,4,20,null,42,null,0,null,null,null,null,null,null,null,null,null,null,null,null,null,null,null,null,null,null,null,"",0,0,0,0,0,0,0,0,0,0,0,0,0,0,0,"","","","","","","","","","","","","","","",0,0,0,0,0,0,0,0,0,0,0,0,0,0,0,"","","","","","","","","","","","","","","",null,970488102,0]
[null,"wk19, 2023","215IHD55 BARE PRODUCT",970536601,"HUS","H","HBH_C","CN","Changzhou","US;CA",null,null,null,null,"NO","NO",null,4,null,null,null,null,44,null,null,null,null,null,null,null,null,null,null,null,null,null,null,null,null,null,null,null,1,"","","","","","","","","","","","","","","","","","","","","","","","","","","","","","","","","","","","","","","","","","","","","","","","","","","","","","","","","","","","",null,970648201,0]
[null,"wk19, 2023","460Rancher",970614018,"HUS","H","HPC_C","US","Nashville",null,null,null,null,null,"YES","NO","18\" 3/8\",SN, 1,5 mm, C85, All markets",4,336,720,720,null,12,null,null,null,null,null,null,null,null,null,null,null,null,null,null,null,null,null,null,null,"",0,0,0,0,0,0,0,0,0,0,0,0,0,0,0,0,0,0,0,0,0,0,0,0,0,0,0,0,0,0,0,0,0,0,0,0,0,0,0,0,0,0,0,0,0,"","","","","","","","","","","","","","","",null,970722601,0]
[null,"wk19, 2023","WDC325L",967908104,"HUS","L","WPC_C","HU/BE","Nilfisk HU/BE","WDC",null,null,null,null,"NO","NO","DS not possible. Only RDC deliveries. ",4,null,null,null,594,18,null,null,null,null,null,null,null,null,null,null,null,null,null,null,null,null,null,null,null,"","","","","","","","","","","","","","","","","","","","","","","","","","","","","","","","","","","","","","","","","","","","","","",0,0,0,0,0,0,0,0,0,0,0,0,0,0,0,null,970724001,36]
[null,"wk19, 2023","PW370",970726904,"HUS","L","WPC_C","CN","Nilfisk LUTIAN","ZA","2024-02-19","2023-12-01",967677820,null,"NO","NO","LCL not available. MOQ - 108 units. Pallets too high for 20\" and 40\". Mixed 40\" HC = 52 pallets ",12,null,null,540,null,"6, 18",null,null,null,null,null,null,null,null,null,null,null,null,null,null,null,null,null,null,null,"","","","","","","","","","","","","","","","","","","","","","","","","","","","","","","",0,0,0,0,0,0,0,0,0,0,0,0,0,0,0,"","","","","","","","","","","","","","","",null,970724805,0]
[null,"wk19, 2023","PW 350",970725801,"HUS","L","WPC_C","CN","Nilfisk YILI","PW","2024-02-19","2023-12-01","PW345C, 967677601",null,"YES","NO","LCL not available. MOQ - 108 units. Mixed containers: 20\" = 20 pallets, 40\" = 52 pallets.",12,null,null,720,null,12,null,null,null,null,null,null,null,null,null,null,null,null,null,null,null,null,null,null,null,"","","","","","","","","","","","","","","","","","","","","","","","","","","","","","","",0,0,0,0,0,0,0,0,0,0,0,0,0,0,0,"","","","","","","","","","","","","","","",null,970515907,0]
[null,"wk19, 2023","PW 350",970725902,"HUS","L","WPC_C","CN","Nilfisk YILI","CH","2024-02-19","2023-12-01",null,null,"NO","NO","LCL not available. MOQ - 108 units. Mixed containers: 20\" = 20 pallets, 40\" = 52 pallets.",12,null,null,720,null,12,null,null,null,null,null,null,null,null,null,null,null,null,null,null,null,null,null,null,null,"","","","","","","","","","","","","","","","","","","","","","","","","","","","","","","",0,0,0,0,0,0,0,0,0,0,0,0,0,0,0,"","","","","","","","","","","","","","","",null,970515908,0]
[null,"wk19, 2023","EBZ9000-RH",970550601,"ZEN","H","HPB_P","US","Nashville","CA;US","2024-02-15",null,null,null,"NO","NO","79cc BP blower",4,null,null,null,null,0,null,null,null,null,null,null,null,null,null,null,null,null,null,null,null,null,null,null,null,1,"","","","","","","","","","","","","","","","","","","","","","","","","","","","","","","","","","","","","","","","","","","","","","","","","","","","","","","","","","","","",null,970720604,1]
[null,"wk19, 2023","Z454X",970576401,"HUS","L","RPZ_P","US","Orangeburg",null,null,null,null,null,"YES","NO",null,4,2,null,6,null,0,null,null,null,null,null,null,null,null,null,null,null,null,null,null,null,null,null,null,null,1,0,0,0,0,0,0,0,0,0,0,0,0,0,0,0,"","","","","","","","","","","","","","","",0,0,0,0,0,0,0,0,0,0,0,0,0,0,0,"","","","","","","","","","","","","","","",null,970716605,1]
[null,"wk19, 2023","240I KIT,14\", 3/8\", S",970601108,"HUS","H","HBC_C","CN","Kitted in Torsvik (Changzhou)",null,null,null,null,null,"YES","NO",null,2,null,null,null,null,0,null,null,null,null,null,null,null,null,null,null,null,null,null,null,null,null,null,null,null,1,"","","","","","","","","","","","","","","","","","","","","","","","","","","","","","","","","","","","","","","","","","","","","","","","","","","","","","","","","","","","",null,970515906,0]
[null,"wk27, 2023","40-B220X",970607802,"HUS","H","EEB_P","PL","Mielec, HH","US;CA","2024-01-06",null,"970448902",null,"YES","NO","Minimum Qty for DS = FCL. Smaller quantities can be ordered from CDC.","4    ",null,null,null,null,0,null,null,null,null,null,null,null,null,null,null,null,null,null,null,null,null,null,null,null,{"$f":"IF(I1343<>0,IF(H1343&I1343<>H1342&I1342,1,\"\"),\"\")","v":""},"","","","","","","","","","","","","","","","","","","","","","","","","","","","","","","","","","","","","","","","","","","","","","","","","","","","","","","","","","","","",null,970622301,0]
[null,"wk26, 2023","UltraLife 600",970620501,"FLY","R","LRL_C","GB","Vrbno","GB, IE","2024-03-15",null,null,null,"NO","NO","P14.1",4,null,null,null,null,{"$error":"#N/A"},null,null,null,null,null,null,null,null,null,null,null,null,null,null,null,null,null,null,null,1,"","","","","","","","","","","","","","","","","","","","","","","","","","","","","","","","","","","","","","","","","","","","","","","","","","","","","","","","","","","","",null,970728301,0]
[null,"wk19, 2023","Z560LS",970641001,"HUS","L","RPZ_P","US","Orangeburg","CA;US;US-49",null,null,null,null,"NO","NO",null,4,null,null,null,null,0,null,null,null,null,null,null,null,null,null,null,null,null,null,null,null,null,null,null,null,"","","","","","","","","","","","","","","","","","","","","","","","","","","","","","","","","","","","","","","","","","","","","","","","","","","","","","","","","","","","","",null,970607803,0]
[null,"wk19, 2023","LB 144i  (KIT)  UK",970648203,"HUS","L","LBL_C","CN","Kitted in Torsvik (Daye)","GB;IE",null,null,null,null,"YES","NO",null,2,null,null,null,null,0,8,null,null,null,null,null,null,null,null,null,null,null,null,null,null,null,null,null,null,"","","","","","","","","","","","","","","","","","","","","","","","","","","","","","","","","","","","","","","","","","","","","","","","","","","","","","","","","","","","","",null,590684601,32]
[null,"wk19, 2023","321R",970651201,"HUS","H","HPT_P","CN","Zhejiang Well Shine",null,null,null,null,null,"NO","YES","T25+Multi 330-2, LAP exc BR;CN",8,480,1000,1170,null,0,null,null,null,null,null,null,null,null,null,null,null,null,null,null,null,null,null,null,null,"",0,0,0,0,0,0,0,0,0,0,0,0,0,0,0,0,0,0,0,0,0,0,0,0,0,0,0,0,0,0,0,0,0,0,0,0,0,0,0,0,0,0,0,0,0,"","","","","","","","","","","","","","","",null,967094601,8]
[null,"wk19, 2023","330iKP",970701205,"HUS","H","HBP_P","US","Nashville","CA;US","2024-01-01",null,null,null,"NO","NO","Powerhead Polesaw Kit w/ B140 + QC250",4,null,null,null,null,1,null,null,null,null,null,null,null,null,null,null,null,null,null,null,null,null,null,null,null,1,"","","","","","","","","","","","","","","","","","","","","","","","","","","","","","","","","","","","","","","","","","","","","","","","","","","","","","","","","","","","",null,967908402,0]
[null,"wk25, 2023","525iHE3",970704902,"HUS","H","HBH_P","PL","Mielec, HH","CA;US-50",null,"2024-02-15",null,null,"NO","NO","US/CA excl battery & charger with BT",3,null,null,null,null,{"$error":"#N/A"},null,null,null,null,null,null,null,null,null,null,null,null,null,null,null,null,null,null,null,"","","","","","","","","","","","","","","","","","","","","","","","","","","","","","","","","","","","","","","","","","","","","","","","","","","","","","","","","","","","","",null,970447001,0]
[null,"wk19, 2023","Z242E",970709601,"HUS","L","RPZ_C","US","Orangeburg","AU;NZ",null,null,null,null,"NO","NO",null,4,6,null,21,null,"0",null,null,null,null,null,null,null,null,null,null,null,null,null,null,null,null,null,null,null,"",0,0,0,0,0,0,0,0,0,0,0,0,0,0,0,"","","","","","","","","","","","","","","",0,0,0,0,0,0,0,0,0,0,0,0,0,0,0,"","","","","","","","","","","","","","","",null,970550701,0]
[null,"wk26, 2023","UltraLife 1200",970715101,"FLY","R","LRL_C","GB","Vrbno","GB, IE","2024-03-15",null,null,null,"NO","NO","P14.2",4,null,null,null,null,{"$error":"#N/A"},null,null,null,null,null,null,null,null,null,null,null,null,null,null,null,null,null,null,null,1,{"$f":"IF($S1406>0,Y1406/$S1406,\"\")","v":""},{"$f":"IF($S1406>0,Z1406/$S1406,\"\")","v":""},{"$f":"IF($S1406>0,AA1406/$S1406,\"\")","v":""},{"$f":"IF($S1406>0,AB1406/$S1406,\"\")","v":""},{"$f":"IF($S1406>0,AC1406/$S1406,\"\")","v":""},{"$f":"IF($S1406>0,AD1406/$S1406,\"\")","v":""},{"$f":"IF($S1406>0,AE1406/$S1406,\"\")","v":""},{"$f":"IF($S1406>0,AF1406/$S1406,\"\")","v":""},{"$f":"IF($S1406>0,AG1406/$S1406,\"\")","v":""},{"$f":"IF($S1406>0,AH1406/$S1406,\"\")","v":""},{"$f":"IF($S1406>0,AI1406/$S1406,\"\")","v":""},{"$f":"IF($S1406>0,AJ1406/$S1406,\"\")","v":""},{"$f":"IF($S1406>0,AK1406/$S1406,\"\")","v":""},{"$f":"IF($S1406>0,AL1406/$S1406,\"\")","v":""},{"$f":"IF($S1406>0,AM1406/$S1406,\"\")","v":""},{"$f":"IF($T1406>0,Y1406/$T1406,\"\")","v":""},{"$f":"IF($T1406>0,Z1406/$T1406,\"\")","v":""},{"$f":"IF($T1406>0,AA1406/$T1406,\"\")","v":""},{"$f":"IF($T1406>0,AB1406/$T1406,\"\")","v":""},{"$f":"IF($T1406>0,AC1406/$T1406,\"\")","v":""},{"$f":"IF($T1406>0,AD1406/$T1406,\"\")","v":""},{"$f":"IF($T1406>0,AE1406/$T1406,\"\")","v":""},{"$f":"IF($T1406>0,AF1406/$T1406,\"\")","v":""},{"$f":"IF($T1406>0,AG1406/$T1406,\"\")","v":""},{"$f":"IF($T1406>0,AH1406/$T1406,\"\")","v":""},{"$f":"IF($T1406>0,AI1406/$T1406,\"\")","v":""},{"$f":"IF($T1406>0,AJ1406/$T1406,\"\")","v":""},{"$f":"IF($T1406>0,AK1406/$T1406,\"\")","v":""},{"$f":"IF($T1406>0,AL1406/$T1406,\"\")","v":""},{"$f":"IF($T1406>0,AM1406/$T1406,\"\")","v":""},{"$f":"IF($U1406>0,Y1406/$U1406,\"\")","v":""},{"$f":"IF($U1406>0,Z1406/$U1406,\"\")","v":""},{"$f":"IF($U1406>0,AA1406/$U1406,\"\")","v":""},{"$f":"IF($U1406>0,AB1406/$U1406,\"\")","v":""},{"$f":"IF($U1406>0,AC1406/$U1406,\"\")","v":""},{"$f":"IF($U1406>0,AD1406/$U1406,\"\")","v":""},{"$f":"IF($U1406>0,AE1406/$U1406,\"\")","v":""},{"$f":"IF($U1406>0,AF1406/$U1406,\"\")","v":""},{"$f":"IF($U1406>0,AG1406/$U1406,\"\")","v":""},{"$f":"IF($U1406>0,AH1406/$U1406,\"\")","v":""},{"$f":"IF($U1406>0,AI1406/$U1406,\"\")","v":""},{"$f":"IF($U1406>0,AJ1406/$U1406,\"\")","v":""},{"$f":"IF($U1406>0,AK1406/$U1406,\"\")","v":""},{"$f":"IF($U1406>0,AL1406/$U1406,\"\")","v":""},{"$f":"IF($U1406>0,AM1406/$U1406,\"\")","v":""},{"$f":"IF($V1406>0,Y1406/$V1406,\"\")","v":""},{"$f":"IF($V1406>0,Z1406/$V1406,\"\")","v":""},{"$f":"IF($V1406>0,AA1406/$V1406,\"\")","v":""},{"$f":"IF($V1406>0,AB1406/$V1406,\"\")","v":""},{"$f":"IF($V1406>0,AC1406/$V1406,\"\")","v":""},{"$f":"IF($V1406>0,AD1406/$V1406,\"\")","v":""},{"$f":"IF($V1406>0,AE1406/$V1406,\"\")","v":""},{"$f":"IF($V1406>0,AF1406/$V1406,\"\")","v":""},{"$f":"IF($V1406>0,AG1406/$V1406,\"\")","v":""},{"$f":"IF($V1406>0,AH1406/$V1406,\"\")","v":""},{"$f":"IF($V1406>0,AI1406/$V1406,\"\")","v":""},{"$f":"IF($V1406>0,AJ1406/$V1406,\"\")","v":""},{"$f":"IF($V1406>0,AK1406/$V1406,\"\")","v":""},{"$f":"IF($V1406>0,AL1406/$V1406,\"\")","v":""},{"$f":"IF($V1406>0,AM1406/$V1406,\"\")","v":""},null,970726201,1]
[null,"wk19, 2023","Aspire S20-P4A",970716606,"HUS","H","HBH_C","CN","Kitted in Torsvik (CIXI CITY BEST POWER TOOLS CO.,LTD.)","GB;IE","2024-02-05","2024-01-01",null,null,"YES","NO",null,2,null,null,null,null,1,null,null,null,null,null,null,null,null,null,null,null,null,null,null,null,null,null,null,null,"","","","","","","","","","","","","","","","","","","","","","","","","","","","","","","","","","","","","","","","","","","","","","","","","","","","","","","","","","","","","",null,582559601,1]
[null,"W25, 2023","40-C750X",970717206,"HUS","H","EEC_P","CN","TopBand","Switzerland","2024-08-01",null,null,null,null,"NO","750W battery charger CH",null,null,null,null,null,{"$error":"#N/A"},null,null,null,null,null,null,null,null,null,null,null,null,null,null,null,null,null,null,null,"","","","","","","","","","","","","","","","","","","","","","","","","","","","","","","","","","","","","","","","","","","","","","","","","","","","","","","","","","","","","",null,960410440,1]
[null,"wk 20, 2023","Aspire C15X-P4A10\" Bare",970720503,"HUS","H","HPC_C","CN","Changzhou",null,"2024-07-28","2024-05-01",null,null,"NO","NO",null,4,null,null,null,null,0,null,null,null,null,null,null,null,null,null,null,null,null,null,null,null,null,null,null,null,"","","","","","","","","","","","","","","","","","","","","","","","","","","","","","","","","","","","","","","","","","","","","","","","","","","","","","","","","","","","","",null,960430336,0]
[null,"wk 20, 2023","Aspire C15X-P4A10\" Kit",970720504,"HUS","H","HBC_C","CN","Kitted in Torsvik (Changzhou)","BE;FR;DE;NL;AT;LI;SI;CH;","2024-07-28","2024-05-01",null,null,"YES","NO",null,2,null,null,null,null,0,null,null,null,null,null,null,null,null,null,null,null,null,null,null,null,null,null,null,null,1,"","","","","","","","","","","","","","","","","","","","","","","","","","","","","","","","","","","","","","","","","","","","","","","","","","","","","","","","","","","","",null,960430337,0]
[null,"wk19, 2023","QC250",967970104,"HUS","H","EEC_C","CN","Prime Base","JP",null,null,967335661,null,"NO","NO",null,4,3840,7680,null,7680,384,64,null,null,null,null,null,null,null,null,null,null,null,null,null,null,null,null,null,null,"",0,0,0,0,0,0,0,0,0,0,0,0,0,0,0,0,0,0,0,0,0,0,0,0,0,0,0,0,0,0,"","","","","","","","","","","","","","","",0,0,0,0,0,0,0,0,0,0,0,0,0,0,0,null,960450064,1]
[null,"wk19, 2023","TF325",970652601,"HUS","L","LPT_C","FR","Pubert","Tiller",null,null,970575701,null,"YES","NO",null,12,null,null,null,324,12,null,null,null,null,null,null,null,null,null,null,null,null,null,null,null,null,null,null,null,"","","","","","","","","","","","","","","","","","","","","","","","","","","","","","","","","","","","","","","","","","","","","","",0,0,0,0,0,0,0,0,0,0,0,0,0,0,0,null,960510201,1]
[null,"wk19, 2023","272XP",965681688,"HUS","H","HPC_P","BR","Sao Carlos","18\" HN 3/8\" 1,5 mm H42",null,null,null,null,"NO","NO","3/8\" H42 HN",4,540,1080,null,null,60,null,null,null,null,null,null,null,null,null,null,null,null,null,null,null,null,null,null,null,"",0,0,0,0,0,0,0,0,0,0,0,0,0,0,0,0,0,0,0,0,0,0,0,0,0,0,0,0,0,0,"","","","","","","","","","","","","","","","","","","","","","","","","","","","","","",null,960730038,1]
[null,"wk19, 2023","226RJ",966769201,"HUS","H","HPT_P","BR","Sao Carlos","T35 + Multi255-3 (1\"), Latin America",null,null,null,null,"NO","NO","BRUSHCUTTER, J-HANDLE",4,460,940,null,null,36,null,null,null,null,null,null,null,null,null,null,null,null,null,null,null,null,null,null,null,"",0,0,0,0,0,0,0,0,0,0,0,0,0,0,0,0,0,0,0,0,0,0,0,0,0,0,0,0,0,0,"","","","","","","","","","","","","","","","","","","","","","","","","","","","","","",null,967669801,1]
[null,"wk19, 2023",61,967062490,"HUS","H","HPC_P","BR","Sao Carlos","20\" HN 3/8\" 1,5 mm H42",null,null,null,null,"NO","NO","3/8\" H42 HN",4,540,1080,null,null,60,null,null,null,null,null,null,null,null,null,null,null,null,null,null,null,null,null,null,null,"",0,0,0,0,0,0,0,0,0,0,0,0,0,0,0,0,0,0,0,0,0,0,0,0,0,0,0,0,0,0,"","","","","","","","","","","","","","","","","","","","","","","","","","","","","","",null,967696102,1]
[null,"wk19, 2023","226R",970463401,"HUS","H","HPT_P","BR","Sao Carlos","T35+Multi 255-3 (1\")",null,null,null,null,"NO","NO","BRUSHCUTTER, BIKE HANDLE, MULTI-PURPOSE",4,460,940,null,null,36,null,null,null,null,null,null,null,null,null,null,null,null,null,null,null,null,null,null,null,"",0,0,0,0,0,0,0,0,0,0,0,0,0,0,0,0,0,0,0,0,0,0,0,0,0,0,0,0,0,0,"","","","","","","","","","","","","","","","","","","","","","","","","","","","","","",null,970458901,1]
[null,"wk19, 2023",365,970718318,"HUS","H","HPC_P","BR","Sao Carlos","3/8\" C85 SN","2023-10-02","2023-09-01",967082718,null,"NO","NO","18\" SN 3/8\" 1,5 mm C85",4,720,1584,null,null,72,12,null,null,null,null,null,null,null,null,null,null,null,null,null,null,null,null,null,null,"",0,0,0,0,0,0,0,0,0,0,0,0,0,0,0,0,0,0,0,0,0,0,0,0,0,0,0,0,0,0,"","","","","","","","","","","","","","","","","","","","","","","","","","","","","","",null,970528701,0]
[null,"wk19, 2023",365,970718324,"HUS","H","HPC_P","BR","Sao Carlos","3/8\" C85 RSN","2023-10-02","2023-09-01",967082744,null,"NO","NO","24\" RSN 3/8\" 1,5 mm C85",4,720,1584,null,null,72,12,null,null,null,null,null,null,null,null,null,null,null,null,null,null,null,null,null,null,"",0,0,0,0,0,0,0,0,0,0,0,0,0,0,0,0,0,0,0,0,0,0,0,0,0,0,0,0,0,0,"","","","","","","","","","","","","","","","","","","","","","","","","","","","","","",null,970528801,0]
[null,"wk19, 2023","372XP",970718890,"HUS","H","HPC_P","BR","Sao Carlos","3/8\" C85 HN","2023-10-02","2023-09-01",965702190,null,"NO","NO","20\" HN 3/8\" 1,5 mm C85",4,720,1584,null,null,72,12,null,null,null,null,null,null,null,null,null,null,null,null,null,null,null,null,null,null,"",0,0,0,0,0,0,0,0,0,0,0,0,0,0,0,0,0,0,0,0,0,0,0,0,0,0,0,0,0,0,"","","","","","","","","","","","","","","","","","","","","","","","","","","","","","",null,970585101,0]
[null,"wk19, 2023","372XP",970719088,"HUS","H","HPC_P","BR","Sao Carlos","3/8\" C85 HN","2023-10-02","2023-09-01",965702688,null,"NO","NO","18\" HN 3/8\" 1,5 mm C85",4,720,1584,null,null,72,12,null,null,null,null,null,null,null,null,null,null,null,null,null,null,null,null,null,null,"",0,0,0,0,0,0,0,0,0,0,0,0,0,0,0,0,0,0,0,0,0,0,0,0,0,0,0,0,0,0,"","","","","","","","","","","","","","","","","","","","","","","","","","","","","","",null,970640901,0]
[null,"wk19, 2023","BLi950X",579822202,"HUS","H","EEB_P","TW","Skypower","36V, 31.1Ah, battery only, US/CA",null,null,null,null,"NO","NO","Minimum Qty for DS = FCL. Smaller quantities can be ordered from CDC.",12,560,1120,null,1120,56,9,null,null,null,null,null,null,null,null,null,null,null,null,null,null,null,null,null,null,"",0,0,0,0,0,0,0,0,0,0,0,0,0,0,0,0,0,0,0,0,0,0,0,0,0,0,0,0,0,0,"","","","","","","","","","","","","","","",0,0,0,0,0,0,0,0,0,0,0,0,0,0,0,null,970714901,4]
[null,"wk19, 2023","Rail Fixture",536144301,"HUS","H","EEC_P","CN","Sunseeker","EU",null,null,null,null,"YES","NO","MOQ 240pcs",13,960,2160,2160,null,60,null,null,null,null,null,null,null,null,null,null,null,null,null,null,null,null,null,null,null,1,0,0,0,0,0,0,0,0,0,0,0,0,0,0,0,0,0,0,0,0,0,0,0,0,0,0,0,0,0,0,0,0,0,0,0,0,0,0,0,0,0,0,0,0,0,"","","","","","","","","","","","","","","",null,967866501,0]
[null,"wk 20, 2023","Aspire C15X-P4A12\" Kit",970720606,"HUS","H","HBC_C","CN","Kitted in Torsvik (Changzhou)","GB; IE","2024-07-28","2024-05-01",null,null,"YES","NO",null,2,null,null,null,null,1,null,null,null,null,null,null,null,null,null,null,null,null,null,null,null,null,null,null,null,"","","","","","","","","","","","","","","","","","","","","","","","","","","","","","","","","","","","","","","","","","","","","","","","","","","","","","","","","","","","","",null,967294401,0]
[null,"wk19, 2023","Aspire H50-P4A",970620301,"HUS","H","HBH_C","CN","Sunseeker","Bare product",null,null,null,null,"NO","NO",null,13,360,800,800,null,"20/24",null,null,null,null,null,null,null,null,null,null,null,null,null,null,null,null,null,null,null,"",0,0,0,0,0,0,0,0,0,0,0,0,0,0,0,0,0,0,0,0,0,0,0,0,0,0,0,0,0,0,0,0,0,0,0,0,0,0,0,0,0,0,0,0,0,"","","","","","","","","","","","","","","",null,967316704,0]
[null,"wk19, 2023","LB 244E",970722201,"HUS","L","LPL_C","CN","Daye",null,"2024-02-19","2023-12-01",null,null,"YES","NO",null,8,120,240,288,null,0,null,null,null,null,null,null,null,null,null,null,null,null,null,null,null,null,null,null,null,"",0,0,0,0,0,0,0,0,0,0,0,0,0,0,0,0,0,0,0,0,0,0,0,0,0,0,0,0,0,0,0,0,0,0,0,0,0,0,0,0,0,0,0,0,0,"","","","","","","","","","","","","","","",null,967639302,4]
[null,"wk19, 2023","LC 251i",970722401,"HUS","L","LBL_C","CN","Daye",null,"2024-02-19","2023-12-01",null,null,"YES","NO",null,8,110,220,260,null,0,null,null,null,null,null,null,null,null,null,null,null,null,null,null,null,null,null,null,null,"",0,0,0,0,0,0,0,0,0,0,0,0,0,0,0,0,0,0,0,0,0,0,0,0,0,0,0,0,0,0,0,0,0,0,0,0,0,0,0,0,0,0,0,0,0,"","","","","","","","","","","","","","","",null,967639304,0]
[null,"wk19, 2023","AM305",967974011,"HUS","R","LRL_C","CZ","Vrbno",null,null,null,null,null,"YES","NO",null,4,null,null,null,396,12,null,null,null,null,null,null,null,null,null,null,null,null,null,null,null,null,null,null,null,"","","","","","","","","","","","","","","","","","","","","","","","","","","","","","","","","","","","","","","","","","","","","","",0,0,0,0,0,0,0,0,0,0,0,0,0,0,0,null,967665102,18]
[null,"wk19, 2023","AM310 Mark II",970526704,"HUS","R","LRL_C","CZ","Vrbno","CH",null,null,null,null,"NO","NO",null,4,null,null,null,396,12,null,null,null,null,null,null,null,null,null,null,null,null,null,null,null,null,null,null,null,"","","","","","","","","","","","","","","","","","","","","","","","","","","","","","","","","","","","","","","","","","","","","","",0,0,0,0,0,0,0,0,0,0,0,0,0,0,0,null,967863504,40]
[null,"wk19, 2023","SILENO city 500","967647205","GAR","R","LRL_C","CZ","Vrbno",null,null,null,null,null,"NO","NO","15002-24.000.00",4,null,null,null,624,24,null,null,null,null,null,null,null,null,null,null,null,null,null,null,null,null,null,null,null,"","","","","","","","","","","","","","","","","","","","","","","","","","","","","","","","","","","","","","","","","","","","","","",0,0,0,0,0,0,0,0,0,0,0,0,0,0,0,null,970592703]
[null,"wk19, 2023","minimo 250","970462805","GAR","R","LRL_C","CZ","Vrbno",null,null,null,null,null,"NO","NO","15201-24.000.00",4,null,null,null,728,28,null,null,null,null,null,null,null,null,null,null,null,null,null,null,null,null,null,null,null,{"$f":"IF(I1594<>0,IF(H1594&I1594<>H1592&I1592,1,\"\"),\"\")","v":""},"","","","","","","","","","","","","","","","","","","","","","","","","","","","","","","","","","","","","","","","","","","","","",0,0,0,0,0,0,0,0,0,0,0,0,0,0,0,null,970619701]
[null,"wk26, 2023","EasiLife GO 200",970463001,"FLY","R","LRL_C","CZ","Vrbno","GB, IE",null,null,null,null,"NO","NO",null,4,null,null,null,728,28,null,null,null,null,null,null,null,null,null,null,null,null,null,null,null,null,null,null,null,"","","","","","","","","","","","","","","","","","","","","","","","","","","","","","","","","","","","","","","","","","","","","","",0,0,0,0,0,0,0,0,0,0,0,0,0,0,0]
[null,"wk19, 2023","smart SILENO life 1000m²","970550407","GAR","R","LRL_C","CZ","Vrbno",null,null,null,null,null,"NO","NO","19702-72.000.00",4,null,null,null,396,12,null,null,null,null,null,null,null,null,null,null,null,null,null,null,null,null,null,null,null,"","","","","","","","","","","","","","","","","","","","","","","","","","","","","","","","","","","","","","","","","","","","","","",0,0,0,0,0,0,0,0,0,0,0,0,0,0,0]
[null,"wk19, 2023","SILENO life 700m²","970453505","GAR","R","LRL_C","GB","Vrbno",null,null,null,null,null,"NO","NO","15107-24.000.00",4,null,null,null,396,12,null,null,null,null,null,null,null,null,null,null,null,null,null,null,null,null,null,null,null,{"$f":"IF(I1620<>0,IF(H1620&I1620<>H1619&I1619,1,\"\"),\"\")","v":""},"","","","","","","","","","","","","","","","","","","","","","","","","","","","","","","","","","","","","","","","","","","","","",0,0,0,0,0,0,0,0,0,0,0,0,0,0,0]
[null,"wk19, 2023","SILENO life 700m²","970453508","GAR","R","LRL_C","GB","Vrbno",null,null,null,null,null,"NO","NO","15107-35.000.00",4,null,null,null,396,12,null,null,null,null,null,null,null,null,null,null,null,null,null,null,null,null,null,null,null,{"$f":"IF(I1621<>0,IF(H1621&I1621<>H1620&I1620,1,\"\"),\"\")","v":""},"","","","","","","","","","","","","","","","","","","","","","","","","","","","","","","","","","","","","","","","","","","","","",0,0,0,0,0,0,0,0,0,0,0,0,0,0,0]
[null,"wk19, 2023","smart SILENO life 750m²","970571908","GAR","R","LRL_C","GB","Vrbno",null,null,null,null,null,"NO","NO","19701-75.000.00",4,null,null,null,396,12,null,null,null,null,null,null,null,null,null,null,null,null,null,null,null,null,null,null,null,"","","","","","","","","","","","","","","","","","","","","","","","","","","","","","","","","","","","","","","","","","","","","","",0,0,0,0,0,0,0,0,0,0,0,0,0,0,0]
[null,"wk26, 2023","EasiLife 800",970513201,"FLY","R","LRL_C","GB","Vrbno","GB, IE",null,null,null,null,"NO","NO",null,4,null,null,null,624,24,null,null,null,null,null,null,null,null,null,null,null,null,null,null,null,null,null,null,null,"","","","","","","","","","","","","","","","","","","","","","","","","","","","","","","","","","","","","","","","","","","","","","",0,0,0,0,0,0,0,0,0,0,0,0,0,0,0]
[null,"wk19, 2023","BC2020-W",970724401,"ZEN","H","HPT_P","JP","Kawagoe","JP;KR;TW","2024-01-01","2023-12-01",null,null,"NO","NO","BRUSHCUTTER, BIKE HANDLE, FOREST",4,null,null,null,null,20,null,null,null,null,null,null,null,null,null,null,null,null,null,null,null,null,null,null,null,"","","","","","","","","","","","","","","","","","","","","","","","","","","","","","","","","","","","","","","","","","","","","","","","","","","","","","","","","","","","",""]
[null,"wk19, 2023","BC222",970724705,"ZEN","H","HPT_P","JP","Kawagoe","JP;KR;TW","2024-01-01","2023-12-01",null,null,"NO","NO","BRUSHCUTTER, BIKE HANDLE, FOREST",4,null,null,null,null,{"$f":"_xlfn.XLOOKUP(D1656,DA:DA,DB:DB)","v":0},null,null,null,null,null,null,null,null,null,null,null,null,null,null,null,null,null,null,null,1,"","","","","","","","","","","","","","","","","","","","","","","","","","","","","","","","","","","","","","","","","","","","","","","","","","","","","","","","","","","",""]
[null,"wk19, 2023","CZX2210",970725301,"ZEN","H","HPT_P","JP","Kawagoe","JP","2024-01-01","2023-12-01",null,null,"NO","NO","BRUSHCUTTER, TWO HAND GRIP",4,null,null,null,null,0,null,null,null,null,null,null,null,null,null,null,null,null,null,null,null,null,null,null,null,"","","","","","","","","","","","","","","","","","","","","","","","","","","","","","","","","","","","","","","","","","","","","","","","","","","","","","","","","","","","",""]
[null,"wk19, 2023","G3200P",967665107,"HUS","L","LOP_P","CN","Weima","Generator ",null,null,null,null,"YES","NO","MOQ 10 pcs, Max. 5 pnc per order",8,160,340,425,null,10,null,null,null,null,null,null,null,null,null,null,null,null,null,null,null,null,null,null,null,1,0,0,0,0,0,0,0,0,0,0,0,0,0,0,0,0,0,0,0,0,0,0,0,0,0,0,0,0,0,0,0,0,0,0,0,0,0,0,0,0,0,0,0,0,0,"","","","","","","","","","","","","","",""]
[null,"wk19, 2023","P4A 18-B36",970729301,"HUS","H","EEB_C","HU","Kitted in Torsvik (Bosch)","2.0Ah battery EU, UK, AU/NZ","2024-02-01","2024-12-01",null,null,"YES","NO",null,2,null,null,null,null,{"$error":"#N/A"},null,null,null,null,null,null,null,null,null,null,null,null,null,null,null,null,null,null,null,1,"","","","","","","","","","","","","","","","","","","","","","","","","","","","","","","","","","","","","","","","","","","","","","","","","","","","","","","","","","","",""]
[null,"wk19, 2023","P4A 18-B36",970729302,"HUS","H","EEB_C","HU","Kitted in Torsvik (Bosch)","2.0Ah battery, JP","2024-06-01","2024-04-01",null,null,"NO","NO",null,2,null,null,null,null,{"$error":"#N/A"},null,null,null,null,null,null,null,null,null,null,null,null,null,null,null,null,null,null,null,"","","","","","","","","","","","","","","","","","","","","","","","","","","","","","","","","","","","","","","","","","","","","","","","","","","","","","","","","","","","",""]
[null,"wk19, 2023","R180",967985601,"HUS","L","ROA_P","DE","Wiedenmann","Cutting deck","",null,"",null,"YES","NO",null,"12   ",null,null,null,30,3,null,null,null,null,null,null,null,null,null,null,null,null,null,null,null,null,null,null,null,{"$f":"IF(I1695<>0,IF(H1695&I1695<>H1694&I1694,1,\"\"),\"\")","v":1},{"$f":"IF($S1695>0,Y1695/$S1695,\"\")","v":""},"","","","","","","","","","","","","","",{"$f":"IF($T1695>0,Y1695/$T1695,\"\")","v":""},"","","","","","","","","","","","","","",{"$f":"IF($U1695>0,Y1695/$U1695,\"\")","v":""},"","","","","","","","","","","","","","",{"$f":"IF($V1695>0,Y1695/$V1695,\"\")","v":0},0,0,0,0,0,0,0,0,0,0,0,0,0,0]
[]
[]
[]
[null,null,null,null,null,null,null,null,null,null,null,null,null,null,null,null,null,null,null,null,null,null,null,null,null,null,null,null,null,null,null,null,null,null,null,null,null,null,null,null,null,null,"","","","","","","","","","","","","","","","","","","","","","","","","","","","","","","","","","","","","","","","","","","","","","","","","","","","","","","","","","","","",""]
[null,null,null,null,null,null,null,null,null,null,null,null,null,null,null,null,null,null,null,null,null,null,null,null,null,null,null,null,null,null,null,null,null,null,null,null,null,null,null,null,null,null,"","","","","","","","","","","","","","","","","","","","","","","","","","","","","","","","","","","","","","","","","","","","","","","","","","","","","","","","","","","","",""]
[null,null,null,null,null,null,null,null,null,null,null,null,null,null,null,null,null,null,null,null,null,null,null,null,null,null,null,null,null,null,null,null,null,null,null,null,null,null,null,null,null,null,"","","","","","","","","","","","","","","","","","","","","","","","","","","","","","","","","","","","","","","","","","","","","","","","","","","","","","","","","","","","",""]
[null,null,null,null,null,null,null,null,null,null,null,null,null,null,null,null,null,null,null,null,null,null,null,null,null,null,null,null,null,null,null,null,null,null,null,null,null,null,null,null,null,null,"","","","","","","","","","","","","","","","","","","","","","","","","","","","","","","","","","","","","","","","","","","","","","","","","","","","","","","","","","","","",""]
[null,null,null,null,null,null,null,null,null,null,null,null,null,null,null,null,null,null,null,null,null,null,null,null,null,null,null,null,null,null,null,null,null,null,null,null,null,null,null,null,null,null,"","","","","","","","","","","","","","","","","","","","","","","","","","","","","","","","","","","","","","","","","","","","","","","","","","","","","","","","","","","","",""]
[null,null,null,null,null,null,null,null,null,null,null,null,null,null,null,null,null,null,null,null,null,null,null,null,null,null,null,null,null,null,null,null,null,null,null,null,null,null,null,null,null,null,"","","","","","","","","","","","","","","","","","","","","","","","","","","","","","","","","","","","","","","","","","","","","","","","","","","","","","","","","","","","",""]
[null,null,null,null,null,null,null,null,null,null,null,null,null,null,null,null,null,null,null,null,null,null,null,null,null,null,null,null,null,null,null,null,null,null,null,null,null,null,null,null,null,null,"","","","","","","","","","","","","","","","","","","","","","","","","","","","","","","","","","","","","","","","","","","","","","","","","","","","","","","","","","","","",""]
[null,null,null,null,null,null,null,null,null,null,null,null,null,null,null,null,null,null,null,null,null,null,null,null,null,null,null,null,null,null,null,null,null,null,null,null,null,null,null,null,null,null,"","","","","","","","","","","","","","","","","","","","","","","","","","","","","","","","","","","","","","","","","","","","","","","","","","","","","","","","","","","","",""]
[null,null,null,null,null,null,null,null,null,null,null,null,null,null,null,null,null,null,null,null,null,null,null,null,null,null,null,null,null,null,null,null,null,null,null,null,null,null,null,null,null,null,"","","","","","","","","","","","","","","","","","","","","","","","","","","","","","","","","","","","","","","","","","","","","","","","","","","","","","","","","","","","",""]
[null,null,null,null,null,null,null,null,null,null,null,null,null,null,null,null,null,null,null,null,null,null,null,null,null,null,null,null,null,null,null,null,null,null,null,null,null,null,null,null,null,null,"","","","","","","","","","","","","","","","","","","","","","","","","","","","","","","","","","","","","","","","","","","","","","","","","","","","","","","","","","","","",""]
[null,null,null,null,null,null,null,null,null,null,null,null,null,null,null,null,null,null,null,null,null,null,null,null,null,null,null,null,null,null,null,null,null,null,null,null,null,null,null,null,null,null,"","","","","","","","","","","","","","","","","","","","","","","","","","","","","","","","","","","","","","","","","","","","","","","","","","","","","","","","","","","","",""]
[null,null,null,null,null,null,null,null,null,null,null,null,null,null,null,null,null,null,null,null,null,null,null,null,null,null,null,null,null,null,null,null,null,null,null,null,null,null,null,null,null,null,"","","","","","","","","","","","","","","","","","","","","","","","","","","","","","","","","","","","","","","","","","","","","","","","","","","","","","","","","","","","",""]
[null,null,null,null,null,null,null,null,null,null,null,null,null,null,null,null,null,null,null,null,null,null,null,null,null,null,null,null,null,null,null,null,null,null,null,null,null,null,null,null,null,null,"",{"$f":"IF($S1818>0,Y1818/$S1818,\"\")","v":""},"","","","","","","","","","","","","","",{"$f":"IF($T1818>0,Y1818/$T1818,\"\")","v":""},"","","","","","","","","","","","","","",{"$f":"IF($U1818>0,Y1818/$U1818,\"\")","v":""},"","","","","","","","","","","","","","",{"$f":"IF($V1818>0,Y1818/$V1818,\"\")","v":""},"","","","","","","","","","","","","",""]
[null,null,null,null,null,null,null,null,null,null,null,null,null,null,null,null,null,null,null,null,null,null,null,null,null,null,null,null,null,null,null,null,null,null,null,null,null,null,null,null,null,null,"","","","","","","","","","","","","","","","","","","","","","","","","","","","","","","","","","","","","","","","","","","","","","","","","","","","","","","","","","","","",""]
[null,null,null,null,null,null,null,null,null,null,null,null,null,null,null,null,null,null,null,null,null,null,null,null,null,null,null,null,null,null,null,null,null,null,null,null,null,null,null,null,null,null,"","","","","","","","","","","","","","","","","","","","","","","","","","","","","","","","","","","","","","","","","","","","","","","","","","","","","","","","","","","","",""]
[null,null,null,null,null,null,null,null,null,null,null,null,null,null,null,null,null,null,null,null,null,null,null,null,null,null,null,null,null,null,null,null,null,null,null,null,null,null,null,null,null,null,"","","","","","","","","","","","","","","","","","","","","","","","","","","","","","","","","","","","","","","","","","","","","","","","","","","","","","","","","","","","",""]
[null,null,null,null,null,null,null,null,null,null,null,null,null,null,null,null,null,null,null,null,null,null,null,null,null,null,null,null,null,null,null,null,null,null,null,null,null,null,null,null,null,null,"","","","","","","","","","","","","","","","","","","","","","","","","","","","","","","","","","","","","","","","","","","","","","","","","","","","","","","","","","","","",""]
[null,null,null,null,null,null,null,null,null,null,null,null,null,null,null,null,null,null,null,null,null,null,null,null,null,null,null,null,null,null,null,null,null,null,null,null,null,null,null,null,null,null,"","","","","","","","","","","","","","","","","","","","","","","","","","","","","","","","","","","","","","","","","","","","","","","","","","","","","","","","","","","","",""]
[null,null,null,null,null,null,null,null,null,null,null,null,null,null,null,null,null,null,null,null,null,null,null,null,null,null,null,null,null,null,null,null,null,null,null,null,null,null,null,null,null,null,"","","","","","","","","","","","","","","","","","","","","","","","","","","","","","","","","","","","","","","","","","","","","","","","","","","","","","","","","","","","",""]
[null,null,null,null,null,null,null,null,null,null,null,null,null,null,null,null,null,null,null,null,null,null,null,null,null,null,null,null,null,null,null,null,null,null,null,null,null,null,null,null,null,null,"","","","","","","","","","","","","","","","","","","","","","","","","","","","","","","","","","","","","","","","","","","","","","","","","","","","","","","","","","","","",""]
[null,null,null,null,null,null,null,null,null,null,null,null,null,null,null,null,null,null,null,null,null,null,null,null,null,null,null,null,null,null,null,null,null,null,null,null,null,null,null,null,null,null,"","","","","","","","","","","","","","","","","","","","","","","","","","","","","","","","","","","","","","","","","","","","","","","","","","","","","","","","","","","","",""]
[null,null,null,null,null,null,null,null,null,null,null,null,null,null,null,null,null,null,null,null,null,null,null,null,null,null,null,null,null,null,null,null,null,null,null,null,null,null,null,null,null,null,"","","","","","","","","","","","","","","","","","","","","","","","","","","","","","","","","","","","","","","","","","","","","","","","","","","","","","","","","","","","",""]
[null,null,null,null,null,null,null,null,null,null,null,null,null,null,null,null,null,null,null,null,null,null,null,null,null,null,null,null,null,null,null,null,null,null,null,null,null,null,null,null,null,null,"","","","","","","","","","","","","","","","","","","","","","","","","","","","","","","","","","","","","","","","","","","","","","","","","","","","","","","","","","","","",""]
[null,null,null,null,null,null,null,null,null,null,null,null,null,null,null,null,null,null,null,null,null,null,null,null,null,null,null,null,null,null,null,null,null,null,null,null,null,null,null,null,null,null,"","","","","","","","","","","","","","","","","","","","","","","","","","","","","","","","","","","","","","","","","","","","","","","","","","","","","","","","","","","","",""]
[null,null,null,null,null,null,null,null,null,null,null,null,null,null,null,null,null,null,null,null,null,null,null,null,null,null,null,null,null,null,null,null,null,null,null,null,null,null,null,null,null,null,"","","","","","","","","","","","","","","","","","","","","","","","","","","","","","","","","","","","","","","","","","","","","","","","","","","","","","","","","","","","",""]
[null,null,null,null,null,null,null,null,null,null,null,null,null,null,null,null,null,null,null,null,null,null,null,null,null,null,null,null,null,null,null,null,null,null,null,null,null,null,null,null,null,null,"","","","","","","","","","","","","","","","","","","","","","","","","","","","","","","","","","","","","","","","","","","","","","","","","","","","","","","","","","","","",""]
[null,null,null,null,null,null,null,null,null,null,null,null,null,null,null,null,null,null,null,null,null,null,null,null,null,null,null,null,null,null,null,null,null,null,null,null,null,null,null,null,null,null,"","","","","","","","","","","","","","","","","","","","","","","","","","","","","","","","","","","","","","","","","","","","","","","","","","","","","","","","","","","","",""]
[null,null,null,null,null,null,null,null,null,null,null,null,null,null,null,null,null,null,null,null,null,null,null,null,null,null,null,null,null,null,null,null,null,null,null,null,null,null,null,null,null,null,"","","","","","","","","","","","","","","","","","","","","","","","","","","","","","","","","","","","","","","","","","","","","","","","","","","","","","","","","","","","",""]
[null,null,null,null,null,null,null,null,null,null,null,null,null,null,null,null,null,null,null,null,null,null,null,null,null,null,null,null,null,null,null,null,null,null,null,null,null,null,null,null,null,null,"","","","","","","","","","","","","","","","","","","","","","","","","","","","","","","","","","","","","","","","","","","","","","","","","","","","","","","","","","","","",""]
[null,null,null,null,null,null,null,null,null,null,null,null,null,null,null,null,null,null,null,null,null,null,null,null,null,null,null,null,null,null,null,null,null,null,null,null,null,null,null,null,null,null,"","","","","","","","","","","","","","","","","","","","","","","","","","","","","","","","","","","","","","","","","","","","","","","","","","","","","","","","","","","","",""]
[null,null,null,null,null,null,null,null,null,null,null,null,null,null,null,null,null,null,null,null,null,null,null,null,null,null,null,null,null,null,null,null,null,null,null,null,null,null,null,null,null,null,"","","","","","","","","","","","","","","","","","","","","","","","","","","","","","","","","","","","","","","","","","","","","","","","","","","","","","","","","","","","",""]
[null,null,null,null,null,null,null,null,null,null,null,null,null,null,null,null,null,null,null,null,null,null,null,null,null,null,null,null,null,null,null,null,null,null,null,null,null,null,null,null,null,null,"",{"$f":"IF($S1970>0,Y1970/$S1970,\"\")","v":""},"","","","","","","","","","","","","","",{"$f":"IF($T1970>0,Y1970/$T1970,\"\")","v":""},"","","","","","","","","","","","","","",{"$f":"IF($U1970>0,Y1970/$U1970,\"\")","v":""},"","","","","","","","","","","","","","",{"$f":"IF($V1970>0,Y1970/$V1970,\"\")","v":""},"","","","","","","","","","","","","",""]
[null,null,null,null,null,null,null,null,null,null,null,null,null,null,null,null,null,null,null,null,null,null,null,null,null,null,null,null,null,null,null,null,null,null,null,null,null,null,null,null,null,null,"","","","","","","","","","","","","","","","","","","","","","","","","","","","","","","","","","","","","","","","","","","","","","","","","","","","","","","","","","","","",""]
[null,null,null,null,null,null,null,null,null,null,null,null,null,null,null,null,null,null,null,null,null,null,null,null,null,null,null,null,null,null,null,null,null,null,null,null,null,null,null,null,null,null,"",{"$f":"IF($S1987>0,Y1987/$S1987,\"\")","v":""},"","","","","","","","","","","","","","",{"$f":"IF($T1987>0,Y1987/$T1987,\"\")","v":""},"","","","","","","","","","","","","","",{"$f":"IF($U1987>0,Y1987/$U1987,\"\")","v":""},"","","","","","","","","","","","","","",{"$f":"IF($V1987>0,Y1987/$V1987,\"\")","v":""},"","","","","","","","","","","","","",""]
[null,null,null,null,null,null,null,null,null,null,null,null,null,null,null,null,null,null,null,null,null,null,null,null,null,null,null,null,null,null,null,null,null,null,null,null,null,null,null,null,null,null,"","","","","","","","","","","","","","","","","","","","","","","","","","","","","","","","","","","","","","","","","","","","","","","","","","","","","","","","","","","","",""]
[null,null,null,null,null,null,null,null,null,null,null,null,null,null,null,null,null,null,null,null,null,null,null,null,null,null,null,null,null,null,null,null,null,null,null,null,null,null,null,null,null,null,"","","","","","","","","","","","","","","","","","","","","","","","","","","","","","","","","","","","","","","","","","","","","","","","","","","","","","","","","","","","",""]
[null,null,null,null,null,null,null,null,null,null,null,null,null,null,null,null,null,null,null,null,null,null,null,null,null,null,null,null,null,null,null,null,null,null,null,null,null,null,null,null,null,null,"","","","","","","","","","","","","","","","","","","","","","","","","","","","","","","","","","","","","","","","","","","","","","","","","","","","","","","","","","","","",""]
[null,null,null,null,null,null,null,null,null,null,null,null,null,null,null,null,null,null,null,null,null,null,null,null,null,null,null,null,null,null,null,null,null,null,null,null,null,null,null,null,null,null,"","","","","","","","","","","","","","","","","","","","","","","","","","","","","","","","","","","","","","","","","","","","","","","","","","","","","","","","","","","","",""]
[null,null,null,null,null,null,null,null,null,null,null,null,null,null,null,null,null,null,null,null,null,null,null,null,null,null,null,null,null,null,null,null,null,null,null,null,null,null,null,null,null,null,"","","","","","","","","","","","","","","","","","","","","","","","","","","","","","","","","","","","","","","","","","","","","","","","","","","","","","","","","","","","",""]
[null,null,null,null,null,null,null,null,null,null,null,null,null,null,null,null,null,null,null,null,null,null,null,null,null,null,null,null,null,null,null,null,null,null,null,null,null,null,null,null,null,null,"","","","","","","","","","","","","","","","","","","","","","","","","","","","","","","","","","","","","","","","","","","","","","","","","","","","","","","","","","","","",""]
[null,null,null,null,null,null,null,null,null,null,null,null,null,null,null,null,null,null,null,null,null,null,null,null,null,null,null,null,null,null,null,null,null,null,null,null,null,null,null,null,null,null,"","","","","","","","","","","","","","","","","","","","","","","","","","","","","","","","","","","","","","","","","","","","","","","","","","","","","","","","","","","","",""]
[null,null,null,null,null,null,null,null,null,null,null,null,null,null,null,null,null,null,null,null,null,null,null,null,null,null,null,null,null,null,null,null,null,null,null,null,null,null,null,null,null,null,"","","","","","","","","","","","","","","","","","","","","","","","","","","","","","","","","","","","","","","","","","","","","","","","","","","","","","","","","","","","",""]
[null,null,null,null,null,null,null,null,null,null,null,null,null,null,null,null,null,null,null,null,null,null,null,null,null,null,null,null,null,null,null,null,null,null,null,null,null,null,null,null,null,null,"","","","","","","","","","","","","","","","","","","","","","","","","","","","","","","","","","","","","","","","","","","","","","","","","","","","","","","","","","","","",""]
[null,null,null,null,null,null,null,null,null,null,null,null,null,null,null,null,null,null,null,null,null,null,null,null,null,null,null,null,null,null,null,null,null,null,null,null,null,null,null,null,null,null,"","","","","","","","","","","","","","","","","","","","","","","","","","","","","","","","","","","","","","","","","","","","","","","","","","","","","","","","","","","","",""]
[null,null,null,null,null,null,null,null,null,null,null,null,null,null,null,null,null,null,null,null,null,null,null,null,null,null,null,null,null,null,null,null,null,null,null,null,null,null,null,null,null,null,"",{"$f":"IF($S2072>0,Y2072/$S2072,\"\")","v":""},"","","","","","","","","","","","","","",{"$f":"IF($T2072>0,Y2072/$T2072,\"\")","v":""},"","","","","","","","","","","","","","",{"$f":"IF($U2072>0,Y2072/$U2072,\"\")","v":""},"","","","","","","","","","","","","","",{"$f":"IF($V2072>0,Y2072/$V2072,\"\")","v":""},"","","","","","","","","","","","","",""]
[null,null,null,null,null,null,null,null,null,null,null,null,null,null,null,null,null,null,null,null,null,null,null,null,null,null,null,null,null,null,null,null,null,null,null,null,null,null,null,null,null,null,"","","","","","","","","","","","","","","","","","","","","","","","","","","","","","","","","","","","","","","","","","","","","","","","","","","","","","","","","","","","",""]
[null,null,null,null,null,null,null,null,null,null,null,null,null,null,null,null,null,null,null,null,null,null,null,null,null,null,null,null,null,null,null,null,null,null,null,null,null,null,null,null,null,null,"","","","","","","","","","","","","","","","","","","","","","","","","","","","","","","","","","","","","","","","","","","","","","","","","","","","","","","","","","","","",""]
[null,null,null,null,null,null,null,null,null,null,null,null,null,null,null,null,null,null,null,null,null,null,null,null,null,null,null,null,null,null,null,null,null,null,null,null,null,null,null,null,null,null,"","","","","","","","","","","","","","","","","","","","","","","","","","","","","","","","","","","","","","","","","","","","","","","","","","","","","","","","","","","","",""]
[null,null,null,null,null,null,null,null,null,null,null,null,null,null,null,null,null,null,null,null,null,null,null,null,null,null,null,null,null,null,null,null,null,null,null,null,null,null,null,null,null,null,"","","","","","","","","","","","","","","","","","","","","","","","","","","","","","","","","","","","","","","","","","","","","","","","","","","","","","","","","","","","",""]
[null,null,null,null,null,null,null,null,null,null,null,null,null,null,null,null,null,null,null,null,null,null,null,null,null,null,null,null,null,null,null,null,null,null,null,null,null,null,null,null,null,null,"","","","","","","","","","","","","","","","","","","","","","","","","","","","","","","","","","","","","","","","","","","","","","","","","","","","","","","","","","","","",""]
[null,null,null,null,null,null,null,null,null,null,null,null,null,null,null,null,null,null,null,null,null,null,null,null,null,null,null,null,null,null,null,null,null,null,null,null,null,null,null,null,null,null,"","","","","","","","","","","","","","","","","","","","","","","","","","","","","","","","","","","","","","","","","","","","","","","","","","","","","","","","","","","","",""]
[null,null,null,null,null,null,null,null,null,null,null,null,null,null,null,null,null,null,null,null,null,null,null,null,null,null,null,null,null,null,null,null,null,null,null,null,null,null,null,null,null,null,"","","","","","","","","","","","","","","","","","","","","","","","","","","","","","","","","","","","","","","","","","","","","","","","","","","","","","","","","","","","",""]
[null,null,null,null,null,null,null,null,null,null,null,null,null,null,null,null,null,null,null,null,null,null,null,null,null,null,null,null,null,null,null,null,null,null,null,null,null,null,null,null,null,null,"","","","","","","","","","","","","","","","","","","","","","","","","","","","","","","","","","","","","","","","","","","","","","","","","","","","","","","","","","","","",""]
[null,null,null,null,null,null,null,null,null,null,null,null,null,null,null,null,null,null,null,null,null,null,null,null,null,null,null,null,null,null,null,null,null,null,null,null,null,null,null,null,null,null,"",{"$f":"IF($S2140>0,Y2140/$S2140,\"\")","v":""},"","","","","","","","","","","","","","",{"$f":"IF($T2140>0,Y2140/$T2140,\"\")","v":""},"","","","","","","","","","","","","","",{"$f":"IF($U2140>0,Y2140/$U2140,\"\")","v":""},"","","","","","","","","","","","","","",{"$f":"IF($V2140>0,Y2140/$V2140,\"\")","v":""},"","","","","","","","","","","","","",""]
[null,null,null,null,null,null,null,null,null,null,null,null,null,null,null,null,null,null,null,null,null,null,null,null,null,null,null,null,null,null,null,null,null,null,null,null,null,null,null,null,null,null,"","","","","","","","","","","","","","","","","","","","","","","","","","","","","","","","","","","","","","","","","","","","","","","","","","","","","","","","","","","","",""]
[null,null,null,null,null,null,null,null,null,null,null,null,null,null,null,null,null,null,null,null,null,null,null,null,null,null,null,null,null,null,null,null,null,null,null,null,null,null,null,null,null,null,{"$f":"IF(I2158<>0,IF(H2158&I2158<>H2157&I2157,1,\"\"),\"\")","v":""},"","","","","","","","","","","","","","","","","","","","","","","","","","","","","","","","","","","","","","","","","","","","","","","","","","","","","","","","","","","",""]
[null,null,null,null,null,null,null,null,null,null,null,null,null,null,null,null,null,null,null,null,null,null,null,null,null,null,null,null,null,null,null,null,null,null,null,null,null,null,null,null,null,null,"","","","","","","","","","","","","","","","","","","","","","","","","","","","","","","","","","","","","","","","","","","","","","","","","","","","","","","","","","","","",""]
[null,null,null,null,null,null,null,null,null,null,null,null,null,null,null,null,null,null,null,null,null,null,null,null,null,null,null,null,null,null,null,null,null,null,null,null,null,null,null,null,null,null,"","","","","","","","","","","","","","","","","","","","","","","","","","","","","","","","","","","","","","","","","","","","","","","","","","","","","","","","","","","","",""]
[null,null,null,null,null,null,null,null,null,null,null,null,null,null,null,null,null,null,null,null,null,null,null,null,null,null,null,null,null,null,null,null,null,null,null,null,null,null,null,null,null,null,"","","","","","","","","","","","","","","","","","","","","","","","","","","","","","","","","","","","","","","","","","","","","","","","","","","","","","","","","","","","",""]
[null,null,null,null,null,null,null,null,null,null,null,null,null,null,null,null,null,null,null,null,null,null,null,null,null,null,null,null,null,null,null,null,null,null,null,null,null,null,null,null,null,null,"","","","","","","","","","","","","","","","","","","","","","","","","","","","","","","","","","","","","","","","","","","","","","","","","","","","","","","","","","","","",""]
[null,null,null,null,null,null,null,null,null,null,null,null,null,null,null,null,null,null,null,null,null,null,null,null,null,null,null,null,null,null,null,null,null,null,null,null,null,null,null,null,null,null,"","","","","","","","","","","","","","","","","","","","","","","","","","","","","","","","","","","","","","","","","","","","","","","","","","","","","","","","","","","","",""]
[null,null,null,null,null,null,null,null,null,null,null,null,null,null,null,null,null,null,null,null,null,null,null,null,null,null,null,null,null,null,null,null,null,null,null,null,null,null,null,null,null,null,"","","","","","","","","","","","","","","","","","","","","","","","","","","","","","","","","","","","","","","","","","","","","","","","","","","","","","","","","","","","",""]
[null,null,null,null,null,null,null,null,null,null,null,null,null,null,null,null,null,null,null,null,null,null,null,null,null,null,null,null,null,null,null,null,null,null,null,null,null,null,null,null,null,null,"","","","","","","","","","","","","","","","","","","","","","","","","","","","","","","","","","","","","","","","","","","","","","","","","","","","","","","","","","","","",""]
[null,null,null,null,null,null,null,null,null,null,null,null,null,null,null,null,null,null,null,null,null,null,null,null,null,null,null,null,null,null,null,null,null,null,null,null,null,null,null,null,null,null,"","","","","","","","","","","","","","","","","","","","","","","","","","","","","","","","","","","","","","","","","","","","","","","","","","","","","","","","","","","","",""]
[null,null,null,null,null,null,null,null,null,null,null,null,null,null,null,null,null,null,null,null,null,null,null,null,null,null,null,null,null,null,null,null,null,null,null,null,null,null,null,null,null,null,"","","","","","","","","","","","","","","","","","","","","","","","","","","","","","","","","","","","","","","","","","","","","","","","","","","","","","","","","","","","",""]
[null,null,null,null,null,null,null,null,null,null,null,null,null,null,null,null,null,null,null,null,null,null,null,null,null,null,null,null,null,null,null,null,null,null,null,null,null,null,null,null,null,null,"","","","","","","","","","","","","","","","","","","","","","","","","","","","","","","","","","","","","","","","","","","","","","","","","","","","","","","","","","","","",""]
[null,null,null,null,null,null,null,null,null,null,null,null,null,null,null,null,null,null,null,null,null,null,null,null,null,null,null,null,null,null,null,null,null,null,null,null,null,null,null,null,null,null,"","","","","","","","","","","","","","","","","","","","","","","","","","","","","","","","","","","","","","","","","","","","","","","","","","","","","","","","","","","","",""]
[null,null,null,null,null,null,null,null,null,null,null,null,null,null,null,null,null,null,null,null,null,null,null,null,null,null,null,null,null,null,null,null,null,null,null,null,null,null,null,null,null,null,"","","","","","","","","","","","","","","","","","","","","","","","","","","","","","","","","","","","","","","","","","","","","","","","","","","","","","","","","","","","",""]
[null,null,null,null,null,null,null,null,null,null,null,null,null,null,null,null,null,null,null,null,null,null,null,null,null,null,null,null,null,null,null,null,null,null,null,null,null,null,null,null,null,null,"","","","","","","","","","","","","","","","","","","","","","","","","","","","","","","","","","","","","","","","","","","","","","","","","","","","","","","","","","","","",""]
[null,null,null,null,null,null,null,null,null,null,null,null,null,null,null,null,null,null,null,null,null,null,null,null,null,null,null,null,null,null,null,null,null,null,null,null,null,null,null,null,null,null,"","","","","","","","","","","","","","","","","","","","","","","","","","","","","","","","","","","","","","","","","","","","","","","","","","","","","","","","","","","","",""]
[null,null,null,null,null,null,null,null,null,null,null,null,null,null,null,null,null,null,null,null,null,null,null,null,null,null,null,null,null,null,null,null,null,null,null,null,null,null,null,null,null,null,"","","","","","","","","","","","","","","","","","","","","","","","","","","","","","","","","","","","","","","","","","","","","","","","","","","","","","","","","","","","",""]
[null,null,null,null,null,null,null,null,null,null,null,null,null,null,null,null,null,null,null,null,null,null,null,null,null,null,null,null,null,null,null,null,null,null,null,null,null,null,null,null,null,null,"","","","","","","","","","","","","","","","","","","","","","","","","","","","","","","","","","","","","","","","","","","","","","","","","","","","","","","","","","","","",""]
[null,null,null,null,null,null,null,null,null,null,null,null,null,null,null,null,null,null,null,null,null,null,null,null,null,null,null,null,null,null,null,null,null,null,null,null,null,null,null,null,null,null,"","","","","","","","","","","","","","","","","","","","","","","","","","","","","","","","","","","","","","","","","","","","","","","","","","","","","","","","","","","","",""]
[null,null,null,null,null,null,null,null,null,null,null,null,null,null,null,null,null,null,null,null,null,null,null,null,null,null,null,null,null,null,null,null,null,null,null,null,null,null,null,null,null,null,"","","","","","","","","","","","","","","","","","","","","","","","","","","","","","","","","","","","","","","","","","","","","","","","","","","","","","","","","","","","",""]
[null,null,null,null,null,null,null,null,null,null,null,null,null,null,null,null,null,null,null,null,null,null,null,null,null,null,null,null,null,null,null,null,null,null,null,null,null,null,null,null,null,null,"","","","","","","","","","","","","","","","","","","","","","","","","","","","","","","","","","","","","","","","","","","","","","","","","","","","","","","","","","","","",""]
[null,null,null,null,null,null,null,null,null,null,null,null,null,null,null,null,null,null,null,null,null,null,null,null,null,null,null,null,null,null,null,null,null,null,null,null,null,null,null,null,null,null,{"$f":"IF(I2222<>0,IF(H2222&I2222<>H2221&I2221,1,\"\"),\"\")","v":""},"","","","","","","","","","","","","","","","","","","","","","","","","","","","","","","","","","","","","","","","","","","","","","","","","","","","","","","","","","","",""]
[null,null,null,null,null,null,null,null,null,null,null,null,null,null,null,null,null,null,null,null,null,null,null,null,null,null,null,null,null,null,null,null,null,null,null,null,null,null,null,null,null,null,"","","","","","","","","","","","","","","","","","","","","","","","","","","","","","","","","","","","","","","","","","","","","","","","","","","","","","","","","","","","",""]
[null,null,null,null,null,null,null,null,null,null,null,null,null,null,null,null,null,null,null,null,null,null,null,null,null,null,null,null,null,null,null,null,null,null,null,null,null,null,null,null,null,null,"","","","","","","","","","","","","","","","","","","","","","","","","","","","","","","","","","","","","","","","","","","","","","","","","","","","","","","","","","","","",""]
[null,null,null,null,null,null,null,null,null,null,null,null,null,null,null,null,null,null,null,null,null,null,null,null,null,null,null,null,null,null,null,null,null,null,null,null,null,null,null,null,null,null,"",{"$f":"IF($S2225>0,Y2225/$S2225,\"\")","v":""},"","","","","","","","","","","","","","",{"$f":"IF($T2225>0,Y2225/$T2225,\"\")","v":""},"","","","","","","","","","","","","","",{"$f":"IF($U2225>0,Y2225/$U2225,\"\")","v":""},"","","","","","","","","","","","","","",{"$f":"IF($V2225>0,Y2225/$V2225,\"\")","v":""},"","","","","","","","","","","","","",""]
[null,null,null,null,null,null,null,null,null,null,null,null,null,null,null,null,null,null,null,null,null,null,null,null,null,null,null,null,null,null,null,null,null,null,null,null,null,null,null,null,null,null,"","","","","","","","","","","","","","","","","","","","","","","","","","","","","","","","","","","","","","","","","","","","","","","","","","","","","","","","","","","","",""]
[null,null,null,null,null,null,null,null,null,null,null,null,null,null,null,null,null,null,null,null,null,null,null,null,null,null,null,null,null,null,null,null,null,null,null,null,null,null,null,null,null,null,"","","","","","","","","","","","","","","","","","","","","","","","","","","","","","","","","","","","","","","","","","","","","","","","","","","","","","","","","","","","",""]
[null,null,null,null,null,null,null,null,null,null,null,null,null,null,null,null,null,null,null,null,null,null,null,null,null,null,null,null,null,null,null,null,null,null,null,null,null,null,null,null,null,null,"","","","","","","","","","","","","","","","","","","","","","","","","","","","","","","","","","","","","","","","","","","","","","","","","","","","","","","","","","","","",""]
[null,null,null,null,null,null,null,null,null,null,null,null,null,null,null,null,null,null,null,null,null,null,null,null,null,null,null,null,null,null,null,null,null,null,null,null,null,null,null,null,null,null,"","","","","","","","","","","","","","","","","","","","","","","","","","","","","","","","","","","","","","","","","","","","","","","","","","","","","","","","","","","","",""]
[null,null,null,null,null,null,null,null,null,null,null,null,null,null,null,null,null,null,null,null,null,null,null,null,null,null,null,null,null,null,null,null,null,null,null,null,null,null,null,null,null,null,"","","","","","","","","","","","","","","","","","","","","","","","","","","","","","","","","","","","","","","","","","","","","","","","","","","","","","","","","","","","",""]
[null,null,null,null,null,null,null,null,null,null,null,null,null,null,null,null,null,null,null,null,null,null,null,null,null,null,null,null,null,null,null,null,null,null,null,null,null,null,null,null,null,null,"","","","","","","","","","","","","","","","","","","","","","","","","","","","","","","","","","","","","","","","","","","","","","","","","","","","","","","","","","","","",""]
[null,null,null,null,null,null,null,null,null,null,null,null,null,null,null,null,null,null,null,null,null,null,null,null,null,null,null,null,null,null,null,null,null,null,null,null,null,null,null,null,null,null,"","","","","","","","","","","","","","","","","","","","","","","","","","","","","","","","","","","","","","","","","","","","","","","","","","","","","","","","","","","","",""]
[null,null,null,null,null,null,null,null,null,null,null,null,null,null,null,null,null,null,null,null,null,null,null,null,null,null,null,null,null,null,null,null,null,null,null,null,null,null,null,null,null,null,"","","","","","","","","","","","","","","","","","","","","","","","","","","","","","","","","","","","","","","","","","","","","","","","","","","","","","","","","","","","",""]
[null,null,null,null,null,null,null,null,null,null,null,null,null,null,null,null,null,null,null,null,null,null,null,null,null,null,null,null,null,null,null,null,null,null,null,null,null,null,null,null,null,null,"","","","","","","","","","","","","","","","","","","","","","","","","","","","","","","","","","","","","","","","","","","","","","","","","","","","","","","","","","","","",""]
[null,null,null,null,null,null,null,null,null,null,null,null,null,null,null,null,null,null,null,null,null,null,null,null,null,null,null,null,null,null,null,null,null,null,null,null,null,null,null,null,null,null,"","","","","","","","","","","","","","","","","","","","","","","","","","","","","","","","","","","","","","","","","","","","","","","","","","","","","","","","","","","","",""]
[null,null,null,null,null,null,null,null,null,null,null,null,null,null,null,null,null,null,null,null,null,null,null,null,null,null,null,null,null,null,null,null,null,null,null,null,null,null,null,null,null,null,"","","","","","","","","","","","","","","","","","","","","","","","","","","","","","","","","","","","","","","","","","","","","","","","","","","","","","","","","","","","",""]
[null,null,null,null,null,null,null,null,null,null,null,null,null,null,null,null,null,null,null,null,null,null,null,null,null,null,null,null,null,null,null,null,null,null,null,null,null,null,null,null,null,null,"","","","","","","","","","","","","","","","","","","","","","","","","","","","","","","","","","","","","","","","","","","","","","","","","","","","","","","","","","","","",""]
[null,null,null,null,null,null,null,null,null,null,null,null,null,null,null,null,null,null,null,null,null,null,null,null,null,null,null,null,null,null,null,null,null,null,null,null,null,null,null,null,null,null,"","","","","","","","","","","","","","","","","","","","","","","","","","","","","","","","","","","","","","","","","","","","","","","","","","","","","","","","","","","","",""]
[null,null,null,null,null,null,null,null,null,null,null,null,null,null,null,null,null,null,null,null,null,null,null,null,null,null,null,null,null,null,null,null,null,null,null,null,null,null,null,null,null,null,"","","","","","","","","","","","","","","","","","","","","","","","","","","","","","","","","","","","","","","","","","","","","","","","","","","","","","","","","","","","",""]
[null,null,null,null,null,null,null,null,null,null,null,null,null,null,null,null,null,null,null,null,null,null,null,null,null,null,null,null,null,null,null,null,null,null,null,null,null,null,null,null,null,null,"","","","","","","","","","","","","","","","","","","","","","","","","","","","","","","","","","","","","","","","","","","","","","","","","","","","","","","","","","","","",""]
[null,null,null,null,null,null,null,null,null,null,null,null,null,null,null,null,null,null,null,null,null,null,null,null,null,null,null,null,null,null,null,null,null,null,null,null,null,null,null,null,null,null,"","","","","","","","","","","","","","","","","","","","","","","","","","","","","","","","","","","","","","","","","","","","","","","","","","","","","","","","","","","","",""]
[null,null,null,null,null,null,null,null,null,null,null,null,null,null,null,null,null,null,null,null,null,null,null,null,null,null,null,null,null,null,null,null,null,null,null,null,null,null,null,null,null,null,"",{"$f":"IF($S2242>0,Y2242/$S2242,\"\")","v":""},"","","","","","","","","","","","","","",{"$f":"IF($T2242>0,Y2242/$T2242,\"\")","v":""},"","","","","","","","","","","","","","",{"$f":"IF($U2242>0,Y2242/$U2242,\"\")","v":""},"","","","","","","","","","","","","","",{"$f":"IF($V2242>0,Y2242/$V2242,\"\")","v":""},"","","","","","","","","","","","","",""]
[null,null,null,null,null,null,null,null,null,null,null,null,null,null,null,null,null,null,null,null,null,null,null,null,null,null,null,null,null,null,null,null,null,null,null,null,null,null,null,null,null,null,"","","","","","","","","","","","","","","","","","","","","","","","","","","","","","","","","","","","","","","","","","","","","","","","","","","","","","","","","","","","",""]
[null,null,null,null,null,null,null,null,null,null,null,null,null,null,null,null,null,null,null,null,null,null,null,null,null,null,null,null,null,null,null,null,null,null,null,null,null,null,null,null,null,null,"","","","","","","","","","","","","","","","","","","","","","","","","","","","","","","","","","","","","","","","","","","","","","","","","","","","","","","","","","","","",""]
[null,null,null,null,null,null,null,null,null,null,null,null,null,null,null,null,null,null,null,null,null,null,null,null,null,null,null,null,null,null,null,null,null,null,null,null,null,null,null,null,null,null,"","","","","","","","","","","","","","","","","","","","","","","","","","","","","","","","","","","","","","","","","","","","","","","","","","","","","","","","","","","","",""]
[null,null,null,null,null,null,null,null,null,null,null,null,null,null,null,null,null,null,null,null,null,null,null,null,null,null,null,null,null,null,null,null,null,null,null,null,null,null,null,null,null,null,"","","","","","","","","","","","","","","","","","","","","","","","","","","","","","","","","","","","","","","","","","","","","","","","","","","","","","","","","","","","",""]
[null,null,null,null,null,null,null,null,null,null,null,null,null,null,null,null,null,null,null,null,null,null,null,null,null,null,null,null,null,null,null,null,null,null,null,null,null,null,null,null,null,null,"","","","","","","","","","","","","","","","","","","","","","","","","","","","","","","","","","","","","","","","","","","","","","","","","","","","","","","","","","","","",""]
[null,null,null,null,null,null,null,null,null,null,null,null,null,null,null,null,null,null,null,null,null,null,null,null,null,null,null,null,null,null,null,null,null,null,null,null,null,null,null,null,null,null,"","","","","","","","","","","","","","","","","","","","","","","","","","","","","","","","","","","","","","","","","","","","","","","","","","","","","","","","","","","","",""]
[null,null,null,null,null,null,null,null,null,null,null,null,null,null,null,null,null,null,null,null,null,null,null,null,null,null,null,null,null,null,null,null,null,null,null,null,null,null,null,null,null,null,"","","","","","","","","","","","","","","","","","","","","","","","","","","","","","","","","","","","","","","","","","","","","","","","","","","","","","","","","","","","",""]
[null,null,null,null,null,null,null,null,null,null,null,null,null,null,null,null,null,null,null,null,null,null,null,null,null,null,null,null,null,null,null,null,null,null,null,null,null,null,null,null,null,null,"","","","","","","","","","","","","","","","","","","","","","","","","","","","","","","","","","","","","","","","","","","","","","","","","","","","","","","","","","","","",""]
[null,null,null,null,null,null,null,null,null,null,null,null,null,null,null,null,null,null,null,null,null,null,null,null,null,null,null,null,null,null,null,null,null,null,null,null,null,null,null,null,null,null,"","","","","","","","","","","","","","","","","","","","","","","","","","","","","","","","","","","","","","","","","","","","","","","","","","","","","","","","","","","","",""]
[null,null,null,null,null,null,null,null,null,null,null,null,null,null,null,null,null,null,null,null,null,null,null,null,null,null,null,null,null,null,null,null,null,null,null,null,null,null,null,null,null,null,"","","","","","","","","","","","","","","","","","","","","","","","","","","","","","","","","","","","","","","","","","","","","","","","","","","","","","","","","","","","",""]
[null,null,null,null,null,null,null,null,null,null,null,null,null,null,null,null,null,null,null,null,null,null,null,null,null,null,null,null,null,null,null,null,null,null,null,null,null,null,null,null,null,null,"","","","","","","","","","","","","","","","","","","","","","","","","","","","","","","","","","","","","","","","","","","","","","","","","","","","","","","","","","","","",""]
[null,null,null,null,null,null,null,null,null,null,null,null,null,null,null,null,null,null,null,null,null,null,null,null,null,null,null,null,null,null,null,null,null,null,null,null,null,null,null,null,null,null,"","","","","","","","","","","","","","","","","","","","","","","","","","","","","","","","","","","","","","","","","","","","","","","","","","","","","","","","","","","","",""]
[null,null,null,null,null,null,null,null,null,null,null,null,null,null,null,null,null,null,null,null,null,null,null,null,null,null,null,null,null,null,null,null,null,null,null,null,null,null,null,null,null,null,"","","","","","","","","","","","","","","","","","","","","","","","","","","","","","","","","","","","","","","","","","","","","","","","","","","","","","","","","","","","",""]
[null,null,null,null,null,null,null,null,null,null,null,null,null,null,null,null,null,null,null,null,null,null,null,null,null,null,null,null,null,null,null,null,null,null,null,null,null,null,null,null,null,null,"","","","","","","","","","","","","","","","","","","","","","","","","","","","","","","","","","","","","","","","","","","","","","","","","","","","","","","","","","","","",""]
[null,null,null,null,null,null,null,null,null,null,null,null,null,null,null,null,null,null,null,null,null,null,null,null,null,null,null,null,null,null,null,null,null,null,null,null,null,null,null,null,null,null,"","","","","","","","","","","","","","","","","","","","","","","","","","","","","","","","","","","","","","","","","","","","","","","","","","","","","","","","","","","","",""]
[null,null,null,null,null,null,null,null,null,null,null,null,null,null,null,null,null,null,null,null,null,null,null,null,null,null,null,null,null,null,null,null,null,null,null,null,null,null,null,null,null,null,"","","","","","","","","","","","","","","","","","","","","","","","","","","","","","","","","","","","","","","","","","","","","","","","","","","","","","","","","","","","",""]
[null,null,null,null,null,null,null,null,null,null,null,null,null,null,null,null,null,null,null,null,null,null,null,null,null,null,null,null,null,null,null,null,null,null,null,null,null,null,null,null,null,null,"",{"$f":"IF($S2259>0,Y2259/$S2259,\"\")","v":""},"","","","","","","","","","","","","","",{"$f":"IF($T2259>0,Y2259/$T2259,\"\")","v":""},"","","","","","","","","","","","","","",{"$f":"IF($U2259>0,Y2259/$U2259,\"\")","v":""},"","","","","","","","","","","","","","",{"$f":"IF($V2259>0,Y2259/$V2259,\"\")","v":""},"","","","","","","","","","","","","",""]
[null,null,null,null,null,null,null,null,null,null,null,null,null,null,null,null,null,null,null,null,null,null,null,null,null,null,null,null,null,null,null,null,null,null,null,null,null,null,null,null,null,null,"","","","","","","","","","","","","","","","","","","","","","","","","","","","","","","","","","","","","","","","","","","","","","","","","","","","","","","","","","","","",""]
[null,null,null,null,null,null,null,null,null,null,null,null,null,null,null,null,null,null,null,null,null,null,null,null,null,null,null,null,null,null,null,null,null,null,null,null,null,null,null,null,null,null,"","","","","","","","","","","","","","","","","","","","","","","","","","","","","","","","","","","","","","","","","","","","","","","","","","","","","","","","","","","","",""]
[null,null,null,null,null,null,null,null,null,null,null,null,null,null,null,null,null,null,null,null,null,null,null,null,null,null,null,null,null,null,null,null,null,null,null,null,null,null,null,null,null,null,"","","","","","","","","","","","","","","","","","","","","","","","","","","","","","","","","","","","","","","","","","","","","","","","","","","","","","","","","","","","",""]
[null,null,null,null,null,null,null,null,null,null,null,null,null,null,null,null,null,null,null,null,null,null,null,null,null,null,null,null,null,null,null,null,null,null,null,null,null,null,null,null,null,null,"","","","","","","","","","","","","","","","","","","","","","","","","","","","","","","","","","","","","","","","","","","","","","","","","","","","","","","","","","","","",""]
[null,null,null,null,null,null,null,null,null,null,null,null,null,null,null,null,null,null,null,null,null,null,null,null,null,null,null,null,null,null,null,null,null,null,null,null,null,null,null,null,null,null,"","","","","","","","","","","","","","","","","","","","","","","","","","","","","","","","","","","","","","","","","","","","","","","","","","","","","","","","","","","","",""]
[null,null,null,null,null,null,null,null,null,null,null,null,null,null,null,null,null,null,null,null,null,null,null,null,null,null,null,null,null,null,null,null,null,null,null,null,null,null,null,null,null,null,"","","","","","","","","","","","","","","","","","","","","","","","","","","","","","","","","","","","","","","","","","","","","","","","","","","","","","","","","","","","",""]
[null,null,null,null,null,null,null,null,null,null,null,null,null,null,null,null,null,null,null,null,null,null,null,null,null,null,null,null,null,null,null,null,null,null,null,null,null,null,null,null,null,null,"","","","","","","","","","","","","","","","","","","","","","","","","","","","","","","","","","","","","","","","","","","","","","","","","","","","","","","","","","","","",""]
[null,null,null,null,null,null,null,null,null,null,null,null,null,null,null,null,null,null,null,null,null,null,null,null,null,null,null,null,null,null,null,null,null,null,null,null,null,null,null,null,null,null,"","","","","","","","","","","","","","","","","","","","","","","","","","","","","","","","","","","","","","","","","","","","","","","","","","","","","","","","","","","","",""]
[null,null,null,null,null,null,null,null,null,null,null,null,null,null,null,null,null,null,null,null,null,null,null,null,null,null,null,null,null,null,null,null,null,null,null,null,null,null,null,null,null,null,"","","","","","","","","","","","","","","","","","","","","","","","","","","","","","","","","","","","","","","","","","","","","","","","","","","","","","","","","","","","",""]
[null,null,null,null,null,null,null,null,null,null,null,null,null,null,null,null,null,null,null,null,null,null,null,null,null,null,null,null,null,null,null,null,null,null,null,null,null,null,null,null,null,null,"","","","","","","","","","","","","","","","","","","","","","","","","","","","","","","","","","","","","","","","","","","","","","","","","","","","","","","","","","","","",""]
[null,null,null,null,null,null,null,null,null,null,null,null,null,null,null,null,null,null,null,null,null,null,null,null,null,null,null,null,null,null,null,null,null,null,null,null,null,null,null,null,null,null,"","","","","","","","","","","","","","","","","","","","","","","","","","","","","","","","","","","","","","","","","","","","","","","","","","","","","","","","","","","","",""]